{"text_format":"3","workbook":"xlsx","n_sheets":7,"sheets":["TCD officines","Synthèse officines","Base Officine 1 11 22","Finess transactions sept oct","TCD base","Régions","Filtres base"],"not_rendered":{"defined_names":2,"pivot_tables":2},"read":"whole","date_system":"1900"}

{"sheet":"TCD officines","index":0,"n_rows":120,"n_cols":10,"rows_kept":120,"merged":[[9,8,15,12]]}
["Libellé_secteur_d_activité","(Tous)",{"$nulls":6},"<= Filtre Choisir le type de section au tableau des pharmaciens"]
["Transactions effectives mois 09 & 10","(Tous)",{"$nulls":6},"<= Filtre Choisir transactions effectives oui ou non"]
[]
["Nombre de Numéro_FINESS_site","Étiquettes de colonnes",{"$nulls":6},"<= Filtre Choisir le type de connexion"]
["Étiquettes de lignes","CNOP","PHARMDIRECTFR","#N/A","(vide)","Total général",null,null,"#N/A =>","absence de connexion ET de transaction"]
["Auvergne-Rhône-Alpes",837,496,1088,null,2421]
[1,59,36,63,null,158]
[3,53,23,56,null,132]
[7,33,16,48,null,97]
[15,17,18,30,null,65,null,null,"Commentaires\n#N/A correspond aux officines qui n'ont jamais  eu de connexions actives, a fortiori sans transactions\nIl y a 263 officines au total qui n'ont pas de transactions:  \"non\" sur la période septembre octobre, mais ce sont des officines qui ont eu des transactions sur la période plus ancienne"]
[26,53,42,56,null,151]
[38,123,80,167,null,370]
[42,73,42,107,null,222]
[43,26,17,38,null,81]
[63,104,36,91,null,231]
[69,169,113,266,null,548]
[73,56,31,58,null,145]
[74,71,42,108,null,221]
["Bourgogne-Franche-Comté",441,262,228,null,931]
[21,81,54,30,null,165]
[25,83,40,58,null,181]
[39,35,40,13,null,88]
[58,45,14,21,null,80]
[70,35,27,19,null,81]
[71,96,41,50,null,187]
[89,45,36,20,null,101]
[90,21,10,17,null,48]
["Bretagne",349,245,419,null,1013]
[22,94,29,69,null,192]
[29,106,74,112,null,292]
[35,83,91,121,null,295]
[56,66,51,117,null,234]
["Centre-Val de Loire",274,190,296,null,760]
[18,38,15,50,null,103]
[28,35,30,39,null,104]
[36,37,16,29,null,82]
[37,75,57,58,null,190]
[41,32,21,47,null,100]
[45,57,51,73,null,181]
["Corse",43,28,60,null,131]
["2A",17,14,30,null,61]
["2B",26,14,30,null,70]
["Grand Est",471,422,685,null,1578]
[8,24,29,50,null,103]
[10,34,18,32,null,84]
[51,47,52,79,null,178]
[52,26,12,22,null,60]
[54,90,55,106,null,251]
[55,20,17,20,null,57]
[57,52,73,132,null,257]
[67,65,94,114,null,273]
[68,72,42,72,null,186]
[88,41,30,58,null,129]
["Hauts-de-France",760,485,694,null,1939]
[2,44,65,60,null,169]
[59,347,221,315,null,883]
[60,84,45,87,null,216]
[62,219,103,162,null,484]
[80,66,51,70,null,187]
["Ile-de-France",819,518,2160,null,3497]
[75,187,117,576,null,880]
[77,110,68,172,null,350]
[78,125,60,189,null,374]
[91,76,48,213,null,337]
[92,96,64,296,null,456]
[93,49,43,301,null,393]
[94,111,60,217,null,388]
[95,65,58,196,null,319]
["Normandie",336,293,299,null,928]
[14,65,71,76,null,212]
[27,38,53,50,null,141]
[50,58,41,38,null,137]
[61,52,20,23,null,95]
[76,123,108,112,null,343]
["Nouvelle-Aquitaine",606,666,785,null,2057]
[16,57,32,34,null,123]
[17,68,49,101,null,218]
[19,35,16,44,null,95]
[23,17,15,24,null,56]
[24,56,44,43,null,143]
[33,106,206,207,null,519]
[40,40,61,31,null,132]
[47,39,38,41,null,118]
[64,61,92,87,null,240]
[79,39,44,39,null,122]
[86,52,27,63,null,142]
[87,36,42,71,null,149]
["Occitanie",559,523,867,null,1949]
[9,26,7,15,null,48]
[11,38,26,73,null,137]
[12,59,21,28,null,108]
[30,46,72,125,null,243]
[31,127,116,160,null,403]
[32,25,20,18,null,63]
[34,35,138,212,null,385]
[46,24,19,20,null,63]
[48,15,4,16,null,35]
[65,34,16,42,null,92]
[66,66,20,83,null,169]
[81,45,34,46,null,125]
[82,19,30,29,null,78]
["Pays de la Loire",391,309,379,null,1079]
[44,141,104,149,null,394]
[49,98,60,75,null,233]
[53,32,21,32,null,85]
[72,57,51,48,null,156]
[85,63,73,75,null,211]
["Provence-Alpes-Côte d'Azur",340,406,1091,null,1837]
[4,5,22,31,null,58]
[5,18,8,29,null,55]
[6,89,54,290,null,433]
[13,132,163,440,null,735]
[83,57,103,198,null,358]
[84,39,56,103,null,198]
["#N/A",81,225,305,null,611]
[97,79,212,296,null,587]
[98,2,13,9,null,24]
["(vide)"]
["(vide)"]
["Total général",6307,5068,9356,null,20731]

{"sheet":"Synthèse officines","index":1,"n_rows":114,"n_cols":5,"rows_kept":114}
["Étiquettes de lignes","Poids ETS vs total","Nombre de Numéro_FINESS_site","Actifs","% actifs"]
["Auvergne-Rhône-Alpes",{"$f":"C2/$C$114","v":{"v":0.11678163137330567,"d":"12%"}},2421,1307,{"$f":"D2/C2","v":{"v":0.5398595621643949,"d":"54%"}}]
[1,{"$f":"C3/$C$114","v":{"v":0.007621436496068689,"d":"1%"}},158,95,{"$f":"D3/C3","v":{"v":0.6012658227848101,"d":"60%"}}]
[3,{"v":0.006367276060006753,"d":"1%"},132,75,{"v":0.5681818181818182,"d":"57%"}]
[7,{"v":0.004678983165307993,"d":"0%"},97,47,{"v":0.4845360824742268,"d":"48%"}]
[15,{"v":3.1354010901548405E-3,"d":"0%"},65,35,{"v":0.5384615384615384,"d":"54%"}]
[26,{"v":7.283777917128937E-3,"d":"1%"},151,94,{"v":0.6225165562913907,"d":"62%"}]
[38,{"v":0.017847667743958323,"d":"2%"},370,201,{"v":0.5432432432432432,"d":"54%"}]
[42,{"v":0.010708600646374994,"d":"1%"},222,113,{"v":0.509009009009009,"d":"51%"}]
[43,{"v":0.003907192127731417,"d":"0%"},81,42,{"v":0.5185185185185185,"d":"52%"}]
[63,{"v":0.011142733105011819,"d":"1%"},231,137,{"v":0.5930735930735931,"d":"59%"}]
[69,{"v":0.026433843036997733,"d":"3%"},548,274,{"v":0.5,"d":"50%"}]
[73,{"v":6.9943562780377215E-3,"d":"1%"},145,86,{"v":0.593103448275862,"d":"59%"}]
[74,{"v":0.010660363706526458,"d":"1%"},221,108,{"v":0.48868778280542985,"d":"49%"}]
["Bourgogne-Franche-Comté",{"v":0.04490859099898702,"d":"4%"},931,691,{"v":0.7422126745435016,"d":"74%"}]
[21,{"v":0.007959095075008442,"d":"1%"},165,133,{"v":0.806060606060606,"d":"81%"}]
[25,{"v":0.008730886112585018,"d":"1%"},181,119,{"v":0.6574585635359116,"d":"66%"}]
[39,{"v":0.004244850706671169,"d":"0%"},88,73,{"v":0.8295454545454546,"d":"83%"}]
[58,{"v":3.8589551878828805E-3,"d":"0%"},80,59,{"v":0.7375,"d":"74%"}]
[70,{"v":0.003907192127731417,"d":"0%"},81,61,{"v":0.7530864197530864,"d":"75%"}]
[71,{"v":0.009020307751676233,"d":"1%"},187,135,{"v":0.7219251336898396,"d":"72%"}]
[89,{"v":0.004871930924702137,"d":"0%"},101,80,{"v":0.7920792079207921,"d":"79%"}]
[90,{"v":2.3153731127297282E-3,"d":"0%"},48,31,{"v":0.6458333333333334,"d":"65%"}]
["Bretagne",{"v":0.048864020066566975,"d":"5%"},1013,581,{"v":0.5735439289239882,"d":"57%"}]
[22,{"v":9.261492450918913E-3,"d":"1%"},192,118,{"v":0.6145833333333334,"d":"61%"}]
[29,{"v":0.014085186435772515,"d":"1%"},292,178,{"v":0.6095890410958904,"d":"61%"}]
[35,{"v":0.014229897255318123,"d":"1%"},295,169,{"v":0.5728813559322034,"d":"57%"}]
[56,{"v":0.011287443924557427,"d":"1%"},234,116,{"v":0.49572649572649574,"d":"50%"}]
["Centre-Val de Loire",{"v":0.036660074284887365,"d":"4%"},760,458,{"v":0.6026315789473684,"d":"60%"}]
[18,{"v":0.004968404804399209,"d":"0%"},103,53,{"v":0.5145631067961165,"d":"51%"}]
[28,{"v":0.005016641744247745,"d":"1%"},104,62,{"v":0.5961538461538461,"d":"60%"}]
[36,{"v":0.003955429067579953,"d":"0%"},82,53,{"v":0.6463414634146342,"d":"65%"}]
[37,{"v":0.009165018571221841,"d":"1%"},190,130,{"v":0.6842105263157895,"d":"68%"}]
[41,{"v":4.823693984853601E-3,"d":"0%"},100,53,{"v":0.53,"d":"53%"}]
[45,{"v":0.008730886112585018,"d":"1%"},181,107,{"v":0.5911602209944752,"d":"59%"}]
["Corse",{"v":6.319039120158217E-3,"d":"1%"},131,70,{"v":0.5343511450381679,"d":"53%"}]
["2A",{"v":2.9424533307606964E-3,"d":"0%"},61,31,{"v":0.5081967213114754,"d":"51%"}]
["2B",{"v":3.3765857893975205E-3,"d":"0%"},70,39,{"v":0.5571428571428572,"d":"56%"}]
["Grand Est",{"v":0.07611789108098982,"d":"8%"},1578,872,{"v":0.5525982256020279,"d":"55%"}]
[8,{"v":0.004968404804399209,"d":"0%"},103,52,{"v":0.5048543689320388,"d":"50%"}]
[10,{"v":0.004051902947277025,"d":"0%"},84,51,{"v":0.6071428571428571,"d":"61%"}]
[51,{"v":0.00858617529303941,"d":"1%"},178,98,{"v":0.550561797752809,"d":"55%"}]
[52,{"v":2.8942163909121605E-3,"d":"0%"},60,38,{"v":0.6333333333333333,"d":"63%"}]
[54,{"v":0.012107471901982539,"d":"1%"},251,144,{"v":0.5737051792828686,"d":"57%"}]
[55,{"v":2.7495055713665523E-3,"d":"0%"},57,35,{"v":0.6140350877192983,"d":"61%"}]
[57,{"v":0.012396893541073754,"d":"1%"},257,123,{"v":0.4785992217898833,"d":"48%"}]
[67,{"v":0.01316868457865033,"d":"1%"},273,157,{"v":0.575091575091575,"d":"58%"}]
[68,{"v":0.008972070811827697,"d":"1%"},186,107,{"v":0.5752688172043011,"d":"58%"}]
[88,{"v":0.006222565240461145,"d":"1%"},129,67,{"v":0.5193798449612403,"d":"52%"}]
["Hauts-de-France",{"v":0.09353142636631132,"d":"9%"},1939,1219,{"v":0.62867457452295,"d":"63%"}]
[2,{"v":0.008152042834402585,"d":"1%"},169,108,{"v":0.6390532544378699,"d":"64%"}]
[59,{"v":0.04259321788625729,"d":"4%"},883,556,{"v":0.6296715741789355,"d":"63%"}]
[60,{"v":0.010419179007283778,"d":"1%"},216,127,{"v":0.5879629629629629,"d":"59%"}]
[62,{"v":0.023346678886691428,"d":"2%"},484,314,{"v":0.6487603305785123,"d":"65%"}]
[80,{"v":0.009020307751676233,"d":"1%"},187,114,{"v":0.6096256684491979,"d":"61%"}]
["Ile-de-France",{"v":0.16868457865033043,"d":"17%"},3497,1301,{"v":0.3720331712896769,"d":"37%"}]
[75,{"v":0.04244850706671169,"d":"4%"},880,300,{"v":0.3409090909090909,"d":"34%"}]
[77,{"v":0.016882928946987605,"d":"2%"},350,169,{"v":0.4828571428571429,"d":"48%"}]
[78,{"v":0.018040615503352467,"d":"2%"},374,179,{"v":0.4786096256684492,"d":"48%"}]
[91,{"v":0.016255848728956634,"d":"2%"},337,121,{"v":0.3590504451038576,"d":"36%"}]
[92,{"v":0.02199604457093242,"d":"2%"},456,158,{"v":0.34649122807017546,"d":"35%"}]
[93,{"v":0.018957117360474653,"d":"2%"},393,89,{"v":0.22646310432569974,"d":"23%"}]
[94,{"v":0.018715932661231973,"d":"2%"},388,165,{"v":0.4252577319587629,"d":"43%"}]
[95,{"v":0.015387583811682986,"d":"2%"},319,120,{"v":0.3761755485893417,"d":"38%"}]
["Normandie",{"v":0.04476388017944142,"d":"4%"},928,608,{"v":0.6551724137931034,"d":"66%"}]
[14,{"v":0.010226231247889635,"d":"1%"},212,125,{"v":0.589622641509434,"d":"59%"}]
[27,{"$f":"C67/$C$114","v":{"v":6.801408518643577E-3,"d":"1%"}},141,90,{"$f":"D67/C67","v":{"v":0.6382978723404256,"d":"64%"}}]
[50,{"v":0.006608460759249433,"d":"1%"},137,97,{"v":0.708029197080292,"d":"71%"}]
[61,{"v":4.5825092856109206E-3,"d":"0%"},95,71,{"v":0.7473684210526316,"d":"75%"}]
[76,{"v":0.01654527036804785,"d":"2%"},343,225,{"v":0.6559766763848397,"d":"66%"}]
["Nouvelle-Aquitaine",{"v":0.09922338526843857,"d":"10%"},2057,1244,{"v":0.6047642197374817,"d":"60%"}]
[16,{"v":0.005933143601369929,"d":"1%"},123,84,{"v":0.6829268292682927,"d":"68%"}]
[17,{"v":0.01051565288698085,"d":"1%"},218,115,{"v":0.5275229357798165,"d":"53%"}]
[19,{"v":4.5825092856109206E-3,"d":"0%"},95,50,{"v":0.5263157894736842,"d":"53%"}]
[23,{"v":2.7012686315180164E-3,"d":"0%"},56,32,{"v":0.5714285714285714,"d":"57%"}]
[24,{"v":0.00689788239834065,"d":"1%"},143,97,{"v":0.6783216783216783,"d":"68%"}]
[33,{"v":0.02503497178139019,"d":"3%"},519,303,{"v":0.5838150289017341,"d":"58%"}]
[40,{"v":0.006367276060006753,"d":"1%"},132,98,{"v":0.7424242424242424,"d":"74%"}]
[47,{"v":0.005691958902127249,"d":"1%"},118,77,{"v":0.652542372881356,"d":"65%"}]
[64,{"v":0.011576865563648642,"d":"1%"},240,151,{"v":0.6291666666666667,"d":"63%"}]
[79,{"v":0.005884906661521393,"d":"1%"},122,81,{"v":0.6639344262295082,"d":"66%"}]
[86,{"v":0.006849645458492113,"d":"1%"},142,79,{"v":0.5563380281690141,"d":"56%"}]
[87,{"v":0.007187304037431865,"d":"1%"},149,77,{"v":0.5167785234899329,"d":"52%"}]
["Occitanie",{"v":0.09401379576479668,"d":"9%"},1949,1053,{"v":0.5402770651616213,"d":"54%"}]
[9,{"v":2.3153731127297282E-3,"d":"0%"},48,32,{"v":0.6666666666666666,"d":"67%"}]
[11,{"v":0.006608460759249433,"d":"1%"},137,60,{"v":0.43795620437956206,"d":"44%"}]
[12,{"v":0.005209589503641889,"d":"1%"},108,78,{"v":0.7222222222222222,"d":"72%"}]
[30,{"v":0.01172157638319425,"d":"1%"},243,114,{"v":0.4691358024691358,"d":"47%"}]
[31,{"v":0.019439486758960012,"d":"2%"},403,238,{"v":0.5905707196029777,"d":"59%"}]
[32,{"v":3.0389272104577687E-3,"d":"0%"},63,45,{"v":0.7142857142857143,"d":"71%"}]
[34,{"v":0.018571221841686362,"d":"2%"},385,171,{"v":0.44415584415584414,"d":"44%"}]
[46,{"v":3.0389272104577687E-3,"d":"0%"},63,42,{"v":0.6666666666666666,"d":"67%"}]
[48,{"v":1.6882928946987603E-3,"d":"0%"},35,19,{"v":0.5428571428571428,"d":"54%"}]
[65,{"v":0.004437798466065313,"d":"0%"},92,49,{"v":0.532608695652174,"d":"53%"}]
[66,{"v":0.008152042834402585,"d":"1%"},169,80,{"v":0.47337278106508873,"d":"47%"}]
[81,{"v":6.0296174810670015E-3,"d":"1%"},125,76,{"v":0.608,"d":"61%"}]
[82,{"v":3.7624813081858087E-3,"d":"0%"},78,49,{"v":0.6282051282051282,"d":"63%"}]
["Pays de la Loire",{"v":0.05204765809657035,"d":"5%"},1079,680,{"v":0.6302131603336423,"d":"63%"}]
[44,{"v":0.01900535430032319,"d":"2%"},394,234,{"v":0.5939086294416244,"d":"59%"}]
[49,{"v":0.01123920698470889,"d":"1%"},233,158,{"v":0.6781115879828327,"d":"68%"}]
[53,{"v":4.1001398871255606E-3,"d":"0%"},85,53,{"v":0.6235294117647059,"d":"62%"}]
[72,{"v":0.007524962616371617,"d":"1%"},156,107,{"v":0.6858974358974359,"d":"69%"}]
[85,{"v":0.010177994308041097,"d":"1%"},211,128,{"v":0.6066350710900474,"d":"61%"}]
["Provence-Alpes-Côte d'Azur",{"v":0.08861125850176065,"d":"9%"},1837,723,{"v":0.3935764833968427,"d":"39%"}]
[4,{"v":2.7977425112150887E-3,"d":"0%"},58,26,{"v":0.4482758620689655,"d":"45%"}]
[5,{"v":2.6530316916694805E-3,"d":"0%"},55,25,{"v":0.45454545454545453,"d":"45%"}]
[6,{"v":0.020886594954416093,"d":"2%"},433,134,{"v":0.3094688221709007,"d":"31%"}]
[13,{"v":0.03545415078867396,"d":"4%"},735,291,{"v":0.39591836734693875,"d":"40%"}]
[83,{"v":0.017268824465775892,"d":"2%"},358,158,{"v":0.441340782122905,"d":"44%"}]
[84,{"v":0.00955091409001013,"d":"1%"},198,89,{"v":0.4494949494949495,"d":"45%"}]
["#N/A",{"v":0.029472770247455503,"d":"3%"},611,305,{"v":0.49918166939443537,"d":"50%"}]
[97,{"v":0.028315083691090637,"d":"3%"},587,290,{"v":0.4940374787052811,"d":"49%"}]
[98,{"v":1.1576865563648641E-3,"d":"0%"},24,15,{"v":0.625,"d":"63%"}]
["Total général",{"v":1,"d":"100%"},20731,11112,{"v":0.5360088755969321,"d":"54%"}]

{"sheet":"Base Officine 1 11 22","index":2,"n_rows":20732,"n_cols":15,"rows_kept":4500,"cut":true,"bounds":{"rows_first":2000,"rows_last":500,"rows_between":2000,"halvings":0}}
["Région","DPT","Connexion","Numéro_FINESS_site","Recherche V Finess Contrôle","Transactions effectives mois 09 & 10","Raison_sociale_site","Numéro_Voie_coord_structure","Libellé_type_de_voie_coord_structure","Libellé_Voie_coord_structure","Bureau_cedex_coord_structure","Code_postal_coord_structure","Libellé_commune_coord_structure","Libellé_secteur_d_activité","Code_section_tableau_pharmaciens"]
[{"$f":"VLOOKUP(B2,Régions!A:C,3,FALSE)","v":"Auvergne-Rhône-Alpes"},{"v":1,"d":"01"},"CNOP",10002285,10002285,"oui","NOUVELLE PHARMACIE DU CHAMP DE MARS",9,"Rue","ALEXANDRE BERARD","01500 AMBERIEU-EN-BUGEY",1500,"Ambérieu-en-Bugey","Pharmacie d'officine","A"]
[{"$f":"VLOOKUP(B3,Régions!A:C,3,FALSE)","v":"Auvergne-Rhône-Alpes"},{"v":1,"d":"01"},{"$error":"#N/A"},10002301,{"$error":"#N/A"},{"$error":"#N/A"},"GRANDE PHARMACIE D'AMBERIEU CENTRE",39,"Rue","ALEXANDRE BERARD","01500 AMBERIEU-EN-BUGEY",1500,"Ambérieu-en-Bugey","Pharmacie d'officine","A"]
[{"$f":"VLOOKUP(B4,Régions!A:C,3,FALSE)","v":"Auvergne-Rhône-Alpes"},{"v":1,"d":"01"},"PHARMDIRECTFR",10002335,10002335,"oui","PHARMACIE ORSET",625,"Avenue","LEON BLUM","01500 AMBERIEU EN BUGEY",1500,"Ambérieu-en-Bugey","Pharmacie d'officine","A"]
[{"$f":"VLOOKUP(B5,Régions!A:C,3,FALSE)","v":"Auvergne-Rhône-Alpes"},{"v":1,"d":"01"},{"$error":"#N/A"},10002350,{"$error":"#N/A"},{"$error":"#N/A"},"PHARMACIE GUSTIN",68,"Avenue","ROGER SALENGRO","01500 AMBERIEU-EN-BUGEY",1500,"Ambérieu-en-Bugey","Pharmacie d'officine","A"]
[{"$f":"VLOOKUP(B6,Régions!A:C,3,FALSE)","v":"Auvergne-Rhône-Alpes"},{"v":1,"d":"01"},"CNOP",10002384,10002384,"oui","PHARMACIE VINOIS-DOLIVET","NULL","Route","DE LA MAIRIE","01330 AMBERIEUX-EN-DOMBES",1330,"Ambérieux-en-Dombes","Pharmacie d'officine","A"]
[{"$f":"VLOOKUP(B7,Régions!A:C,3,FALSE)","v":"Auvergne-Rhône-Alpes"},{"v":1,"d":"01"},"CNOP",10002400,10002400,"oui","PHARMACIE BEDOY",112,"NULL","Grand Rue","01500 AMBRONAY",1500,"Ambronay","Pharmacie d'officine","A"]
[{"$f":"VLOOKUP(B8,Régions!A:C,3,FALSE)","v":"Auvergne-Rhône-Alpes"},{"v":1,"d":"01"},"PHARMDIRECTFR",10002434,10002434,"oui","PHARMACIE GROSS","NULL","Route","DE DORTAN","01100 ARBENT",1100,"Arbent","Pharmacie d'officine","A"]
[{"$f":"VLOOKUP(B9,Régions!A:C,3,FALSE)","v":"Auvergne-Rhône-Alpes"},{"v":1,"d":"01"},"PHARMDIRECTFR",10002467,10002467,"oui","SELARL TONY MENU",310,"Rue","Jean Marie Vianney","01480 ARS-SUR-FORMANS",1480,"Ars-sur-Formans","Pharmacie d'officine","A"]
[{"$f":"VLOOKUP(B10,Régions!A:C,3,FALSE)","v":"Auvergne-Rhône-Alpes"},{"v":1,"d":"01"},"PHARMDIRECTFR",10002483,10002483,"oui","PHARMACIE COUZON ICARD",24,"Rue","DE SAVOIE","01510 ARTEMARE",1510,"Artemare","Pharmacie d'officine","A"]
[{"$f":"VLOOKUP(B11,Régions!A:C,3,FALSE)","v":"Auvergne-Rhône-Alpes"},{"v":1,"d":"01"},"CNOP",10002517,10002517,"oui","PHARMACIE M. BARDET",568,"NULL","GRANDE RUE","01340 ATTIGNAT",1340,"Attignat","Pharmacie d'officine","A"]
[{"$f":"VLOOKUP(B12,Régions!A:C,3,FALSE)","v":"Auvergne-Rhône-Alpes"},{"v":1,"d":"01"},"CNOP",10002533,10002533,"oui","PHARMACIE DUPARCHY",300,"Route","de Montrevel","01380 BAGE-DOMMARTIN",1380,"Bâgé-Dommartin","Pharmacie d'officine","A"]
[{"$f":"VLOOKUP(B13,Régions!A:C,3,FALSE)","v":"Auvergne-Rhône-Alpes"},{"v":1,"d":"01"},"PHARMDIRECTFR",10002566,10002566,"oui","PHARMACIE DOUCELANCE",3,"Place","DES ARCADES","01100 BELLIGNAT",1100,"Bellignat","Pharmacie d'officine","A"]
[{"$f":"VLOOKUP(B14,Régions!A:C,3,FALSE)","v":"Auvergne-Rhône-Alpes"},{"v":1,"d":"01"},{"$error":"#N/A"},10002582,{"$error":"#N/A"},{"$error":"#N/A"},"PHARMACIE SCRIVE",87,"Route","DE GENEVE","01360 BELIGNEUX",1360,"Béligneux","Pharmacie d'officine","A"]
[{"$f":"VLOOKUP(B15,Régions!A:C,3,FALSE)","v":"Auvergne-Rhône-Alpes"},{"v":1,"d":"01"},{"$error":"#N/A"},10002616,{"$error":"#N/A"},{"$error":"#N/A"},"PHARMACIE DU CREDO","NULL","Avenue","de Lattre de Tassigny","01200 VALSERHONE",1200,"Valserhône","Pharmacie d'officine","A"]
[{"$f":"VLOOKUP(B16,Régions!A:C,3,FALSE)","v":"Auvergne-Rhône-Alpes"},{"v":1,"d":"01"},"PHARMDIRECTFR",10002632,10002632,"oui","PHARMACIE DEBOVE",40,"Rue","de la République","01200 VALSERHONE",1200,"Valserhône","Pharmacie d'officine","A"]
[{"$f":"VLOOKUP(B17,Régions!A:C,3,FALSE)","v":"Auvergne-Rhône-Alpes"},{"v":1,"d":"01"},{"$error":"#N/A"},10002657,{"$error":"#N/A"},{"$error":"#N/A"},"PHARMACIE MANNIER",20,"Rue","PARMENTIER","01200 VALSERHONE",1200,"Valserhône","Pharmacie d'officine","A"]
[{"$f":"VLOOKUP(B18,Régions!A:C,3,FALSE)","v":"Auvergne-Rhône-Alpes"},{"v":1,"d":"01"},"PHARMDIRECTFR",10002673,10002673,"oui","PHARMACIE METROP - LATHUILIERE",69,"Rue","DE LA REPUBLIQUE","01200 VALSERHONE",1200,"Valserhône","Pharmacie d'officine","A"]
[{"$f":"VLOOKUP(B19,Régions!A:C,3,FALSE)","v":"Auvergne-Rhône-Alpes"},{"v":1,"d":"01"},{"$error":"#N/A"},10002707,{"$error":"#N/A"},{"$error":"#N/A"},"PHARMACIE  PELLEGRINI-WERLE",25,"Rue","DE LA REPUBLIQUE","01200 VALSERHONE",1200,"Valserhône","Pharmacie d'officine","A"]
[{"$f":"VLOOKUP(B20,Régions!A:C,3,FALSE)","v":"Auvergne-Rhône-Alpes"},{"v":1,"d":"01"},"PHARMDIRECTFR",10002723,10002723,"oui","PHARMACIE  CAVAGNA",61,"NULL","GRANDE RUE","01300 BELLEY",1300,"Belley","Pharmacie d'officine","A"]
[{"$f":"VLOOKUP(B21,Régions!A:C,3,FALSE)","v":"Auvergne-Rhône-Alpes"},{"v":1,"d":"01"},"PHARMDIRECTFR",10002756,10002756,"oui","PHARMACIE GALENUS",1,"Rue","DE LA REPUBLIQUE","01300 BELLEY",1300,"Belley","Pharmacie d'officine","A"]
[{"$f":"VLOOKUP(B22,Régions!A:C,3,FALSE)","v":"Auvergne-Rhône-Alpes"},{"v":1,"d":"01"},"PHARMDIRECTFR",10002772,10002772,"oui","GRANDE PHARMACIE DES TERREAUX",7,"Place","DES TERREAUX","01300 BELLEY",1300,"Belley","Pharmacie d'officine","A"]
[{"$f":"VLOOKUP(B23,Régions!A:C,3,FALSE)","v":"Auvergne-Rhône-Alpes"},{"v":1,"d":"01"},"PHARMDIRECTFR",10002806,10002806,"oui","PHARMACIE  LLAURENS",2,"Boulevard","DE VERDUN","01300 BELLEY",1300,"Belley","Pharmacie d'officine","A"]
[{"$f":"VLOOKUP(B24,Régions!A:C,3,FALSE)","v":"Auvergne-Rhône-Alpes"},{"v":1,"d":"01"},"CNOP",10002822,10002822,"oui","PHARMACIE DE BEYNOST",5,"Place","DE LA DOMBE","01700 BEYNOST",1700,"Beynost","Pharmacie d'officine","A"]
[{"$f":"VLOOKUP(B25,Régions!A:C,3,FALSE)","v":"Auvergne-Rhône-Alpes"},{"v":1,"d":"01"},{"$error":"#N/A"},10002855,{"$error":"#N/A"},{"$error":"#N/A"},"PHARMACIE BLANC - JODART",55,"Rue","DE LA MEULE","01120 LA BOISSE",1120,"La Boisse","Pharmacie d'officine","A"]
[{"$f":"VLOOKUP(B26,Régions!A:C,3,FALSE)","v":"Auvergne-Rhône-Alpes"},{"v":1,"d":"01"},"PHARMDIRECTFR",10002921,10002921,"oui","PHARMACIE DE LA CROIX BLANCHE",41,"Avenue","AMEDEE MERCIER","01000 BOURG EN BRESSE",1000,"Bourg-en-Bresse","Pharmacie d'officine","A"]
[{"$f":"VLOOKUP(B27,Régions!A:C,3,FALSE)","v":"Auvergne-Rhône-Alpes"},{"v":1,"d":"01"},{"$error":"#N/A"},10002954,{"$error":"#N/A"},{"$error":"#N/A"},"PHARMACIE SIMONIN",68,"Avenue","DE PARME","01000 BOURG EN BRESSE",1000,"Bourg-en-Bresse","Pharmacie d'officine","A"]
[{"$f":"VLOOKUP(B28,Régions!A:C,3,FALSE)","v":"Auvergne-Rhône-Alpes"},{"v":1,"d":"01"},"CNOP",10002970,10002970,"oui","PHARMACIE CALMELS",146,"Boulevard","DE BROU","01000 BOURG-EN-BRESSE",1000,"Bourg-en-Bresse","Pharmacie d'officine","A"]
[{"$f":"VLOOKUP(B29,Régions!A:C,3,FALSE)","v":"Auvergne-Rhône-Alpes"},{"v":1,"d":"01"},{"$error":"#N/A"},10003002,{"$error":"#N/A"},{"$error":"#N/A"}," PHARMACIE DES ARCADES",18,"Rue","GAMBETTA","01000 BOURG-EN-BRESSE",1000,"Bourg-en-Bresse","Pharmacie d'officine","A"]
[{"$f":"VLOOKUP(B30,Régions!A:C,3,FALSE)","v":"Auvergne-Rhône-Alpes"},{"v":1,"d":"01"},"CNOP",10003036,10003036,"oui","PHARMACIE BERTILLOT-RUMIANO",17,"Boulevard","IRENE JOLIOT CURIE","01000 BOURG-EN-BRESSE",1000,"Bourg-en-Bresse","Pharmacie d'officine","A"]
[{"$f":"VLOOKUP(B31,Régions!A:C,3,FALSE)","v":"Auvergne-Rhône-Alpes"},{"v":1,"d":"01"},{"$error":"#N/A"},10003051,{"$error":"#N/A"},{"$error":"#N/A"},"PHARMACIE BOURGEOIS",3,"Avenue","JEAN JAURES","01000 BOURG-EN-BRESSE",1000,"Bourg-en-Bresse","Pharmacie d'officine","A"]
[{"$f":"VLOOKUP(B32,Régions!A:C,3,FALSE)","v":"Auvergne-Rhône-Alpes"},{"v":1,"d":"01"},{"$error":"#N/A"},10003085,{"$error":"#N/A"},{"$error":"#N/A"},"PHARMACIE RICHER",12,"Avenue","DE MACON","01000 BOURG-EN-BRESSE",1000,"Bourg-en-Bresse","Pharmacie d'officine","A"]
[{"$f":"VLOOKUP(B33,Régions!A:C,3,FALSE)","v":"Auvergne-Rhône-Alpes"},{"v":1,"d":"01"},"CNOP",10003101,10003101,"oui","PHARMACIE LAINE",35,"Avenue","MAGINOT","01000 BOURG-EN-BRESSE",1000,"Bourg-en-Bresse","Pharmacie d'officine","A"]
[{"$f":"VLOOKUP(B34,Régions!A:C,3,FALSE)","v":"Auvergne-Rhône-Alpes"},{"v":1,"d":"01"},{"$error":"#N/A"},10003135,{"$error":"#N/A"},{"$error":"#N/A"},"PHARMACIE SELIGNAT",45,"Rue","MARECHAL FOCH","01000 BOURG-EN-BRESSE",1000,"Bourg-en-Bresse","Pharmacie d'officine","A"]
[{"$f":"VLOOKUP(B35,Régions!A:C,3,FALSE)","v":"Auvergne-Rhône-Alpes"},{"v":1,"d":"01"},{"$error":"#N/A"},10003150,{"$error":"#N/A"},{"$error":"#N/A"},"PHARMACIE DES VENNES",14,"Rue","MOLIERE","01000 BOURG-EN-BRESSE",1000,"Bourg-en-Bresse","Pharmacie d'officine","A"]
[{"$f":"VLOOKUP(B36,Régions!A:C,3,FALSE)","v":"Auvergne-Rhône-Alpes"},{"v":1,"d":"01"},"PHARMDIRECTFR",10003184,10003184,"oui","PHARMACIE PUGEAT-GAVAND","NULL","Boulevard","CHARLES DE GAULLE","01000 BOURG EN BRESSE",1000,"Bourg-en-Bresse","Pharmacie d'officine","A"]
[{"$f":"VLOOKUP(B37,Régions!A:C,3,FALSE)","v":"Auvergne-Rhône-Alpes"},{"v":1,"d":"01"},"CNOP",10003200,10003200,"oui","PHARMACIE BARE-CALVET","NULL","Rue","DU STAND","01000 BOURG-EN-BRESSE",1000,"Bourg-en-Bresse","Pharmacie d'officine","A"]
[{"$f":"VLOOKUP(B38,Régions!A:C,3,FALSE)","v":"Auvergne-Rhône-Alpes"},{"v":1,"d":"01"},"CNOP",10003267,10003267,"oui","PHARMACIE VUILLOT-DUBOZ",19,"Rue","NOTRE DAME","01000 BOURG-EN-BRESSE",1000,"Bourg-en-Bresse","Pharmacie d'officine","A"]
[{"$f":"VLOOKUP(B39,Régions!A:C,3,FALSE)","v":"Auvergne-Rhône-Alpes"},{"v":1,"d":"01"},"CNOP",10003283,10003283,"oui","PHARMACIE BONNET - RIO",16,"Avenue","DE MARBOZ","01000 BOURG-EN-BRESSE",1000,"Bourg-en-Bresse","Pharmacie d'officine","A"]
[{"$f":"VLOOKUP(B40,Régions!A:C,3,FALSE)","v":"Auvergne-Rhône-Alpes"},{"v":1,"d":"01"},"CNOP",10003317,10003317,"oui","PHARMACIE BOUVIER","NULL","Residence","DE CESSY","01170 CESSY",1170,"Cessy","Pharmacie d'officine","A"]
[{"$f":"VLOOKUP(B41,Régions!A:C,3,FALSE)","v":"Auvergne-Rhône-Alpes"},{"v":1,"d":"01"},"CNOP",10003333,10003333,"oui","PHARMACIE DELORME",2,"Avenue","DU REVERMONT","01250 CEYZERIAT",1250,"Ceyzériat","Pharmacie d'officine","A"]
[{"$f":"VLOOKUP(B42,Régions!A:C,3,FALSE)","v":"Auvergne-Rhône-Alpes"},{"v":1,"d":"01"},"CNOP",10003366,10003366,"oui","PHARMACIE OLIVA","NULL","Place","DU MARCHE","01320 CHALAMONT",1320,"Chalamont","Pharmacie d'officine","A"]
[{"$f":"VLOOKUP(B43,Régions!A:C,3,FALSE)","v":"Auvergne-Rhône-Alpes"},{"v":1,"d":"01"},{"$error":"#N/A"},10003382,{"$error":"#N/A"},{"$error":"#N/A"},"PHARMACIE DU VALROMEY",214,"NULL","Grand Rue","01260 CHAMPAGNE-EN-VALROMEY",1260,"Champagne-en-Valromey","Pharmacie d'officine","A"]
[{"$f":"VLOOKUP(B44,Régions!A:C,3,FALSE)","v":"Auvergne-Rhône-Alpes"},{"v":1,"d":"01"},{"$error":"#N/A"},10003416,{"$error":"#N/A"},{"$error":"#N/A"},"SELARL PHARMACIE DE LA MICHAILLE",648,"Rue","Aimé Bonneville","01200 VALSERHONE",1200,"Valserhône","Pharmacie d'officine","A"]
[{"$f":"VLOOKUP(B45,Régions!A:C,3,FALSE)","v":"Auvergne-Rhône-Alpes"},{"v":1,"d":"01"},{"$error":"#N/A"},10003432,{"$error":"#N/A"},{"$error":"#N/A"},"PHARMACIE CHANEL",145,"Avenue","MARECHAL FOCH","01400 CHÂTILLON-SUR-CHALARONNE",1400,"Châtillon-sur-Chalaronne","Pharmacie d'officine","A"]
[{"$f":"VLOOKUP(B46,Régions!A:C,3,FALSE)","v":"Auvergne-Rhône-Alpes"},{"v":1,"d":"01"},"CNOP",10003473,10003473,"oui","PHARMACIE  LUGINBUHL-BERNADAC","NULL","NULL","GRANDE RUE","01270 COLIGNY",1270,"Coligny","Pharmacie d'officine","A"]
[{"$f":"VLOOKUP(B47,Régions!A:C,3,FALSE)","v":"Auvergne-Rhône-Alpes"},{"v":1,"d":"01"},"CNOP",10003507,10003507,"oui","PHARMACIE DUPONT",106,"Grand rue","NULL","01550 COLLONGES",1550,"Collonges","Pharmacie d'officine","A"]
[{"$f":"VLOOKUP(B48,Régions!A:C,3,FALSE)","v":"Auvergne-Rhône-Alpes"},{"v":1,"d":"01"},{"$error":"#N/A"},10003523,{"$error":"#N/A"},{"$error":"#N/A"},"PHARMACIE RICHARD",1,"Avenue","JEAN FALCONNIER","01350 CULOZ",1350,"Culoz","Pharmacie d'officine","A"]
[{"$f":"VLOOKUP(B49,Régions!A:C,3,FALSE)","v":"Auvergne-Rhône-Alpes"},{"v":1,"d":"01"},"PHARMDIRECTFR",10003556,10003556,"oui","PHARMACIE DE DAGNEUX",1147,"Rue","DE GENEVE","01120 DAGNEUX",1120,"Dagneux","Pharmacie d'officine","A"]
[{"$f":"VLOOKUP(B50,Régions!A:C,3,FALSE)","v":"Auvergne-Rhône-Alpes"},{"v":1,"d":"01"},{"$error":"#N/A"},10003572,{"$error":"#N/A"},{"$error":"#N/A"},"PHARMACIE WELSCH - VERHILLE",31,"Rue","DES BAINS","01220 DIVONNE-LES-BAINS",1220,"Divonne-les-Bains","Pharmacie d'officine","A"]
[{"$f":"VLOOKUP(B51,Régions!A:C,3,FALSE)","v":"Auvergne-Rhône-Alpes"},{"v":1,"d":"01"},{"$error":"#N/A"},10003606,{"$error":"#N/A"},{"$error":"#N/A"},"PHARMACIE FERNOUX",132,"NULL","GRANDE RUE","01220 DIVONNE-LES-BAINS",1220,"Divonne-les-Bains","Pharmacie d'officine","A"]
[{"$f":"VLOOKUP(B52,Régions!A:C,3,FALSE)","v":"Auvergne-Rhône-Alpes"},{"v":1,"d":"01"},"PHARMDIRECTFR",10003622,10003622,"oui","PHARMACIE CHAPON","NULL","Rue","COLONEL ROMANS PETIT","01590 DORTAN",1590,"Dortan","Pharmacie d'officine","A"]
[{"$f":"VLOOKUP(B53,Régions!A:C,3,FALSE)","v":"Auvergne-Rhône-Alpes"},{"v":1,"d":"01"},"CNOP",10003655,10003655,"oui","PHARMACIE BASSET-AMIGUES",279,"Route","de Flechères","01480 FAREINS",1480,"Fareins","Pharmacie d'officine","A"]
[{"$f":"VLOOKUP(B54,Régions!A:C,3,FALSE)","v":"Auvergne-Rhône-Alpes"},{"v":1,"d":"01"},{"$error":"#N/A"},10003671,{"$error":"#N/A"},{"$error":"#N/A"},"PHARMACIE JOSSERAND",210,"NULL","GRANDE RUE","01570 FEILLENS",1570,"Feillens","Pharmacie d'officine","A"]
[{"$f":"VLOOKUP(B55,Régions!A:C,3,FALSE)","v":"Auvergne-Rhône-Alpes"},{"v":1,"d":"01"},{"$error":"#N/A"},10003705,{"$error":"#N/A"},{"$error":"#N/A"},"PHARMACIE REVOL",5,"Avenue","VOLTAIRE","01210 FERNEY-VOLTAIRE",1210,"Ferney-Voltaire","Pharmacie d'officine","A"]
[{"$f":"VLOOKUP(B56,Régions!A:C,3,FALSE)","v":"Auvergne-Rhône-Alpes"},{"v":1,"d":"01"},"PHARMDIRECTFR",10003721,10003721,"oui","PHARMACIE DU LEVANT",6,"Chemin","DU LEVANT","01210 FERNEY-VOLTAIRE",1210,"Ferney-Voltaire","Pharmacie d'officine","A"]
[{"$f":"VLOOKUP(B57,Régions!A:C,3,FALSE)","v":"Auvergne-Rhône-Alpes"},{"v":1,"d":"01"},"PHARMDIRECTFR",10003754,10003754,"oui","PHARMACIE MATTERN","NULL","Zone","ARTISANALE DE LA POTERIE","01210 FERNEY-VOLTAIRE",1210,"Ferney-Voltaire","Pharmacie d'officine","A"]
[{"$f":"VLOOKUP(B58,Régions!A:C,3,FALSE)","v":"Auvergne-Rhône-Alpes"},{"v":1,"d":"01"},{"$error":"#N/A"},10003770,{"$error":"#N/A"},{"$error":"#N/A"},"PHARMACIE BENDAHOU","NULL","NULL","NULL","01170 GEX",1170,"Gex","Pharmacie d'officine","A"]
[{"$f":"VLOOKUP(B59,Régions!A:C,3,FALSE)","v":"Auvergne-Rhône-Alpes"},{"v":1,"d":"01"},"CNOP",10003804,10003804,"oui","PHARMACIE ROMAND","NULL","Avenue","DE LA GARE","01170 GEX",1170,"Gex","Pharmacie d'officine","A"]
[{"$f":"VLOOKUP(B60,Régions!A:C,3,FALSE)","v":"Auvergne-Rhône-Alpes"},{"v":1,"d":"01"},"CNOP",10003820,10003820,"oui","PHARMACIE MAGNIN",539,"Rue","DES ENTREPRENEURS","01170 GEX",1170,"Gex","Pharmacie d'officine","A"]
[{"$f":"VLOOKUP(B61,Régions!A:C,3,FALSE)","v":"Auvergne-Rhône-Alpes"},{"v":1,"d":"01"},{"$error":"#N/A"},10003853,{"$error":"#N/A"},{"$error":"#N/A"},"PHARMACIE GRIZARD",1,"Rue","GUSTAVE LAMBERT","01290 GRIEGES",1290,"Grièges","Pharmacie d'officine","A"]
[{"$f":"VLOOKUP(B62,Régions!A:C,3,FALSE)","v":"Auvergne-Rhône-Alpes"},{"v":1,"d":"01"},{"$error":"#N/A"},10003887,{"$error":"#N/A"},{"$error":"#N/A"},"PHARMACIE VALLEE",2,"Rue","JOSEPH VIALLAZ","01110 PLATEAU D?HAUTEVILLE",1110,"Plateau d'Hauteville","Pharmacie d'officine","A"]
[{"$f":"VLOOKUP(B63,Régions!A:C,3,FALSE)","v":"Auvergne-Rhône-Alpes"},{"v":1,"d":"01"},"PHARMDIRECTFR",10003903,10003903,"oui","PHARMACIE ANTUNES-BURGAT",297,"Avenue","DU 11 NOVEMBRE 1918","01110 PLATEAU D?HAUTEVILLE",1110,"Plateau d'Hauteville","Pharmacie d'officine","A"]
[{"$f":"VLOOKUP(B64,Régions!A:C,3,FALSE)","v":"Auvergne-Rhône-Alpes"},{"v":1,"d":"01"},"CNOP",10003937,10003937,"oui","PHARMACIE LEFEVRE","NULL","Rue","MASONOD","01110 PLATEAU D?HAUTEVILLE",1110,"Plateau d'Hauteville","Pharmacie d'officine","A"]
[{"$f":"VLOOKUP(B65,Régions!A:C,3,FALSE)","v":"Auvergne-Rhône-Alpes"},{"v":1,"d":"01"},"CNOP",10003952,10003952,"oui","PHARMACIE MOUGIN",705,"NULL","GRANDE  RUE","01580 IZERNORE",1580,"Izernore","Pharmacie d'officine","A"]
[{"$f":"VLOOKUP(B66,Régions!A:C,3,FALSE)","v":"Auvergne-Rhône-Alpes"},{"v":1,"d":"01"},"CNOP",10003986,10003986,"oui","PHARMACIE ANGLADE-FAGUAIS","NULL","Rue","DU MARMONT","01480 JASSANS-RIOTTIER",1480,"Jassans-Riottier","Pharmacie d'officine","A"]
[{"$f":"VLOOKUP(B67,Régions!A:C,3,FALSE)","v":"Auvergne-Rhône-Alpes"},{"v":1,"d":"01"},{"$error":"#N/A"},10004000,{"$error":"#N/A"},{"$error":"#N/A"},"PHARMACIE BATHIER-BRETTON","NULL","Rue","JEAN MONNET","01480 JASSANS-RIOTTIER",1480,"Jassans-Riottier","Pharmacie d'officine","A"]
[{"$f":"VLOOKUP(B68,Régions!A:C,3,FALSE)","v":"Auvergne-Rhône-Alpes"},{"v":1,"d":"01"},"CNOP",10004034,10004034,"oui","PHARMACIE DE JUJURIEUX","NULL","Avenue","DES SPORTS","01640 JUJURIEUX",1640,"Jujurieux","Pharmacie d'officine","A"]
[{"$f":"VLOOKUP(B69,Régions!A:C,3,FALSE)","v":"Auvergne-Rhône-Alpes"},{"v":1,"d":"01"},{"$error":"#N/A"},10004067,{"$error":"#N/A"},{"$error":"#N/A"},"PHARMACIE MATHIEU",1,"Rue","DU MARCHE - 18 RUE PASTEUR","01150 LAGNIEU",1150,"Lagnieu","Pharmacie d'officine","A"]
[{"$f":"VLOOKUP(B70,Régions!A:C,3,FALSE)","v":"Auvergne-Rhône-Alpes"},{"v":1,"d":"01"},"CNOP",10004083,10004083,"oui","PHARMACIE PERDRIX-DANIERE",3,"Place","DE LA LIBERTE","01150 LAGNIEU",1150,"Lagnieu","Pharmacie d'officine","A"]
[{"$f":"VLOOKUP(B71,Régions!A:C,3,FALSE)","v":"Auvergne-Rhône-Alpes"},{"v":1,"d":"01"},"CNOP",10004117,10004117,"oui","S.C.E.M",48,"Route","DU PORT","01150 LAGNIEU",1150,"Lagnieu","Pharmacie d'officine","A"]
[{"$f":"VLOOKUP(B72,Régions!A:C,3,FALSE)","v":"Auvergne-Rhône-Alpes"},{"v":1,"d":"01"},"CNOP",10004166,10004166,"oui","PHARMACIE CHAPALAIN","NULL","Place","DE LA MAIRIE","01240 LENT",1240,"Lent","Pharmacie d'officine","A"]
[{"$f":"VLOOKUP(B73,Régions!A:C,3,FALSE)","v":"Auvergne-Rhône-Alpes"},{"v":1,"d":"01"},"PHARMDIRECTFR",10004182,10004182,"oui","PHARMACIE BERNARD",171,"Rue","du Bugey","01360 LOYETTES",1360,"Loyettes","Pharmacie d'officine","A"]
[{"$f":"VLOOKUP(B74,Régions!A:C,3,FALSE)","v":"Auvergne-Rhône-Alpes"},{"v":1,"d":"01"},"CNOP",10004216,10004216,"oui","PHARMACIE ROBERT-DUVILLIERS",1318,"NULL","GRAND'ROUTE","01570 MANZIAT",1570,"Manziat","Pharmacie d'officine","A"]
[{"$f":"VLOOKUP(B75,Régions!A:C,3,FALSE)","v":"Auvergne-Rhône-Alpes"},{"v":1,"d":"01"},"CNOP",10004232,10004232,"oui","PHARMACIE MOREY","NULL","Rue","SAINT CREPIN","01851 MARBOZ",1851,"Marboz","Pharmacie d'officine","A"]
[{"$f":"VLOOKUP(B76,Régions!A:C,3,FALSE)","v":"Auvergne-Rhône-Alpes"},{"v":1,"d":"01"},"CNOP",10004257,10004257,"oui","PHARMACIE EICHENLAUB - FOULON","NULL","Chemin","DU PREBLANC","01600 MASSIEUX",1600,"Massieux","Pharmacie d'officine","A"]
[{"$f":"VLOOKUP(B77,Régions!A:C,3,FALSE)","v":"Auvergne-Rhône-Alpes"},{"v":1,"d":"01"},{"$error":"#N/A"},10004273,{"$error":"#N/A"},{"$error":"#N/A"},"PHARMACIE CENTRALE",1,"Rue","DE LYON","01800 MEXIMIEUX",1800,"Meximieux","Pharmacie d'officine","A"]
[{"$f":"VLOOKUP(B78,Régions!A:C,3,FALSE)","v":"Auvergne-Rhône-Alpes"},{"v":1,"d":"01"},{"$error":"#N/A"},10004307,{"$error":"#N/A"},{"$error":"#N/A"},"PHARMACIE LUZY-FOULON",22,"Avenue","DE DENKENDORF","01800 MEXIMIEUX",1800,"Meximieux","Pharmacie d'officine","A"]
[{"$f":"VLOOKUP(B79,Régions!A:C,3,FALSE)","v":"Auvergne-Rhône-Alpes"},{"v":1,"d":"01"},{"$error":"#N/A"},10004323,{"$error":"#N/A"},{"$error":"#N/A"},"PHARMACIE DUFFEZ",39,"Rue","DE LYON","01800 MEXIMIEUX",1800,"Meximieux","Pharmacie d'officine","A"]
[{"$f":"VLOOKUP(B80,Régions!A:C,3,FALSE)","v":"Auvergne-Rhône-Alpes"},{"v":1,"d":"01"},"CNOP",10004356,10004356,"oui","PHARMACIE PETIT-MICHEL",156,"NULL","Grand rue","01660 MEZERIAT",1660,"Mézériat","Pharmacie d'officine","A"]
[{"$f":"VLOOKUP(B81,Régions!A:C,3,FALSE)","v":"Auvergne-Rhône-Alpes"},{"v":1,"d":"01"},"PHARMDIRECTFR",10004372,10004372,"oui","PHARMACIE CENTRALE PIAUD LLEO",1051,"NULL","GRANDE RUE","01700 MIRIBEL",1700,"Miribel","Pharmacie d'officine","A"]
[{"$f":"VLOOKUP(B82,Régions!A:C,3,FALSE)","v":"Auvergne-Rhône-Alpes"},{"v":1,"d":"01"},{"$error":"#N/A"},10004406,{"$error":"#N/A"},{"$error":"#N/A"},"PHARMACIE HOCHEPOT",1138,"NULL","GRANDE RUE","01700 MIRIBEL",1700,"Miribel","Pharmacie d'officine","A"]
[{"$f":"VLOOKUP(B83,Régions!A:C,3,FALSE)","v":"Auvergne-Rhône-Alpes"},{"v":1,"d":"01"},{"$error":"#N/A"},10004422,{"$error":"#N/A"},{"$error":"#N/A"},"PHARMACIE VUILLEMENOT-LIEGEON",1422,"NULL","GRANDE RUE","01700 MIRIBEL",1700,"Miribel","Pharmacie d'officine","A"]
[{"$f":"VLOOKUP(B84,Régions!A:C,3,FALSE)","v":"Auvergne-Rhône-Alpes"},{"v":1,"d":"01"},{"$error":"#N/A"},10004455,{"$error":"#N/A"},{"$error":"#N/A"},"PHARMACIE  DES AUGUSTINS",187,"Cours","CONDE","01120 MONTLUEL",1120,"Montluel","Pharmacie d'officine","A"]
[{"$f":"VLOOKUP(B85,Régions!A:C,3,FALSE)","v":"Auvergne-Rhône-Alpes"},{"v":1,"d":"01"},{"$error":"#N/A"},10004471,{"$error":"#N/A"},{"$error":"#N/A"},"SELARL DE LA SEREINE",245,"NULL","GRANDE RUE","01120 MONTLUEL",1120,"Montluel","Pharmacie d'officine","A"]
[{"$f":"VLOOKUP(B86,Régions!A:C,3,FALSE)","v":"Auvergne-Rhône-Alpes"},{"v":1,"d":"01"},"CNOP",10004505,10004505,"oui","PHARMACIE SANDRE",14,"Place","DE L'EGLISE","01090 MONTMERLE-SUR-SAONE",1090,"Montmerle-sur-Saône","Pharmacie d'officine","A"]
[{"$f":"VLOOKUP(B87,Régions!A:C,3,FALSE)","v":"Auvergne-Rhône-Alpes"},{"v":1,"d":"01"},"CNOP",10004521,10004521,"oui","PHARMACIE ZAMBUJO",15,"Avenue","DE BRESSE","01460 MONTRÉAL-LA-CLUSE",1460,"Montréal-la-Cluse","Pharmacie d'officine","A"]
[{"$f":"VLOOKUP(B88,Régions!A:C,3,FALSE)","v":"Auvergne-Rhône-Alpes"},{"v":1,"d":"01"},{"$error":"#N/A"},10004554,{"$error":"#N/A"},{"$error":"#N/A"},"PHARMACIE DERDERIAN",2,"Rue","de Brolliat","01460 MONTRÉAL-LA-CLUSE",1460,"Montréal-la-Cluse","Pharmacie d'officine","A"]
[{"$f":"VLOOKUP(B89,Régions!A:C,3,FALSE)","v":"Auvergne-Rhône-Alpes"},{"v":1,"d":"01"},"CNOP",10004570,10004570,"oui","PHARMACIE DOUDET",25,"NULL","GRANDE RUE","01340 MONTREVEL-EN-BRESSE",1340,"Montrevel-en-Bresse","Pharmacie d'officine","A"]
[{"$f":"VLOOKUP(B90,Régions!A:C,3,FALSE)","v":"Auvergne-Rhône-Alpes"},{"v":1,"d":"01"},{"$error":"#N/A"},10004604,{"$error":"#N/A"},{"$error":"#N/A"},"PHARMACIE DES 4 CHEMINS",1,"Rue","DE LA GARE","01340 MONTREVEL-EN-BRESSE",1340,"Montrevel-en-Bresse","Pharmacie d'officine","A"]
[{"$f":"VLOOKUP(B91,Régions!A:C,3,FALSE)","v":"Auvergne-Rhône-Alpes"},{"v":1,"d":"01"},"CNOP",10004653,10004653,"oui","PHARMACIE  ZAMBUJO",19,"Rue","DU COLLEGE","01130 NANTUA",1130,"Nantua","Pharmacie d'officine","A"]
[{"$f":"VLOOKUP(B92,Régions!A:C,3,FALSE)","v":"Auvergne-Rhône-Alpes"},{"v":1,"d":"01"},"CNOP",10004687,10004687,"oui","SELARL PHARMACIE GLEIZON","NULL","Rue","de la Bresse","01400 NEUVILLE-LES-DAMES",1400,"Neuville-les-Dames","Pharmacie d'officine","A"]
[{"$f":"VLOOKUP(B93,Régions!A:C,3,FALSE)","v":"Auvergne-Rhône-Alpes"},{"v":1,"d":"01"},{"$error":"#N/A"},10004703,{"$error":"#N/A"},{"$error":"#N/A"},"SADRD PHARMAGALT",1,"Arcade","D'ORNEX","01210 ORNEX",1210,"Ornex","Pharmacie d'officine","A"]
[{"$f":"VLOOKUP(B94,Régions!A:C,3,FALSE)","v":"Auvergne-Rhône-Alpes"},{"v":1,"d":"01"},{"$error":"#N/A"},10004737,{"$error":"#N/A"},{"$error":"#N/A"},"PHARMACIE AUGEE-MATHEY",44,"Rue","ANATOLE FRANCE","01100 OYONNAX",1100,"Oyonnax","Pharmacie d'officine","A"]
[{"$f":"VLOOKUP(B95,Régions!A:C,3,FALSE)","v":"Auvergne-Rhône-Alpes"},{"v":1,"d":"01"},{"$error":"#N/A"},10004752,{"$error":"#N/A"},{"$error":"#N/A"},"PHARMACIE MATZ-VENARD",78,"Rue","ANATOLE FRANCE","01100 OYONNAX",1100,"Oyonnax","Pharmacie d'officine","A"]
[{"$f":"VLOOKUP(B96,Régions!A:C,3,FALSE)","v":"Auvergne-Rhône-Alpes"},{"v":1,"d":"01"},"CNOP",10004786,10004786,"oui","PHARMACIE SIMEON - ROUX-BILLON",98,"Rue","ANATOLE FRANCE","01100 OYONNAX",1100,"Oyonnax","Pharmacie d'officine","A"]
[{"$f":"VLOOKUP(B97,Régions!A:C,3,FALSE)","v":"Auvergne-Rhône-Alpes"},{"v":1,"d":"01"},{"$error":"#N/A"},10004802,{"$error":"#N/A"},{"$error":"#N/A"},"PHARMACIE BAVEREL-COLIN",100,"Rue","ANATOLE FRANCE","01100 OYONNAX",1100,"Oyonnax","Pharmacie d'officine","A"]
[{"$f":"VLOOKUP(B98,Régions!A:C,3,FALSE)","v":"Auvergne-Rhône-Alpes"},{"v":1,"d":"01"},"CNOP",10004851,10004851,"oui","PHARMACIE ROUX",53,"Rue","BRILLAT SAVARIN","01100 OYONNAX",1100,"Oyonnax","Pharmacie d'officine","A"]
[{"$f":"VLOOKUP(B99,Régions!A:C,3,FALSE)","v":"Auvergne-Rhône-Alpes"},{"v":1,"d":"01"},{"$error":"#N/A"},10004885,{"$error":"#N/A"},{"$error":"#N/A"},"PHARMACIE KAYGISIZ",74,"Rue","MICHELET","01100 OYONNAX",1100,"Oyonnax","Pharmacie d'officine","A"]
[{"$f":"VLOOKUP(B100,Régions!A:C,3,FALSE)","v":"Auvergne-Rhône-Alpes"},{"v":1,"d":"01"},"PHARMDIRECTFR",10004901,10004901,"oui","PHARMACIE ZIRI",28,"Rue","Saint-Exupéry","01100 OYONNAX",1100,"Oyonnax","Pharmacie d'officine","A"]
[{"$f":"VLOOKUP(B101,Régions!A:C,3,FALSE)","v":"Auvergne-Rhône-Alpes"},{"v":1,"d":"01"},{"$error":"#N/A"},10004935,{"$error":"#N/A"},{"$error":"#N/A"},"PHARMACIE MILLET - POTET",93,"Cours","DE VERDUN","01100 OYONNAX",1100,"Oyonnax","Pharmacie d'officine","A"]
[{"$f":"VLOOKUP(B102,Régions!A:C,3,FALSE)","v":"Auvergne-Rhône-Alpes"},{"v":1,"d":"01"},"CNOP",10004950,10004950,"oui","PHARMACIE CHARREIX-FAVRE",92,"Cours","DE VERDUN","01100 OYONNAX",1100,"Oyonnax","Pharmacie d'officine","A"]
[{"$f":"VLOOKUP(B103,Régions!A:C,3,FALSE)","v":"Auvergne-Rhône-Alpes"},{"v":1,"d":"01"},"CNOP",10004984,10004984,"oui","PHARMACIE REYNAUD-FION",240,"Avenue","DE LYON","01960 PÉRONNAS",1960,"Péronnas","Pharmacie d'officine","A"]
[{"$f":"VLOOKUP(B104,Régions!A:C,3,FALSE)","v":"Auvergne-Rhône-Alpes"},{"v":1,"d":"01"},"PHARMDIRECTFR",10005007,10005007,"oui"," PHARMACIE DE LA MAIRIE","NULL","Place","DE LA MAIRIE","01960 PERONNAS",1960,"Péronnas","Pharmacie d'officine","A"]
[{"$f":"VLOOKUP(B105,Régions!A:C,3,FALSE)","v":"Auvergne-Rhône-Alpes"},{"v":1,"d":"01"},{"$error":"#N/A"},10005023,{"$error":"#N/A"},{"$error":"#N/A"}," PHARMACIE DE LA VEYLE",117,"Route","DE BOURG EN BRESSE","01310 POLLIAT",1310,"Polliat","Pharmacie d'officine","A"]
[{"$f":"VLOOKUP(B106,Régions!A:C,3,FALSE)","v":"Auvergne-Rhône-Alpes"},{"v":1,"d":"01"},"PHARMDIRECTFR",10005056,10005056,"oui","PHARMACIE DE PONCIN",1,"Place","Louis Pasteur","01450 PONCIN",1450,"Poncin","Pharmacie d'officine","A"]
[{"$f":"VLOOKUP(B107,Régions!A:C,3,FALSE)","v":"Auvergne-Rhône-Alpes"},{"v":1,"d":"01"},"PHARMDIRECTFR",10005072,10005072,"oui","PHARMACIE DES BORDS DE L'AIN",16,"Rue","du 1er septembre 1944","01160 PONT-D'AIN",1160,"Pont-d'Ain","Pharmacie d'officine","A"]
[{"$f":"VLOOKUP(B108,Régions!A:C,3,FALSE)","v":"Auvergne-Rhône-Alpes"},{"v":1,"d":"01"},{"$error":"#N/A"},10005098,{"$error":"#N/A"},{"$error":"#N/A"},"PHARMACIE SIAUVE",9,"Rue","DE LYON","01630 SAINT-GENIS-POUILLY",1630,"Saint-Genis-Pouilly","Pharmacie d'officine","A"]
[{"$f":"VLOOKUP(B109,Régions!A:C,3,FALSE)","v":"Auvergne-Rhône-Alpes"},{"v":1,"d":"01"},"CNOP",10005106,10005106,"oui","PHARMACIE SURACE",14,"Rue","MAL DE LATTRE DE TASSIGNY","01190 PONT-DE-VAUX",1190,"Pont-de-Vaux","Pharmacie d'officine","A"]
[{"$f":"VLOOKUP(B110,Régions!A:C,3,FALSE)","v":"Auvergne-Rhône-Alpes"},{"v":1,"d":"01"},{"$error":"#N/A"},10005155,{"$error":"#N/A"},{"$error":"#N/A"},"PHARMACIE VERGOBBI",80,"Rue","DU MARECHAL DE LATTRE DE TASSI","01190 PONT-DE-VAUX",1190,"Pont-de-Vaux","Pharmacie d'officine","A"]
[{"$f":"VLOOKUP(B111,Régions!A:C,3,FALSE)","v":"Auvergne-Rhône-Alpes"},{"v":1,"d":"01"},{"$error":"#N/A"},10005171,{"$error":"#N/A"},{"$error":"#N/A"},"PHARMACIE VOISIN",41,"NULL","GRANDE RUE","01290 PONT-DE-VEYLE",1290,"Pont-de-Veyle","Pharmacie d'officine","A"]
[{"$f":"VLOOKUP(B112,Régions!A:C,3,FALSE)","v":"Auvergne-Rhône-Alpes"},{"v":1,"d":"01"},"PHARMDIRECTFR",10005205,10005205,"oui","PHARMACIE CENTRALE DE PREVESSIN",73,"Chemin","de la Ravoire","01280 PREVESSIN-MOENS",1280,"Prévessin-Moëns","Pharmacie d'officine","A"]
[{"$f":"VLOOKUP(B113,Régions!A:C,3,FALSE)","v":"Auvergne-Rhône-Alpes"},{"v":1,"d":"01"},{"$error":"#N/A"},10005221,{"$error":"#N/A"},{"$error":"#N/A"},"PHARMACIE BOZON",332,"Grand rue","DE LA COTIERE","01160 PRIAY",1160,"Priay","Pharmacie d'officine","A"]
[{"$f":"VLOOKUP(B114,Régions!A:C,3,FALSE)","v":"Auvergne-Rhône-Alpes"},{"v":1,"d":"01"},"CNOP",10005254,10005254,"oui","PHARMACIE DE LA MADELEINE",387,"Route","DE BOURG","01750 REPLONGES",1750,"Replonges","Pharmacie d'officine","A"]
[{"$f":"VLOOKUP(B115,Régions!A:C,3,FALSE)","v":"Auvergne-Rhône-Alpes"},{"v":1,"d":"01"},"CNOP",10005270,10005270,"oui","PHARMACIE DE REYRIEUX",220,"NULL","Grande Rue","01600 REYRIEUX",1600,"Reyrieux","Pharmacie d'officine","A"]
[{"$f":"VLOOKUP(B116,Régions!A:C,3,FALSE)","v":"Auvergne-Rhône-Alpes"},{"v":1,"d":"01"},{"$error":"#N/A"},10005304,{"$error":"#N/A"},{"$error":"#N/A"},"PHARMACIE SAINT ANDRE","NULL","Lieu dit","LA CROIX","01390 SAINT-ANDRE-DE-CORCY",1390,"Saint-André-de-Corcy","Pharmacie d'officine","A"]
[{"$f":"VLOOKUP(B117,Régions!A:C,3,FALSE)","v":"Auvergne-Rhône-Alpes"},{"v":1,"d":"01"},"PHARMDIRECTFR",10005320,10005320,"oui","PHARMACIE DES PLANES",155,"Rue","DU VILLAGE","01000 SAINT-DENIS-LES-BOURG",1000,"Saint-Denis-lès-Bourg","Pharmacie d'officine","A"]
[{"$f":"VLOOKUP(B118,Régions!A:C,3,FALSE)","v":"Auvergne-Rhône-Alpes"},{"v":1,"d":"01"},{"$error":"#N/A"},10005353,{"$error":"#N/A"},{"$error":"#N/A"},"PHARMACIE LAFFLY",348,"Avenue","de TREVOUX",1000,1000,"Saint-Denis-lès-Bourg","Pharmacie d'officine","A"]
[{"$f":"VLOOKUP(B119,Régions!A:C,3,FALSE)","v":"Auvergne-Rhône-Alpes"},{"v":1,"d":"01"},"CNOP",10005387,10005387,"oui","SELARL PHARMACIE SAVOYE",1,"Rue","DU DOCTEUR CHARCOT","01500 SAINT-DENIS-EN-BUGEY",1500,"Saint-Denis-en-Bugey","Pharmacie d'officine","A"]
[{"$f":"VLOOKUP(B120,Régions!A:C,3,FALSE)","v":"Auvergne-Rhône-Alpes"},{"v":1,"d":"01"},{"$error":"#N/A"},10005403,{"$error":"#N/A"},{"$error":"#N/A"},"PHARMACIE DAVIN",123,"Rue","des Huguets","01140 SAINT-DIDIER-SUR-CHALARONNE",1140,"Saint-Didier-sur-Chalaronne","Pharmacie d'officine","A"]
[{"$f":"VLOOKUP(B121,Régions!A:C,3,FALSE)","v":"Auvergne-Rhône-Alpes"},{"v":1,"d":"01"},"CNOP",10005437,10005437,"oui","PHARMACIE GINDRE-BERNADAC",667,"Rue","CENTRALE","01370 ST ETIENNE DU BOIS",1370,"Saint-Étienne-du-Bois","Pharmacie d'officine","A"]
[{"$f":"VLOOKUP(B122,Régions!A:C,3,FALSE)","v":"Auvergne-Rhône-Alpes"},{"v":1,"d":"01"},"PHARMDIRECTFR",10005452,10005452,"oui","PHARMACIE INTERNATIONALE",12,"Rue","DE LA PETITE VIE","01630 ST GENIS POUILLY",1630,"Saint-Genis-Pouilly","Pharmacie d'officine","A"]
[{"$f":"VLOOKUP(B123,Régions!A:C,3,FALSE)","v":"Auvergne-Rhône-Alpes"},{"v":1,"d":"01"},{"$error":"#N/A"},10005486,{"$error":"#N/A"},{"$error":"#N/A"},"PHARMACIE LELIEVRE",22,"Rue","DE GENEVE","01630 SAINT-GENIS-POUILLY",1630,"Saint-Genis-Pouilly","Pharmacie d'officine","A"]
[{"$f":"VLOOKUP(B124,Régions!A:C,3,FALSE)","v":"Auvergne-Rhône-Alpes"},{"v":1,"d":"01"},"CNOP",10005536,10005536,"oui","PHARMACIE MARION-TISSIER","NULL","Place","DE LA FONTAINE","01560 SAINT-JULIEN-SUR-REYSSOUZE",1560,"Saint-Julien-sur-Reyssouze","Pharmacie d'officine","A"]
[{"$f":"VLOOKUP(B125,Régions!A:C,3,FALSE)","v":"Auvergne-Rhône-Alpes"},{"v":1,"d":"01"},"CNOP",10005551,10005551,"oui","PHARMACIE CAO-BROWN DE COLSTOUN",27,"Rue","DE LA LEVEE","01750 SAINT-LAURENT-SUR-SAONE",1750,"Saint-Laurent-sur-Saône","Pharmacie d'officine","A"]
[{"$f":"VLOOKUP(B126,Régions!A:C,3,FALSE)","v":"Auvergne-Rhône-Alpes"},{"v":1,"d":"01"},"CNOP",10005585,10005585,"oui","PHARMACIE DUJOLS - MARTIN",2,"Route","DE CHAMOISE","01430 SAINT-MARTIN-DU-FRÊNE",1430,"Saint-Martin-du-Frêne","Pharmacie d'officine","A"]
[{"$f":"VLOOKUP(B127,Régions!A:C,3,FALSE)","v":"Auvergne-Rhône-Alpes"},{"v":1,"d":"01"},"PHARMDIRECTFR",10005601,10005601,"oui","PHARMACIE GOEPPEL - VERNAY",41,"Route","DE GENEVE","01700 SAINT-MAURICE-DE-BEYNOST",1700,"Saint-Maurice-de-Beynost","Pharmacie d'officine","A"]
[{"$f":"VLOOKUP(B128,Régions!A:C,3,FALSE)","v":"Auvergne-Rhône-Alpes"},{"v":1,"d":"01"},"PHARMDIRECTFR",10005635,10005635,"oui","PHARMACIE REYMONDON",14,"Place","DE L'EGLISE","01800 SAINT-MAURICE-DE-GOURDANS",1800,"Saint-Maurice-de-Gourdans","Pharmacie d'officine","A"]
[{"$f":"VLOOKUP(B129,Régions!A:C,3,FALSE)","v":"Auvergne-Rhône-Alpes"},{"v":1,"d":"01"},"CNOP",10005650,10005650,"oui","PHARMACIE DURAND",336,"Rue","DE LA DOMBES","01240 SAINT-PAUL-DE-VARAX",1240,"Saint-Paul-de-Varax","Pharmacie d'officine","A"]
[{"$f":"VLOOKUP(B130,Régions!A:C,3,FALSE)","v":"Auvergne-Rhône-Alpes"},{"v":1,"d":"01"},"CNOP",10005684,10005684,"oui","PHARMACIE ROUX",99,"Rue","DU DOCTEUR TEMPORAL","01230 SAINT-RAMBERT-EN-BUGEY",1230,"Saint-Rambert-en-Bugey","Pharmacie d'officine","A"]
[{"$f":"VLOOKUP(B131,Régions!A:C,3,FALSE)","v":"Auvergne-Rhône-Alpes"},{"v":1,"d":"01"},{"$error":"#N/A"},10005700,{"$error":"#N/A"},{"$error":"#N/A"},"PHARMACIE JOSEPH",200,"Route","DE CHALON","01560 ST TRIVIER DE COURTES",1560,"Saint-Trivier-de-Courtes","Pharmacie d'officine","A"]
[{"$f":"VLOOKUP(B132,Régions!A:C,3,FALSE)","v":"Auvergne-Rhône-Alpes"},{"v":1,"d":"01"},{"$error":"#N/A"},10005734,{"$error":"#N/A"},{"$error":"#N/A"},"PHARMACIE ROUX",92,"Route","DE CHATILLON","01990 ST TRIVIER SUR MOIGNANS",1990,"Saint-Trivier-sur-Moignans","Pharmacie d'officine","A"]
[{"$f":"VLOOKUP(B133,Régions!A:C,3,FALSE)","v":"Auvergne-Rhône-Alpes"},{"v":1,"d":"01"},"CNOP",10005767,10005767,"oui","PHARMACIE BRISON",32,"NULL","GRANDE RUE","01150 SAULT-BRENAZ",1150,"Sault-Brénaz","Pharmacie d'officine","A"]
[{"$f":"VLOOKUP(B134,Régions!A:C,3,FALSE)","v":"Auvergne-Rhône-Alpes"},{"v":1,"d":"01"},"CNOP",10005783,10005783,"oui","PHARMACIE GOUVERD - LEROY-TARDIF","NULL","Route","NATIONALE 5","01170 SEGNY",1170,"Ségny","Pharmacie d'officine","A"]
[{"$f":"VLOOKUP(B135,Régions!A:C,3,FALSE)","v":"Auvergne-Rhône-Alpes"},{"v":1,"d":"01"},"PHARMDIRECTFR",10005817,10005817,"oui","PHARMACIE JOUVE - PERNIN",37,"NULL","GRAND RUE","01470 SERRIERES DE BRIORD",1470,"Serrières-de-Briord","Pharmacie d'officine","A"]
[{"$f":"VLOOKUP(B136,Régions!A:C,3,FALSE)","v":"Auvergne-Rhône-Alpes"},{"v":1,"d":"01"},"CNOP",10005833,10005833,"oui","PHARMACIE BIONNET",8,"Quai","EDOUARD SERRULAZ","01420 SEYSSEL",1420,"Seyssel","Pharmacie d'officine","A"]
[{"$f":"VLOOKUP(B137,Régions!A:C,3,FALSE)","v":"Auvergne-Rhône-Alpes"},{"v":1,"d":"01"},{"$error":"#N/A"},10005866,{"$error":"#N/A"},{"$error":"#N/A"},"PHARMACIE BARBI-LOUIS",9,"Rue","CENTRALE","01230 TENAY",1230,"Tenay","Pharmacie d'officine","A"]
[{"$f":"VLOOKUP(B138,Régions!A:C,3,FALSE)","v":"Auvergne-Rhône-Alpes"},{"v":1,"d":"01"},"PHARMDIRECTFR",10005882,10005882,"oui","PHARMACIE LETTRY","NULL","Rue","BRIAND STRESEMANN","01710 THOIRY",1710,"Thoiry","Pharmacie d'officine","A"]
[{"$f":"VLOOKUP(B139,Régions!A:C,3,FALSE)","v":"Auvergne-Rhône-Alpes"},{"v":1,"d":"01"},"PHARMDIRECTFR",10005916,10005916,"oui","PHARMACIE FILLON",50,"Rue","Faubourg des Dombes","01140 THOISSEY",1140,"Thoissey","Pharmacie d'officine","A"]
[{"$f":"VLOOKUP(B140,Régions!A:C,3,FALSE)","v":"Auvergne-Rhône-Alpes"},{"v":1,"d":"01"},"CNOP",10005932,10005932,"oui","PHARMACIE MAZUEL-BELLE",15,"Route","DE MONTAGNAT","01250 TOSSIAT",1250,"Tossiat","Pharmacie d'officine","A"]
[{"$f":"VLOOKUP(B141,Régions!A:C,3,FALSE)","v":"Auvergne-Rhône-Alpes"},{"v":1,"d":"01"},"CNOP",10005957,10005957,"oui","PHARMACIE PASCAL-MALLET",11,"Place","du Champ de Foire","01370 VAL-REVERMONT",1370,"Val-Revermont","Pharmacie d'officine","A"]
[{"$f":"VLOOKUP(B142,Régions!A:C,3,FALSE)","v":"Auvergne-Rhône-Alpes"},{"v":1,"d":"01"},"CNOP",10005973,10005973,"oui","PHARMACIE LEUDET DE LA VALLEE",324,"Route","DE LYON","01600 TREVOUX",1600,"Trévoux","Pharmacie d'officine","A"]
[{"$f":"VLOOKUP(B143,Régions!A:C,3,FALSE)","v":"Auvergne-Rhône-Alpes"},{"v":1,"d":"01"},{"$error":"#N/A"},10006005,{"$error":"#N/A"},{"$error":"#N/A"},"PHARMACIE MARCHAND",2,"Boulevard","DES COMBATTANTS","01600 TREVOUX",1600,"Trévoux","Pharmacie d'officine","A"]
[{"$f":"VLOOKUP(B144,Régions!A:C,3,FALSE)","v":"Auvergne-Rhône-Alpes"},{"v":1,"d":"01"},{"$error":"#N/A"},10006021,{"$error":"#N/A"},{"$error":"#N/A"},"PHARMACIE DE VERSONNEX",92,"Route","DE DIVONNE","01210 VERSONNEX",1210,"Versonnex","Pharmacie d'officine","A"]
[{"$f":"VLOOKUP(B145,Régions!A:C,3,FALSE)","v":"Auvergne-Rhône-Alpes"},{"v":1,"d":"01"},"PHARMDIRECTFR",10006054,10006054,"oui","PHARMACIE DOUCET - AVALLONE",13,"Avenue","GILBERT SARDIER","01330 VILLARS LES DOMBES",1330,"Villars-les-Dombes","Pharmacie d'officine","A"]
[{"$f":"VLOOKUP(B146,Régions!A:C,3,FALSE)","v":"Auvergne-Rhône-Alpes"},{"v":1,"d":"01"},{"$error":"#N/A"},10006070,{"$error":"#N/A"},{"$error":"#N/A"},"PHARMACIE DERUAZ",76,"Rue","GILBERT BOULLIER","01330 VILLARS-LES-DOMBES",1330,"Villars-les-Dombes","Pharmacie d'officine","A"]
[{"$f":"VLOOKUP(B147,Régions!A:C,3,FALSE)","v":"Auvergne-Rhône-Alpes"},{"v":1,"d":"01"},"PHARMDIRECTFR",10006104,10006104,"oui","PHARMACIE GOURRY","NULL","Place","DES COMBATTANTS","01250 VILLEREVERSURE",1250,"Villereversure","Pharmacie d'officine","A"]
[{"$f":"VLOOKUP(B148,Régions!A:C,3,FALSE)","v":"Auvergne-Rhône-Alpes"},{"v":1,"d":"01"},{"$error":"#N/A"},10006120,{"$error":"#N/A"},{"$error":"#N/A"},"PHARMACIE ROUX",216,"Avenue","CHARLES DE GAULLE","01800 VILLIEU LOYES MOLLON",1800,"Villieu-Loyes-Mollon","Pharmacie d'officine","A"]
[{"$f":"VLOOKUP(B149,Régions!A:C,3,FALSE)","v":"Auvergne-Rhône-Alpes"},{"v":1,"d":"01"},"PHARMDIRECTFR",10006153,10006153,"oui","PHARMACIE DE LA NEUVE",45,"Rue","DU PLATEAU","01440 VIRIAT",1440,"Viriat","Pharmacie d'officine","A"]
[{"$f":"VLOOKUP(B150,Régions!A:C,3,FALSE)","v":"Auvergne-Rhône-Alpes"},{"v":1,"d":"01"},"CNOP",10006187,10006187,"oui","PHARMACIE DE VIRIAT",359,"Rue","PROSPER CONVERT","01440 VIRIAT",1440,"Viriat","Pharmacie d'officine","A"]
[{"$f":"VLOOKUP(B151,Régions!A:C,3,FALSE)","v":"Auvergne-Rhône-Alpes"},{"v":1,"d":"01"},{"$error":"#N/A"},10006203,{"$error":"#N/A"},{"$error":"#N/A"},"PHARMACIE CHBANI-MISERE","NULL","Rue","DU STADE","01510 VIRIEU LE GRAND",1510,"Virieu-le-Grand","Pharmacie d'officine","A"]
[{"$f":"VLOOKUP(B152,Régions!A:C,3,FALSE)","v":"Auvergne-Rhône-Alpes"},{"v":1,"d":"01"},{"$error":"#N/A"},10006237,{"$error":"#N/A"},{"$error":"#N/A"},"PHARMACIE ERMANN - DESMARIS","NULL","Place","FERDINAND DE BEOST","01540 VONNAS",1540,"Vonnas","Pharmacie d'officine","A"]
[{"$f":"VLOOKUP(B153,Régions!A:C,3,FALSE)","v":"Auvergne-Rhône-Alpes"},{"v":1,"d":"01"},"PHARMDIRECTFR",10006435,10006435,"oui","PHARMACIE IMBACH",81,"Route","DE GENEVE","01700 NEYRON",1700,"Neyron","Pharmacie d'officine","A"]
[{"$f":"VLOOKUP(B154,Régions!A:C,3,FALSE)","v":"Auvergne-Rhône-Alpes"},{"v":1,"d":"01"},"CNOP",10006492,10006492,"oui","PHARMACIE BARISEELE","NULL","Pre","DE PLANCHE","01280 PREVESSIN-MOËNS",1280,"Prévessin-Moëns","Pharmacie d'officine","A"]
[{"$f":"VLOOKUP(B155,Régions!A:C,3,FALSE)","v":"Auvergne-Rhône-Alpes"},{"v":1,"d":"01"},{"$error":"#N/A"},10006591,{"$error":"#N/A"},{"$error":"#N/A"},"PHARMACIE ROBERT",32,"Val","THOIRY","01710 THOIRY",1710,"Thoiry","Pharmacie d'officine","A"]
[{"$f":"VLOOKUP(B156,Régions!A:C,3,FALSE)","v":"Auvergne-Rhône-Alpes"},{"v":1,"d":"01"},{"$error":"#N/A"},10008035,{"$error":"#N/A"},{"$error":"#N/A"},"SELARL PHARMACIE PERRIN",92,"Rue","PRINCIPALE","01390 MIONNAY",1390,"Mionnay","Pharmacie d'officine","A"]
[{"$f":"VLOOKUP(B157,Régions!A:C,3,FALSE)","v":"Auvergne-Rhône-Alpes"},{"v":1,"d":"01"},"CNOP",10008266,10008266,"oui","PHARMACIE LARGE-VEYRET",156,"Rue","DES ECOLES","01600 MISERIEUX",1600,"Misérieux","Pharmacie d'officine","A"]
[{"$f":"VLOOKUP(B158,Régions!A:C,3,FALSE)","v":"Auvergne-Rhône-Alpes"},{"v":1,"d":"01"},{"$error":"#N/A"},10008373,{"$error":"#N/A"},{"$error":"#N/A"},"PHARMACIE CAUSSE",150,"Route","DE TREVOUX","01310 BUELLAS",1310,"Buellas","Pharmacie d'officine","A"]
[{"$f":"VLOOKUP(B159,Régions!A:C,3,FALSE)","v":"Auvergne-Rhône-Alpes"},{"v":1,"d":"01"},{"$error":"#N/A"},10011674,{"$error":"#N/A"},{"$error":"#N/A"},"GRANDE PHARMACIE DE PERON","NULL","Rue","Du Pré Munny","01630 PERON",1630,"Péron","Pharmacie d'officine","A"]
[{"$f":"VLOOKUP(B160,Régions!A:C,3,FALSE)","v":"Hauts-de-France"},{"v":2,"d":"02"},"CNOP",20001954,20001954,"oui","PHARMACIE MARLIERE - CORROYER",5,"Rue","DANTALE","02290 AMBLENY",2290,"Ambleny","Pharmacie d'officine","A"]
[{"$f":"VLOOKUP(B161,Régions!A:C,3,FALSE)","v":"Hauts-de-France"},{"v":2,"d":"02"},"PHARMDIRECTFR",20001970,20001970,"oui","PHARMACIE HAMM",4,"Place","Rochechouard","02320 ANIZY-LE-GRAND",2320,"Anizy-le-Grand","Pharmacie d'officine","A"]
[{"$f":"VLOOKUP(B162,Régions!A:C,3,FALSE)","v":"Hauts-de-France"},{"v":2,"d":"02"},"PHARMDIRECTFR",20002077,20002077,"oui","SELAS PHARMACIE CHARLEMAGNE",64,"Rue","DES ÉCOLES","02840 ATHIES SOUS LAON",2840,"Athies-sous-Laon","Pharmacie d'officine","A"]
[{"$f":"VLOOKUP(B163,Régions!A:C,3,FALSE)","v":"Hauts-de-France"},{"v":2,"d":"02"},"PHARMDIRECTFR",20002317,20002317,"oui","PHARMACIE BLANCHE",10,"Rue","DE CHAMBRY","02000 AULNOIS-SUR-LAON",2000,"Aulnois-sous-Laon","Pharmacie d'officine","A"]
[{"$f":"VLOOKUP(B164,Régions!A:C,3,FALSE)","v":"Hauts-de-France"},{"v":2,"d":"02"},"PHARMDIRECTFR",20002333,20002333,"oui","PHARMACIE RODRIGUES",2,"Place","CHARLES DE GAULLE","02110 BEAUREVOIR",2110,"Beaurevoir","Pharmacie d'officine","A"]
[{"$f":"VLOOKUP(B165,Régions!A:C,3,FALSE)","v":"Hauts-de-France"},{"v":2,"d":"02"},{"$error":"#N/A"},20002374,{"$error":"#N/A"},{"$error":"#N/A"},"PHARMACIE GRUMELART-BOUVIER",4,"Rue","ernest rousselot","02160 BEAURIEUX",2160,"Beaurieux","Pharmacie d'officine","A"]
[{"$f":"VLOOKUP(B166,Régions!A:C,3,FALSE)","v":"Hauts-de-France"},{"v":2,"d":"02"},{"$error":"#N/A"},20002390,{"$error":"#N/A"},{"$error":"#N/A"},"PHARMACIE SEIGNEZ",54,"Rue","DE TERGNIER","02800 BEAUTOR",2800,"Beautor","Pharmacie d'officine","A"]
[{"$f":"VLOOKUP(B167,Régions!A:C,3,FALSE)","v":"Hauts-de-France"},{"v":2,"d":"02"},"CNOP",20002424,20002424,"oui","PHARMACIE DE LA PRAIRIE",5,"Rue","LEON BLUM","02200 BELLEU",2200,"Belleu","Pharmacie d'officine","A"]
[{"$f":"VLOOKUP(B168,Régions!A:C,3,FALSE)","v":"Hauts-de-France"},{"v":2,"d":"02"},"CNOP",20002457,20002457,"oui","PHARMACIE MARLIERE",67,"Route","DE CHATEAU THIERRY","02200 BELLEU",2200,"Belleu","Pharmacie d'officine","A"]
[{"$f":"VLOOKUP(B169,Régions!A:C,3,FALSE)","v":"Hauts-de-France"},{"v":2,"d":"02"},"PHARMDIRECTFR",20002473,20002473,"oui","PHARMACIE BLEUSE",8,"Place","DE L'HOTEL DE VILLE","02300 BLERANCOURT",2300,"Blérancourt","Pharmacie d'officine","A"]
[{"$f":"VLOOKUP(B170,Régions!A:C,3,FALSE)","v":"Hauts-de-France"},{"v":2,"d":"02"},{"$error":"#N/A"},20002572,{"$error":"#N/A"},{"$error":"#N/A"},"PHARMACIE IDEE","NULL","Rue","33 RUE JEAN JAURÈS","02110 BOHAIN EN VERMANDOIS",2110,"Bohain-en-Vermandois","Pharmacie d'officine","A"]
[{"$f":"VLOOKUP(B171,Régions!A:C,3,FALSE)","v":"Hauts-de-France"},{"v":2,"d":"02"},"PHARMDIRECTFR",20002614,20002614,"oui","PHARMACIE DES 4 COULEURS",58,"Rue","du Château","02110 BOHAIN-EN-VERMANDOIS",2110,"Bohain-en-Vermandois","Pharmacie d'officine","A"]
[{"$f":"VLOOKUP(B172,Régions!A:C,3,FALSE)","v":"Hauts-de-France"},{"v":2,"d":"02"},"PHARMDIRECTFR",20002630,20002630,"oui","PHARMACIE CAMUT",47,"Rue","DE LA GARE","02450 BOUE",2450,"Boué","Pharmacie d'officine","A"]
[{"$f":"VLOOKUP(B173,Régions!A:C,3,FALSE)","v":"Hauts-de-France"},{"v":2,"d":"02"},{"$error":"#N/A"},20002663,{"$error":"#N/A"},{"$error":"#N/A"},"PHARMACIE CAILLIEZ-DARRAS",1,"Place","DU MARCHÉ","02160 BOURG ET COMIN",2160,"Bourg-et-Comin","Pharmacie d'officine","A"]
[{"$f":"VLOOKUP(B174,Régions!A:C,3,FALSE)","v":"Hauts-de-France"},{"v":2,"d":"02"},"CNOP",20002697,20002697,"oui","PHARMACIE DEREGNAUCOURT - HAUTUS",49,"Place","CHARLES DE GAULLE","02220 BRAINE",2220,"Braine","Pharmacie d'officine","A"]
[{"$f":"VLOOKUP(B175,Régions!A:C,3,FALSE)","v":"Hauts-de-France"},{"v":2,"d":"02"},{"$error":"#N/A"},20002713,{"$error":"#N/A"},{"$error":"#N/A"},"PHARMACIE SARAZIN-TILMANT",14,"Place","DE MAI 1940","02360 BRUNEHAMEL",2360,"Brunehamel","Pharmacie d'officine","A"]
[{"$f":"VLOOKUP(B176,Régions!A:C,3,FALSE)","v":"Hauts-de-France"},{"v":2,"d":"02"},"CNOP",20002747,20002747,"oui","PHARMACIE PICARD",2,"Place","DU GENERAL DE GAULLE","02860 BRUYERES ET MONTBERAULT",2860,"Bruyères-et-Montbérault","Pharmacie d'officine","A"]
[{"$f":"VLOOKUP(B177,Régions!A:C,3,FALSE)","v":"Hauts-de-France"},{"v":2,"d":"02"},{"$error":"#N/A"},20002762,{"$error":"#N/A"},{"$error":"#N/A"},"PHARMACIE GAILLARD P & F","NULL","Place","DE LA MAIRIE","02880 BUCY-LE-LONG",2880,"Bucy-le-Long","Pharmacie d'officine","A"]
[{"$f":"VLOOKUP(B178,Régions!A:C,3,FALSE)","v":"Hauts-de-France"},{"v":2,"d":"02"},"PHARMDIRECTFR",20002796,20002796,"oui","PHARMACIE DE BUIRONFOSSE",8,"Rue","1918-11-11","02620 BUIRONFOSSE",2620,"Buironfosse","Pharmacie d'officine","A"]
[{"$f":"VLOOKUP(B179,Régions!A:C,3,FALSE)","v":"Hauts-de-France"},{"v":2,"d":"02"},"CNOP",20002812,20002812,"oui","PHARMACIE LAZZARANO",68,"Rue","DU GENERAL DE GAULLE","02260 LA CAPELLE",2260,"La Capelle","Pharmacie d'officine","A"]
[{"$f":"VLOOKUP(B180,Régions!A:C,3,FALSE)","v":"Hauts-de-France"},{"v":2,"d":"02"},"CNOP",20002846,20002846,"oui","PHARMACIE AUBRY",44,"Rue","DU GENERAL DE GAULLE","02260 LA-CAPELLE",2260,"La Capelle","Pharmacie d'officine","A"]
[{"$f":"VLOOKUP(B181,Régions!A:C,3,FALSE)","v":"Hauts-de-France"},{"v":2,"d":"02"},{"$error":"#N/A"},20002861,{"$error":"#N/A"},{"$error":"#N/A"},"PHARMACIE VAN INGHELANDT",28,"Rue","DU GENERAL AUGEREAU","02420 LE-CATELET",2420,"Le Catelet","Pharmacie d'officine","A"]
[{"$f":"VLOOKUP(B182,Régions!A:C,3,FALSE)","v":"Hauts-de-France"},{"v":2,"d":"02"},"CNOP",20002895,20002895,"oui","SELARL PHARMACIE BUTHON",67,"Rue","EMILE MORLOT","02310 CHARLY-SUR-MARNE",2310,"Charly-sur-Marne","Pharmacie d'officine","A"]
[{"$f":"VLOOKUP(B183,Régions!A:C,3,FALSE)","v":"Hauts-de-France"},{"v":2,"d":"02"},"CNOP",20002911,20002911,"oui","PHARMACIE LAFORGE",14,"Rue","ARISTIDE BRIAND","02800 CHARMES",2800,"Charmes","Pharmacie d'officine","A"]
[{"$f":"VLOOKUP(B184,Régions!A:C,3,FALSE)","v":"Hauts-de-France"},{"v":2,"d":"02"},"CNOP",20002945,20002945,"oui","PHARMACIE DE L'ISLE",41,"Rue","CARNOT","02400 CHÂTEAU-THIERRY",2400,"Château-Thierry","Pharmacie d'officine","A"]
[{"$f":"VLOOKUP(B185,Régions!A:C,3,FALSE)","v":"Hauts-de-France"},{"v":2,"d":"02"},{"$error":"#N/A"},20002960,{"$error":"#N/A"},{"$error":"#N/A"},"PHARMACIE MC ASSOCIES",7,"Rue","DU GENERAL DE GAULLE","02400 CHÂTEAU-THIERRY",2400,"Château-Thierry","Pharmacie d'officine","A"]
[{"$f":"VLOOKUP(B186,Régions!A:C,3,FALSE)","v":"Hauts-de-France"},{"v":2,"d":"02"},"CNOP",20002978,20002978,"oui","PHARMACIE BOYAVAL",45,"Avenue","DE LA LIBERTE","02300 OGNES",2300,"Ognes","Pharmacie d'officine","A"]
[{"$f":"VLOOKUP(B187,Régions!A:C,3,FALSE)","v":"Hauts-de-France"},{"v":2,"d":"02"},"CNOP",20002994,20002994,"oui","PHARMACIE  DE LA FONTAINE",13,"Place","JEAN DE LA FONTAINE","02400 CHÂTEAU-THIERRY",2400,"Château-Thierry","Pharmacie d'officine","A"]
[{"$f":"VLOOKUP(B188,Régions!A:C,3,FALSE)","v":"Hauts-de-France"},{"v":2,"d":"02"},{"$error":"#N/A"},20003026,{"$error":"#N/A"},{"$error":"#N/A"},"PHARMACIE BAYANE",46,"NULL","Grande Rue","02400 CHATEAU-THIERRY",2400,"Château-Thierry","Pharmacie d'officine","A"]
[{"$f":"VLOOKUP(B189,Régions!A:C,3,FALSE)","v":"Hauts-de-France"},{"v":2,"d":"02"},{"$error":"#N/A"},20003075,{"$error":"#N/A"},{"$error":"#N/A"},"PHARMACIE DE L'OMOIS",62,"Rue","CARNOT","02400 CHÂTEAU-THIERRY",2400,"Château-Thierry","Pharmacie d'officine","A"]
[{"$f":"VLOOKUP(B190,Régions!A:C,3,FALSE)","v":"Hauts-de-France"},{"v":2,"d":"02"},{"$error":"#N/A"},20003091,{"$error":"#N/A"},{"$error":"#N/A"},"PHARMACIE DEFURNE  FELDER","NULL","NULL","ROUTE DE SOISSONS","02400 CHATEAU THIERRY",2400,"Château-Thierry","Pharmacie d'officine","A"]
[{"$f":"VLOOKUP(B191,Régions!A:C,3,FALSE)","v":"Hauts-de-France"},{"v":2,"d":"02"},"CNOP",20003125,20003125,"oui","PHARMACIE LEMPEREUR",37,"Boulevard","D'ANDENNE","02300 CHAUNY",2300,"Chauny","Pharmacie d'officine","A"]
[{"$f":"VLOOKUP(B192,Régions!A:C,3,FALSE)","v":"Hauts-de-France"},{"v":2,"d":"02"},"PHARMDIRECTFR",20003141,20003141,"oui","PHARMACIE PONTHIEUX CLEMENT",40,"Boulevard","DE BERGHEIM","02300 CHAUNY",2300,"Chauny","Pharmacie d'officine","A"]
[{"$f":"VLOOKUP(B193,Régions!A:C,3,FALSE)","v":"Hauts-de-France"},{"v":2,"d":"02"},"PHARMDIRECTFR",20003174,20003174,"oui","SELARL PHARMACIE D'HILLY",42,"Rue","DE LA REPUBLIQUE","02300 CHAUNY",2300,"Chauny","Pharmacie d'officine","A"]
[{"$f":"VLOOKUP(B194,Régions!A:C,3,FALSE)","v":"Hauts-de-France"},{"v":2,"d":"02"},"PHARMDIRECTFR",20003190,20003190,"oui","PHARMACIE PONTHIEUX",10,"Rue","DE LA REPUBLIQUE","02300 CHAUNY",2300,"Chauny","Pharmacie d'officine","A"]
[{"$f":"VLOOKUP(B195,Régions!A:C,3,FALSE)","v":"Hauts-de-France"},{"v":2,"d":"02"},{"$error":"#N/A"},20003224,{"$error":"#N/A"},{"$error":"#N/A"},"PHARMACIE DE LA CHAUSSEE",61,"Rue","DE LA CHAUSSEE","02300 CHAUNY",2300,"Chauny","Pharmacie d'officine","A"]
[{"$f":"VLOOKUP(B196,Régions!A:C,3,FALSE)","v":"Hauts-de-France"},{"v":2,"d":"02"},"CNOP",20003240,20003240,"oui","PHARMACIE GAUTHIER",34,"Rue","DE LA REPUBLIQUE","02300 CHAUNY",2300,"Chauny","Pharmacie d'officine","A"]
[{"$f":"VLOOKUP(B197,Régions!A:C,3,FALSE)","v":"Hauts-de-France"},{"v":2,"d":"02"},"PHARMDIRECTFR",20003265,20003265,"oui","SELARL PHARMACIE DE CHEZY SUR MARNE",10,"NULL","GRANDE RUE","02570 CHEZY-SUR-MARNE",2570,"Chézy-sur-Marne","Pharmacie d'officine","A"]
[{"$f":"VLOOKUP(B198,Régions!A:C,3,FALSE)","v":"Hauts-de-France"},{"v":2,"d":"02"},"PHARMDIRECTFR",20003281,20003281,"oui","PHARMACIE BROCHOT",10,"Rue","DE BORDEAUX","02210 COINCY",2210,"Coincy","Pharmacie d'officine","A"]
[{"$f":"VLOOKUP(B199,Régions!A:C,3,FALSE)","v":"Hauts-de-France"},{"v":2,"d":"02"},{"$error":"#N/A"},20003315,{"$error":"#N/A"},{"$error":"#N/A"},"PHARMACIE RAMANITRA",16,"NULL","GRANDE RUE","02330 CONDE-EN-BRIE",2330,"Condé-en-Brie","Pharmacie d'officine","A"]
[{"$f":"VLOOKUP(B200,Régions!A:C,3,FALSE)","v":"Hauts-de-France"},{"v":2,"d":"02"},"PHARMDIRECTFR",20003331,20003331,"oui","PHARMACIE DU CHEMIN DES DAMES",3,"Rue","PIERRE CURTIL","02820 CORBENY",2820,"Corbeny","Pharmacie d'officine","A"]
[{"$f":"VLOOKUP(B201,Régions!A:C,3,FALSE)","v":"Hauts-de-France"},{"v":2,"d":"02"},{"$error":"#N/A"},20003364,{"$error":"#N/A"},{"$error":"#N/A"},"PHARMACIE JEANNIN",2,"Avenue","ALTENKESSEL","02380 COUCY-LE-CHATEAU",2380,"Coucy-le-Château-Auffrique","Pharmacie d'officine","A"]
[{"$f":"VLOOKUP(B202,Régions!A:C,3,FALSE)","v":"Hauts-de-France"},{"v":2,"d":"02"},"PHARMDIRECTFR",20003414,20003414,"oui","SELAS PHARMACIE DE LA TOUR",5,"Place","DES ALLIES","02270 CRECY-SUR-SERRE",2270,"Crécy-sur-Serre","Pharmacie d'officine","A"]
[{"$f":"VLOOKUP(B203,Régions!A:C,3,FALSE)","v":"Hauts-de-France"},{"v":2,"d":"02"},"PHARMDIRECTFR",20003463,20003463,"oui","PHARMACIE PAINVIN",5,"Rue","MALEZIEUX BRIQUET","02870 CREPY",2870,"Crépy","Pharmacie d'officine","A"]
[{"$f":"VLOOKUP(B204,Régions!A:C,3,FALSE)","v":"Hauts-de-France"},{"v":2,"d":"02"},{"$error":"#N/A"},20003497,{"$error":"#N/A"},{"$error":"#N/A"},"SELAS PHARMACIE DE CREZANCY",412,"Rue","DE L EGLISE","02650 CREZANCY",2650,"Crézancy","Pharmacie d'officine","A"]
[{"$f":"VLOOKUP(B205,Régions!A:C,3,FALSE)","v":"Hauts-de-France"},{"v":2,"d":"02"},{"$error":"#N/A"},20003513,{"$error":"#N/A"},{"$error":"#N/A"},"PHARMACIE DE CROUY",10,"Rue","des Loups","02880 CROUY",2880,"Crouy","Pharmacie d'officine","A"]
[{"$f":"VLOOKUP(B206,Régions!A:C,3,FALSE)","v":"Hauts-de-France"},{"v":2,"d":"02"},"CNOP",20003547,20003547,"oui","PHARMACIE LEVAUX-DEMONCEAUX",5,"NULL","GRAND'RUE","02880 CUFFIES",2880,"Cuffies","Pharmacie d'officine","A"]
[{"$f":"VLOOKUP(B207,Régions!A:C,3,FALSE)","v":"Hauts-de-France"},{"v":2,"d":"02"},"PHARMDIRECTFR",20003562,20003562,"oui","PHARMACIE QUEILLE",57,"NULL","GRANDE RUE","02340 DIZY-LE-GROS",2340,"Dizy-le-Gros","Pharmacie d'officine","A"]
[{"$f":"VLOOKUP(B208,Régions!A:C,3,FALSE)","v":"Hauts-de-France"},{"v":2,"d":"02"},{"$error":"#N/A"},20003596,{"$error":"#N/A"},{"$error":"#N/A"},"PHARMACIE RAUCH",50,"Avenue","du Général de Gaulle","02400 ESSOMES-SUR-MARNE",2400,"Essômes-sur-Marne","Pharmacie d'officine","A"]
[{"$f":"VLOOKUP(B209,Régions!A:C,3,FALSE)","v":"Hauts-de-France"},{"v":2,"d":"02"},"PHARMDIRECTFR",20003612,20003612,"oui","PHARMACIE DE LA DHUYS",5,"Rue","PIERRE SEMARD","02400 ETAMPES-SUR-MARNE",2400,"Étampes-sur-Marne","Pharmacie d'officine","A"]
[{"$f":"VLOOKUP(B210,Régions!A:C,3,FALSE)","v":"Hauts-de-France"},{"v":2,"d":"02"},"CNOP",20004081,20004081,"oui","PHARMACIE  D'ETREAUPONT",17,"Rue","DU GENERAL DE GAULLE","02580 ETREAUPONT",2580,"Étréaupont","Pharmacie d'officine","A"]
[{"$f":"VLOOKUP(B211,Régions!A:C,3,FALSE)","v":"Hauts-de-France"},{"v":2,"d":"02"},"PHARMDIRECTFR",20004826,20004826,"oui","PHARMACIE DUBAN VANDENBOSSCHE",2,"Rue","DES DOCTEURS","02590 ETREILLERS",2590,"Étreillers","Pharmacie d'officine","A"]
[{"$f":"VLOOKUP(B212,Régions!A:C,3,FALSE)","v":"Hauts-de-France"},{"v":2,"d":"02"},"PHARMDIRECTFR",20004982,20004982,"oui","PHARMACIE PANNIER",239,"Rue","DE L'ECLAIREUR DE NICE","02510 ETREUX",2510,"Étreux","Pharmacie d'officine","A"]
[{"$f":"VLOOKUP(B213,Régions!A:C,3,FALSE)","v":"Hauts-de-France"},{"v":2,"d":"02"},"CNOP",20005161,20005161,"oui","PHARMACIE DECOTTE",95,"Rue","DE LA REPUBLIQUE","02800 LA-FERE",2800,"La Fère","Pharmacie d'officine","A"]
[{"$f":"VLOOKUP(B214,Régions!A:C,3,FALSE)","v":"Hauts-de-France"},{"v":2,"d":"02"},"PHARMDIRECTFR",20005344,20005344,"oui","PHARMACIE CARDOT - DECOTTE",10,"Rue","DE LA REPUBLIQUE","02800 LA-FERE",2800,"La Fère","Pharmacie d'officine","A"]
[{"$f":"VLOOKUP(B215,Régions!A:C,3,FALSE)","v":"Hauts-de-France"},{"v":2,"d":"02"},"PHARMDIRECTFR",20005450,20005450,"oui","PHARMACIE DAGAS",1,"Place","DE LA REPUBLIQUE","02130 FERE-EN-TARDENOIS",2130,"Fère-en-Tardenois","Pharmacie d'officine","A"]
[{"$f":"VLOOKUP(B216,Régions!A:C,3,FALSE)","v":"Hauts-de-France"},{"v":2,"d":"02"},{"$error":"#N/A"},20005583,{"$error":"#N/A"},{"$error":"#N/A"},"PHARMACIE HEITZ",8,"Rue","du Stade","02130 FERE-EN-TARDENOIS",2130,"Fère-en-Tardenois","Pharmacie d'officine","A"]
[{"$f":"VLOOKUP(B217,Régions!A:C,3,FALSE)","v":"Hauts-de-France"},{"v":2,"d":"02"},{"$error":"#N/A"},20005674,{"$error":"#N/A"},{"$error":"#N/A"},"PHARMACIE AUBERT - DE BUSSY",4,"Rue","DE LA CHAUSSEE","02460 LA-FERTE-MILON",2460,"La Ferté-Milon","Pharmacie d'officine","A"]
[{"$f":"VLOOKUP(B218,Régions!A:C,3,FALSE)","v":"Hauts-de-France"},{"v":2,"d":"02"},"PHARMDIRECTFR",20005732,20005732,"oui","PHARMACIE DE FLAVY",43,"Rue","ANDRE BRULE","02520 FLAVY-LE-MARTEL",2520,"Flavy-le-Martel","Pharmacie d'officine","A"]
[{"$f":"VLOOKUP(B219,Régions!A:C,3,FALSE)","v":"Hauts-de-France"},{"v":2,"d":"02"},"CNOP",20005757,20005757,"oui","PHARMACIE MOYON-BOUIN",9,"Rue","BERNARD LEFEVRE","02670 FOLEMBRAY",2670,"Folembray","Pharmacie d'officine","A"]
[{"$f":"VLOOKUP(B220,Régions!A:C,3,FALSE)","v":"Hauts-de-France"},{"v":2,"d":"02"},"PHARMDIRECTFR",20006193,20006193,"oui","PHARMACIE HEURLIER",98,"Rue","DE LA REPUBLIQUE","02230 FRESNOY-LE-GRAND",2230,"Fresnoy-le-Grand","Pharmacie d'officine","A"]
[{"$f":"VLOOKUP(B221,Régions!A:C,3,FALSE)","v":"Hauts-de-France"},{"v":2,"d":"02"},"PHARMDIRECTFR",20006433,20006433,"oui","PHARMACIE DE GAUCHY","NULL","Place","JACQUES DUCLOS","02430 GAUCHY",2430,"Gauchy","Pharmacie d'officine","A"]
[{"$f":"VLOOKUP(B222,Régions!A:C,3,FALSE)","v":"Hauts-de-France"},{"v":2,"d":"02"},"PHARMDIRECTFR",20006474,20006474,"oui","PHARMACIE REGNIER",20,"Rue","PAUL LANGEVIN","02430 GAUCHY",2430,"Gauchy","Pharmacie d'officine","A"]
[{"$f":"VLOOKUP(B223,Régions!A:C,3,FALSE)","v":"Hauts-de-France"},{"v":2,"d":"02"},"PHARMDIRECTFR",20006490,20006490,"oui","PHARMACIE DOUCE",3,"Rue","PIERRE CURTIL","02190 VILLENEUVE-SUR-AISNE",2190,"Villeneuve-sur-Aisne","Pharmacie d'officine","A"]
[{"$f":"VLOOKUP(B224,Régions!A:C,3,FALSE)","v":"Hauts-de-France"},{"v":2,"d":"02"},"CNOP",20006557,20006557,"oui","PHARMACIE  TROMELIN-ATTAL",197,"Rue","CAMILLE DESMOULINS","02120 GUISE",2120,"Guise","Pharmacie d'officine","A"]
[{"$f":"VLOOKUP(B225,Régions!A:C,3,FALSE)","v":"Hauts-de-France"},{"v":2,"d":"02"},"CNOP",20006573,20006573,"oui","PHARMACIE BOUTROY-DOBBELS",307,"Rue","CAMILLE DESMOULINS","02120 GUISE",2120,"Guise","Pharmacie d'officine","A"]
[{"$f":"VLOOKUP(B226,Régions!A:C,3,FALSE)","v":"Hauts-de-France"},{"v":2,"d":"02"},{"$error":"#N/A"},20006607,{"$error":"#N/A"},{"$error":"#N/A"},"PHARMACIE  DELHAYE",132,"Place","D'ARMES","02120 GUISE",2120,"Guise","Pharmacie d'officine","A"]
[{"$f":"VLOOKUP(B227,Régions!A:C,3,FALSE)","v":"Hauts-de-France"},{"v":2,"d":"02"},{"$error":"#N/A"},20006623,{"$error":"#N/A"},{"$error":"#N/A"},"PHARMACIE AUBERT","NULL","Rue","DU MILLENAIRE","02100 HARLY",2100,"Harly","Pharmacie d'officine","A"]
[{"$f":"VLOOKUP(B228,Régions!A:C,3,FALSE)","v":"Hauts-de-France"},{"v":2,"d":"02"},"CNOP",20006714,20006714,"oui","PHARMACIE  SARRAZIN FOUGERE",3,"Rue","CHARLES DE GAULLE","02500 HIRSON",2500,"Hirson","Pharmacie d'officine","A"]
[{"$f":"VLOOKUP(B229,Régions!A:C,3,FALSE)","v":"Hauts-de-France"},{"v":2,"d":"02"},{"$error":"#N/A"},20006730,{"$error":"#N/A"},{"$error":"#N/A"},"SELARL PHARMACIE DOLY",130,"Rue","CHARLES DE GAULLE","02500 HIRSON",2500,"Hirson","Pharmacie d'officine","A"]
[{"$f":"VLOOKUP(B230,Régions!A:C,3,FALSE)","v":"Hauts-de-France"},{"v":2,"d":"02"},{"$error":"#N/A"},20006763,{"$error":"#N/A"},{"$error":"#N/A"},"PHARMACIE  LEFEVRE",6,"Place","PASTEUR","02500 HIRSON",2500,"Hirson","Pharmacie d'officine","A"]
[{"$f":"VLOOKUP(B231,Régions!A:C,3,FALSE)","v":"Hauts-de-France"},{"v":2,"d":"02"},{"$error":"#N/A"},20006805,{"$error":"#N/A"},{"$error":"#N/A"},"PHARMACIE MILLET",30,"Avenue","FRANCOIS MITTERAND","02500 HIRSON",2500,"Hirson","Pharmacie d'officine","A"]
[{"$f":"VLOOKUP(B232,Régions!A:C,3,FALSE)","v":"Hauts-de-France"},{"v":2,"d":"02"},"CNOP",20006904,20006904,"oui","PHARMACIE DELGRANGE",81,"Rue","ALBERT 1ER","02500 HIRSON",2500,"Hirson","Pharmacie d'officine","A"]
[{"$f":"VLOOKUP(B233,Régions!A:C,3,FALSE)","v":"Hauts-de-France"},{"v":2,"d":"02"},{"$error":"#N/A"},20006987,{"$error":"#N/A"},{"$error":"#N/A"},"PHARMACIE COTTRET-SENEZ",40,"Rue","WALLON SATIZELLE","02760 HOLNON",2760,"Holnon","Pharmacie d'officine","A"]
[{"$f":"VLOOKUP(B234,Régions!A:C,3,FALSE)","v":"Hauts-de-France"},{"v":2,"d":"02"},"PHARMDIRECTFR",20007050,20007050,"oui","PHARMACIE BASSET",22,"Rue","JEAN BUDNYCK","02720 HOMBLIERES",2720,"Homblières","Pharmacie d'officine","A"]
[{"$f":"VLOOKUP(B235,Régions!A:C,3,FALSE)","v":"Hauts-de-France"},{"v":2,"d":"02"},"CNOP",20007084,20007084,"oui","PHARMACIE LAIGNEL",9,"Rue","DE FERE","02850 JAULGONNE",2850,"Jaulgonne","Pharmacie d'officine","A"]
[{"$f":"VLOOKUP(B236,Régions!A:C,3,FALSE)","v":"Hauts-de-France"},{"v":2,"d":"02"},"PHARMDIRECTFR",20007134,20007134,"oui","PHARMACIE CHARPENTIER",20,"Place","VICTOR HUGO","02000 LAON",2000,"Laon","Pharmacie d'officine","A"]
[{"$f":"VLOOKUP(B237,Régions!A:C,3,FALSE)","v":"Hauts-de-France"},{"v":2,"d":"02"},"PHARMDIRECTFR",20007217,20007217,"oui","PHARMACIE FAYET",9,"Rue","JEAN BAPTISTE LEBAS","02000 LAON",2000,"Laon","Pharmacie d'officine","A"]
[{"$f":"VLOOKUP(B238,Régions!A:C,3,FALSE)","v":"Hauts-de-France"},{"v":2,"d":"02"},{"$error":"#N/A"},20007233,{"$error":"#N/A"},{"$error":"#N/A"},"GRANDE PHARMACIE LAONNOISE","NULL","Rue","ROMANETTE","02000 LAON",2000,"Laon","Pharmacie d'officine","A"]
[{"$f":"VLOOKUP(B239,Régions!A:C,3,FALSE)","v":"Hauts-de-France"},{"v":2,"d":"02"},"CNOP",20007324,20007324,"oui","PHARMACIE MULETTE",22,"Rue","JACQUES GALLET","02000 LAON",2000,"Laon","Pharmacie d'officine","A"]
[{"$f":"VLOOKUP(B240,Régions!A:C,3,FALSE)","v":"Hauts-de-France"},{"v":2,"d":"02"},{"$error":"#N/A"},20007563,{"$error":"#N/A"},{"$error":"#N/A"},"PHARMACIE DE LA GARE",5,"Place","DES DROITS DE L'HOMME","02000 LAON",2000,"Laon","Pharmacie d'officine","A"]
[{"$f":"VLOOKUP(B241,Régions!A:C,3,FALSE)","v":"Hauts-de-France"},{"v":2,"d":"02"},"PHARMDIRECTFR",20007696,20007696,"oui","PHARMACIE FRANCART",400,"Avenue","GEORGES POMPIDOU","02000 LAON",2000,"Laon","Pharmacie d'officine","A"]
[{"$f":"VLOOKUP(B242,Régions!A:C,3,FALSE)","v":"Hauts-de-France"},{"v":2,"d":"02"},"CNOP",20007712,20007712,"oui","PHARMACIE LECUYER",120,"Boulevard","BROSSOLETTE","02000 LAON",2000,"Laon","Pharmacie d'officine","A"]
[{"$f":"VLOOKUP(B243,Régions!A:C,3,FALSE)","v":"Hauts-de-France"},{"v":2,"d":"02"},"CNOP",20007746,20007746,"oui","SELARL PHARMACIE DE LA ROCADE",20,"Rue","DU DOCTEUR MENU","02000 LAON",2000,"Laon","Pharmacie d'officine","A"]
[{"$f":"VLOOKUP(B244,Régions!A:C,3,FALSE)","v":"Hauts-de-France"},{"v":2,"d":"02"},"CNOP",20007860,20007860,"oui","PHARMACIE DEVRIERE",21,"Rue","DE CHAMPAGNE","02100 LESDINS",2100,"Lesdins","Pharmacie d'officine","A"]
[{"$f":"VLOOKUP(B245,Régions!A:C,3,FALSE)","v":"Hauts-de-France"},{"v":2,"d":"02"},"PHARMDIRECTFR",20007894,20007894,"oui","PHARMACIE FAYET",19,"Rue","DU GENERAL DE GAULLE","02350 LIESSE",2350,"Liesse-Notre-Dame","Pharmacie d'officine","A"]
[{"$f":"VLOOKUP(B246,Régions!A:C,3,FALSE)","v":"Hauts-de-France"},{"v":2,"d":"02"},{"$error":"#N/A"},20007910,{"$error":"#N/A"},{"$error":"#N/A"},"PHARMACIE LEGROS",1,"Rue","DESAINS","02250 MARLE",2250,"Marle","Pharmacie d'officine","A"]
[{"$f":"VLOOKUP(B247,Régions!A:C,3,FALSE)","v":"Hauts-de-France"},{"v":2,"d":"02"},{"$error":"#N/A"},20007944,{"$error":"#N/A"},{"$error":"#N/A"},"PHARMACIE MATHIS",22,"Rue","LALOUETTE","02250 MARLE",2250,"Marle","Pharmacie d'officine","A"]
[{"$f":"VLOOKUP(B248,Régions!A:C,3,FALSE)","v":"Hauts-de-France"},{"v":2,"d":"02"},{"$error":"#N/A"},20007977,{"$error":"#N/A"},{"$error":"#N/A"},"PHARMACIE HORIOT-DUMUR","NULL","Rue","DE LA POTERIE","02120 MARLY-GOMONT",2120,"Marly-Gomont","Pharmacie d'officine","A"]
[{"$f":"VLOOKUP(B249,Régions!A:C,3,FALSE)","v":"Hauts-de-France"},{"v":2,"d":"02"},"PHARMDIRECTFR",20007993,20007993,"oui","PHARMACIE  BETEMS",18,"Rue","DE LAON","02000 MONS-EN-LAONNOIS",2000,"Mons-en-Laonnois","Pharmacie d'officine","A"]
[{"$f":"VLOOKUP(B250,Régions!A:C,3,FALSE)","v":"Hauts-de-France"},{"v":2,"d":"02"},{"$error":"#N/A"},20008132,{"$error":"#N/A"},{"$error":"#N/A"},"PHARMACIE PACCOU-GODEAU",2,"Rue","DU 8 MAI 45","02110 MONTBREHAIN",2110,"Montbrehain","Pharmacie d'officine","A"]
[{"$f":"VLOOKUP(B251,Régions!A:C,3,FALSE)","v":"Hauts-de-France"},{"v":2,"d":"02"},{"$error":"#N/A"},20008496,{"$error":"#N/A"},{"$error":"#N/A"},"SELAS PHARMACIE MONFOURNY",5,"Rue","DE L'HÔPITAL","02440 MONTESCOURT LIZEROLLES",2440,"Montescourt-Lizerolles","Pharmacie d'officine","A"]
[{"$f":"VLOOKUP(B252,Régions!A:C,3,FALSE)","v":"Hauts-de-France"},{"v":2,"d":"02"},{"$error":"#N/A"},20008645,{"$error":"#N/A"},{"$error":"#N/A"},"PHARMACIE DUPUIS",75,"Avenue","DE PARIS","02310 MONTREUIL AUX LIONS",2310,"Montreuil-aux-Lions","Pharmacie d'officine","A"]
[{"$f":"VLOOKUP(B253,Régions!A:C,3,FALSE)","v":"Hauts-de-France"},{"v":2,"d":"02"},{"$error":"#N/A"},20008751,{"$error":"#N/A"},{"$error":"#N/A"},"PHARMACIE LANEZ",8,"Rue","GEORGES CLEMENCEAU","02610 MOY-DE-L'AISNE",2610,"Moÿ-de-l'Aisne","Pharmacie d'officine","A"]
[{"$f":"VLOOKUP(B254,Régions!A:C,3,FALSE)","v":"Hauts-de-France"},{"v":2,"d":"02"},"CNOP",20009064,20009064,"oui","PHARMACIE FOUCHAULT",1,"Place","DE L'HOTEL DE VILLE","02470 NEUILLY-SAINT-FRONT",2470,"Neuilly-Saint-Front","Pharmacie d'officine","A"]
[{"$f":"VLOOKUP(B255,Régions!A:C,3,FALSE)","v":"Hauts-de-France"},{"v":2,"d":"02"},"PHARMDIRECTFR",20009510,20009510,"oui","SELARL PHARMACIE DE NOGENT",41,"NULL","GRANDE RUE","02310 NOGENT L ARTAUD",2310,"Nogent-l'Artaud","Pharmacie d'officine","A"]
[{"$f":"VLOOKUP(B256,Régions!A:C,3,FALSE)","v":"Hauts-de-France"},{"v":2,"d":"02"},"PHARMDIRECTFR",20009700,20009700,"oui","PHARMACIE MICHEL - VILLENEUVE",18,"Rue","THEODORE BLOT","02170 LE NOUVION EN THIERACHE",2170,"Le Nouvion-en-Thiérache","Pharmacie d'officine","A"]
[{"$f":"VLOOKUP(B257,Régions!A:C,3,FALSE)","v":"Hauts-de-France"},{"v":2,"d":"02"},"PHARMDIRECTFR",20009775,20009775,"oui","PHARMACIE HYEANS-TABARY",25,"Rue","DE VERVINS","02550 ORIGNY-EN-THIERACHE",2550,"Origny-en-Thiérache","Pharmacie d'officine","A"]
[{"$f":"VLOOKUP(B258,Régions!A:C,3,FALSE)","v":"Hauts-de-France"},{"v":2,"d":"02"},{"$error":"#N/A"},20009791,{"$error":"#N/A"},{"$error":"#N/A"},"PHARMACIE VANEZ",30,"Rue","PASTEUR","02390 ORIGNY STE BENOITE",2390,"Origny-Sainte-Benoite","Pharmacie d'officine","A"]
[{"$f":"VLOOKUP(B259,Régions!A:C,3,FALSE)","v":"Hauts-de-France"},{"v":2,"d":"02"},"CNOP",20009841,20009841,"oui","SELURL PHARMACIE BOURGEOIS-GORVIEN",17,"Rue","QUINQUET DE MONJOUR","02210 OULCHY LE CHATEAU",2210,"Oulchy-le-Château","Pharmacie d'officine","A"]
[{"$f":"VLOOKUP(B260,Régions!A:C,3,FALSE)","v":"Hauts-de-France"},{"v":2,"d":"02"},"PHARMDIRECTFR",20009965,20009965,"oui","PHARMACIE COUSSEMACQ - MOUILLER",9,"Rue","DU 7E BCA","02320 PINON",2320,"Pinon","Pharmacie d'officine","A"]
[{"$f":"VLOOKUP(B261,Régions!A:C,3,FALSE)","v":"Hauts-de-France"},{"v":2,"d":"02"},{"$error":"#N/A"},20009981,{"$error":"#N/A"},{"$error":"#N/A"},"SELARL PHARMACIE DE RIBEMONT",2,"Rue","CONDORCET","02240 RIBEMONT",2240,"Ribemont","Pharmacie d'officine","A"]
[{"$f":"VLOOKUP(B262,Régions!A:C,3,FALSE)","v":"Hauts-de-France"},{"v":2,"d":"02"},{"$error":"#N/A"},20010344,{"$error":"#N/A"},{"$error":"#N/A"},"PHARMACIE ROUSSEAU",120,"Rue","GERARD ADOLPHE MARTIN","02360 ROZOY-SUR-SERRE",2360,"Rozoy-sur-Serre","Pharmacie d'officine","A"]
[{"$f":"VLOOKUP(B263,Régions!A:C,3,FALSE)","v":"Hauts-de-France"},{"v":2,"d":"02"},"PHARMDIRECTFR",20010625,20010625,"oui","PHARMACIE FROMENT",15,"Rue","DU GENERAL DE GAULLE","02120 SAINS-RICHAUMONT",2120,"Sains-Richaumont","Pharmacie d'officine","A"]
[{"$f":"VLOOKUP(B264,Régions!A:C,3,FALSE)","v":"Hauts-de-France"},{"v":2,"d":"02"},"PHARMDIRECTFR",20010641,20010641,"oui","PHARMACIE DE SAINT-ERME","NULL","Rue","DE LA GARE","02820 ST ERME OUTRE ET RAMECOURT",2820,"Saint-Erme-Outre-et-Ramecourt","Pharmacie d'officine","A"]
[{"$f":"VLOOKUP(B265,Régions!A:C,3,FALSE)","v":"Hauts-de-France"},{"v":2,"d":"02"},"PHARMDIRECTFR",20010674,20010674,"oui","PHARMACIE FRERET",15,"Rue","DE MONTEVIDEO","02410 SAINT-GOBAIN",2410,"Saint-Gobain","Pharmacie d'officine","A"]
[{"$f":"VLOOKUP(B266,Régions!A:C,3,FALSE)","v":"Hauts-de-France"},{"v":2,"d":"02"},{"$error":"#N/A"},20010690,{"$error":"#N/A"},{"$error":"#N/A"},"PHARMACIE  THUILLIER",11,"Rue","DE LA REPUBLIQUE","02830 ST MICHEL",2830,"Saint-Michel","Pharmacie d'officine","A"]
[{"$f":"VLOOKUP(B267,Régions!A:C,3,FALSE)","v":"Hauts-de-France"},{"v":2,"d":"02"},"CNOP",20010724,20010724,"non","PHARMACIE BISIAUX",8,"Rue","CROIX BELLE PORTE","02100 SAINT-QUENTIN",2100,"Saint-Quentin","Pharmacie d'officine","A"]
[{"$f":"VLOOKUP(B268,Régions!A:C,3,FALSE)","v":"Hauts-de-France"},{"v":2,"d":"02"},{"$error":"#N/A"},20010740,{"$error":"#N/A"},{"$error":"#N/A"},"PHARMACIE LOYEUX-DUBREUIL",137,"Rue","GEORGES POMPIDOU","02100 SAINT-QUENTIN",2100,"Saint-Quentin","Pharmacie d'officine","A"]
[{"$f":"VLOOKUP(B269,Régions!A:C,3,FALSE)","v":"Hauts-de-France"},{"v":2,"d":"02"},"PHARMDIRECTFR",20010781,20010781,"oui","PHARMACIE SAILLARD-MEUNIER",20,"Boulevard","HENRI MARTIN","02100 SAINT-QUENTIN",2100,"Saint-Quentin","Pharmacie d'officine","A"]
[{"$f":"VLOOKUP(B270,Régions!A:C,3,FALSE)","v":"Hauts-de-France"},{"v":2,"d":"02"},"CNOP",20010815,20010815,"oui","PHARMACIE FLAMAND",8,"Rue","DE GUISE","02100 SAINT-QUENTIN",2100,"Saint-Quentin","Pharmacie d'officine","A"]
[{"$f":"VLOOKUP(B271,Régions!A:C,3,FALSE)","v":"Hauts-de-France"},{"v":2,"d":"02"},"CNOP",20010831,20010831,"oui","PHARMACIE BOUCHE-BESSE M. et N.",37,"Rue","D'ISLE","02100 SAINT-QUENTIN",2100,"Saint-Quentin","Pharmacie d'officine","A"]
[{"$f":"VLOOKUP(B272,Régions!A:C,3,FALSE)","v":"Hauts-de-France"},{"v":2,"d":"02"},"PHARMDIRECTFR",20010864,20010864,"oui","PHARMACIE SAILLARD",1,"Place","CROMMELIN","02100 SAINT-QUENTIN",2100,"Saint-Quentin","Pharmacie d'officine","A"]
[{"$f":"VLOOKUP(B273,Régions!A:C,3,FALSE)","v":"Hauts-de-France"},{"v":2,"d":"02"},"CNOP",20010880,20010880,"oui","PHARMACIE VALLEZ-BOONNE",1,"Place","DE STALINGRAD","02100 SAINT-QUENTIN",2100,"Saint-Quentin","Pharmacie d'officine","A"]
[{"$f":"VLOOKUP(B274,Régions!A:C,3,FALSE)","v":"Hauts-de-France"},{"v":2,"d":"02"},{"$error":"#N/A"},20010914,{"$error":"#N/A"},{"$error":"#N/A"},"PHARMACIE LE GOAS",1,"Rue","HENRI BARBUSSE","02830 SAINT-MICHEL",2830,"Saint-Michel","Pharmacie d'officine","A"]
[{"$f":"VLOOKUP(B275,Régions!A:C,3,FALSE)","v":"Hauts-de-France"},{"v":2,"d":"02"},{"$error":"#N/A"},20010930,{"$error":"#N/A"},{"$error":"#N/A"},"PHARMACIE CATRY - DUBOIS",72,"Rue","DU  GENERAL LECLERC","02100 SAINT-QUENTIN",2100,"Saint-Quentin","Pharmacie d'officine","A"]
[{"$f":"VLOOKUP(B276,Régions!A:C,3,FALSE)","v":"Hauts-de-France"},{"v":2,"d":"02"},{"$error":"#N/A"},20010963,{"$error":"#N/A"},{"$error":"#N/A"},"PHARMACIE DU CENTRE",1,"Rue","VICTOR BASCH","02100 SAINT-QUENTIN",2100,"Saint-Quentin","Pharmacie d'officine","A"]
[{"$f":"VLOOKUP(B277,Régions!A:C,3,FALSE)","v":"Hauts-de-France"},{"v":2,"d":"02"},"PHARMDIRECTFR",20010997,20010997,"oui","PHARMACIE BASSET FRANCOIS ET HENRI",4,"Rue","DE LA CHAUSSEE ROMAINE","02100 SAINT-QUENTIN",2100,"Saint-Quentin","Pharmacie d'officine","A"]
[{"$f":"VLOOKUP(B278,Régions!A:C,3,FALSE)","v":"Hauts-de-France"},{"v":2,"d":"02"},"CNOP",20011011,20011011,"oui","SELARL PHARMACIE ARTOIS CHAMPAGNE",1,"Boulevard","PIERRET","02100 SAINT-QUENTIN",2100,"Saint-Quentin","Pharmacie d'officine","A"]
[{"$f":"VLOOKUP(B279,Régions!A:C,3,FALSE)","v":"Hauts-de-France"},{"v":2,"d":"02"},"PHARMDIRECTFR",20011045,20011045,"oui","PHARMACIE CARDON-NUYTTEN",10,"Rue","DE BELLEVUE","02100 SAINT-QUENTIN",2100,"Saint-Quentin","Pharmacie d'officine","A"]
[{"$f":"VLOOKUP(B280,Régions!A:C,3,FALSE)","v":"Hauts-de-France"},{"v":2,"d":"02"},"CNOP",20011060,20011060,"oui","PHARMACIE TEMPLEMENT  -  PAYEN",66,"Rue","ROBERT SCHUMANN","02100 SAINT-QUENTIN",2100,"Saint-Quentin","Pharmacie d'officine","A"]
[{"$f":"VLOOKUP(B281,Régions!A:C,3,FALSE)","v":"Hauts-de-France"},{"v":2,"d":"02"},"PHARMDIRECTFR",20011094,20011094,"oui","SELARL GRANDE PHARMACIE DE L HOPITAL",98,"Rue","Henriette Cabot","02100 SAINT-QUENTIN",2100,"Saint-Quentin","Pharmacie d'officine","A"]
[{"$f":"VLOOKUP(B282,Régions!A:C,3,FALSE)","v":"Hauts-de-France"},{"v":2,"d":"02"},{"$error":"#N/A"},20011110,{"$error":"#N/A"},{"$error":"#N/A"},"PHARMACIE PINCHON-LINQUETTE SYLVIE",35,"Rue","DE LA SELLERIE","02100 SAINT-QUENTIN",2100,"Saint-Quentin","Pharmacie d'officine","A"]
[{"$f":"VLOOKUP(B283,Régions!A:C,3,FALSE)","v":"Hauts-de-France"},{"v":2,"d":"02"},{"$error":"#N/A"},20011144,{"$error":"#N/A"},{"$error":"#N/A"},"PHARMACIE COUPAIN",21,"Rue","DES TOILES","02100 SAINT-QUENTIN",2100,"Saint-Quentin","Pharmacie d'officine","A"]
[{"$f":"VLOOKUP(B284,Régions!A:C,3,FALSE)","v":"Hauts-de-France"},{"v":2,"d":"02"},"PHARMDIRECTFR",20011177,20011177,"oui","PHARMACIE LAFAYETTE DU BOULEVARD",98,"Rue","ALEXANDRE DUMAS","02100 SAINT-QUENTIN",2100,"Saint-Quentin","Pharmacie d'officine","A"]
[{"$f":"VLOOKUP(B285,Régions!A:C,3,FALSE)","v":"Hauts-de-France"},{"v":2,"d":"02"},"PHARMDIRECTFR",20011193,20011193,"oui","PHARMACIE DE NEUVILLE",2,"Rue","JACQUES BLANCHOT","02100 ST QUENTIN",2100,"Saint-Quentin","Pharmacie d'officine","A"]
[{"$f":"VLOOKUP(B286,Régions!A:C,3,FALSE)","v":"Hauts-de-France"},{"v":2,"d":"02"},"CNOP",20011227,20011227,"oui","PHARMACIE VERMUE-LHOTTE",82,"Avenue","de la République","02100 SAINT-QUENTIN",2100,"Saint-Quentin","Pharmacie d'officine","A"]
[{"$f":"VLOOKUP(B287,Régions!A:C,3,FALSE)","v":"Hauts-de-France"},{"v":2,"d":"02"},"PHARMDIRECTFR",20011243,20011243,"oui","PHARMACIE DUGAY",32,"Rue","KENNEDY","02100 ST QUENTIN",2100,"Saint-Quentin","Pharmacie d'officine","A"]
[{"$f":"VLOOKUP(B288,Régions!A:C,3,FALSE)","v":"Hauts-de-France"},{"v":2,"d":"02"},"PHARMDIRECTFR",20011276,20011276,"oui","PHARMACIE VAN HAMME",216,"Rue","DE PARIS","02100 SAINT-QUENTIN",2100,"Saint-Quentin","Pharmacie d'officine","A"]
[{"$f":"VLOOKUP(B289,Régions!A:C,3,FALSE)","v":"Hauts-de-France"},{"v":2,"d":"02"},{"$error":"#N/A"},20011292,{"$error":"#N/A"},{"$error":"#N/A"},"PHARMACIE MICHEL - NAVEL",31,"Boulevard","Victor Hugo",2100,2100,"Saint-Quentin","Pharmacie d'officine","A"]
[{"$f":"VLOOKUP(B290,Régions!A:C,3,FALSE)","v":"Hauts-de-France"},{"v":2,"d":"02"},{"$error":"#N/A"},20011326,{"$error":"#N/A"},{"$error":"#N/A"},"PHARMACIE SEVIN",21,"Rue","FERNAND CLEMENT","02110 SEBONCOURT",2110,"Seboncourt","Pharmacie d'officine","A"]
[{"$f":"VLOOKUP(B291,Régions!A:C,3,FALSE)","v":"Hauts-de-France"},{"v":2,"d":"02"},"PHARMDIRECTFR",20011342,20011342,"oui","PHARMACIE ALAVOINE",5,"Rue","LOUISE DE LATOUR","02790 SERAUCOURT LE GRAND",2790,"Seraucourt-le-Grand","Pharmacie d'officine","A"]
[{"$f":"VLOOKUP(B292,Régions!A:C,3,FALSE)","v":"Hauts-de-France"},{"v":2,"d":"02"},"CNOP",20011375,20011375,"oui","PHARMACIE WATTIAUX",76,"Rue","EMILE DUPLOYE","02300 SINCENY",2300,"Sinceny","Pharmacie d'officine","A"]
[{"$f":"VLOOKUP(B293,Régions!A:C,3,FALSE)","v":"Hauts-de-France"},{"v":2,"d":"02"},{"$error":"#N/A"},20011391,{"$error":"#N/A"},{"$error":"#N/A"},"PHARMACIE JONET",7,"Place","DE L'HOTEL DE VILLE","02150 SISSONNE",2150,"Sissonne","Pharmacie d'officine","A"]
[{"$f":"VLOOKUP(B294,Régions!A:C,3,FALSE)","v":"Hauts-de-France"},{"v":2,"d":"02"},{"$error":"#N/A"},20011425,{"$error":"#N/A"},{"$error":"#N/A"},"PHARMACIE HOUSSEL",36,"Rue","DU COLLEGE","02200 SOISSONS",2200,"Soissons","Pharmacie d'officine","A"]
[{"$f":"VLOOKUP(B295,Régions!A:C,3,FALSE)","v":"Hauts-de-France"},{"v":2,"d":"02"},{"$error":"#N/A"},20011441,{"$error":"#N/A"},{"$error":"#N/A"},"PHARMACIE  C. GRAFFAN",7,"Avenue","SALVADOR ALLENDE","02200 SOISSONS",2200,"Soissons","Pharmacie d'officine","A"]
[{"$f":"VLOOKUP(B296,Régions!A:C,3,FALSE)","v":"Hauts-de-France"},{"v":2,"d":"02"},"PHARMDIRECTFR",20011474,20011474,"oui","PHARMACIE BORDET",51,"Boulevard","VICTOR HUGO","02200 SOISSONS",2200,"Soissons","Pharmacie d'officine","A"]
[{"$f":"VLOOKUP(B297,Régions!A:C,3,FALSE)","v":"Hauts-de-France"},{"v":2,"d":"02"},"PHARMDIRECTFR",20011490,20011490,"oui","PHARMACIE ZEMMER",33,"Boulevard","DE STRASBOURG","02200 SOISSONS",2200,"Soissons","Pharmacie d'officine","A"]
[{"$f":"VLOOKUP(B298,Régions!A:C,3,FALSE)","v":"Hauts-de-France"},{"v":2,"d":"02"},"PHARMDIRECTFR",20011524,20011524,"oui","PHARMACIE QUAILLET",2,"Boulevard","DE PRESLES","02200 SOISSONS",2200,"Soissons","Pharmacie d'officine","A"]
[{"$f":"VLOOKUP(B299,Régions!A:C,3,FALSE)","v":"Hauts-de-France"},{"v":2,"d":"02"},{"$error":"#N/A"},20011540,{"$error":"#N/A"},{"$error":"#N/A"},"PHARMACIE POTTIER-ROFFE",2,"Place","DE LA REPUBLIQUE","02200 SOISSONS",2200,"Soissons","Pharmacie d'officine","A"]
[{"$f":"VLOOKUP(B300,Régions!A:C,3,FALSE)","v":"Hauts-de-France"},{"v":2,"d":"02"},"PHARMDIRECTFR",20011565,20011565,"oui","S.E.L.A.R.L PHARMACIE DE LA POSTE",70,"Rue","SAINT MARTIN","02200 SOISSONS",2200,"Soissons","Pharmacie d'officine","A"]
[{"$f":"VLOOKUP(B301,Régions!A:C,3,FALSE)","v":"Hauts-de-France"},{"v":2,"d":"02"},{"$error":"#N/A"},20011581,{"$error":"#N/A"},{"$error":"#N/A"},"PHARMACIE SAMSON",26,"Rue","ST CHRISTOPHE","02200 SOISSONS",2200,"Soissons","Pharmacie d'officine","A"]
[{"$f":"VLOOKUP(B302,Régions!A:C,3,FALSE)","v":"Hauts-de-France"},{"v":2,"d":"02"},{"$error":"#N/A"},20011615,{"$error":"#N/A"},{"$error":"#N/A"},"PHARMACIE DAOUDI",19,"Avenue","ROBERT SCHUMANN","02200 SOISSONS",2200,"Soissons","Pharmacie d'officine","A"]
[{"$f":"VLOOKUP(B303,Régions!A:C,3,FALSE)","v":"Hauts-de-France"},{"v":2,"d":"02"},{"$error":"#N/A"},20011631,{"$error":"#N/A"},{"$error":"#N/A"},"PHARMACIE WATTRAINT",37,"Rue","SAINT MARTIN","02200 SOISSONS",2200,"Soissons","Pharmacie d'officine","A"]
[{"$f":"VLOOKUP(B304,Régions!A:C,3,FALSE)","v":"Hauts-de-France"},{"v":2,"d":"02"},{"$error":"#N/A"},20011664,{"$error":"#N/A"},{"$error":"#N/A"},"PHARMACIE DE MAUPAS",16,"Rue","JEAN MOULIN","02200 SOISSONS",2200,"Soissons","Pharmacie d'officine","A"]
[{"$f":"VLOOKUP(B305,Régions!A:C,3,FALSE)","v":"Hauts-de-France"},{"v":2,"d":"02"},{"$error":"#N/A"},20011680,{"$error":"#N/A"},{"$error":"#N/A"},"PHARMACIE PICHELIN",7,"Rue","Saint-Quentin","02200 SOISSONS",2200,"Soissons","Pharmacie d'officine","A"]
[{"$f":"VLOOKUP(B306,Régions!A:C,3,FALSE)","v":"Hauts-de-France"},{"v":2,"d":"02"},"PHARMDIRECTFR",20011714,20011714,"oui","PHARMACIE LEROUX-DEFFONTAINES",7,"Place","LAMARTINE","02200 SOISSONS",2200,"Soissons","Pharmacie d'officine","A"]
[{"$f":"VLOOKUP(B307,Régions!A:C,3,FALSE)","v":"Hauts-de-France"},{"v":2,"d":"02"},"PHARMDIRECTFR",20011763,20011763,"oui","PHARMACIE CIOFFI",170,"Boulevard","GAMBETTA","02700 TERGNIER",2700,"Tergnier","Pharmacie d'officine","A"]
[{"$f":"VLOOKUP(B308,Régions!A:C,3,FALSE)","v":"Hauts-de-France"},{"v":2,"d":"02"},"PHARMDIRECTFR",20011813,20011813,"oui","PHARMACIE DEFARCY-TURMEL",82,"Avenue","JEAN MOULIN","02700 TERGNIER",2700,"Tergnier","Pharmacie d'officine","A"]
[{"$f":"VLOOKUP(B309,Régions!A:C,3,FALSE)","v":"Hauts-de-France"},{"v":2,"d":"02"},"PHARMDIRECTFR",20011847,20011847,"oui","PHARMACIE MERESSE",74,"Rue","JEAN JAURES","02700 TERGNIER",2700,"Tergnier","Pharmacie d'officine","A"]
[{"$f":"VLOOKUP(B310,Régions!A:C,3,FALSE)","v":"Hauts-de-France"},{"v":2,"d":"02"},"PHARMDIRECTFR",20011862,20011862,"oui","PHARMACIE RAUSCENT CORNIQUET",22,"Rue","PASTEUR","02700 QUESSY",2700,"Tergnier","Pharmacie d'officine","A"]
[{"$f":"VLOOKUP(B311,Régions!A:C,3,FALSE)","v":"Hauts-de-France"},{"v":2,"d":"02"},"PHARMDIRECTFR",20011896,20011896,"oui","PHARMACIE CENTRALE DE TERGNIER",11,"Boulevard","GAMBETTA","02700 TERGNIER",2700,"Tergnier","Pharmacie d'officine","A"]
[{"$f":"VLOOKUP(B312,Régions!A:C,3,FALSE)","v":"Hauts-de-France"},{"v":2,"d":"02"},"PHARMDIRECTFR",20011912,20011912,"oui","PHARMACIE MONCEAUX",6,"Route","DES ROIS","02000 URCEL",2000,"Urcel","Pharmacie d'officine","A"]
[{"$f":"VLOOKUP(B313,Régions!A:C,3,FALSE)","v":"Hauts-de-France"},{"v":2,"d":"02"},"CNOP",20011946,20011946,"oui","PHARMACIE MILLET",16,"Rue","ALEXANDRE LEGRY","02370 VAILLY SUR AISNE",2370,"Vailly-sur-Aisne","Pharmacie d'officine","A"]
[{"$f":"VLOOKUP(B314,Régions!A:C,3,FALSE)","v":"Hauts-de-France"},{"v":2,"d":"02"},"PHARMDIRECTFR",20011961,20011961,"oui","PHARMACIE FRERET",12,"Place","DE LA MAIRIE","02200 VENIZEL",2200,"Venizel","Pharmacie d'officine","A"]
[{"$f":"VLOOKUP(B315,Régions!A:C,3,FALSE)","v":"Hauts-de-France"},{"v":2,"d":"02"},{"$error":"#N/A"},20011995,{"$error":"#N/A"},{"$error":"#N/A"},"PHARMACIE POREMBSKI-RENAUX",114,"Rue","CHARLES DE GAULLE","02490 VERMAND",2490,"Vermand","Pharmacie d'officine","A"]
[{"$f":"VLOOKUP(B316,Régions!A:C,3,FALSE)","v":"Hauts-de-France"},{"v":2,"d":"02"},{"$error":"#N/A"},20012076,{"$error":"#N/A"},{"$error":"#N/A"},"PHARMACIE DU DONJON",12,"Place","DU GENERAL DE GAULLE","02290 VIC-SUR-AISNE",2290,"Vic-sur-Aisne","Pharmacie d'officine","A"]
[{"$f":"VLOOKUP(B317,Régions!A:C,3,FALSE)","v":"Hauts-de-France"},{"v":2,"d":"02"},"CNOP",20012092,20012092,"oui","FRANCIS RINGEVAL ET AGNES BELOIU",33,"Avenue","DE REIMS","02200 VILLENEUVE-SAINT-GERMAIN",2200,"Villeneuve-Saint-Germain","Pharmacie d'officine","A"]
[{"$f":"VLOOKUP(B318,Régions!A:C,3,FALSE)","v":"Hauts-de-France"},{"v":2,"d":"02"},"CNOP",20012126,20012126,"oui","PHARMACIE DUCAT",28,"Rue","ALEXANDRE DUMAS","02600 VILLERS-COTTERÊTS",2600,"Villers-Cotterêts","Pharmacie d'officine","A"]
[{"$f":"VLOOKUP(B319,Régions!A:C,3,FALSE)","v":"Hauts-de-France"},{"v":2,"d":"02"},"PHARMDIRECTFR",20012142,20012142,"oui","PHARMACIE CASTEL - MAGIENNE",19,"Place","DU DOCTEUR MOUFLIER","02600 VILLERS-COTTERÊTS",2600,"Villers-Cotterêts","Pharmacie d'officine","A"]
[{"$f":"VLOOKUP(B320,Régions!A:C,3,FALSE)","v":"Hauts-de-France"},{"v":2,"d":"02"},"CNOP",20012159,20012159,"oui","PHARMACIE  DE LA THIERACHE",10,"Place","DU GENERAL DE GAULLE","02140 VERVINS",2140,"Vervins","Pharmacie d'officine","A"]
[{"$f":"VLOOKUP(B321,Régions!A:C,3,FALSE)","v":"Hauts-de-France"},{"v":2,"d":"02"},{"$error":"#N/A"},20012175,{"$error":"#N/A"},{"$error":"#N/A"},"PHARMACIE HEITZ-PATE",4,"Rue","DU GENERAL MANGIN","02600 VILLERS-COTTERÊTS",2600,"Villers-Cotterêts","Pharmacie d'officine","A"]
[{"$f":"VLOOKUP(B322,Régions!A:C,3,FALSE)","v":"Hauts-de-France"},{"v":2,"d":"02"},"PHARMDIRECTFR",20012191,20012191,"oui","PHARMACIE MOREAU",2,"Rue","VICTOR HUGO","02300 VIRY-NOUREUIL",2300,"Viry-Noureuil","Pharmacie d'officine","A"]
[{"$f":"VLOOKUP(B323,Régions!A:C,3,FALSE)","v":"Hauts-de-France"},{"v":2,"d":"02"},{"$error":"#N/A"},20012225,{"$error":"#N/A"},{"$error":"#N/A"},"PHARMACIE  VANHOLEBEKE",1,"Rue","MAILLARD","02630 WASSIGNY",2630,"Wassigny","Pharmacie d'officine","A"]
[{"$f":"VLOOKUP(B324,Régions!A:C,3,FALSE)","v":"Hauts-de-France"},{"v":2,"d":"02"},"CNOP",20012290,20012290,"oui","SELARL PHARMACIE D'ESSIGNY",42,"Rue","DE FLANDRE","02690 ESSIGNY LE GRAND",2690,"Essigny-le-Grand","Pharmacie d'officine","A"]
[{"$f":"VLOOKUP(B325,Régions!A:C,3,FALSE)","v":"Hauts-de-France"},{"v":2,"d":"02"},"PHARMDIRECTFR",20012597,20012597,"oui","PHARMACIE RAMPELBERG-LEMESTRE",68,"Rue","DU MARTROY","02220 BRAINE",2220,"Braine","Pharmacie d'officine","A"]
[{"$f":"VLOOKUP(B326,Régions!A:C,3,FALSE)","v":"Hauts-de-France"},{"v":2,"d":"02"},"CNOP",20013140,20013140,"oui","PHARMACIE DERICQ",56,"Avenue","DE BOURSONNE","02600 VILLERS-COTTERÊTS",2600,"Villers-Cotterêts","Pharmacie d'officine","A"]
[{"$f":"VLOOKUP(B327,Régions!A:C,3,FALSE)","v":"Hauts-de-France"},{"v":2,"d":"02"},{"$error":"#N/A"},20013579,{"$error":"#N/A"},{"$error":"#N/A"},"PHARMACIE MUSIKAS-BLAVIN",8,"Place","DU GENERAL LECLERC","02000 LAON",2000,"Laon","Pharmacie d'officine","A"]
[{"$f":"VLOOKUP(B328,Régions!A:C,3,FALSE)","v":"Hauts-de-France"},{"v":2,"d":"02"},"CNOP",20013629,20013629,"oui","PHARMACIE   DU MARCHE",24,"Place","DE L'HOTEL DE VILLE","02340 MONTCORNET",2340,"Montcornet","Pharmacie d'officine","A"]
[{"$f":"VLOOKUP(B329,Régions!A:C,3,FALSE)","v":"Auvergne-Rhône-Alpes"},{"v":3,"d":"03"},{"$error":"#N/A"},30001283,{"$error":"#N/A"},{"$error":"#N/A"},"PHARMACIE MORIN",27,"Avenue","DE VICHY","03200 ABREST",3200,"Abrest","Pharmacie d'officine","A"]
[{"$f":"VLOOKUP(B330,Régions!A:C,3,FALSE)","v":"Auvergne-Rhône-Alpes"},{"v":3,"d":"03"},"CNOP",30001317,30001317,"oui","PHARMACIE DE TRONCAIS SELARL","NULL","Route","de Moulins",3360,3360,"Ainay-le-Château","Pharmacie d'officine","A"]
[{"$f":"VLOOKUP(B331,Régions!A:C,3,FALSE)","v":"Auvergne-Rhône-Alpes"},{"v":3,"d":"03"},{"$error":"#N/A"},30001366,{"$error":"#N/A"},{"$error":"#N/A"},"PHARMACIE DES PORTES DE L'ALLIER","NULL","Route","DE PARIS","03000 AVERMES",3000,"Avermes","Pharmacie d'officine","A"]
[{"$f":"VLOOKUP(B332,Régions!A:C,3,FALSE)","v":"Auvergne-Rhône-Alpes"},{"v":3,"d":"03"},{"$error":"#N/A"},30001382,{"$error":"#N/A"},{"$error":"#N/A"},"PHARMACIE GRAND-KOPKA",1,"Rue","de la Laïcité","03000 AVERMES",3000,"Avermes","Pharmacie d'officine","A"]
[{"$f":"VLOOKUP(B333,Régions!A:C,3,FALSE)","v":"Auvergne-Rhône-Alpes"},{"v":3,"d":"03"},"CNOP",30001416,30001416,"oui","PHARMACIE PARENT-DELBARD",14,"Rue","DE LA POSTE","03230 BEAULON",3230,"Beaulon","Pharmacie d'officine","A"]
[{"$f":"VLOOKUP(B334,Régions!A:C,3,FALSE)","v":"Auvergne-Rhône-Alpes"},{"v":3,"d":"03"},"PHARMDIRECTFR",30001432,30001432,"oui","PHARMACIE ROUMY",4,"Rue","DES FORGES","03330 BELLENAVES",3330,"Bellenaves","Pharmacie d'officine","A"]
[{"$f":"VLOOKUP(B335,Régions!A:C,3,FALSE)","v":"Auvergne-Rhône-Alpes"},{"v":3,"d":"03"},{"$error":"#N/A"},30001457,{"$error":"#N/A"},{"$error":"#N/A"},"PHARMACIE BRESSON-KLEIN",4,"Rue","FELIX PERRAUD","03700 BELLERIVE SUR ALLIER",3700,"Bellerive-sur-Allier","Pharmacie d'officine","A"]
[{"$f":"VLOOKUP(B336,Régions!A:C,3,FALSE)","v":"Auvergne-Rhône-Alpes"},{"v":3,"d":"03"},"PHARMDIRECTFR",30001473,30001473,"oui","PHARMACIE PLAIGNAUD-LEYMONIE","NULL","NULL","NULL","03700 BELLERIVE SUR ALLIER",3700,"Bellerive-sur-Allier","Pharmacie d'officine","A"]
[{"$f":"VLOOKUP(B337,Régions!A:C,3,FALSE)","v":"Auvergne-Rhône-Alpes"},{"v":3,"d":"03"},{"$error":"#N/A"},30001507,{"$error":"#N/A"},{"$error":"#N/A"},"PHARMACIE ROFFET",18,"Avenue","JEAN JAURES","03700 BELLERIVE-SUR-ALLIER",3700,"Bellerive-sur-Allier","Pharmacie d'officine","A"]
[{"$f":"VLOOKUP(B338,Régions!A:C,3,FALSE)","v":"Auvergne-Rhône-Alpes"},{"v":3,"d":"03"},"PHARMDIRECTFR",30001523,30001523,"oui","PHARMACIE PIERRE GUILLAUMIN",10,"Avenue","DE RUSSIE","03700 BELLERIVE-SUR-ALLIER",3700,"Bellerive-sur-Allier","Pharmacie d'officine","A"]
[{"$f":"VLOOKUP(B339,Régions!A:C,3,FALSE)","v":"Auvergne-Rhône-Alpes"},{"v":3,"d":"03"},{"$error":"#N/A"},30001572,{"$error":"#N/A"},{"$error":"#N/A"},"PHARMACIE NIEDZUVIECKA",3,"Rue","DES BOITINS","03210 BESSON",3210,"Besson","Pharmacie d'officine","A"]
[{"$f":"VLOOKUP(B340,Régions!A:C,3,FALSE)","v":"Auvergne-Rhône-Alpes"},{"v":3,"d":"03"},"CNOP",30001606,30001606,"oui","PHARMACIE DEPRAS-DECARNIN","NULL","Route","NATIONALE","03170 BEZENET",3170,"Bézenet","Pharmacie d'officine","A"]
[{"$f":"VLOOKUP(B341,Régions!A:C,3,FALSE)","v":"Auvergne-Rhône-Alpes"},{"v":3,"d":"03"},"CNOP",30001622,30001622,"oui","PHARMACIE  E. ROSSEEL-PAILLERET",2,"Place","DE L'HOTEL DE VILLE","03160 BOURBON-L'ARCHAMBAULT",3160,"Bourbon-l'Archambault","Pharmacie d'officine","A"]
[{"$f":"VLOOKUP(B342,Régions!A:C,3,FALSE)","v":"Auvergne-Rhône-Alpes"},{"v":3,"d":"03"},"CNOP",30001655,30001655,"oui","PHARMACIE DES THERMES",32,"Rue","ACHILLE ALLIER","03160 BOURBON-L'ARCHAMBAULT",3160,"Bourbon-l'Archambault","Pharmacie d'officine","A"]
[{"$f":"VLOOKUP(B343,Régions!A:C,3,FALSE)","v":"Auvergne-Rhône-Alpes"},{"v":3,"d":"03"},"CNOP",30001671,30001671,"oui"," PHARMACIE WAUTHIER SARL",6,"Allee","DU SOUVENIR FRANCAIS","03110 BROUT-VERNET",3110,"Broût-Vernet","Pharmacie d'officine","A"]
[{"$f":"VLOOKUP(B344,Régions!A:C,3,FALSE)","v":"Auvergne-Rhône-Alpes"},{"v":3,"d":"03"},"CNOP",30001705,30001705,"oui","PHARMACIE FOUET",30,"Rue","GABRIEL PERI","03440 BUXIERES-LES-MINES",3440,"Buxières-les-Mines","Pharmacie d'officine","A"]
[{"$f":"VLOOKUP(B345,Régions!A:C,3,FALSE)","v":"Auvergne-Rhône-Alpes"},{"v":3,"d":"03"},"CNOP",30001721,30001721,"oui","PHARMACIE  NOUVELLE",12,"Place","PERON","03350 CERILLY",3350,"Cérilly","Pharmacie d'officine","A"]
[{"$f":"VLOOKUP(B346,Régions!A:C,3,FALSE)","v":"Auvergne-Rhône-Alpes"},{"v":3,"d":"03"},"CNOP",30001770,30001770,"oui","PHARMACIE BOURREL",2,"Avenue","DU STADE","03140 CHANTELLE",3140,"Chantelle","Pharmacie d'officine","A"]
[{"$f":"VLOOKUP(B347,Régions!A:C,3,FALSE)","v":"Auvergne-Rhône-Alpes"},{"v":3,"d":"03"},"CNOP",30001804,30001804,"oui","PHARMACIE FAURY",45,"Rue","GEORGES SAND","03380 LA-CHAPELAUDE",3380,"La Chapelaude","Pharmacie d'officine","A"]
[{"$f":"VLOOKUP(B348,Régions!A:C,3,FALSE)","v":"Auvergne-Rhône-Alpes"},{"v":3,"d":"03"},"CNOP",30001820,30001820,"oui","PHARMACIE HANIN",2,"Place","DU MARCHE","03230 CHEVAGNES",3230,"Chevagnes","Pharmacie d'officine","A"]
[{"$f":"VLOOKUP(B349,Régions!A:C,3,FALSE)","v":"Auvergne-Rhône-Alpes"},{"v":3,"d":"03"},{"$error":"#N/A"},30001853,{"$error":"#N/A"},{"$error":"#N/A"},"PHARMACIE LAFANECHERE-BOUQUET",1,"Rue","CHRISTOPHE THIVRIER","03600 COMMENTRY",3600,"Commentry","Pharmacie d'officine","A"]
[{"$f":"VLOOKUP(B350,Régions!A:C,3,FALSE)","v":"Auvergne-Rhône-Alpes"},{"v":3,"d":"03"},"CNOP",30001903,30001903,"oui","PHARMACIE PERRIN",22,"Rue","JEAN JAURES","03600 COMMENTRY",3600,"Commentry","Pharmacie d'officine","A"]
[{"$f":"VLOOKUP(B351,Régions!A:C,3,FALSE)","v":"Auvergne-Rhône-Alpes"},{"v":3,"d":"03"},"CNOP",30001937,30001937,"oui","PHARMACIE MARTINE",19,"Place","DU 14 JUILLET","03600 COMMENTRY",3600,"Commentry","Pharmacie d'officine","A"]
[{"$f":"VLOOKUP(B352,Régions!A:C,3,FALSE)","v":"Auvergne-Rhône-Alpes"},{"v":3,"d":"03"},{"$error":"#N/A"},30001952,{"$error":"#N/A"},{"$error":"#N/A"},"PHARMACIE DE L'AUMANCE",40,"Rue","DE LA REPUBLIQUE","03430 COSNE-D'ALLIER",3430,"Cosne-d'Allier","Pharmacie d'officine","A"]
[{"$f":"VLOOKUP(B353,Régions!A:C,3,FALSE)","v":"Auvergne-Rhône-Alpes"},{"v":3,"d":"03"},"CNOP",30002026,30002026,"oui","EURL GUERRAOUI","NULL","Place","des Guinards","03300 CREUZIER-LE-VIEUX",3300,"Creuzier-le-Vieux","Pharmacie d'officine","A"]
[{"$f":"VLOOKUP(B354,Régions!A:C,3,FALSE)","v":"Auvergne-Rhône-Alpes"},{"v":3,"d":"03"},{"$error":"#N/A"},30002042,{"$error":"#N/A"},{"$error":"#N/A"},"PHARMACIE DEPERRIER",13,"Boulevard","DU GENERAL DE GAULLE","03300 CUSSET",3300,"Cusset","Pharmacie d'officine","A"]
[{"$f":"VLOOKUP(B355,Régions!A:C,3,FALSE)","v":"Auvergne-Rhône-Alpes"},{"v":3,"d":"03"},{"$error":"#N/A"},30002075,{"$error":"#N/A"},{"$error":"#N/A"},"SELARL PHARMACIE DES DARCINS",19,"Avenue","GILBERT ROUX","03300 CUSSET",3300,"Cusset","Pharmacie d'officine","A"]
[{"$f":"VLOOKUP(B356,Régions!A:C,3,FALSE)","v":"Auvergne-Rhône-Alpes"},{"v":3,"d":"03"},{"$error":"#N/A"},30002091,{"$error":"#N/A"},{"$error":"#N/A"},"PHARMACIE DES PEUPLIERS","NULL","Rue","PEUPLIERS","03300 CUSSET",3300,"Cusset","Pharmacie d'officine","A"]
[{"$f":"VLOOKUP(B357,Régions!A:C,3,FALSE)","v":"Auvergne-Rhône-Alpes"},{"v":3,"d":"03"},{"$error":"#N/A"},30002125,{"$error":"#N/A"},{"$error":"#N/A"},"PHARMACIE  DECLOITRE",27,"Cours","LAFAYETTE","03300 CUSSET",3300,"Cusset","Pharmacie d'officine","A"]
[{"$f":"VLOOKUP(B358,Régions!A:C,3,FALSE)","v":"Auvergne-Rhône-Alpes"},{"v":3,"d":"03"},"CNOP",30002141,30002141,"oui","PHARMACIE LAMARQUE",17,"Avenue","DU DRAPEAU","03300 CUSSET",3300,"Cusset","Pharmacie d'officine","A"]
[{"$f":"VLOOKUP(B359,Régions!A:C,3,FALSE)","v":"Auvergne-Rhône-Alpes"},{"v":3,"d":"03"},"CNOP",30002190,30002190,"non","PHARMACIE  BLOIS",40,"Avenue","DU 4 SEPTEMBRE","03630 DESERTINES",3630,"Désertines","Pharmacie d'officine","A"]
[{"$f":"VLOOKUP(B360,Régions!A:C,3,FALSE)","v":"Auvergne-Rhône-Alpes"},{"v":3,"d":"03"},{"$error":"#N/A"},30002224,{"$error":"#N/A"},{"$error":"#N/A"},"PHARMACIE DULAC",53,"Rue","DE LA REPUBLIQUE","03630 DESERTINES",3630,"Désertines","Pharmacie d'officine","A"]
[{"$f":"VLOOKUP(B361,Régions!A:C,3,FALSE)","v":"Auvergne-Rhône-Alpes"},{"v":3,"d":"03"},"PHARMDIRECTFR",30002240,30002240,"oui","PHARMACIE WAGNON","NULL","NULL","GRANDE RUE","03290 DIOU",3290,"Diou","Pharmacie d'officine","A"]
[{"$f":"VLOOKUP(B362,Régions!A:C,3,FALSE)","v":"Auvergne-Rhône-Alpes"},{"v":3,"d":"03"},"CNOP",30002265,30002265,"oui","PHARMACIE BIDAUD",13,"Rue","ANDRE MESSAGER","03410 DOMERAT",3410,"Domérat","Pharmacie d'officine","A"]
[{"$f":"VLOOKUP(B363,Régions!A:C,3,FALSE)","v":"Auvergne-Rhône-Alpes"},{"v":3,"d":"03"},{"$error":"#N/A"},30002281,{"$error":"#N/A"},{"$error":"#N/A"},"PHARMACIE DZBANEK",2,"Rue","JEAN JAURES","03410 DOMERAT",3410,"Domérat","Pharmacie d'officine","A"]
[{"$f":"VLOOKUP(B364,Régions!A:C,3,FALSE)","v":"Auvergne-Rhône-Alpes"},{"v":3,"d":"03"},"PHARMDIRECTFR",30002315,30002315,"oui","PHARMACIE DES COLOMBAGES","NULL","Place","DU COMMERCE","03290 DOMPIERRE-SUR-BESBRE",3290,"Dompierre-sur-Besbre","Pharmacie d'officine","A"]
[{"$f":"VLOOKUP(B365,Régions!A:C,3,FALSE)","v":"Auvergne-Rhône-Alpes"},{"v":3,"d":"03"},"CNOP",30002331,30002331,"oui"," PHARMACIE GUILLERAULT",66,"Place","YVES DERET","03290 DOMPIERRE-SUR-BESBRE",3290,"Dompierre-sur-Besbre","Pharmacie d'officine","A"]
[{"$f":"VLOOKUP(B366,Régions!A:C,3,FALSE)","v":"Auvergne-Rhône-Alpes"},{"v":3,"d":"03"},{"$error":"#N/A"},30002380,{"$error":"#N/A"},{"$error":"#N/A"},"PHARMACIE DE COMBREDET-MARCHANDIAU",1,"Rue","JEAN JAURES","03130 LE DONJON",3130,"Le Donjon","Pharmacie d'officine","A"]
[{"$f":"VLOOKUP(B367,Régions!A:C,3,FALSE)","v":"Auvergne-Rhône-Alpes"},{"v":3,"d":"03"},{"$error":"#N/A"},30002430,{"$error":"#N/A"},{"$error":"#N/A"},"PHARMACIE ROUSSILLON-DURIN","NULL","Rue","GAMBETTA","03170 DOYET",3170,"Doyet","Pharmacie d'officine","A"]
[{"$f":"VLOOKUP(B368,Régions!A:C,3,FALSE)","v":"Auvergne-Rhône-Alpes"},{"v":3,"d":"03"},"PHARMDIRECTFR",30002463,30002463,"oui","PHARMACIE BARRES",40,"Rue","DES FOSSES","03450 EBREUIL",3450,"Ébreuil","Pharmacie d'officine","A"]
[{"$f":"VLOOKUP(B369,Régions!A:C,3,FALSE)","v":"Auvergne-Rhône-Alpes"},{"v":3,"d":"03"},"CNOP",30002497,30002497,"oui","PHARMACIE MARQUET",16,"Rue","DES FOSSES","03450 EBREUIL",3450,"Ébreuil","Pharmacie d'officine","A"]
[{"$f":"VLOOKUP(B370,Régions!A:C,3,FALSE)","v":"Auvergne-Rhône-Alpes"},{"v":3,"d":"03"},{"$error":"#N/A"},30002513,{"$error":"#N/A"},{"$error":"#N/A"},"PHARMACIE D'ESTIVAREILLES",6,"Rue","DU PARC","03190 ESTIVAREILLES",3190,"Estivareilles","Pharmacie d'officine","A"]
[{"$f":"VLOOKUP(B371,Régions!A:C,3,FALSE)","v":"Auvergne-Rhône-Alpes"},{"v":3,"d":"03"},{"$error":"#N/A"},30002547,{"$error":"#N/A"},{"$error":"#N/A"},"PHARMACIE LE GUEN",4,"Place","DE LA POSTE","03250 FERRIERES SUR SICHON",3250,"Ferrières-sur-Sichon","Pharmacie d'officine","A"]
[{"$f":"VLOOKUP(B372,Régions!A:C,3,FALSE)","v":"Auvergne-Rhône-Alpes"},{"v":3,"d":"03"},"CNOP",30002562,30002562,"oui","PHARMACIE DENJEAN",28,"NULL","GRANDE RUE","03800 GANNAT",3800,"Gannat","Pharmacie d'officine","A"]
[{"$f":"VLOOKUP(B373,Régions!A:C,3,FALSE)","v":"Auvergne-Rhône-Alpes"},{"v":3,"d":"03"},"PHARMDIRECTFR",30002612,30002612,"oui","PHARMACIE POUILLAUDE",87,"Avenue","SAINT JAMES","03800 GANNAT",3800,"Gannat","Pharmacie d'officine","A"]
[{"$f":"VLOOKUP(B374,Régions!A:C,3,FALSE)","v":"Auvergne-Rhône-Alpes"},{"v":3,"d":"03"},"PHARMDIRECTFR",30002646,30002646,"oui","PHARMACIE DU CENTRE",59,"NULL","GRANDE RUE & 1 PLACE HENNEQUIN","03800 GANNAT",3800,"Gannat","Pharmacie d'officine","A"]
[{"$f":"VLOOKUP(B375,Régions!A:C,3,FALSE)","v":"Auvergne-Rhône-Alpes"},{"v":3,"d":"03"},"CNOP",30002695,30002695,"oui","PHARMACIE PEYROUX",12,"Rue","du Pressoir","03380 HURIEL",3380,"Huriel","Pharmacie d'officine","A"]
[{"$f":"VLOOKUP(B376,Régions!A:C,3,FALSE)","v":"Auvergne-Rhône-Alpes"},{"v":3,"d":"03"},"PHARMDIRECTFR",30002745,30002745,"oui","PHARMACIE ASTRUC",2,"Rue","DU PONT","03220 JALIGNY-SUR-BESBRE",3220,"Jaligny-sur-Besbre","Pharmacie d'officine","A"]
[{"$f":"VLOOKUP(B377,Régions!A:C,3,FALSE)","v":"Auvergne-Rhône-Alpes"},{"v":3,"d":"03"},"CNOP",30002794,30002794,"oui","PHARMACIE DECLOITRE-AMIARD",1,"Rue","WINSTON CHURCHILL","03120 LAPALISSE",3120,"Lapalisse","Pharmacie d'officine","A"]
[{"$f":"VLOOKUP(B378,Régions!A:C,3,FALSE)","v":"Auvergne-Rhône-Alpes"},{"v":3,"d":"03"},"CNOP",30002810,30002810,"oui","PHARMACIE DELPUECH",29,"Rue","DU PRESIDENT ROOSEVELT","03120 LAPALISSE",3120,"Lapalisse","Pharmacie d'officine","A"]
[{"$f":"VLOOKUP(B379,Régions!A:C,3,FALSE)","v":"Auvergne-Rhône-Alpes"},{"v":3,"d":"03"},"CNOP",30002893,30002893,"oui","SELEURL RENAUD",37,"Boulevard","GAMBETTA","03320 LURCY-LEVIS",3320,"Lurcy-Lévis","Pharmacie d'officine","A"]
[{"$f":"VLOOKUP(B380,Régions!A:C,3,FALSE)","v":"Auvergne-Rhône-Alpes"},{"v":3,"d":"03"},"CNOP",30002927,30002927,"oui","PHARMACIE MICHOT",1,"Rue","DE LA POSTE","03230 LUSIGNY",3230,"Lusigny","Pharmacie d'officine","A"]
[{"$f":"VLOOKUP(B381,Régions!A:C,3,FALSE)","v":"Auvergne-Rhône-Alpes"},{"v":3,"d":"03"},{"$error":"#N/A"},30002943,{"$error":"#N/A"},{"$error":"#N/A"},"PHARMACIE HOL","NULL","NULL","NULL","03600 MALICORNE",3600,"Malicorne","Pharmacie d'officine","A"]
[{"$f":"VLOOKUP(B382,Régions!A:C,3,FALSE)","v":"Auvergne-Rhône-Alpes"},{"v":3,"d":"03"},"PHARMDIRECTFR",30002976,30002976,"oui","PHARMACIE BARADA-MORTUREUX","NULL","NULL","GRANDE RUE","03420 MARCILLAT-EN-COMBRAILLE",3420,"Marcillat-en-Combraille","Pharmacie d'officine","A"]
[{"$f":"VLOOKUP(B383,Régions!A:C,3,FALSE)","v":"Auvergne-Rhône-Alpes"},{"v":3,"d":"03"},"CNOP",30002992,30002992,"oui","PHARMACIE MEYNIAL","NULL","Rue","FRANCISQUE DRIFFORT","03250 LE-MAYET-DE-MONTAGNE",3250,"Le Mayet-de-Montagne","Pharmacie d'officine","A"]
[{"$f":"VLOOKUP(B384,Régions!A:C,3,FALSE)","v":"Auvergne-Rhône-Alpes"},{"v":3,"d":"03"},{"$error":"#N/A"},30003024,{"$error":"#N/A"},{"$error":"#N/A"},"PHARMACIE DUMAS",18,"Rue","DE FERRIERES","03250 MAYET-DE-MONTAGNE (LE)",3250,"Le Mayet-de-Montagne","Pharmacie d'officine","A"]
[{"$f":"VLOOKUP(B385,Régions!A:C,3,FALSE)","v":"Auvergne-Rhône-Alpes"},{"v":3,"d":"03"},{"$error":"#N/A"},30003040,{"$error":"#N/A"},{"$error":"#N/A"},"PHARMACIE MERLIN",19,"Route","de Paris","03360 MEAULNE-VITRAY",3360,"Meaulne-Vitray","Pharmacie d'officine","A"]
[{"$f":"VLOOKUP(B386,Régions!A:C,3,FALSE)","v":"Auvergne-Rhône-Alpes"},{"v":3,"d":"03"},"CNOP",30003065,30003065,"oui","PHARMACIE BARTASSOT",54,"NULL","GRANDE RUE","03510 MOLINET",3510,"Molinet","Pharmacie d'officine","A"]
[{"$f":"VLOOKUP(B387,Régions!A:C,3,FALSE)","v":"Auvergne-Rhône-Alpes"},{"v":3,"d":"03"},{"$error":"#N/A"},30003081,{"$error":"#N/A"},{"$error":"#N/A"},"PHARMACIE DU MONTET",22,"Route","NATIONALE","03240 LE-MONTET",3240,"Le Montet","Pharmacie d'officine","A"]
[{"$f":"VLOOKUP(B388,Régions!A:C,3,FALSE)","v":"Auvergne-Rhône-Alpes"},{"v":3,"d":"03"},{"$error":"#N/A"},30003115,{"$error":"#N/A"},{"$error":"#N/A"},"PHARMACIE DE FONTBOUILLANT","NULL","Centre commercial","FONTBOUILLANT","03100 MONTLUCON",3100,"Montluçon","Pharmacie d'officine","A"]
[{"$f":"VLOOKUP(B389,Régions!A:C,3,FALSE)","v":"Auvergne-Rhône-Alpes"},{"v":3,"d":"03"},"CNOP",30003131,30003131,"oui","SELARL PHARMACIE BOURCY",65,"Avenue","ALBERT THOMAS","03100 MONTLUCON",3100,"Montluçon","Pharmacie d'officine","A"]
[{"$f":"VLOOKUP(B390,Régions!A:C,3,FALSE)","v":"Auvergne-Rhône-Alpes"},{"v":3,"d":"03"},{"$error":"#N/A"},30003164,{"$error":"#N/A"},{"$error":"#N/A"},"PHARMACIE BOUSSANGE-MAURE",147,"Avenue","ALBERT THOMAS","03100 MONTLUCON",3100,"Montluçon","Pharmacie d'officine","A"]
[{"$f":"VLOOKUP(B391,Régions!A:C,3,FALSE)","v":"Auvergne-Rhône-Alpes"},{"v":3,"d":"03"},{"$error":"#N/A"},30003180,{"$error":"#N/A"},{"$error":"#N/A"},"PHARMACIE DES ILES","NULL","Rue","Pierre Semard","03100 MONTLUCON",3100,"Montluçon","Pharmacie d'officine","A"]
[{"$f":"VLOOKUP(B392,Régions!A:C,3,FALSE)","v":"Auvergne-Rhône-Alpes"},{"v":3,"d":"03"},{"$error":"#N/A"},30003214,{"$error":"#N/A"},{"$error":"#N/A"},"PHARMACIE FERRY",14,"Rue","BARATHON","03100 MONTLUCON",3100,"Montluçon","Pharmacie d'officine","A"]
[{"$f":"VLOOKUP(B393,Régions!A:C,3,FALSE)","v":"Auvergne-Rhône-Alpes"},{"v":3,"d":"03"},"CNOP",30003230,30003230,"oui","PHARMACIE KIHOUBA",14,"Boulevard","Carnot",3100,3100,"Montluçon","Pharmacie d'officine","A"]
[{"$f":"VLOOKUP(B394,Régions!A:C,3,FALSE)","v":"Auvergne-Rhône-Alpes"},{"v":3,"d":"03"},{"$error":"#N/A"},30003263,{"$error":"#N/A"},{"$error":"#N/A"},"PHARMACIE REYNAUD",2,"Avenue","MARX DORMOY - 24 BLD DE COURTA","03100 MONTLUCON",3100,"Montluçon","Pharmacie d'officine","A"]
[{"$f":"VLOOKUP(B395,Régions!A:C,3,FALSE)","v":"Auvergne-Rhône-Alpes"},{"v":3,"d":"03"},"CNOP",30003297,30003297,"oui","PHARMACIE   CONCHE",27,"Boulevard","DE COURTAIS","03100 MONTLUCON",3100,"Montluçon","Pharmacie d'officine","A"]
[{"$f":"VLOOKUP(B396,Régions!A:C,3,FALSE)","v":"Auvergne-Rhône-Alpes"},{"v":3,"d":"03"},"CNOP",30003347,30003347,"oui","SELARL PHARMACIE DE COURTAIS",82,"Boulevard","DE COURTAIS","03100 MONTLUCON",3100,"Montluçon","Pharmacie d'officine","A"]
[{"$f":"VLOOKUP(B397,Régions!A:C,3,FALSE)","v":"Auvergne-Rhône-Alpes"},{"v":3,"d":"03"},"PHARMDIRECTFR",30003396,30003396,"oui","PHARMACIE PORTA",1,"Rue","ANATOLE FRANCE","03410 SAINT-VICTOR",3410,"Saint-Victor","Pharmacie d'officine","A"]
[{"$f":"VLOOKUP(B398,Régions!A:C,3,FALSE)","v":"Auvergne-Rhône-Alpes"},{"v":3,"d":"03"},{"$error":"#N/A"},30003412,{"$error":"#N/A"},{"$error":"#N/A"},"PHARMACIE POGET",136,"Avenue","DES GUINEBERTS","03100 MONTLUCON",3100,"Montluçon","Pharmacie d'officine","A"]
[{"$f":"VLOOKUP(B399,Régions!A:C,3,FALSE)","v":"Auvergne-Rhône-Alpes"},{"v":3,"d":"03"},"PHARMDIRECTFR",30003446,30003446,"oui","PHARMACIE BIDET","NULL","NULL","NULL","03100 MONTLUCON",3100,"Montluçon","Pharmacie d'officine","A"]
[{"$f":"VLOOKUP(B400,Régions!A:C,3,FALSE)","v":"Auvergne-Rhône-Alpes"},{"v":3,"d":"03"},"CNOP",30003495,30003495,"oui","PHARMACIE BLOIS",93,"Avenue","DU 8 MAI 1945","03100 MONTLUCON",3100,"Montluçon","Pharmacie d'officine","A"]
[{"$f":"VLOOKUP(B401,Régions!A:C,3,FALSE)","v":"Auvergne-Rhône-Alpes"},{"v":3,"d":"03"},"PHARMDIRECTFR",30003511,30003511,"oui","PHARMACIE FERRANDON",163,"Avenue","KENNEDY","03100 MONTLUCON",3100,"Montluçon","Pharmacie d'officine","A"]
[{"$f":"VLOOKUP(B402,Régions!A:C,3,FALSE)","v":"Auvergne-Rhône-Alpes"},{"v":3,"d":"03"},{"$error":"#N/A"},30003545,{"$error":"#N/A"},{"$error":"#N/A"},"PHARMACIE DES FOURS A CHAUX",10,"Avenue","JULES GUESDE","03100 MONTLUCON",3100,"Montluçon","Pharmacie d'officine","A"]
[{"$f":"VLOOKUP(B403,Régions!A:C,3,FALSE)","v":"Auvergne-Rhône-Alpes"},{"v":3,"d":"03"},"PHARMDIRECTFR",30003560,30003560,"oui","PHARMACIE SAINT-JACQUES","NULL","Quai","LEDRU ROLLIN","03100 MONTLUCON",3100,"Montluçon","Pharmacie d'officine","A"]
[{"$f":"VLOOKUP(B404,Régions!A:C,3,FALSE)","v":"Auvergne-Rhône-Alpes"},{"v":3,"d":"03"},"PHARMDIRECTFR",30003610,30003610,"oui","PHARMACIE MASFRAND",105,"Rue","DE RIMARD","03100 MONTLUCON",3100,"Montluçon","Pharmacie d'officine","A"]
[{"$f":"VLOOKUP(B405,Régions!A:C,3,FALSE)","v":"Auvergne-Rhône-Alpes"},{"v":3,"d":"03"},{"$error":"#N/A"},30003644,{"$error":"#N/A"},{"$error":"#N/A"},"PHARMACIE LAUGIER",229,"Avenue","DU PRESIDENT AURIOL","03100 MONTLUCON",3100,"Montluçon","Pharmacie d'officine","A"]
[{"$f":"VLOOKUP(B406,Régions!A:C,3,FALSE)","v":"Auvergne-Rhône-Alpes"},{"v":3,"d":"03"},{"$error":"#N/A"},30003727,{"$error":"#N/A"},{"$error":"#N/A"},"PHARMACIE DE LA REPUBLIQUE",90,"Avenue","de la Republique","03100 MONTLUCON",3100,"Montluçon","Pharmacie d'officine","A"]
[{"$f":"VLOOKUP(B407,Régions!A:C,3,FALSE)","v":"Auvergne-Rhône-Alpes"},{"v":3,"d":"03"},{"$error":"#N/A"},30003743,{"$error":"#N/A"},{"$error":"#N/A"},"PHARMACIE ROUSSEAU-PENNEROUX",150,"Avenue","DE LA REPUBLIQUE","03100 MONTLUCON",3100,"Montluçon","Pharmacie d'officine","A"]
[{"$f":"VLOOKUP(B408,Régions!A:C,3,FALSE)","v":"Auvergne-Rhône-Alpes"},{"v":3,"d":"03"},"PHARMDIRECTFR",30003792,30003792,"oui","PHARMACIE DE LA PLACE FERRANDON",7,"Place","Robert Ferrandon","03390 MONTMARAULT",3390,"Montmarault","Pharmacie d'officine","A"]
[{"$f":"VLOOKUP(B409,Régions!A:C,3,FALSE)","v":"Auvergne-Rhône-Alpes"},{"v":3,"d":"03"},"PHARMDIRECTFR",30003842,30003842,"oui","PHARMACIE  DE LA CHAPELLE-DESPHELIPON",109,"Route","DE LYON","03000 MOULINS",3000,"Moulins","Pharmacie d'officine","A"]
[{"$f":"VLOOKUP(B410,Régions!A:C,3,FALSE)","v":"Auvergne-Rhône-Alpes"},{"v":3,"d":"03"},"PHARMDIRECTFR",30003891,30003891,"oui"," PHARMACIE DU PROGRES-PHILIPPE SALLES",61,"Place","D'ALLIER","03000 MOULINS",3000,"Moulins","Pharmacie d'officine","A"]
[{"$f":"VLOOKUP(B411,Régions!A:C,3,FALSE)","v":"Auvergne-Rhône-Alpes"},{"v":3,"d":"03"},{"$error":"#N/A"},30003990,{"$error":"#N/A"},{"$error":"#N/A"},"PHARMACIE CALMELS",50,"Rue","DE BOURGOGNE","03000 MOULINS",3000,"Moulins","Pharmacie d'officine","A"]
[{"$f":"VLOOKUP(B412,Régions!A:C,3,FALSE)","v":"Auvergne-Rhône-Alpes"},{"v":3,"d":"03"},"CNOP",30004014,30004014,"oui","PHARMACIE FLEURY",16,"Route","DE MONTILLY","03000 MOULINS",3000,"Moulins","Pharmacie d'officine","A"]
[{"$f":"VLOOKUP(B413,Régions!A:C,3,FALSE)","v":"Auvergne-Rhône-Alpes"},{"v":3,"d":"03"},"CNOP",30004030,30004030,"oui","PHARMACIE CHEMORIN",2,"Rue","DIDEROT","03000 MOULINS",3000,"Moulins","Pharmacie d'officine","A"]
[{"$f":"VLOOKUP(B414,Régions!A:C,3,FALSE)","v":"Auvergne-Rhône-Alpes"},{"v":3,"d":"03"},"CNOP",30004063,30004063,"oui"," GRANDE PHARMACIE",25,"Place","DE LA LIBERTE","03000 MOULINS",3000,"Moulins","Pharmacie d'officine","A"]
[{"$f":"VLOOKUP(B415,Régions!A:C,3,FALSE)","v":"Auvergne-Rhône-Alpes"},{"v":3,"d":"03"},"CNOP",30004097,30004097,"oui","PHARMACIE DE BERCY",13,"Cours","VINCENT D'INDY","03000 MOULINS",3000,"Moulins","Pharmacie d'officine","A"]
[{"$f":"VLOOKUP(B416,Régions!A:C,3,FALSE)","v":"Auvergne-Rhône-Alpes"},{"v":3,"d":"03"},{"$error":"#N/A"},30004113,{"$error":"#N/A"},{"$error":"#N/A"},"PHARMACIE MAILLOT",1,"Rue","JEAN BARON","03000 MOULINS",3000,"Moulins","Pharmacie d'officine","A"]
[{"$f":"VLOOKUP(B417,Régions!A:C,3,FALSE)","v":"Auvergne-Rhône-Alpes"},{"v":3,"d":"03"},"PHARMDIRECTFR",30004147,30004147,"oui","SELARL PHARMACIE DE LA MADELEINE",20,"Avenue","DE LA LIBERATION","03000 MOULINS",3000,"Moulins","Pharmacie d'officine","A"]
[{"$f":"VLOOKUP(B418,Régions!A:C,3,FALSE)","v":"Auvergne-Rhône-Alpes"},{"v":3,"d":"03"},"PHARMDIRECTFR",30004162,30004162,"oui","PHARMACIE  MONIOT - SMETS",169,"Route","de Lyon","03000 MOULINS",3000,"Moulins","Pharmacie d'officine","A"]
[{"$f":"VLOOKUP(B419,Régions!A:C,3,FALSE)","v":"Auvergne-Rhône-Alpes"},{"v":3,"d":"03"},"CNOP",30004261,30004261,"oui","SELARL PHARMACIE THEODORE DE BANVILLE",24,"Avenue","THEODORE DE BANVILLE","03000 MOULINS",3000,"Moulins","Pharmacie d'officine","A"]
[{"$f":"VLOOKUP(B420,Régions!A:C,3,FALSE)","v":"Auvergne-Rhône-Alpes"},{"v":3,"d":"03"},{"$error":"#N/A"},30004311,{"$error":"#N/A"},{"$error":"#N/A"},"PHARMACIE DEVERS - ROUZILLE",32,"Rue","BOISROT DESSERVIERS","03310 NERIS-LES-BAINS",3310,"Néris-les-Bains","Pharmacie d'officine","A"]
[{"$f":"VLOOKUP(B421,Régions!A:C,3,FALSE)","v":"Auvergne-Rhône-Alpes"},{"v":3,"d":"03"},"CNOP",30004345,30004345,"oui","PHARMACIE BAUDIN","NULL","NULL","RTE DE MOULINS","03340 NEUILLY LE REAL",3340,"Neuilly-le-Réal","Pharmacie d'officine","A"]
[{"$f":"VLOOKUP(B422,Régions!A:C,3,FALSE)","v":"Auvergne-Rhône-Alpes"},{"v":3,"d":"03"},"CNOP",30004360,30004360,"oui","PHARMACIE LE BRAY-THEVENET","NULL","Rue","DE LA GARE","03210 NOYANT-D'ALLIER",3210,"Noyant-d'Allier","Pharmacie d'officine","A"]
[{"$f":"VLOOKUP(B423,Régions!A:C,3,FALSE)","v":"Auvergne-Rhône-Alpes"},{"v":3,"d":"03"},{"$error":"#N/A"},30004394,{"$error":"#N/A"},{"$error":"#N/A"},"PHARMACIE LE CAER",1,"Rue","DES PERCHES","03410 PREMILHAT",3410,"Prémilhat","Pharmacie d'officine","A"]
[{"$f":"VLOOKUP(B424,Régions!A:C,3,FALSE)","v":"Auvergne-Rhône-Alpes"},{"v":3,"d":"03"},{"$error":"#N/A"},30004444,{"$error":"#N/A"},{"$error":"#N/A"},"PHARMACIE LELOUP","NULL","Place","DE L'EGLISE","03370 ST DESIRE",3370,"Saint-Désiré","Pharmacie d'officine","A"]
[{"$f":"VLOOKUP(B425,Régions!A:C,3,FALSE)","v":"Auvergne-Rhône-Alpes"},{"v":3,"d":"03"},{"$error":"#N/A"},30004477,{"$error":"#N/A"},{"$error":"#N/A"},"PHARMACIE GRAND",5,"Rue","DE LA COURONNE","03150 SAINT-GERAND-LE-PUY",3150,"Saint-Gérand-le-Puy","Pharmacie d'officine","A"]
[{"$f":"VLOOKUP(B426,Régions!A:C,3,FALSE)","v":"Auvergne-Rhône-Alpes"},{"v":3,"d":"03"},{"$error":"#N/A"},30004493,{"$error":"#N/A"},{"$error":"#N/A"},"PHARMACIE BARREYRE",2,"Rue","PIERRE SEMARD","03260 SAINT-GERMAIN-DES-FOSSES",3260,"Saint-Germain-des-Fossés","Pharmacie d'officine","A"]
[{"$f":"VLOOKUP(B427,Régions!A:C,3,FALSE)","v":"Auvergne-Rhône-Alpes"},{"v":3,"d":"03"},"PHARMDIRECTFR",30004527,30004527,"oui","SELARL PHARMACIE NOUVELLE",24,"Rue","PIERRE SEMARD","03260 SAINT-GERMAIN-DES-FOSSES",3260,"Saint-Germain-des-Fossés","Pharmacie d'officine","A"]
[{"$f":"VLOOKUP(B428,Régions!A:C,3,FALSE)","v":"Auvergne-Rhône-Alpes"},{"v":3,"d":"03"},"CNOP",30004592,30004592,"oui","PHARMACIE  DES COURS",49,"Boulevard","LEDRU ROLLIN","03500 ST POURCAIN SUR SIOULE",3500,"Saint-Pourçain-sur-Sioule","Pharmacie d'officine","A"]
[{"$f":"VLOOKUP(B429,Régions!A:C,3,FALSE)","v":"Auvergne-Rhône-Alpes"},{"v":3,"d":"03"},"PHARMDIRECTFR",30004642,30004642,"oui","PHARMACIE AMBLARD",53,"Route","DE MONTMARAULT - RD 46","03500 ST POURCAIN SUR SIOULE",3500,"Saint-Pourçain-sur-Sioule","Pharmacie d'officine","A"]
[{"$f":"VLOOKUP(B430,Régions!A:C,3,FALSE)","v":"Auvergne-Rhône-Alpes"},{"v":3,"d":"03"},"PHARMDIRECTFR",30004691,30004691,"oui","PHARMACIE BOILE-BOYADJIAN",6,"Rue","DE VICHY","03110 SAINT-REMY-EN-ROLLAT",3110,"Saint-Rémy-en-Rollat","Pharmacie d'officine","A"]
[{"$f":"VLOOKUP(B431,Régions!A:C,3,FALSE)","v":"Auvergne-Rhône-Alpes"},{"v":3,"d":"03"},"CNOP",30004741,30004741,"oui","PHARMACIE DE SAINT YORRE",1,"Rue","DE LA REPUBLIQUE","03270 SAINT-YORRE",3270,"Saint-Yorre","Pharmacie d'officine","A"]
[{"$f":"VLOOKUP(B432,Régions!A:C,3,FALSE)","v":"Auvergne-Rhône-Alpes"},{"v":3,"d":"03"},{"$error":"#N/A"},30004774,{"$error":"#N/A"},{"$error":"#N/A"},"PHARMACIE LEPEE","NULL","Cours","GENEVIEVE HUILIER","03210 SOUVIGNY",3210,"Souvigny","Pharmacie d'officine","A"]
[{"$f":"VLOOKUP(B433,Régions!A:C,3,FALSE)","v":"Auvergne-Rhône-Alpes"},{"v":3,"d":"03"},{"$error":"#N/A"},30004840,{"$error":"#N/A"},{"$error":"#N/A"},"PHARMACIE CHANTELOUBE",26,"Route","NATIONALE","03240 TRONGET",3240,"Tronget","Pharmacie d'officine","A"]
[{"$f":"VLOOKUP(B434,Régions!A:C,3,FALSE)","v":"Auvergne-Rhône-Alpes"},{"v":3,"d":"03"},"CNOP",30004865,30004865,"oui","PHARMACIE CHEVALIER-BLONDIN",18,"Rue","PAUL CONSTANS","03190 VALLON-EN-SULLY",3190,"Vallon-en-Sully","Pharmacie d'officine","A"]
[{"$f":"VLOOKUP(B435,Régions!A:C,3,FALSE)","v":"Auvergne-Rhône-Alpes"},{"v":3,"d":"03"},{"$error":"#N/A"},30004915,{"$error":"#N/A"},{"$error":"#N/A"},"PHARMACIE ROCHE","NULL","Place","de l'Eglise","03150 VARENNES-SUR-ALLIER",3150,"Varennes-sur-Allier","Pharmacie d'officine","A"]
[{"$f":"VLOOKUP(B436,Régions!A:C,3,FALSE)","v":"Auvergne-Rhône-Alpes"},{"v":3,"d":"03"},{"$error":"#N/A"},30004931,{"$error":"#N/A"},{"$error":"#N/A"},"PHARMACIE BEAUVY",23,"Rue","DE L'HOTEL DE VILLE","03150 VARENNES-SUR-ALLIER",3150,"Varennes-sur-Allier","Pharmacie d'officine","A"]
[{"$f":"VLOOKUP(B437,Régions!A:C,3,FALSE)","v":"Auvergne-Rhône-Alpes"},{"v":3,"d":"03"},"CNOP",30004964,30004964,"oui","PHARMACIE GMYR",27,"Rue","DES LANDES","03110 VENDAT",3110,"Vendat","Pharmacie d'officine","A"]
[{"$f":"VLOOKUP(B438,Régions!A:C,3,FALSE)","v":"Auvergne-Rhône-Alpes"},{"v":3,"d":"03"},"CNOP",30004980,30004980,"oui","PHARMACIE RAVAUD",1,"Rue","MONNET","03320 LE VEURDRE",3320,"Le Veurdre","Pharmacie d'officine","A"]
[{"$f":"VLOOKUP(B439,Régions!A:C,3,FALSE)","v":"Auvergne-Rhône-Alpes"},{"v":3,"d":"03"},{"$error":"#N/A"},30005011,{"$error":"#N/A"},{"$error":"#N/A"}," PHARMACIE DES AILES",48,"Allee","DES AILES","03200 VICHY",3200,"Vichy","Pharmacie d'officine","A"]
[{"$f":"VLOOKUP(B440,Régions!A:C,3,FALSE)","v":"Auvergne-Rhône-Alpes"},{"v":3,"d":"03"},"CNOP",30005110,30005110,"oui","PHARMACIE PINEL",56,"Avenue","DES CELESTINS","03200 VICHY",3200,"Vichy","Pharmacie d'officine","A"]
[{"$f":"VLOOKUP(B441,Régions!A:C,3,FALSE)","v":"Auvergne-Rhône-Alpes"},{"v":3,"d":"03"},"CNOP",30005177,30005177,"oui"," SELAS PHARMACIE LAFAYETTE CENTRALE",28,"Rue","Georges Clemenceau","03200 VICHY",3200,"Vichy","Pharmacie d'officine","A"]
[{"$f":"VLOOKUP(B442,Régions!A:C,3,FALSE)","v":"Auvergne-Rhône-Alpes"},{"v":3,"d":"03"},{"$error":"#N/A"},30005243,{"$error":"#N/A"},{"$error":"#N/A"},"PHARMACIE LAUVERGNAT-FOURNIER",32,"Avenue","DE GRAMONT","03200 VICHY",3200,"Vichy","Pharmacie d'officine","A"]
[{"$f":"VLOOKUP(B443,Régions!A:C,3,FALSE)","v":"Auvergne-Rhône-Alpes"},{"v":3,"d":"03"},"CNOP",30005276,30005276,"oui","PHARMACIE DE LA POSTE",21,"Rue","DE L'HOTEL DES POSTES","03200 VICHY",3200,"Vichy","Pharmacie d'officine","A"]
[{"$f":"VLOOKUP(B444,Régions!A:C,3,FALSE)","v":"Auvergne-Rhône-Alpes"},{"v":3,"d":"03"},"CNOP",30005292,30005292,"oui"," PHARMACIE DES HALLES",59,"Rue","JEAN JAURES","03200 VICHY",3200,"Vichy","Pharmacie d'officine","A"]
[{"$f":"VLOOKUP(B445,Régions!A:C,3,FALSE)","v":"Auvergne-Rhône-Alpes"},{"v":3,"d":"03"},"CNOP",30005342,30005342,"oui","PHARMACIE BARDOT-MASSON",129,"Rue","JEAN JAURES","03200 VICHY",3200,"Vichy","Pharmacie d'officine","A"]
[{"$f":"VLOOKUP(B446,Régions!A:C,3,FALSE)","v":"Auvergne-Rhône-Alpes"},{"v":3,"d":"03"},{"$error":"#N/A"},30005391,{"$error":"#N/A"},{"$error":"#N/A"},"PHARMACIE DESMOLLES",76,"Rue","DU MARECHAL LYAUTEY","03200 VICHY",3200,"Vichy","Pharmacie d'officine","A"]
[{"$f":"VLOOKUP(B447,Régions!A:C,3,FALSE)","v":"Auvergne-Rhône-Alpes"},{"v":3,"d":"03"},{"$error":"#N/A"},30005425,{"$error":"#N/A"},{"$error":"#N/A"},"PHARMACIE BOURRACHOT",10,"Rue","DE PARIS","03200 VICHY",3200,"Vichy","Pharmacie d'officine","A"]
[{"$f":"VLOOKUP(B448,Régions!A:C,3,FALSE)","v":"Auvergne-Rhône-Alpes"},{"v":3,"d":"03"},{"$error":"#N/A"},30005474,{"$error":"#N/A"},{"$error":"#N/A"},"PHARMACIE MICHALET",4,"Place","VICTOR LEGER","03200 VICHY",3200,"Vichy","Pharmacie d'officine","A"]
[{"$f":"VLOOKUP(B449,Régions!A:C,3,FALSE)","v":"Auvergne-Rhône-Alpes"},{"v":3,"d":"03"},"CNOP",30005490,30005490,"oui"," PHARMACIE DE L'OPERA",14,"Avenue","DU PRESIDENT WILSON","03200 VICHY",3200,"Vichy","Pharmacie d'officine","A"]
[{"$f":"VLOOKUP(B450,Régions!A:C,3,FALSE)","v":"Auvergne-Rhône-Alpes"},{"v":3,"d":"03"},{"$error":"#N/A"},30005540,{"$error":"#N/A"},{"$error":"#N/A"},"PHARMACIE BARSE",26,"Rue","DU PRESIDENT WILSON","03200 VICHY",3200,"Vichy","Pharmacie d'officine","A"]
[{"$f":"VLOOKUP(B451,Régions!A:C,3,FALSE)","v":"Auvergne-Rhône-Alpes"},{"v":3,"d":"03"},{"$error":"#N/A"},30005565,{"$error":"#N/A"},{"$error":"#N/A"},"PHARMACIE  CREMIEUX",6,"Place","MARCEL GUILLAUMIN","03200 LE-VERNET",3200,"Le Vernet","Pharmacie d'officine","A"]
[{"$f":"VLOOKUP(B452,Régions!A:C,3,FALSE)","v":"Auvergne-Rhône-Alpes"},{"v":3,"d":"03"},{"$error":"#N/A"},30005581,{"$error":"#N/A"},{"$error":"#N/A"},"PHARMACIE  PLAIDY",8,"Rue","DE THIERS","03200 VICHY",3200,"Vichy","Pharmacie d'officine","A"]
[{"$f":"VLOOKUP(B453,Régions!A:C,3,FALSE)","v":"Auvergne-Rhône-Alpes"},{"v":3,"d":"03"},{"$error":"#N/A"},30005615,{"$error":"#N/A"},{"$error":"#N/A"},"PHARMACIE DU BOULET DE LA BOISSIERE",27,"Avenue","FELIX MIOCHE","03430 VILLEFRANCHE-D'ALLIER",3430,"Villefranche-d'Allier","Pharmacie d'officine","A"]
[{"$f":"VLOOKUP(B454,Régions!A:C,3,FALSE)","v":"Auvergne-Rhône-Alpes"},{"v":3,"d":"03"},"CNOP",30005631,30005631,"oui","PHARMACIE TARDIF-MARECHAL",3,"Rue","de la Gare","03460 VILLENEUVE-SUR-ALLIER",3460,"Villeneuve-sur-Allier","Pharmacie d'officine","A"]
[{"$f":"VLOOKUP(B455,Régions!A:C,3,FALSE)","v":"Auvergne-Rhône-Alpes"},{"v":3,"d":"03"},{"$error":"#N/A"},30005680,{"$error":"#N/A"},{"$error":"#N/A"},"PHARMACIE BOUCHANT",1,"Route","DE BOURGOGNE","03400 YZEURE",3400,"Yzeure","Pharmacie d'officine","A"]
[{"$f":"VLOOKUP(B456,Régions!A:C,3,FALSE)","v":"Auvergne-Rhône-Alpes"},{"v":3,"d":"03"},"CNOP",30005714,30005714,"oui","PHARMACIE MARTINS",8,"Route","DE DECIZE","03400 YZEURE",3400,"Yzeure","Pharmacie d'officine","A"]
[{"$f":"VLOOKUP(B457,Régions!A:C,3,FALSE)","v":"Auvergne-Rhône-Alpes"},{"v":3,"d":"03"},{"$error":"#N/A"},30005730,{"$error":"#N/A"},{"$error":"#N/A"},"PHARMACIE CHARVET",65,"Route","de Montbeugny","03400 YZEURE",3400,"Yzeure","Pharmacie d'officine","A"]
[{"$f":"VLOOKUP(B458,Régions!A:C,3,FALSE)","v":"Auvergne-Rhône-Alpes"},{"v":3,"d":"03"},{"$error":"#N/A"},30005763,{"$error":"#N/A"},{"$error":"#N/A"},"PHARMACIE BICHET",21,"Place","JULES FERRY","03400 YZEURE",3400,"Yzeure","Pharmacie d'officine","A"]
[{"$f":"VLOOKUP(B459,Régions!A:C,3,FALSE)","v":"Auvergne-Rhône-Alpes"},{"v":3,"d":"03"},"CNOP",30005797,30005797,"oui"," PHARMACIE COUTURIER",1214,"Rue","DE LA REPUBLIQUE","03400 YZEURE",3400,"Yzeure","Pharmacie d'officine","A"]
[{"$f":"VLOOKUP(B460,Régions!A:C,3,FALSE)","v":"Auvergne-Rhône-Alpes"},{"v":3,"d":"03"},{"$error":"#N/A"},30005862,{"$error":"#N/A"},{"$error":"#N/A"},"PHARMACIE CHANTELOT - MERLE","NULL","NULL","NULL","03410 DOMERAT",3410,"Domérat","Pharmacie d'officine","A"]
[{"$f":"VLOOKUP(B461,Régions!A:C,3,FALSE)","v":"Provence-Alpes-Côte d'Azur"},{"v":4,"d":"04"},"PHARMDIRECTFR",40001208,40001208,"oui","SELAS PHARMACIE DU GRAND VALLON",39,"Rue","DE LA REPUBLIQUE","04250 LA MOTTE DU CAIRE",4250,"La Motte-du-Caire","Pharmacie d'officine","A"]
[{"$f":"VLOOKUP(B462,Régions!A:C,3,FALSE)","v":"Provence-Alpes-Côte d'Azur"},{"v":4,"d":"04"},{"$error":"#N/A"},40001349,{"$error":"#N/A"},{"$error":"#N/A"},"SELAS PHARMACIE SOLARI","NULL","NULL","LE VILLAGE","04270 MEZEL",4270,"Mézel","Pharmacie d'officine","A"]
[{"$f":"VLOOKUP(B463,Régions!A:C,3,FALSE)","v":"Provence-Alpes-Côte d'Azur"},{"v":4,"d":"04"},"PHARMDIRECTFR",40001588,40001588,"oui","PHARMACIE DU LAC D'ALLOS","NULL","Lieu dit","PRE DE FOIRE","04260 ALLOS",4260,"Allos","Pharmacie d'officine","A"]
[{"$f":"VLOOKUP(B464,Régions!A:C,3,FALSE)","v":"Provence-Alpes-Côte d'Azur"},{"v":4,"d":"04"},"CNOP",40002263,40002263,"oui","PHARMACIE TETRE - LUIGI","NULL","Impasse","DE LA FENIERE","04200 PEIPIN",4200,"Peipin","Pharmacie d'officine","A"]
[{"$f":"VLOOKUP(B465,Régions!A:C,3,FALSE)","v":"Provence-Alpes-Côte d'Azur"},{"v":4,"d":"04"},{"$error":"#N/A"},40002271,{"$error":"#N/A"},{"$error":"#N/A"},"SELAS  PHARMACIE DE LA POSTE","NULL","Avenue","DE LA BURLIERE","04300 MANE",4300,"Mane","Pharmacie d'officine","A"]
[{"$f":"VLOOKUP(B466,Régions!A:C,3,FALSE)","v":"Provence-Alpes-Côte d'Azur"},{"v":4,"d":"04"},"PHARMDIRECTFR",40002297,40002297,"oui","SELARL PHARMACIE DU VERDON","NULL","Avenue","DE LERINS","04360 MOUSTIERS-SAINTE-MARIE",4360,"Moustiers-Sainte-Marie","Pharmacie d'officine","A"]
[{"$f":"VLOOKUP(B467,Régions!A:C,3,FALSE)","v":"Provence-Alpes-Côte d'Azur"},{"v":4,"d":"04"},"PHARMDIRECTFR",40002305,40002305,"oui","SELAS PHARMACIE DE LA MAIRIE",5,"Boulevard","DES FRERES JAUMARY","04700 ORAISON",4700,"Oraison","Pharmacie d'officine","A"]
[{"$f":"VLOOKUP(B468,Régions!A:C,3,FALSE)","v":"Provence-Alpes-Côte d'Azur"},{"v":4,"d":"04"},{"$error":"#N/A"},40002313,{"$error":"#N/A"},{"$error":"#N/A"},"SELARL  PHARMACIE DES SENTEURS","NULL","Residence","LES CEDRES N 21","04510 MALLEMOISSON",4510,"Mallemoisson","Pharmacie d'officine","A"]
[{"$f":"VLOOKUP(B469,Régions!A:C,3,FALSE)","v":"Provence-Alpes-Côte d'Azur"},{"v":4,"d":"04"},{"$error":"#N/A"},40002321,{"$error":"#N/A"},{"$error":"#N/A"},"SELAS PHARMACIE DIANOUX",70,"Place","de la Ricaude",4180,4180,"Villeneuve","Pharmacie d'officine","A"]
[{"$f":"VLOOKUP(B470,Régions!A:C,3,FALSE)","v":"Provence-Alpes-Côte d'Azur"},{"v":4,"d":"04"},"PHARMDIRECTFR",40002347,40002347,"oui","SELARL PHARMACIE BARBERIN COCHELIN","NULL","Avenue","Pierre Brossolette","04800 GREOUX-LES-BAINS",4800,"Gréoux-les-Bains","Pharmacie d'officine","A"]
[{"$f":"VLOOKUP(B471,Régions!A:C,3,FALSE)","v":"Provence-Alpes-Côte d'Azur"},{"v":4,"d":"04"},{"$error":"#N/A"},40002362,{"$error":"#N/A"},{"$error":"#N/A"},"SELARL PHARMACIE LEONE-VILLECROZE",9,"Avenue","DES PLANTIERS","04200 SISTERON",4200,"Sisteron","Pharmacie d'officine","A"]
[{"$f":"VLOOKUP(B472,Régions!A:C,3,FALSE)","v":"Provence-Alpes-Côte d'Azur"},{"v":4,"d":"04"},"PHARMDIRECTFR",40002370,40002370,"oui","SELAS PHARMACIE DROUILLE",6,"Allee","ALPHONSE DAUDET","04100 MANOSQUE",4100,"Manosque","Pharmacie d'officine","A"]
[{"$f":"VLOOKUP(B473,Régions!A:C,3,FALSE)","v":"Provence-Alpes-Côte d'Azur"},{"v":4,"d":"04"},{"$error":"#N/A"},40002396,{"$error":"#N/A"},{"$error":"#N/A"},"PHARMACIE RASTOIN-ISSOIRE","NULL","Boulevard","DU 6 JUIN 1944","04230 SAINT-ETIENNE-LES-ORGUES",4230,"Saint-Étienne-les-Orgues","Pharmacie d'officine","A"]
[{"$f":"VLOOKUP(B474,Régions!A:C,3,FALSE)","v":"Provence-Alpes-Côte d'Azur"},{"v":4,"d":"04"},"CNOP",40002404,40002404,"oui","SELEURL PHARMACIE DAMERY","NULL","Station","LE SAUZE","04400 ENCHASTRAYES",4400,"Enchastrayes","Pharmacie d'officine","A"]
[{"$f":"VLOOKUP(B475,Régions!A:C,3,FALSE)","v":"Provence-Alpes-Côte d'Azur"},{"v":4,"d":"04"},"PHARMDIRECTFR",40002412,40002412,"oui","SELARL  PHARMACIE SAINT-PATRICE",16,"Avenue","AUGUSTE BASTIDE","04860 PIERREVERT",4860,"Pierrevert","Pharmacie d'officine","A"]
[{"$f":"VLOOKUP(B476,Régions!A:C,3,FALSE)","v":"Provence-Alpes-Côte d'Azur"},{"v":4,"d":"04"},{"$error":"#N/A"},40002420,{"$error":"#N/A"},{"$error":"#N/A"},"SELARL PHARMACIE DES ARCHES",60,"Boulevard","VICTOR HUGO","04000 DIGNE-LES-BAINS",4000,"Digne-les-Bains","Pharmacie d'officine","A"]
[{"$f":"VLOOKUP(B477,Régions!A:C,3,FALSE)","v":"Provence-Alpes-Côte d'Azur"},{"v":4,"d":"04"},"PHARMDIRECTFR",40002446,40002446,"oui","SNC PHARMACIE DE PRALOUP","NULL","NULL","NULL","04400 UVERNET FOURS",4400,"Uvernet-Fours","Pharmacie d'officine","A"]
[{"$f":"VLOOKUP(B478,Régions!A:C,3,FALSE)","v":"Provence-Alpes-Côte d'Azur"},{"v":4,"d":"04"},{"$error":"#N/A"},40002453,{"$error":"#N/A"},{"$error":"#N/A"},"SELARL PHARMACIE BLEONE SUD","NULL","Quartier","ST CHRISTOPHE","04000 DIGNE-LES-BAINS",4000,"Digne-les-Bains","Pharmacie d'officine","A"]
[{"$f":"VLOOKUP(B479,Régions!A:C,3,FALSE)","v":"Provence-Alpes-Côte d'Azur"},{"v":4,"d":"04"},{"$error":"#N/A"},40002461,{"$error":"#N/A"},{"$error":"#N/A"},"SELARL PHARMACIE LES VIOLETTES","NULL","Boulevard","RYCKEBUCH","04100 MANOSQUE",4100,"Manosque","Pharmacie d'officine","A"]
[{"$f":"VLOOKUP(B480,Régions!A:C,3,FALSE)","v":"Provence-Alpes-Côte d'Azur"},{"v":4,"d":"04"},{"$error":"#N/A"},40002495,{"$error":"#N/A"},{"$error":"#N/A"},"EURL PHARMACIE DE JAUSIERS","NULL","Place","DE L'EGLISE","04850 JAUSIERS",4850,"Jausiers","Pharmacie d'officine","A"]
[{"$f":"VLOOKUP(B481,Régions!A:C,3,FALSE)","v":"Provence-Alpes-Côte d'Azur"},{"v":4,"d":"04"},"PHARMDIRECTFR",40002503,40002503,"oui","SELAS  PHARMACIE BN SEPT N",2,"Boulevard","DE TEMPS PERDU & 24 AVENUE JEA","04100 MANOSQUE",4100,"Manosque","Pharmacie d'officine","A"]
[{"$f":"VLOOKUP(B482,Régions!A:C,3,FALSE)","v":"Provence-Alpes-Côte d'Azur"},{"v":4,"d":"04"},"PHARMDIRECTFR",40002511,40002511,"oui","SARL PHARMACIE DE CERESTE","NULL","Boulevard","JEAN JAURES","04280 CERESTE",4280,"Céreste","Pharmacie d'officine","A"]
[{"$f":"VLOOKUP(B483,Régions!A:C,3,FALSE)","v":"Provence-Alpes-Côte d'Azur"},{"v":4,"d":"04"},"CNOP",40002537,40002537,"oui","SELARL PHARMACIE MALISSART",77,"Avenue","DE VERDUN","04000 DIGNE-LES-BAINS",4000,"Digne-les-Bains","Pharmacie d'officine","A"]
[{"$f":"VLOOKUP(B484,Régions!A:C,3,FALSE)","v":"Provence-Alpes-Côte d'Azur"},{"v":4,"d":"04"},{"$error":"#N/A"},40002545,{"$error":"#N/A"},{"$error":"#N/A"},"EURL PHARMACIE DES LYS","NULL","Rue","ELIE ROUX","04290 VOLONNE",4290,"Volonne","Pharmacie d'officine","A"]
[{"$f":"VLOOKUP(B485,Régions!A:C,3,FALSE)","v":"Provence-Alpes-Côte d'Azur"},{"v":4,"d":"04"},"PHARMDIRECTFR",40002552,40002552,"oui","SELAS PHARMACIE BREMOND & CO",1,"Rue","MARTIN BRET","04100 MANOSQUE",4100,"Manosque","Pharmacie d'officine","A"]
[{"$f":"VLOOKUP(B486,Régions!A:C,3,FALSE)","v":"Provence-Alpes-Côte d'Azur"},{"v":4,"d":"04"},"PHARMDIRECTFR",40002560,40002560,"oui","SELARL PHARMACIE 7ORTHOPHI","NULL","Impasse","des Réserves","04310 PEYRUIS",4310,"Peyruis","Pharmacie d'officine","A"]
[{"$f":"VLOOKUP(B487,Régions!A:C,3,FALSE)","v":"Provence-Alpes-Côte d'Azur"},{"v":4,"d":"04"},"PHARMDIRECTFR",40002594,40002594,"oui","SELAS PHARMACIE DE L'HORLOGE",2,"Place","DE L HORLOGE","04200 SISTERON",4200,"Sisteron","Pharmacie d'officine","A"]
[{"$f":"VLOOKUP(B488,Régions!A:C,3,FALSE)","v":"Provence-Alpes-Côte d'Azur"},{"v":4,"d":"04"},{"$error":"#N/A"},40002602,{"$error":"#N/A"},{"$error":"#N/A"},"EURL PHARMACIE DU CHATEAU",1,"Place","CAMILLE REYMOND","04160 CHÂTEAU-ARNOUX-SAINT-AUBAN",4160,"Château-Arnoux-Saint-Auban","Pharmacie d'officine","A"]
[{"$f":"VLOOKUP(B489,Régions!A:C,3,FALSE)","v":"Provence-Alpes-Côte d'Azur"},{"v":4,"d":"04"},{"$error":"#N/A"},40002610,{"$error":"#N/A"},{"$error":"#N/A"},"PHARMACIE BLANC","NULL","Quartier","LA BOURGADE","04370 COLMARS",4370,"Colmars","Pharmacie d'officine","A"]
[{"$f":"VLOOKUP(B490,Régions!A:C,3,FALSE)","v":"Provence-Alpes-Côte d'Azur"},{"v":4,"d":"04"},{"$error":"#N/A"},40002636,{"$error":"#N/A"},{"$error":"#N/A"},"SARL PHARMACIE DU THEATRE","NULL","Esplanade","MAX TROUCHE","04220 SAINTE-TULLE",4220,"Sainte-Tulle","Pharmacie d'officine","A"]
[{"$f":"VLOOKUP(B491,Régions!A:C,3,FALSE)","v":"Provence-Alpes-Côte d'Azur"},{"v":4,"d":"04"},{"$error":"#N/A"},40002644,{"$error":"#N/A"},{"$error":"#N/A"},"SELARL PHARMACIE BOETTI","NULL","NULL","LES SOUQUETS","04170 SAINT-ANDRE-LES-ALPES",4170,"Saint-André-les-Alpes","Pharmacie d'officine","A"]
[{"$f":"VLOOKUP(B492,Régions!A:C,3,FALSE)","v":"Provence-Alpes-Côte d'Azur"},{"v":4,"d":"04"},{"$error":"#N/A"},40002651,{"$error":"#N/A"},{"$error":"#N/A"},"PHARMACIE PIETRI",22,"Boulevard","GASSENDI","04000 DIGNE-LES-BAINS",4000,"Digne-les-Bains","Pharmacie d'officine","A"]
[{"$f":"VLOOKUP(B493,Régions!A:C,3,FALSE)","v":"Provence-Alpes-Côte d'Azur"},{"v":4,"d":"04"},{"$error":"#N/A"},40002677,{"$error":"#N/A"},{"$error":"#N/A"},"PHARMACIE BERLANDI","NULL","Place","DU VILLAGE","04240 ANNOT",4240,"Annot","Pharmacie d'officine","A"]
[{"$f":"VLOOKUP(B494,Régions!A:C,3,FALSE)","v":"Provence-Alpes-Côte d'Azur"},{"v":4,"d":"04"},{"$error":"#N/A"},40002685,{"$error":"#N/A"},{"$error":"#N/A"},"PHARMACIE GUILLAUME",30,"Chemin","DE ST BARTHELEMY","04210 VALENSOLE",4210,"Valensole","Pharmacie d'officine","A"]
[{"$f":"VLOOKUP(B495,Régions!A:C,3,FALSE)","v":"Provence-Alpes-Côte d'Azur"},{"v":4,"d":"04"},"PHARMDIRECTFR",40002693,40002693,"oui","PHARMACIE LUTHRINGER",6,"Boulevard","LATOURETTE","04300 FORCALQUIER",4300,"Forcalquier","Pharmacie d'officine","A"]
[{"$f":"VLOOKUP(B496,Régions!A:C,3,FALSE)","v":"Provence-Alpes-Côte d'Azur"},{"v":4,"d":"04"},"CNOP",40002701,40002701,"oui","SARL PHARMACIE CENTRALE",3,"Traverse","DES SERRES","04000 DIGNE-LES-BAINS",4000,"Digne-les-Bains","Pharmacie d'officine","A"]
[{"$f":"VLOOKUP(B497,Régions!A:C,3,FALSE)","v":"Provence-Alpes-Côte d'Azur"},{"v":4,"d":"04"},"PHARMDIRECTFR",40002727,40002727,"oui","SELARL PHARMACIE DE CASTELLANE",18,"Rue","NATIONALE","04120 CASTELLANE",4120,"Castellane","Pharmacie d'officine","A"]
[{"$f":"VLOOKUP(B498,Régions!A:C,3,FALSE)","v":"Provence-Alpes-Côte d'Azur"},{"v":4,"d":"04"},{"$error":"#N/A"},40002735,{"$error":"#N/A"},{"$error":"#N/A"},"SNC PHARMACIE ESCALLIER",9,"Rue","MANUEL","04400 BARCELONNETTE",4400,"Barcelonnette","Pharmacie d'officine","A"]
[{"$f":"VLOOKUP(B499,Régions!A:C,3,FALSE)","v":"Provence-Alpes-Côte d'Azur"},{"v":4,"d":"04"},{"$error":"#N/A"},40002743,{"$error":"#N/A"},{"$error":"#N/A"},"PHARMACIE MAGNAN","NULL","Avenue","DES MARRONNIERS BAT A","04800 GREOUX-LES-BAINS",4800,"Gréoux-les-Bains","Pharmacie d'officine","A"]
[{"$f":"VLOOKUP(B500,Régions!A:C,3,FALSE)","v":"Provence-Alpes-Côte d'Azur"},{"v":4,"d":"04"},{"$error":"#N/A"},40002750,{"$error":"#N/A"},{"$error":"#N/A"},"SELARL PHARMACIE DE LA SAUNERIE",1,"Rue","ARBAUD","04100 MANOSQUE",4100,"Manosque","Pharmacie d'officine","A"]
[{"$f":"VLOOKUP(B501,Régions!A:C,3,FALSE)","v":"Provence-Alpes-Côte d'Azur"},{"v":4,"d":"04"},"PHARMDIRECTFR",40002776,40002776,"oui","SELARL PHARMACIE DES THERMES",8,"Avenue","DU 8 MAI 1945","04000 DIGNE LES BAINS",4000,"Digne-les-Bains","Pharmacie d'officine","A"]
[{"$f":"VLOOKUP(B502,Régions!A:C,3,FALSE)","v":"Provence-Alpes-Côte d'Azur"},{"v":4,"d":"04"},"PHARMDIRECTFR",40002784,40002784,"oui","SELARL PHARMACIE NOUVELLE",12,"Rue","DE LA LIBERTE","04190 LES-MEES",4190,"Les Mées","Pharmacie d'officine","A"]
[{"$f":"VLOOKUP(B503,Régions!A:C,3,FALSE)","v":"Provence-Alpes-Côte d'Azur"},{"v":4,"d":"04"},"PHARMDIRECTFR",40002800,40002800,"oui","EURL DAMIEN CASTANER","NULL","Place","D'ARMES","04140 SEYNE-LES-ALPES",4140,"Seyne","Pharmacie d'officine","A"]
[{"$f":"VLOOKUP(B504,Régions!A:C,3,FALSE)","v":"Provence-Alpes-Côte d'Azur"},{"v":4,"d":"04"},"CNOP",40002826,40002826,"non","SELARL PHARMACIE BUREAU",44,"Rue","MANUEL","04400 BARCELONNETTE",4400,"Barcelonnette","Pharmacie d'officine","A"]
[{"$f":"VLOOKUP(B505,Régions!A:C,3,FALSE)","v":"Provence-Alpes-Côte d'Azur"},{"v":4,"d":"04"},"PHARMDIRECTFR",40002834,40002834,"oui","SNC PHARMACIE AILLAUD",33,"Allee","LOUIS GARDIOL","04500 RIEZ",4500,"Riez","Pharmacie d'officine","A"]
[{"$f":"VLOOKUP(B506,Régions!A:C,3,FALSE)","v":"Provence-Alpes-Côte d'Azur"},{"v":4,"d":"04"},"PHARMDIRECTFR",40002842,40002842,"oui","EURL PHARMACIE CHEVALEYRE",12,"Rue","D'ARSONVAL","04600 CHATEAU ARNOUX ST AUBAN #",4600,"Château-Arnoux-Saint-Auban","Pharmacie d'officine","A"]
[{"$f":"VLOOKUP(B507,Régions!A:C,3,FALSE)","v":"Provence-Alpes-Côte d'Azur"},{"v":4,"d":"04"},"PHARMDIRECTFR",40002867,40002867,"oui","SELARL PHARMACIE DU BOURGUET",8,"Place","DU BOURGUET","04300 FORCALQUIER",4300,"Forcalquier","Pharmacie d'officine","A"]
[{"$f":"VLOOKUP(B508,Régions!A:C,3,FALSE)","v":"Provence-Alpes-Côte d'Azur"},{"v":4,"d":"04"},{"$error":"#N/A"},40002875,{"$error":"#N/A"},{"$error":"#N/A"},"SNC OLIVIER TOCHE",13,"Allee","LEON MASSE","04700 ORAISON",4700,"Oraison","Pharmacie d'officine","A"]
[{"$f":"VLOOKUP(B509,Régions!A:C,3,FALSE)","v":"Provence-Alpes-Côte d'Azur"},{"v":4,"d":"04"},{"$error":"#N/A"},40002883,{"$error":"#N/A"},{"$error":"#N/A"},"SELARL PHARMACIE BOURICHE",49,"Boulevard","GASSENDI","04000 DIGNE-LES-BAINS",4000,"Digne-les-Bains","Pharmacie d'officine","A"]
[{"$f":"VLOOKUP(B510,Régions!A:C,3,FALSE)","v":"Provence-Alpes-Côte d'Azur"},{"v":4,"d":"04"},{"$error":"#N/A"},40002891,{"$error":"#N/A"},{"$error":"#N/A"},"SELARL PHARMACIE REY",165,"Rue","DE PROVENCE","04200 SISTERON",4200,"Sisteron","Pharmacie d'officine","A"]
[{"$f":"VLOOKUP(B511,Régions!A:C,3,FALSE)","v":"Provence-Alpes-Côte d'Azur"},{"v":4,"d":"04"},{"$error":"#N/A"},40002917,{"$error":"#N/A"},{"$error":"#N/A"},"SELAS PHARMACIE DES ARCADES",8,"Avenue","DES ARCADES","04200 SISTERON",4200,"Sisteron","Pharmacie d'officine","A"]
[{"$f":"VLOOKUP(B512,Régions!A:C,3,FALSE)","v":"Provence-Alpes-Côte d'Azur"},{"v":4,"d":"04"},{"$error":"#N/A"},40002925,{"$error":"#N/A"},{"$error":"#N/A"},"SELAS PHARMACIE GRANDE",37,"Rue","GRANDE","04100 MANOSQUE",4100,"Manosque","Pharmacie d'officine","A"]
[{"$f":"VLOOKUP(B513,Régions!A:C,3,FALSE)","v":"Provence-Alpes-Côte d'Azur"},{"v":4,"d":"04"},{"$error":"#N/A"},40002933,{"$error":"#N/A"},{"$error":"#N/A"},"PHARMACIE BIBAL",8,"Avenue","DE HAUTE PROVENCE","04350 MALIJAI",4350,"Malijai","Pharmacie d'officine","A"]
[{"$f":"VLOOKUP(B514,Régions!A:C,3,FALSE)","v":"Provence-Alpes-Côte d'Azur"},{"v":4,"d":"04"},{"$error":"#N/A"},40003006,{"$error":"#N/A"},{"$error":"#N/A"},"SELAS  PHARMACIE LES 4 CHEMINS","NULL","Route","NATIONALE 96","04130 VOLX",4130,"Volx","Pharmacie d'officine","A"]
[{"$f":"VLOOKUP(B515,Régions!A:C,3,FALSE)","v":"Provence-Alpes-Côte d'Azur"},{"v":4,"d":"04"},"PHARMDIRECTFR",40003014,40003014,"oui","SELAS PHARMACIE DES FERRAGES",150,"Avenue","MAJORAL ARNAUD","04100 MANOSQUE",4100,"Manosque","Pharmacie d'officine","A"]
[{"$f":"VLOOKUP(B516,Régions!A:C,3,FALSE)","v":"Provence-Alpes-Côte d'Azur"},{"v":4,"d":"04"},{"$error":"#N/A"},40003030,{"$error":"#N/A"},{"$error":"#N/A"},"PHARMACIE BUISSON-DUCHEMIN","NULL","Place","MOREAU","04320 ENTREVAUX",4320,"Entrevaux","Pharmacie d'officine","A"]
[{"$f":"VLOOKUP(B517,Régions!A:C,3,FALSE)","v":"Provence-Alpes-Côte d'Azur"},{"v":4,"d":"04"},{"$error":"#N/A"},40003055,{"$error":"#N/A"},{"$error":"#N/A"},"SELAS  PHARMACIE BREMOND","NULL","Place","DE LA REPUBLIQUE","04150 BANON",4150,"Banon","Pharmacie d'officine","A"]
[{"$f":"VLOOKUP(B518,Régions!A:C,3,FALSE)","v":"Provence-Alpes-Côte d'Azur"},{"v":4,"d":"04"},{"$error":"#N/A"},40003303,{"$error":"#N/A"},{"$error":"#N/A"},"SELEURL PHARMACIE DE L'HOTEL DE VILLE",15,"Place","DE L'HOTEL DE VILLE","04100 MANOSQUE",4100,"Manosque","Pharmacie d'officine","A"]
[{"$f":"VLOOKUP(B519,Régions!A:C,3,FALSE)","v":"Provence-Alpes-Côte d'Azur"},{"v":5,"d":"05"},"PHARMDIRECTFR",50002740,50002740,"oui","SELARL  PHARMACIE DU PROREL",28,"Avenue","MAURICE PETSCHE","05100 BRIANÇON",5100,"Briançon","Pharmacie d'officine","A"]
[{"$f":"VLOOKUP(B520,Régions!A:C,3,FALSE)","v":"Provence-Alpes-Côte d'Azur"},{"v":5,"d":"05"},{"$error":"#N/A"},50002765,{"$error":"#N/A"},{"$error":"#N/A"},"SELARL PHARMACIE DU MELEZIN",47,"Avenue","GENERAL DE GAULLE","05100 BRIANCON",5100,"Briançon","Pharmacie d'officine","A"]
[{"$f":"VLOOKUP(B521,Régions!A:C,3,FALSE)","v":"Provence-Alpes-Côte d'Azur"},{"v":5,"d":"05"},{"$error":"#N/A"},50002781,{"$error":"#N/A"},{"$error":"#N/A"},"SELARL PHARMACIE DU QUINZE NEUF",8,"Avenue","DU 159° R.I.A.","05100 BRIANCON",5100,"Briançon","Pharmacie d'officine","A"]
[{"$f":"VLOOKUP(B522,Régions!A:C,3,FALSE)","v":"Provence-Alpes-Côte d'Azur"},{"v":5,"d":"05"},"PHARMDIRECTFR",50002815,50002815,"oui","SELARL PHARMACIE DU CHAMP DE MARS",15,"NULL","CHAMP DE MARS","05100 BRIANCON",5100,"Briançon","Pharmacie d'officine","A"]
[{"$f":"VLOOKUP(B523,Régions!A:C,3,FALSE)","v":"Provence-Alpes-Côte d'Azur"},{"v":5,"d":"05"},{"$error":"#N/A"},50002831,{"$error":"#N/A"},{"$error":"#N/A"},"PHARMACIE STEINMETZ-PEGOUD",30,"Rue","CENTRALE","05100 BRIANCON",5100,"Briançon","Pharmacie d'officine","A"]
[{"$f":"VLOOKUP(B524,Régions!A:C,3,FALSE)","v":"Provence-Alpes-Côte d'Azur"},{"v":5,"d":"05"},{"$error":"#N/A"},50002864,{"$error":"#N/A"},{"$error":"#N/A"},"SELARL PHARMACIE GRAND BOUCLE BORNAND","NULL","NULL","NULL","05100 BRIANÇON",5100,"Briançon","Pharmacie d'officine","A"]
[{"$f":"VLOOKUP(B525,Régions!A:C,3,FALSE)","v":"Provence-Alpes-Côte d'Azur"},{"v":5,"d":"05"},{"$error":"#N/A"},50002914,{"$error":"#N/A"},{"$error":"#N/A"},"SELARL  PHARMACIE DU HAUT BUECH","NULL","Rue","DES JARDINS","05140 ASPRES SUR BUECH",5140,"Aspres-sur-Buëch","Pharmacie d'officine","A"]
[{"$f":"VLOOKUP(B526,Régions!A:C,3,FALSE)","v":"Provence-Alpes-Côte d'Azur"},{"v":5,"d":"05"},{"$error":"#N/A"},50002930,{"$error":"#N/A"},{"$error":"#N/A"},"SELARL C LA PHARMACIE D'ANCELLE","NULL","Residence","NULL","05260 ANCELLE",5260,"Ancelle","Pharmacie d'officine","A"]
[{"$f":"VLOOKUP(B527,Régions!A:C,3,FALSE)","v":"Provence-Alpes-Côte d'Azur"},{"v":5,"d":"05"},{"$error":"#N/A"},50002963,{"$error":"#N/A"},{"$error":"#N/A"},"SELARL PHARMACIE DU MONT GUILLAUME",53,"Rue","CLOVIS HUGUES","05200 EMBRUN",5200,"Embrun","Pharmacie d'officine","A"]
[{"$f":"VLOOKUP(B528,Régions!A:C,3,FALSE)","v":"Provence-Alpes-Côte d'Azur"},{"v":5,"d":"05"},"PHARMDIRECTFR",50002997,50002997,"oui","SELARL PHIE GIRAUD-SAUVEUR - PIERREL",86,"Avenue","d'Embrun","05000 GAP",5000,"Gap","Pharmacie d'officine","A"]
[{"$f":"VLOOKUP(B529,Régions!A:C,3,FALSE)","v":"Provence-Alpes-Côte d'Azur"},{"v":5,"d":"05"},"CNOP",50003037,50003037,"oui","SELARL PHIE DE L'ARGENTIERE LA BESSEE","NULL","NULL","LIEU DIT LA RIBE","05120 L ARGENTIERE LA BESSEE",5120,"L'Argentière-la-Bessée","Pharmacie d'officine","A"]
[{"$f":"VLOOKUP(B530,Régions!A:C,3,FALSE)","v":"Provence-Alpes-Côte d'Azur"},{"v":5,"d":"05"},{"$error":"#N/A"},50003060,{"$error":"#N/A"},{"$error":"#N/A"},"PHARMACIE BONNET","NULL","Place","DU COMMANDANT DUMONT","05130 TALLARD",5130,"Tallard","Pharmacie d'officine","A"]
[{"$f":"VLOOKUP(B531,Régions!A:C,3,FALSE)","v":"Provence-Alpes-Côte d'Azur"},{"v":5,"d":"05"},{"$error":"#N/A"},50003094,{"$error":"#N/A"},{"$error":"#N/A"},"SELARL PHARMACIE DE PUY SAINT VINCENT","NULL","NULL","GAL COMM LA VOILE 1600","05290 PUY ST VINCENT",5290,"Puy-Saint-Vincent","Pharmacie d'officine","A"]
[{"$f":"VLOOKUP(B532,Régions!A:C,3,FALSE)","v":"Provence-Alpes-Côte d'Azur"},{"v":5,"d":"05"},"CNOP",50003110,50003110,"oui","SELURL PHARMACIE CENTRALE VEYNES",12,"Avenue","DU COMMANDANT DUMONT","05400 VEYNES",5400,"Veynes","Pharmacie d'officine","A"]
[{"$f":"VLOOKUP(B533,Régions!A:C,3,FALSE)","v":"Provence-Alpes-Côte d'Azur"},{"v":5,"d":"05"},"CNOP",50003144,50003144,"oui","SELARL GAP ALPES PHARMACIE",22,"Rue","DU CARTENT","05000 GAP",5000,"Gap","Pharmacie d'officine","A"]
[{"$f":"VLOOKUP(B534,Régions!A:C,3,FALSE)","v":"Provence-Alpes-Côte d'Azur"},{"v":5,"d":"05"},{"$error":"#N/A"},50003177,{"$error":"#N/A"},{"$error":"#N/A"},"SELARL PHARMACIE CASTRES - NEYRA","NULL","Place","DU MARCHE","05220 LE-MONETIER-LES-BAINS",5220,"Le Monêtier-les-Bains","Pharmacie d'officine","A"]
[{"$f":"VLOOKUP(B535,Régions!A:C,3,FALSE)","v":"Provence-Alpes-Côte d'Azur"},{"v":5,"d":"05"},{"$error":"#N/A"},50003193,{"$error":"#N/A"},{"$error":"#N/A"},"SELEURL PHARMACIE DU SOLEIL","NULL","Place","BARTHELON","05200 EMBRUN",5200,"Embrun","Pharmacie d'officine","A"]
[{"$f":"VLOOKUP(B536,Régions!A:C,3,FALSE)","v":"Provence-Alpes-Côte d'Azur"},{"v":5,"d":"05"},{"$error":"#N/A"},50003227,{"$error":"#N/A"},{"$error":"#N/A"},"SELARL PHARMACIE DE LA COMMANDERIE",20,"Avenue","JEAN JAURES","05000 GAP",5000,"Gap","Pharmacie d'officine","A"]
[{"$f":"VLOOKUP(B537,Régions!A:C,3,FALSE)","v":"Provence-Alpes-Côte d'Azur"},{"v":5,"d":"05"},"CNOP",50003243,50003243,"oui","SELARL PHARMACIE ALPES DU SUD",115,"Boulevard","GEORGES POMPIDOU","05000 GAP",5000,"Gap","Pharmacie d'officine","A"]
[{"$f":"VLOOKUP(B538,Régions!A:C,3,FALSE)","v":"Provence-Alpes-Côte d'Azur"},{"v":5,"d":"05"},"CNOP",50003276,50003276,"oui","SELARL PHARMACIE COUTIN - RIZZITELLI",23,"Rue","CARNOT","05000 GAP",5000,"Gap","Pharmacie d'officine","A"]
[{"$f":"VLOOKUP(B539,Régions!A:C,3,FALSE)","v":"Provence-Alpes-Côte d'Azur"},{"v":5,"d":"05"},{"$error":"#N/A"},50003292,{"$error":"#N/A"},{"$error":"#N/A"},"SELEURL PHARMACIE CEDRIC DELON",2,"Place","JEAN MARCELLIN","05000 GAP",5000,"Gap","Pharmacie d'officine","A"]
[{"$f":"VLOOKUP(B540,Régions!A:C,3,FALSE)","v":"Provence-Alpes-Côte d'Azur"},{"v":5,"d":"05"},"CNOP",50003326,50003326,"oui","PHARMACIE ROBERT",447,"Avenue","de l'Hôtel","05190 ESPINASSES",5190,"Espinasses","Pharmacie d'officine","A"]
[{"$f":"VLOOKUP(B541,Régions!A:C,3,FALSE)","v":"Provence-Alpes-Côte d'Azur"},{"v":5,"d":"05"},"CNOP",50003342,50003342,"non","SELARL  PHARMACIE DES ECRINS","NULL","NULL","NULL","05240 LA SALLE LES ALPES",5240,"La Salle-les-Alpes","Pharmacie d'officine","A"]
[{"$f":"VLOOKUP(B542,Régions!A:C,3,FALSE)","v":"Provence-Alpes-Côte d'Azur"},{"v":5,"d":"05"},{"$error":"#N/A"},50003375,{"$error":"#N/A"},{"$error":"#N/A"},"SELARL PHARMACIE CELINE GOUDIN",29,"Rue","DE FRANCE","05000 GAP",5000,"Gap","Pharmacie d'officine","A"]
[{"$f":"VLOOKUP(B543,Régions!A:C,3,FALSE)","v":"Provence-Alpes-Côte d'Azur"},{"v":5,"d":"05"},"CNOP",50003391,50003391,"oui","SELARL PHARMACIE DU TORRENT DE BONNE",3,"Avenue","DU COMMANDANT DUMONT","05000 GAP",5000,"Gap","Pharmacie d'officine","A"]
[{"$f":"VLOOKUP(B544,Régions!A:C,3,FALSE)","v":"Provence-Alpes-Côte d'Azur"},{"v":5,"d":"05"},"PHARMDIRECTFR",50003425,50003425,"oui","SNC  PHARMACIE GALLINO",38,"Avenue","COMMANDANT DUMONT","05000 GAP",5000,"Gap","Pharmacie d'officine","A"]
[{"$f":"VLOOKUP(B545,Régions!A:C,3,FALSE)","v":"Provence-Alpes-Côte d'Azur"},{"v":5,"d":"05"},{"$error":"#N/A"},50003441,{"$error":"#N/A"},{"$error":"#N/A"},"SELARL PHARMACIE LAMONERIE","NULL","Avenue","DE LA LIBERATION","05500 SAINT-BONNET-EN-CHAMPSAUR",5500,"Saint-Bonnet-en-Champsaur","Pharmacie d'officine","A"]
[{"$f":"VLOOKUP(B546,Régions!A:C,3,FALSE)","v":"Provence-Alpes-Côte d'Azur"},{"v":5,"d":"05"},{"$error":"#N/A"},50003474,{"$error":"#N/A"},{"$error":"#N/A"},"SNC PHARMACIE DE LA LIBERATION",33,"Boulevard","DE LA LIBERATION","05000 GAP",5000,"Gap","Pharmacie d'officine","A"]
[{"$f":"VLOOKUP(B547,Régions!A:C,3,FALSE)","v":"Provence-Alpes-Côte d'Azur"},{"v":5,"d":"05"},{"$error":"#N/A"},50003516,{"$error":"#N/A"},{"$error":"#N/A"},"SELARL PHARMACIE D'ORCIERES","NULL","Place","DES DRAPEAUX","05170 ORCIERES",5170,"Orcières","Pharmacie d'officine","A"]
[{"$f":"VLOOKUP(B548,Régions!A:C,3,FALSE)","v":"Provence-Alpes-Côte d'Azur"},{"v":5,"d":"05"},"CNOP",50003532,50003532,"oui","SELARL PHARMACIE DES REMPARTS","NULL","Rue","DE LA LIBERTE","05200 EMBRUN",5200,"Embrun","Pharmacie d'officine","A"]
[{"$f":"VLOOKUP(B549,Régions!A:C,3,FALSE)","v":"Provence-Alpes-Côte d'Azur"},{"v":5,"d":"05"},{"$error":"#N/A"},50003557,{"$error":"#N/A"},{"$error":"#N/A"},"SELEURL PHARMACIE DU VALGAUDEMAR",1,"Lotissement","LA FOUGEROUSE","05800 ST FIRMIN EN VALGAUDEMAR",5800,"Saint-Firmin","Pharmacie d'officine","A"]
[{"$f":"VLOOKUP(B550,Régions!A:C,3,FALSE)","v":"Provence-Alpes-Côte d'Azur"},{"v":5,"d":"05"},"CNOP",50003573,50003573,"oui","SELARL PHARMACIE DE LA SAULCE","NULL","Place","DE LA LIBERTE","05110 LA-SAULCE",5110,"La Saulce","Pharmacie d'officine","A"]
[{"$f":"VLOOKUP(B551,Régions!A:C,3,FALSE)","v":"Provence-Alpes-Côte d'Azur"},{"v":5,"d":"05"},"PHARMDIRECTFR",50003607,50003607,"oui","PHARMACIE CHRISTIAN-FARDEAU","NULL","Lieu dit","Les Auches","05290 VALLOUISE-PELVOUX",5290,"Vallouise-Pelvoux","Pharmacie d'officine","A"]
[{"$f":"VLOOKUP(B552,Régions!A:C,3,FALSE)","v":"Provence-Alpes-Côte d'Azur"},{"v":5,"d":"05"},"CNOP",50003623,50003623,"oui","SELAS PHARMACIE 1350","NULL","Allee","DES BOUTIQUES CHANTEMERLE","05330 SAINT-CHAFFREY",5330,"Saint-Chaffrey","Pharmacie d'officine","A"]
[{"$f":"VLOOKUP(B553,Régions!A:C,3,FALSE)","v":"Provence-Alpes-Côte d'Azur"},{"v":5,"d":"05"},{"$error":"#N/A"},50003656,{"$error":"#N/A"},{"$error":"#N/A"},"SELAS NAL",5,"Avenue","ARTHUR AUDIBERT","05300 LARAGNE-MONTEGLIN",5300,"Laragne-Montéglin","Pharmacie d'officine","A"]
[{"$f":"VLOOKUP(B554,Régions!A:C,3,FALSE)","v":"Provence-Alpes-Côte d'Azur"},{"v":5,"d":"05"},{"$error":"#N/A"},50003672,{"$error":"#N/A"},{"$error":"#N/A"},"PHARMACIE FONTROUGE",13,"Avenue","DES MARTYRS","05400 VEYNES",5400,"Veynes","Pharmacie d'officine","A"]
[{"$f":"VLOOKUP(B555,Régions!A:C,3,FALSE)","v":"Provence-Alpes-Côte d'Azur"},{"v":5,"d":"05"},"CNOP",50003706,50003706,"oui","SELARL PHARMACIE DU CHAMPSAUR",5,"Rue","DU 11 NOVEMBRE","05500 SAINT-BONNET-EN-CHAMPSAUR",5500,"Saint-Bonnet-en-Champsaur","Pharmacie d'officine","A"]
[{"$f":"VLOOKUP(B556,Régions!A:C,3,FALSE)","v":"Provence-Alpes-Côte d'Azur"},{"v":5,"d":"05"},"CNOP",50003722,50003722,"oui","SELARL  LA PHARMACIE DE FONTREYNE",19,"Avenue","FRANCOIS MITTERRAND","05000 GAP",5000,"Gap","Pharmacie d'officine","A"]
[{"$f":"VLOOKUP(B557,Régions!A:C,3,FALSE)","v":"Provence-Alpes-Côte d'Azur"},{"v":5,"d":"05"},"PHARMDIRECTFR",50003755,50003755,"oui","EURL PHARMACIE PEYRON","NULL","Rue","MAURICE PETSCHE","05600 GUILLESTRE",5600,"Guillestre","Pharmacie d'officine","A"]
[{"$f":"VLOOKUP(B558,Régions!A:C,3,FALSE)","v":"Provence-Alpes-Côte d'Azur"},{"v":5,"d":"05"},{"$error":"#N/A"},50003771,{"$error":"#N/A"},{"$error":"#N/A"},"SELARL PHARMACIE DU DEVOLUY","NULL","NULL","LES MONTS DU SOLEIL","05250 AGNIÈRES-EN-DÉVOLUY",5250,"Agnières-en-Dévoluy","Pharmacie d'officine","A"]
[{"$f":"VLOOKUP(B559,Régions!A:C,3,FALSE)","v":"Provence-Alpes-Côte d'Azur"},{"v":5,"d":"05"},"CNOP",50003805,50003805,"oui","PHARMACIE FUBIANI","NULL","Lieu dit","LES GAUDIS","05400 LA ROCHE DES ARNAUDS",5400,"La Roche-des-Arnauds","Pharmacie d'officine","A"]
[{"$f":"VLOOKUP(B560,Régions!A:C,3,FALSE)","v":"Provence-Alpes-Côte d'Azur"},{"v":5,"d":"05"},{"$error":"#N/A"},50003821,{"$error":"#N/A"},{"$error":"#N/A"},"SELARL PHARMACIE DU GRAND MORGON","NULL","Place","DU COMMERCE","05160 SAVINES LE LAC",5160,"Savines-le-Lac","Pharmacie d'officine","A"]
[{"$f":"VLOOKUP(B561,Régions!A:C,3,FALSE)","v":"Provence-Alpes-Côte d'Azur"},{"v":5,"d":"05"},{"$error":"#N/A"},50003854,{"$error":"#N/A"},{"$error":"#N/A"},"PHARMACIE MAEGHERMAN","NULL","NULL","NULL","05560 VARS",5560,"Vars","Pharmacie d'officine","A"]
[{"$f":"VLOOKUP(B562,Régions!A:C,3,FALSE)","v":"Provence-Alpes-Côte d'Azur"},{"v":5,"d":"05"},"CNOP",50003870,50003870,"oui","SELARL PHIE DE LA LUYSANNE",18,"Avenue","EMILE DIDIER","05000 GAP",5000,"Gap","Pharmacie d'officine","A"]
[{"$f":"VLOOKUP(B563,Régions!A:C,3,FALSE)","v":"Provence-Alpes-Côte d'Azur"},{"v":5,"d":"05"},"CNOP",50003904,50003904,"oui","SELAS PHARMACIE DES ALPES","NULL","NULL","GRANDE RUE","05230 CHORGES",5230,"Chorges","Pharmacie d'officine","A"]
[{"$f":"VLOOKUP(B564,Régions!A:C,3,FALSE)","v":"Provence-Alpes-Côte d'Azur"},{"v":5,"d":"05"},"CNOP",50003946,50003946,"oui","SELARL PHARMACIE DE LA FONTAINE",5,"Place","DE LA FONTAINE","05300 LARAGNE MONTEGLIN",5300,"Laragne-Montéglin","Pharmacie d'officine","A"]
[{"$f":"VLOOKUP(B565,Régions!A:C,3,FALSE)","v":"Provence-Alpes-Côte d'Azur"},{"v":5,"d":"05"},"PHARMDIRECTFR",50003961,50003961,"oui","PHARMACIE SERRE",2,"Residence","LE PRAYA","05100 MONTGENEVRE",5100,"Montgenèvre","Pharmacie d'officine","A"]
[{"$f":"VLOOKUP(B566,Régions!A:C,3,FALSE)","v":"Provence-Alpes-Côte d'Azur"},{"v":5,"d":"05"},{"$error":"#N/A"},50003995,{"$error":"#N/A"},{"$error":"#N/A"},"PHARMACIE BOURRELLY",65,"Avenue","Francois Mitterrand","05230 LA BATIE-NEUVE",5230,"La Bâtie-Neuve","Pharmacie d'officine","A"]
[{"$f":"VLOOKUP(B567,Régions!A:C,3,FALSE)","v":"Provence-Alpes-Côte d'Azur"},{"v":5,"d":"05"},{"$error":"#N/A"},50004241,{"$error":"#N/A"},{"$error":"#N/A"},"SELARL PHARMACIE DU DRAC","NULL","Place","DE LA MAIRIE","05260 SAINT-JEAN-SAINT-NICOLAS",5260,"Saint-Jean-Saint-Nicolas","Pharmacie d'officine","A"]
[{"$f":"VLOOKUP(B568,Régions!A:C,3,FALSE)","v":"Provence-Alpes-Côte d'Azur"},{"v":5,"d":"05"},{"$error":"#N/A"},50004282,{"$error":"#N/A"},{"$error":"#N/A"},"SELARL PHARMACIE DE LA LIBERTE","NULL","NULL","LA LIBERTE","05700 SERRES",5700,"Serres","Pharmacie d'officine","A"]
[{"$f":"VLOOKUP(B569,Régions!A:C,3,FALSE)","v":"Provence-Alpes-Côte d'Azur"},{"v":5,"d":"05"},"CNOP",50004332,50004332,"oui","PHARMACIE FERRARIS - TROTOBAS","NULL","Rue","PRINCIPALE","05600 RISOUL",5600,"Risoul","Pharmacie d'officine","A"]
[{"$f":"VLOOKUP(B570,Régions!A:C,3,FALSE)","v":"Provence-Alpes-Côte d'Azur"},{"v":5,"d":"05"},{"$error":"#N/A"},50004423,{"$error":"#N/A"},{"$error":"#N/A"},"SELARL PHARMACIE ST ROCH",72,"Avenue","JEAN JAURES","05000 GAP",5000,"Gap","Pharmacie d'officine","A"]
[{"$f":"VLOOKUP(B571,Régions!A:C,3,FALSE)","v":"Provence-Alpes-Côte d'Azur"},{"v":5,"d":"05"},{"$error":"#N/A"},50004613,{"$error":"#N/A"},{"$error":"#N/A"},"SELARL PHARMACIE DES ORRES","NULL","Place","EMILE ODOUL","05200 LES-ORRES",5200,"Les Orres","Pharmacie d'officine","A"]
[{"$f":"VLOOKUP(B572,Régions!A:C,3,FALSE)","v":"Provence-Alpes-Côte d'Azur"},{"v":5,"d":"05"},"PHARMDIRECTFR",50005313,50005313,"oui","SELARL PHARMACIE D'AIGUILLES","NULL","Place","JEAN LEA","05470 AIGUILLES",5470,"Aiguilles","Pharmacie d'officine","A"]
[{"$f":"VLOOKUP(B573,Régions!A:C,3,FALSE)","v":"Provence-Alpes-Côte d'Azur"},{"v":5,"d":"05"},{"$error":"#N/A"},50006154,{"$error":"#N/A"},{"$error":"#N/A"},"SELARL PHARMACIE DU GUIL","NULL","Route","DU QUEYRAS","05600 GUILLESTRE",5600,"Guillestre","Pharmacie d'officine","A"]
[{"$f":"VLOOKUP(B574,Régions!A:C,3,FALSE)","v":"Provence-Alpes-Côte d'Azur"},{"v":6,"d":"06"},{"$error":"#N/A"},60004157,{"$error":"#N/A"},{"$error":"#N/A"},"SELARL PHARMACIE D'AURIBEAU","NULL","Centre","COMMERCIAL DU BAYLE","06810 AURIBEAU-SUR-SIAGNE",6810,"Auribeau-sur-Siagne","Pharmacie d'officine","A"]
[{"$f":"VLOOKUP(B575,Régions!A:C,3,FALSE)","v":"Provence-Alpes-Côte d'Azur"},{"v":6,"d":"06"},"PHARMDIRECTFR",60004173,60004173,"oui","SELARL PHARMACIE DE L'ORANGERAIE","NULL","Allee","DU DOCTEUR MAFFET","06620 LE-BAR-SUR-LOUP",6620,"Le Bar-sur-Loup","Pharmacie d'officine","A"]
[{"$f":"VLOOKUP(B576,Régions!A:C,3,FALSE)","v":"Provence-Alpes-Côte d'Azur"},{"v":6,"d":"06"},{"$error":"#N/A"},60004215,{"$error":"#N/A"},{"$error":"#N/A"},"SELAS PHARMACIE BERLUGANE",17,"Boulevard","GENERAL LECLERC","06310 BEAULIEU-SUR-MER",6310,"Beaulieu-sur-Mer","Pharmacie d'officine","A"]
[{"$f":"VLOOKUP(B577,Régions!A:C,3,FALSE)","v":"Provence-Alpes-Côte d'Azur"},{"v":6,"d":"06"},{"$error":"#N/A"},60004231,{"$error":"#N/A"},{"$error":"#N/A"},"SARL PHARMACIE INTERNATIONALE SOUSSAN",38,"Boulevard","MARINONI","06310 BEAULIEU-SUR-MER",6310,"Beaulieu-sur-Mer","Pharmacie d'officine","A"]
[{"$f":"VLOOKUP(B578,Régions!A:C,3,FALSE)","v":"Provence-Alpes-Côte d'Azur"},{"v":6,"d":"06"},{"$error":"#N/A"},60004264,{"$error":"#N/A"},{"$error":"#N/A"},"SELAS PHARMACIE FOCSUC",45,"Boulevard","MARINONI","06310 BEAULIEU-SUR-MER",6310,"Beaulieu-sur-Mer","Pharmacie d'officine","A"]
[{"$f":"VLOOKUP(B579,Régions!A:C,3,FALSE)","v":"Provence-Alpes-Côte d'Azur"},{"v":6,"d":"06"},"CNOP",60004280,60004280,"oui","SELAS PHARMACIE AZUREA",2,"Rue","CAMILLE BLANC","06240 BEAUSOLEIL",6240,"Beausoleil","Pharmacie d'officine","A"]
[{"$f":"VLOOKUP(B580,Régions!A:C,3,FALSE)","v":"Provence-Alpes-Côte d'Azur"},{"v":6,"d":"06"},{"$error":"#N/A"},60004314,{"$error":"#N/A"},{"$error":"#N/A"},"SARL PHARMACIE SEGUY","NULL","Rue","TIVOLI ET 15 AVENUE CAMILLE BLANC","06240 BEAUSOLEIL",6240,"Beausoleil","Pharmacie d'officine","A"]
[{"$f":"VLOOKUP(B581,Régions!A:C,3,FALSE)","v":"Provence-Alpes-Côte d'Azur"},{"v":6,"d":"06"},{"$error":"#N/A"},60004330,{"$error":"#N/A"},{"$error":"#N/A"},"SELARL PHARMACIE CONCINA",11,"Boulevard","DES MONEGHETTI","06240 BEAUSOLEIL",6240,"Beausoleil","Pharmacie d'officine","A"]
[{"$f":"VLOOKUP(B582,Régions!A:C,3,FALSE)","v":"Provence-Alpes-Côte d'Azur"},{"v":6,"d":"06"},{"$error":"#N/A"},60004363,{"$error":"#N/A"},{"$error":"#N/A"},"SELARL PHARMACIE ANDORRA",1,"Boulevard","DE LA REPUBLIQUE","06240 BEAUSOLEIL",6240,"Beausoleil","Pharmacie d'officine","A"]
[{"$f":"VLOOKUP(B583,Régions!A:C,3,FALSE)","v":"Provence-Alpes-Côte d'Azur"},{"v":6,"d":"06"},{"$error":"#N/A"},60004397,{"$error":"#N/A"},{"$error":"#N/A"},"SELARL PHIE DU SOLEIL KAYTANDJIAN",4,"Boulevard","DE LA REPUBLIQUE","06240 BEAUSOLEIL",6240,"Beausoleil","Pharmacie d'officine","A"]
[{"$f":"VLOOKUP(B584,Régions!A:C,3,FALSE)","v":"Provence-Alpes-Côte d'Azur"},{"v":6,"d":"06"},{"$error":"#N/A"},60004413,{"$error":"#N/A"},{"$error":"#N/A"},"SELARL  PHARMACIE SAINT PHILIPPE","NULL","Avenue","DE ROUMANILLE","06410 BIOT",6410,"Biot","Pharmacie d'officine","A"]
[{"$f":"VLOOKUP(B585,Régions!A:C,3,FALSE)","v":"Provence-Alpes-Côte d'Azur"},{"v":6,"d":"06"},"CNOP",60004447,60004447,"oui","SELARL PHARMACIE PICARD SOUSSAN",495,"Route","DE LA MER","06410 BIOT",6410,"Biot","Pharmacie d'officine","A"]
[{"$f":"VLOOKUP(B586,Régions!A:C,3,FALSE)","v":"Provence-Alpes-Côte d'Azur"},{"v":6,"d":"06"},"CNOP",60004462,60004462,"oui","SELARL PHARMACIE DE LA POINTE",13,"Route","DEPARTEMENTALE 2204","06440 BLAUSASC",6440,"Blausasc","Pharmacie d'officine","A"]
[{"$f":"VLOOKUP(B587,Régions!A:C,3,FALSE)","v":"Provence-Alpes-Côte d'Azur"},{"v":6,"d":"06"},{"$error":"#N/A"},60004488,{"$error":"#N/A"},{"$error":"#N/A"},"PHARMACIE CREVET","NULL","Place","ST CLAUDE","06790 ASPREMONT",6790,"Aspremont","Pharmacie d'officine","A"]
[{"$f":"VLOOKUP(B588,Régions!A:C,3,FALSE)","v":"Provence-Alpes-Côte d'Azur"},{"v":6,"d":"06"},"CNOP",60004496,60004496,"oui","SELARL PHARMACIE DURIF",1,"Rue","des Métiers","06540 BREIL-SUR-ROYA",6540,"Breil-sur-Roya","Pharmacie d'officine","A"]
[{"$f":"VLOOKUP(B589,Régions!A:C,3,FALSE)","v":"Provence-Alpes-Côte d'Azur"},{"v":6,"d":"06"},{"$error":"#N/A"},60004512,{"$error":"#N/A"},{"$error":"#N/A"},"SELARL PHARMACIE HOSPITAL",31,"Rue","Frédéric Mistral","06530 CABRIS",6530,"Cabris","Pharmacie d'officine","A"]
[{"$f":"VLOOKUP(B590,Régions!A:C,3,FALSE)","v":"Provence-Alpes-Côte d'Azur"},{"v":6,"d":"06"},{"$error":"#N/A"},60004546,{"$error":"#N/A"},{"$error":"#N/A"},"SELARL PHARMACIE CENTRALE BAZERIES",4,"Avenue","AUGUSTE RENOIR","06800 CAGNES-SUR-MER",6800,"Cagnes-sur-Mer","Pharmacie d'officine","A"]
[{"$f":"VLOOKUP(B591,Régions!A:C,3,FALSE)","v":"Provence-Alpes-Côte d'Azur"},{"v":6,"d":"06"},{"$error":"#N/A"},60004561,{"$error":"#N/A"},{"$error":"#N/A"},"SELARL PHARMACIE SAGRANDI",29,"Avenue","AUGUSTE RENOIR","06800 CAGNES-SUR-MER",6800,"Cagnes-sur-Mer","Pharmacie d'officine","A"]
[{"$f":"VLOOKUP(B592,Régions!A:C,3,FALSE)","v":"Provence-Alpes-Côte d'Azur"},{"v":6,"d":"06"},{"$error":"#N/A"},60004595,{"$error":"#N/A"},{"$error":"#N/A"},"SELARL PHARMACIE SAGRANDI SORBA",74,"Avenue","DE LA GARE","06800 CAGNES-SUR-MER",6800,"Cagnes-sur-Mer","Pharmacie d'officine","A"]
[{"$f":"VLOOKUP(B593,Régions!A:C,3,FALSE)","v":"Provence-Alpes-Côte d'Azur"},{"v":6,"d":"06"},{"$error":"#N/A"},60004611,{"$error":"#N/A"},{"$error":"#N/A"},"SELARL PHARMACIE AMSELLEM-DARMON",13,"Avenue","CYRILLE BESSET","06800 CAGNES-SUR-MER",6800,"Cagnes-sur-Mer","Pharmacie d'officine","A"]
[{"$f":"VLOOKUP(B594,Régions!A:C,3,FALSE)","v":"Provence-Alpes-Côte d'Azur"},{"v":6,"d":"06"},{"$error":"#N/A"},60004645,{"$error":"#N/A"},{"$error":"#N/A"},"PHARMACIE KARP-LOPEZ",1,"Avenue","DE CAGNES","06800 CAGNES-SUR-MER",6800,"Cagnes-sur-Mer","Pharmacie d'officine","A"]
[{"$f":"VLOOKUP(B595,Régions!A:C,3,FALSE)","v":"Provence-Alpes-Côte d'Azur"},{"v":6,"d":"06"},"CNOP",60004660,60004660,"non","SELAS PHIE BORDELET - TERRE D'AZUR",84,"Avenue","DE NICE","06800 CAGNES-SUR-MER",6800,"Cagnes-sur-Mer","Pharmacie d'officine","A"]
[{"$f":"VLOOKUP(B596,Régions!A:C,3,FALSE)","v":"Provence-Alpes-Côte d'Azur"},{"v":6,"d":"06"},"PHARMDIRECTFR",60004694,60004694,"oui","SELAS PHARMACIE DES VESPINS",157,"Avenue","de Nice","06800 CAGNES-SUR-MER",6800,"Cagnes-sur-Mer","Pharmacie d'officine","A"]
[{"$f":"VLOOKUP(B597,Régions!A:C,3,FALSE)","v":"Provence-Alpes-Côte d'Azur"},{"v":6,"d":"06"},{"$error":"#N/A"},60004710,{"$error":"#N/A"},{"$error":"#N/A"},"SELAS  NOUVELLE PHIE DES BOULEVARDS",64,"Boulevard","MARECHAL JUIN","06800 CAGNES-SUR-MER",6800,"Cagnes-sur-Mer","Pharmacie d'officine","A"]
[{"$f":"VLOOKUP(B598,Régions!A:C,3,FALSE)","v":"Provence-Alpes-Côte d'Azur"},{"v":6,"d":"06"},{"$error":"#N/A"},60004744,{"$error":"#N/A"},{"$error":"#N/A"},"SELARL PHARMACIE DE LA GARE",55,"Avenue","de la Gare","06800 CAGNES-SUR-MER",6800,"Cagnes-sur-Mer","Pharmacie d'officine","A"]
[{"$f":"VLOOKUP(B599,Régions!A:C,3,FALSE)","v":"Provence-Alpes-Côte d'Azur"},{"v":6,"d":"06"},{"$error":"#N/A"},60004777,{"$error":"#N/A"},{"$error":"#N/A"},"SELAS PHARMACIE KENNEDY",19,"Boulevard","KENNEDY","06800 CAGNES-SUR-MER",6800,"Cagnes-sur-Mer","Pharmacie d'officine","A"]
[{"$f":"VLOOKUP(B600,Régions!A:C,3,FALSE)","v":"Provence-Alpes-Côte d'Azur"},{"v":6,"d":"06"},"CNOP",60004793,60004793,"oui","SELARL BAZERIES PHARMACIE SAINT-JEAN",108,"Avenue","DES ALPES","06800 CAGNES-SUR-MER",6800,"Cagnes-sur-Mer","Pharmacie d'officine","A"]
[{"$f":"VLOOKUP(B601,Régions!A:C,3,FALSE)","v":"Provence-Alpes-Côte d'Azur"},{"v":6,"d":"06"},{"$error":"#N/A"},60004827,{"$error":"#N/A"},{"$error":"#N/A"},"SELARL GRANDE PHARMACIE DE PROVENCE",1,"Place","DU GENERAL DE GAULLE","06800 CAGNES-SUR-MER",6800,"Cagnes-sur-Mer","Pharmacie d'officine","A"]
[{"$f":"VLOOKUP(B602,Régions!A:C,3,FALSE)","v":"Provence-Alpes-Côte d'Azur"},{"v":6,"d":"06"},"PHARMDIRECTFR",60004843,60004843,"oui","SELARL PHARMACIE DU VAL FLEURI",50,"Chemin","VAL FLEURI","06800 CAGNES-SUR-MER",6800,"Cagnes-sur-Mer","Pharmacie d'officine","A"]
[{"$f":"VLOOKUP(B603,Régions!A:C,3,FALSE)","v":"Provence-Alpes-Côte d'Azur"},{"v":6,"d":"06"},"CNOP",60004876,60004876,"oui","SELARL PHARMACIE LANTIERI PHE DU PORT",7,"Avenue","JEAN  JAURES","06800 CAGNES-SUR-MER",6800,"Cagnes-sur-Mer","Pharmacie d'officine","A"]
[{"$f":"VLOOKUP(B604,Régions!A:C,3,FALSE)","v":"Provence-Alpes-Côte d'Azur"},{"v":6,"d":"06"},{"$error":"#N/A"},60004892,{"$error":"#N/A"},{"$error":"#N/A"},"SELARL  PHARMACIE DU POLYGONE","NULL","Avenue","des Alpes","06800 CAGNES-SUR-MER",6800,"Cagnes-sur-Mer","Pharmacie d'officine","A"]
[{"$f":"VLOOKUP(B605,Régions!A:C,3,FALSE)","v":"Provence-Alpes-Côte d'Azur"},{"v":6,"d":"06"},{"$error":"#N/A"},60004926,{"$error":"#N/A"},{"$error":"#N/A"},"SELARL PHARMACIE ALLIBERT",53,"Avenue","DES ALPES","06800 CAGNES-SUR-MER",6800,"Cagnes-sur-Mer","Pharmacie d'officine","A"]
[{"$f":"VLOOKUP(B606,Régions!A:C,3,FALSE)","v":"Provence-Alpes-Côte d'Azur"},{"v":6,"d":"06"},"CNOP",60004942,60004942,"oui","PHARMACIE TROISGROS",13,"Avenue","DU 3 SEPTEMBRE","06320 CAP-D'AIL",6320,"Cap-d'Ail","Pharmacie d'officine","A"]
[{"$f":"VLOOKUP(B607,Régions!A:C,3,FALSE)","v":"Provence-Alpes-Côte d'Azur"},{"v":6,"d":"06"},{"$error":"#N/A"},60004975,{"$error":"#N/A"},{"$error":"#N/A"},"PHARMACIE BARTHELON",2,"Chemin","DU VALLON DES VAUX","06800 CAGNES-SUR-MER",6800,"Cagnes-sur-Mer","Pharmacie d'officine","A"]
[{"$f":"VLOOKUP(B608,Régions!A:C,3,FALSE)","v":"Provence-Alpes-Côte d'Azur"},{"v":6,"d":"06"},"PHARMDIRECTFR",60004991,60004991,"oui","SELAS PHARMACIE LE VAILLANT",2,"Rue","de l'Eusière","06510 CARROS",6510,"Carros","Pharmacie d'officine","A"]
[{"$f":"VLOOKUP(B609,Régions!A:C,3,FALSE)","v":"Provence-Alpes-Côte d'Azur"},{"v":6,"d":"06"},{"$error":"#N/A"},60005030,{"$error":"#N/A"},{"$error":"#N/A"},"SELAS PHARMACIE CARROS LES PLANS",1092,"Route","des Fraises","06510 CARROS",6510,"Carros","Pharmacie d'officine","A"]
[{"$f":"VLOOKUP(B610,Régions!A:C,3,FALSE)","v":"Provence-Alpes-Côte d'Azur"},{"v":6,"d":"06"},"CNOP",60005063,60005063,"oui","SELAS PHARMACIE DE COLOMARS",2,"Rue","ETIENNE CURTI","06670 COLOMARS",6670,"Colomars","Pharmacie d'officine","A"]
[{"$f":"VLOOKUP(B611,Régions!A:C,3,FALSE)","v":"Provence-Alpes-Côte d'Azur"},{"v":6,"d":"06"},"CNOP",60005097,60005097,"non","SELARL PHARMACIE LA BASTIDE",83,"Avenue","DU 3 SEPTEMBRE","06320 CAP-D'AIL",6320,"Cap-d'Ail","Pharmacie d'officine","A"]
[{"$f":"VLOOKUP(B612,Régions!A:C,3,FALSE)","v":"Provence-Alpes-Côte d'Azur"},{"v":6,"d":"06"},{"$error":"#N/A"},60005113,{"$error":"#N/A"},{"$error":"#N/A"},"PHARMACIE TCHILINGUIRIAN-MAFFAIT","NULL","Place","ABBE ANTOINE CAUVIN","06390 CONTES",6390,"Contes","Pharmacie d'officine","A"]
[{"$f":"VLOOKUP(B613,Régions!A:C,3,FALSE)","v":"Provence-Alpes-Côte d'Azur"},{"v":6,"d":"06"},{"$error":"#N/A"},60005147,{"$error":"#N/A"},{"$error":"#N/A"},"PHARMACIE TCHILINGUIRIAN",18,"Place","ALLARDI","06390 CONTES",6390,"Contes","Pharmacie d'officine","A"]
[{"$f":"VLOOKUP(B614,Régions!A:C,3,FALSE)","v":"Provence-Alpes-Côte d'Azur"},{"v":6,"d":"06"},{"$error":"#N/A"},60005162,{"$error":"#N/A"},{"$error":"#N/A"},"SELAS PHARMACIE CARROS VILLE",1,"Place","DU 08 MAI 1945","06510 CARROS",6510,"Carros","Pharmacie d'officine","A"]
[{"$f":"VLOOKUP(B615,Régions!A:C,3,FALSE)","v":"Provence-Alpes-Côte d'Azur"},{"v":6,"d":"06"},{"$error":"#N/A"},60005196,{"$error":"#N/A"},{"$error":"#N/A"},"SELARL PHARMACIE DE LA CONDAMINE",27,"Rue","VIRGILE BAREL","06340 DRAP",6340,"Drap","Pharmacie d'officine","A"]
[{"$f":"VLOOKUP(B616,Régions!A:C,3,FALSE)","v":"Provence-Alpes-Côte d'Azur"},{"v":6,"d":"06"},{"$error":"#N/A"},60005212,{"$error":"#N/A"},{"$error":"#N/A"},"SELARL PHARMACIE DE DRAP",4,"Boulevard","DU GENERAL DE GAULLE","06340 DRAP",6340,"Drap","Pharmacie d'officine","A"]
[{"$f":"VLOOKUP(B617,Régions!A:C,3,FALSE)","v":"Provence-Alpes-Côte d'Azur"},{"v":6,"d":"06"},{"$error":"#N/A"},60005246,{"$error":"#N/A"},{"$error":"#N/A"},"SELEURL PHARMACIE DE L'AIGLE","NULL","Place","COLETTE","06360 EZE",6360,"Èze","Pharmacie d'officine","A"]
[{"$f":"VLOOKUP(B618,Régions!A:C,3,FALSE)","v":"Provence-Alpes-Côte d'Azur"},{"v":6,"d":"06"},"PHARMDIRECTFR",60005261,60005261,"oui","SELARL PHARMACIE DE GATTIERES",160,"Route","DE VENCE","06510 GATTIERES",6510,"Gattières","Pharmacie d'officine","A"]
[{"$f":"VLOOKUP(B619,Régions!A:C,3,FALSE)","v":"Provence-Alpes-Côte d'Azur"},{"v":6,"d":"06"},{"$error":"#N/A"},60005311,{"$error":"#N/A"},{"$error":"#N/A"},"SELAS PHIE DU VILLAGE DE GUILLAUMES",1,"Avenue","DU LIEUTENANT COLONELLI","06470 GUILLAUMES",6470,"Guillaumes","Pharmacie d'officine","A"]
[{"$f":"VLOOKUP(B620,Régions!A:C,3,FALSE)","v":"Provence-Alpes-Côte d'Azur"},{"v":6,"d":"06"},{"$error":"#N/A"},60005345,{"$error":"#N/A"},{"$error":"#N/A"},"SELARL PHARMACIE ESBERARD","NULL","NULL","ISOLA 2000","06420 ISOLA",6420,"Isola","Pharmacie d'officine","A"]
[{"$f":"VLOOKUP(B621,Régions!A:C,3,FALSE)","v":"Provence-Alpes-Côte d'Azur"},{"v":6,"d":"06"},{"$error":"#N/A"},60005394,{"$error":"#N/A"},{"$error":"#N/A"},"SARL  PHARMACIE DU JEU DE PAUME",67,"Rue","GEORGES CLEMENCEAU","06480 COLLE-SUR-LOUP (LA)",6480,"La Colle-sur-Loup","Pharmacie d'officine","A"]
[{"$f":"VLOOKUP(B622,Régions!A:C,3,FALSE)","v":"Provence-Alpes-Côte d'Azur"},{"v":6,"d":"06"},"CNOP",60005410,60005410,"oui","SELARL  PHARMACIE COLLOISE",25,"Boulevard","HONORE TEISSEIRE","06480 LA COLLE SUR LOUP",6480,"La Colle-sur-Loup","Pharmacie d'officine","A"]
[{"$f":"VLOOKUP(B623,Régions!A:C,3,FALSE)","v":"Provence-Alpes-Côte d'Azur"},{"v":6,"d":"06"},"CNOP",60005444,60005444,"non","SELARL PHARMACIE DE LA GAUDE",3,"Rue","LOUIS MICHEL FERAUD","06610 LA-GAUDE",6610,"La Gaude","Pharmacie d'officine","A"]
[{"$f":"VLOOKUP(B624,Régions!A:C,3,FALSE)","v":"Provence-Alpes-Côte d'Azur"},{"v":6,"d":"06"},{"$error":"#N/A"},60005477,{"$error":"#N/A"},{"$error":"#N/A"},"SELARL PHARMACIE PLAN DU BOIS","NULL","Lotissement","LES NERTIERES","06610 LA-GAUDE",6610,"La Gaude","Pharmacie d'officine","A"]
[{"$f":"VLOOKUP(B625,Régions!A:C,3,FALSE)","v":"Provence-Alpes-Côte d'Azur"},{"v":6,"d":"06"},"CNOP",60005493,60005493,"oui","SELARL PHARMACIE DE LA VESUBIE","NULL","Place","DES TILLEULS","06450 LANTOSQUE",6450,"Lantosque","Pharmacie d'officine","A"]
[{"$f":"VLOOKUP(B626,Régions!A:C,3,FALSE)","v":"Provence-Alpes-Côte d'Azur"},{"v":6,"d":"06"},{"$error":"#N/A"},60005527,{"$error":"#N/A"},{"$error":"#N/A"},"SARL PHARMACIE ZANETTI",65,"Boulevard","DU 8 MAI","06550 ROQUETTE-SUR-SIAGNE (LA)",6550,"La Roquette-sur-Siagne","Pharmacie d'officine","A"]
[{"$f":"VLOOKUP(B627,Régions!A:C,3,FALSE)","v":"Provence-Alpes-Côte d'Azur"},{"v":6,"d":"06"},"CNOP",60005543,60005543,"oui","SELAS PHARMACIE DE L'ESCARENE",16,"Rue","DU CHATEAU","06440 L-ESCARENE",6440,"L'Escarène","Pharmacie d'officine","A"]
[{"$f":"VLOOKUP(B628,Régions!A:C,3,FALSE)","v":"Provence-Alpes-Côte d'Azur"},{"v":6,"d":"06"},{"$error":"#N/A"},60005576,{"$error":"#N/A"},{"$error":"#N/A"},"SELARL PHARMACIE GRANDJEAN",380,"Route","DE DRAGUIGNAN","06530 TIGNET (LE)",6530,"Le Tignet","Pharmacie d'officine","A"]
[{"$f":"VLOOKUP(B629,Régions!A:C,3,FALSE)","v":"Provence-Alpes-Côte d'Azur"},{"v":6,"d":"06"},{"$error":"#N/A"},60005592,{"$error":"#N/A"},{"$error":"#N/A"},"SELARL PHARMACIE LE MEUR-HENNECART","NULL","Rue","MALAUSSENA -RUE MASSENA","06670 LEVENS",6670,"Levens","Pharmacie d'officine","A"]
[{"$f":"VLOOKUP(B630,Régions!A:C,3,FALSE)","v":"Provence-Alpes-Côte d'Azur"},{"v":6,"d":"06"},{"$error":"#N/A"},60005626,{"$error":"#N/A"},{"$error":"#N/A"},"SARL PHARMACIE MALLET",70,"Route","DE GRASSE","06370 MOUANS-SARTOUX",6370,"Mouans-Sartoux","Pharmacie d'officine","A"]
[{"$f":"VLOOKUP(B631,Régions!A:C,3,FALSE)","v":"Provence-Alpes-Côte d'Azur"},{"v":6,"d":"06"},"CNOP",60005642,60005642,"oui","SELAS  PHARMACIE DES CEDRES",324,"Avenue","DE CANNES","06370 MOUANS-SARTOUX",6370,"Mouans-Sartoux","Pharmacie d'officine","A"]
[{"$f":"VLOOKUP(B632,Régions!A:C,3,FALSE)","v":"Provence-Alpes-Côte d'Azur"},{"v":6,"d":"06"},{"$error":"#N/A"},60005675,{"$error":"#N/A"},{"$error":"#N/A"},"SELARL PHARMACIE COURREGES-GEORGE",1,"Avenue","DU DOMAINE DE ST BASILE","06250 MOUGINS",6250,"Mougins","Pharmacie d'officine","A"]
[{"$f":"VLOOKUP(B633,Régions!A:C,3,FALSE)","v":"Provence-Alpes-Côte d'Azur"},{"v":6,"d":"06"},{"$error":"#N/A"},60005691,{"$error":"#N/A"},{"$error":"#N/A"},"SELARL PHARMACIE D' OPIO",1,"Carre","DE LA FONT NEUVE","06650 OPIO",6650,"Opio","Pharmacie d'officine","A"]
[{"$f":"VLOOKUP(B634,Régions!A:C,3,FALSE)","v":"Provence-Alpes-Côte d'Azur"},{"v":6,"d":"06"},"PHARMDIRECTFR",60005725,60005725,"oui","SELAS PHARMACIE SCEPI",83,"Place","DU LOGIS","06580 PÉGOMAS",6580,"Pégomas","Pharmacie d'officine","A"]
[{"$f":"VLOOKUP(B635,Régions!A:C,3,FALSE)","v":"Provence-Alpes-Côte d'Azur"},{"v":6,"d":"06"},{"$error":"#N/A"},60005741,{"$error":"#N/A"},{"$error":"#N/A"},"SELARL PHARMACIE FONTEYRAUD",67,"Boulevard","DE LA MOURACHONNE","06580 PÉGOMAS",6580,"Pégomas","Pharmacie d'officine","A"]
[{"$f":"VLOOKUP(B636,Régions!A:C,3,FALSE)","v":"Provence-Alpes-Côte d'Azur"},{"v":6,"d":"06"},{"$error":"#N/A"},60005774,{"$error":"#N/A"},{"$error":"#N/A"},"SELAS PHARMACIE ST MARC",43,"Avenue","DE BOUTINY","06530 PEYMEINADE",6530,"Peymeinade","Pharmacie d'officine","A"]
[{"$f":"VLOOKUP(B637,Régions!A:C,3,FALSE)","v":"Provence-Alpes-Côte d'Azur"},{"v":6,"d":"06"},{"$error":"#N/A"},60005790,{"$error":"#N/A"},{"$error":"#N/A"},"SELAS PHARMACIE DU CANDEOU",1,"Chemin","du Suye","06530 PEYMEINADE",6530,"Peymeinade","Pharmacie d'officine","A"]
[{"$f":"VLOOKUP(B638,Régions!A:C,3,FALSE)","v":"Provence-Alpes-Côte d'Azur"},{"v":6,"d":"06"},{"$error":"#N/A"},60006343,{"$error":"#N/A"},{"$error":"#N/A"},"EURL PHARMACIE DE LA ROUDOULE",9,"Avenue","ALEXANDRE BARETY","06260 PUGET THENIERS",6260,"Puget-Théniers","Pharmacie d'officine","A"]
[{"$f":"VLOOKUP(B639,Régions!A:C,3,FALSE)","v":"Provence-Alpes-Côte d'Azur"},{"v":6,"d":"06"},{"$error":"#N/A"},60006376,{"$error":"#N/A"},{"$error":"#N/A"},"SELARL PHARMACIE PRZYBYLEK",4,"Place","Gen Corniglion Molinier","06450 ROQUEBILLIERE",6450,"Roquebillière","Pharmacie d'officine","A"]
[{"$f":"VLOOKUP(B640,Régions!A:C,3,FALSE)","v":"Provence-Alpes-Côte d'Azur"},{"v":6,"d":"06"},{"$error":"#N/A"},60006392,{"$error":"#N/A"},{"$error":"#N/A"},"SELARL PHIE DE CARNOLES - VERDIER",177,"Avenue","ARISTIDE BRIAND","06190 ROQUEBRUNE-CAP-MARTIN",6190,"Roquebrune-Cap-Martin","Pharmacie d'officine","A"]
[{"$f":"VLOOKUP(B641,Régions!A:C,3,FALSE)","v":"Provence-Alpes-Côte d'Azur"},{"v":6,"d":"06"},{"$error":"#N/A"},60006426,{"$error":"#N/A"},{"$error":"#N/A"},"SELAS PHARMACIE DU CAP MARTIN",228,"Avenue","ARISTIDE BRIAND","06190 ROQUEBRUNE-CAP-MARTIN",6190,"Roquebrune-Cap-Martin","Pharmacie d'officine","A"]
[{"$f":"VLOOKUP(B642,Régions!A:C,3,FALSE)","v":"Provence-Alpes-Côte d'Azur"},{"v":6,"d":"06"},{"$error":"#N/A"},60006491,{"$error":"#N/A"},{"$error":"#N/A"},"SELARL PHARMACIE CASABURO",37,"Promenade","ROBERT SCHUMANN","06190 ROQUEBRUNE-CAP-MARTIN",6190,"Roquebrune-Cap-Martin","Pharmacie d'officine","A"]
[{"$f":"VLOOKUP(B643,Régions!A:C,3,FALSE)","v":"Provence-Alpes-Côte d'Azur"},{"v":6,"d":"06"},"CNOP",60006897,60006897,"oui","SELARL PHARMACIE GARNAUD",33,"Avenue","PAUL DOUMER","06190 ROQUEBRUNE-CAP-MARTIN",6190,"Roquebrune-Cap-Martin","Pharmacie d'officine","A"]
[{"$f":"VLOOKUP(B644,Régions!A:C,3,FALSE)","v":"Provence-Alpes-Côte d'Azur"},{"v":6,"d":"06"},{"$error":"#N/A"},60006913,{"$error":"#N/A"},{"$error":"#N/A"},"PHARMACIE BOUNTHANH",2,"Avenue","DE FRANCE","06190 ROQUEBRUNE-CAP-MARTIN",6190,"Roquebrune-Cap-Martin","Pharmacie d'officine","A"]
[{"$f":"VLOOKUP(B645,Régions!A:C,3,FALSE)","v":"Provence-Alpes-Côte d'Azur"},{"v":6,"d":"06"},"CNOP",60006947,60006947,"non","SELAS PHARMACIE NOTRE DAME","NULL","Route","DU ROURET","06330 ROQUEFORT-LES-PINS",6330,"Roquefort-les-Pins","Pharmacie d'officine","A"]
[{"$f":"VLOOKUP(B646,Régions!A:C,3,FALSE)","v":"Provence-Alpes-Côte d'Azur"},{"v":6,"d":"06"},{"$error":"#N/A"},60006996,{"$error":"#N/A"},{"$error":"#N/A"},"SNC PHARMACIE DU PLAN","NULL","Quartier","DU PLAN","06330 ROQUEFORT-LES-PINS",6330,"Roquefort-les-Pins","Pharmacie d'officine","A"]
[{"$f":"VLOOKUP(B647,Régions!A:C,3,FALSE)","v":"Provence-Alpes-Côte d'Azur"},{"v":6,"d":"06"},"CNOP",60007010,60007010,"oui","EURL PHARMACIE VERON",218,"Avenue","de Grasse","06650 LE ROURET",6650,"Le Rouret","Pharmacie d'officine","A"]
[{"$f":"VLOOKUP(B648,Régions!A:C,3,FALSE)","v":"Provence-Alpes-Côte d'Azur"},{"v":6,"d":"06"},"CNOP",60007044,60007044,"oui","PHARMACIE TURKI",73,"Quai","DE LA BANQUIERE","06730 SAINT-ANDRE",6730,"Saint-André-de-la-Roche","Pharmacie d'officine","A"]
[{"$f":"VLOOKUP(B649,Régions!A:C,3,FALSE)","v":"Provence-Alpes-Côte d'Azur"},{"v":6,"d":"06"},"PHARMDIRECTFR",60007077,60007077,"oui","SELARL PHARMACIE DES ORMEAUX",14,"Place","DU GÉNÉRAL DE GAULLE","06530 SAINT-CÉZAIRE-SUR-SIAGNE",6530,"Saint-Cézaire-sur-Siagne","Pharmacie d'officine","A"]
[{"$f":"VLOOKUP(B650,Régions!A:C,3,FALSE)","v":"Provence-Alpes-Côte d'Azur"},{"v":6,"d":"06"},{"$error":"#N/A"},60007093,{"$error":"#N/A"},{"$error":"#N/A"},"PHARMACIE OURMANN",12,"Boulevard","D'AURON","06660 SAINT-ETIENNE-DE-TINEE",6660,"Saint-Étienne-de-Tinée","Pharmacie d'officine","A"]
[{"$f":"VLOOKUP(B651,Régions!A:C,3,FALSE)","v":"Provence-Alpes-Côte d'Azur"},{"v":6,"d":"06"},{"$error":"#N/A"},60007127,{"$error":"#N/A"},{"$error":"#N/A"},"PHARMACIE BERNOLIN",1,"Avenue","Denis Semeria","06230 SAINT-JEAN-CAP-FERRAT",6230,"Saint-Jean-Cap-Ferrat","Pharmacie d'officine","A"]
[{"$f":"VLOOKUP(B652,Régions!A:C,3,FALSE)","v":"Provence-Alpes-Côte d'Azur"},{"v":6,"d":"06"},"PHARMDIRECTFR",60007143,60007143,"oui","SARL PHARMACIE PONT ST JEAN",57,"Boulevard","DURANDY","06230 ST JEAN CAP FERRAT",6230,"Saint-Jean-Cap-Ferrat","Pharmacie d'officine","A"]
[{"$f":"VLOOKUP(B653,Régions!A:C,3,FALSE)","v":"Provence-Alpes-Côte d'Azur"},{"v":6,"d":"06"},"PHARMDIRECTFR",60007176,60007176,"oui","SELAS PHARMACIE DU PEYRON","NULL","NULL","2025 CD 18 LE PEYRON","06640 SAINT-JEANNET",6640,"Saint-Jeannet","Pharmacie d'officine","A"]
[{"$f":"VLOOKUP(B654,Régions!A:C,3,FALSE)","v":"Provence-Alpes-Côte d'Azur"},{"v":6,"d":"06"},{"$error":"#N/A"},60007192,{"$error":"#N/A"},{"$error":"#N/A"},"SELARL PHARMACIE GAROSCIO",251,"Avenue","DU GENERAL DE GAULLE","06700 ST LAURENT DU VAR",6700,"Saint-Laurent-du-Var","Pharmacie d'officine","A"]
[{"$f":"VLOOKUP(B655,Régions!A:C,3,FALSE)","v":"Provence-Alpes-Côte d'Azur"},{"v":6,"d":"06"},{"$error":"#N/A"},60007226,{"$error":"#N/A"},{"$error":"#N/A"},"PHARMACIE HAIDER",154,"Rue","ALPHONSE DAUDET","06700 SAINT-LAURENT-DU-VAR",6700,"Saint-Laurent-du-Var","Pharmacie d'officine","A"]
[{"$f":"VLOOKUP(B656,Régions!A:C,3,FALSE)","v":"Provence-Alpes-Côte d'Azur"},{"v":6,"d":"06"},{"$error":"#N/A"},60007242,{"$error":"#N/A"},{"$error":"#N/A"},"PHARMACIE MIGANI",180,"Avenue","DES PUGETS","06700 SAINT-LAURENT-DU-VAR",6700,"Saint-Laurent-du-Var","Pharmacie d'officine","A"]
[{"$f":"VLOOKUP(B657,Régions!A:C,3,FALSE)","v":"Provence-Alpes-Côte d'Azur"},{"v":6,"d":"06"},{"$error":"#N/A"},60007275,{"$error":"#N/A"},{"$error":"#N/A"},"SELARL PHARMACIE BERNARD - BRASSEUR",613,"Avenue","DE LA LIBERATION","06700 SAINT-LAURENT-DU-VAR",6700,"Saint-Laurent-du-Var","Pharmacie d'officine","A"]
[{"$f":"VLOOKUP(B658,Régions!A:C,3,FALSE)","v":"Provence-Alpes-Côte d'Azur"},{"v":6,"d":"06"},"CNOP",60007291,60007291,"oui","SELARL PHARMACIE DE L'EMPEREUR",75,"Avenue","MARC MOSCHETTI","06700 ST LAURENT DU VAR",6700,"Saint-Laurent-du-Var","Pharmacie d'officine","A"]
[{"$f":"VLOOKUP(B659,Régions!A:C,3,FALSE)","v":"Provence-Alpes-Côte d'Azur"},{"v":6,"d":"06"},{"$error":"#N/A"},60007325,{"$error":"#N/A"},{"$error":"#N/A"},"SELARL PHARMACIE ST JOSEPH",82,"Rue","ALBERT CAMUS","06700 SAINT-LAURENT-DU-VAR",6700,"Saint-Laurent-du-Var","Pharmacie d'officine","A"]
[{"$f":"VLOOKUP(B660,Régions!A:C,3,FALSE)","v":"Provence-Alpes-Côte d'Azur"},{"v":6,"d":"06"},"CNOP",60007341,60007341,"oui","SELARL PHARMACIE DE LA PLAINE","NULL","NULL","LA DIGUE RM 6202","06670 ST MARTIN DU VAR",6670,"Saint-Martin-du-Var","Pharmacie d'officine","A"]
[{"$f":"VLOOKUP(B661,Régions!A:C,3,FALSE)","v":"Provence-Alpes-Côte d'Azur"},{"v":6,"d":"06"},"PHARMDIRECTFR",60007374,60007374,"oui","PHARMACIE D'ANGELI",50,"Rue","DU DR CAGNOLI","06450 SAINT-MARTIN-VESUBIE",6450,"Saint-Martin-Vésubie","Pharmacie d'officine","A"]
[{"$f":"VLOOKUP(B662,Régions!A:C,3,FALSE)","v":"Provence-Alpes-Côte d'Azur"},{"v":6,"d":"06"},"CNOP",60007747,60007747,"oui","SELARL PHARMACIE DE SAINT PAUL","NULL","Rond point","DE SAINTE CLAIRE","06570 SAINT-PAUL",6570,"Saint-Paul-de-Vence","Pharmacie d'officine","A"]
[{"$f":"VLOOKUP(B663,Régions!A:C,3,FALSE)","v":"Provence-Alpes-Côte d'Azur"},{"v":6,"d":"06"},{"$error":"#N/A"},60007762,{"$error":"#N/A"},{"$error":"#N/A"},"SELARL PHARMACIE CAUJOLLE",2,"Rue","VINCENT COMITI","06380 SOSPEL",6380,"Sospel","Pharmacie d'officine","A"]
[{"$f":"VLOOKUP(B664,Régions!A:C,3,FALSE)","v":"Provence-Alpes-Côte d'Azur"},{"v":6,"d":"06"},{"$error":"#N/A"},60007812,{"$error":"#N/A"},{"$error":"#N/A"},"SELARL PHARMACIE LAURENT",5,"Boulevard","CHARLES DAHON","06590 THEOULE-SUR-MER",6590,"Théoule-sur-Mer","Pharmacie d'officine","A"]
[{"$f":"VLOOKUP(B665,Régions!A:C,3,FALSE)","v":"Provence-Alpes-Côte d'Azur"},{"v":6,"d":"06"},{"$error":"#N/A"},60007846,{"$error":"#N/A"},{"$error":"#N/A"},"PHARMACIE MARTIN",94,"Boulevard","DU GENERAL DE GAULLE","06340 TRINITÉ (LA)",6340,"La Trinité","Pharmacie d'officine","A"]
[{"$f":"VLOOKUP(B666,Régions!A:C,3,FALSE)","v":"Provence-Alpes-Côte d'Azur"},{"v":6,"d":"06"},{"$error":"#N/A"},60008398,{"$error":"#N/A"},{"$error":"#N/A"},"SELARL PHARMACIE MARTY ALICE",1484,"Route","DE LA MER","06410 BIOT",6410,"Biot","Pharmacie d'officine","A"]
[{"$f":"VLOOKUP(B667,Régions!A:C,3,FALSE)","v":"Provence-Alpes-Côte d'Azur"},{"v":6,"d":"06"},{"$error":"#N/A"},60009875,{"$error":"#N/A"},{"$error":"#N/A"},"SELURL PHARMACIE AVRILLON","NULL","Immeuble","L'EDELWEISS","06470 GUILLAUMES",6470,"Guillaumes","Pharmacie d'officine","A"]
[{"$f":"VLOOKUP(B668,Régions!A:C,3,FALSE)","v":"Provence-Alpes-Côte d'Azur"},{"v":6,"d":"06"},"CNOP",60009891,60009891,"oui","SELARL PHARMACIE SAINT JEAN",849,"Avenue","DE LA REPUBLIQUE","06550 LA-ROQUETTE-SUR-SIAGNE",6550,"La Roquette-sur-Siagne","Pharmacie d'officine","A"]
[{"$f":"VLOOKUP(B669,Régions!A:C,3,FALSE)","v":"Provence-Alpes-Côte d'Azur"},{"v":6,"d":"06"},{"$error":"#N/A"},60009925,{"$error":"#N/A"},{"$error":"#N/A"},"SELAS COMTE DE MOUGINS",6,"Place","DES ARCADES","06250 MOUGINS-LE-HAUT",6250,"Mougins","Pharmacie d'officine","A"]
[{"$f":"VLOOKUP(B670,Régions!A:C,3,FALSE)","v":"Provence-Alpes-Côte d'Azur"},{"v":6,"d":"06"},"CNOP",60009941,60009941,"oui","SELAS PHARMACIE DE TOURNAMY",762,"Avenue","DE TOURNAMY","06250 MOUGINS",6250,"Mougins","Pharmacie d'officine","A"]
[{"$f":"VLOOKUP(B671,Régions!A:C,3,FALSE)","v":"Provence-Alpes-Côte d'Azur"},{"v":6,"d":"06"},"PHARMDIRECTFR",60009974,60009974,"oui","SELAS PHARMACIE PLANTIER",2310,"Avenue","MARECHAL JUIN","06250 MOUGINS",6250,"Mougins","Pharmacie d'officine","A"]
[{"$f":"VLOOKUP(B672,Régions!A:C,3,FALSE)","v":"Provence-Alpes-Côte d'Azur"},{"v":6,"d":"06"},{"$error":"#N/A"},60009990,{"$error":"#N/A"},{"$error":"#N/A"},"SARL CTPHARMA PHARMACIE DE MOUGINS",71,"Avenue","DE TOURNAMY","06250 MOUGINS",6250,"Mougins","Pharmacie d'officine","A"]
[{"$f":"VLOOKUP(B673,Régions!A:C,3,FALSE)","v":"Provence-Alpes-Côte d'Azur"},{"v":6,"d":"06"},{"$error":"#N/A"},60010030,{"$error":"#N/A"},{"$error":"#N/A"},"SELAS PHARMACIE LAURENTINE",650,"Avenue","GENERAL DE GAULLE","06700 SAINT-LAURENT-DU-VAR",6700,"Saint-Laurent-du-Var","Pharmacie d'officine","A"]
[{"$f":"VLOOKUP(B674,Régions!A:C,3,FALSE)","v":"Provence-Alpes-Côte d'Azur"},{"v":6,"d":"06"},{"$error":"#N/A"},60010089,{"$error":"#N/A"},{"$error":"#N/A"},"SELAS PHARMACIE DU FONT DE L'ORME",80,"Allee","DES ORMES","06250 MOUGINS",6250,"Mougins","Pharmacie d'officine","A"]
[{"$f":"VLOOKUP(B675,Régions!A:C,3,FALSE)","v":"Provence-Alpes-Côte d'Azur"},{"v":6,"d":"06"},"PHARMDIRECTFR",60010162,60010162,"oui","SELARL PHARMACIE HALOUI",66,"Boulevard","DU GAL DE GAULLE","06340 TRINITÉ (LA)",6340,"La Trinité","Pharmacie d'officine","A"]
[{"$f":"VLOOKUP(B676,Régions!A:C,3,FALSE)","v":"Provence-Alpes-Côte d'Azur"},{"v":6,"d":"06"},{"$error":"#N/A"},60010196,{"$error":"#N/A"},{"$error":"#N/A"},"SELARL PHARMACIE CESARONI SOLQUES",4,"Place","DE LA REPUBLIQUE","06340 TRINITÉ (LA)",6340,"La Trinité","Pharmacie d'officine","A"]
[{"$f":"VLOOKUP(B677,Régions!A:C,3,FALSE)","v":"Provence-Alpes-Côte d'Azur"},{"v":6,"d":"06"},{"$error":"#N/A"},60010212,{"$error":"#N/A"},{"$error":"#N/A"},"SELAS PHARMACIE BLACHET",5,"Route","D'ASPREMONT","06690 TOURRETTE-LEVENS",6690,"Tourrette-Levens","Pharmacie d'officine","A"]
[{"$f":"VLOOKUP(B678,Régions!A:C,3,FALSE)","v":"Provence-Alpes-Côte d'Azur"},{"v":6,"d":"06"},{"$error":"#N/A"},60010246,{"$error":"#N/A"},{"$error":"#N/A"},"SELARL GRANDE PHARMACIE DE TOURRETTES",3,"Route","DE GRASSE","06140 TOURRETTES-SUR-LOUP",6140,"Tourrettes-sur-Loup","Pharmacie d'officine","A"]
[{"$f":"VLOOKUP(B679,Régions!A:C,3,FALSE)","v":"Provence-Alpes-Côte d'Azur"},{"v":6,"d":"06"},{"$error":"#N/A"},60010261,{"$error":"#N/A"},{"$error":"#N/A"},"SELARL PHARMACIE DE LA TURBIE",6,"Avenue","DU GENERAL DE GAULLE","06320 LA-TURBIE",6320,"La Turbie","Pharmacie d'officine","A"]
[{"$f":"VLOOKUP(B680,Régions!A:C,3,FALSE)","v":"Provence-Alpes-Côte d'Azur"},{"v":6,"d":"06"},"PHARMDIRECTFR",60010295,60010295,"oui","SELAS PHARMACIE DA ROS","NULL","Centre","MEDICAL ROUTE DES DOLINES","06560 VALBONNE",6560,"Valbonne","Pharmacie d'officine","A"]
[{"$f":"VLOOKUP(B681,Régions!A:C,3,FALSE)","v":"Provence-Alpes-Côte d'Azur"},{"v":6,"d":"06"},{"$error":"#N/A"},60010311,{"$error":"#N/A"},{"$error":"#N/A"},"SELARL PHARMACIE DU CIV","NULL","Place","JOSEPH BERMOND","06560 VALBONNE",6560,"Valbonne","Pharmacie d'officine","A"]
[{"$f":"VLOOKUP(B682,Régions!A:C,3,FALSE)","v":"Provence-Alpes-Côte d'Azur"},{"v":6,"d":"06"},{"$error":"#N/A"},60010345,{"$error":"#N/A"},{"$error":"#N/A"},"SELARL PHARMACIE BONNET",2,"Place","DE LA VIGNASSE","06560 VALBONNE",6560,"Valbonne","Pharmacie d'officine","A"]
[{"$f":"VLOOKUP(B683,Régions!A:C,3,FALSE)","v":"Provence-Alpes-Côte d'Azur"},{"v":6,"d":"06"},"CNOP",60010360,60010360,"oui","SARL PHARMACIE BETRY",45,"Avenue","de Cannes","06220 VALLAURIS",6220,"Vallauris","Pharmacie d'officine","A"]
[{"$f":"VLOOKUP(B684,Régions!A:C,3,FALSE)","v":"Provence-Alpes-Côte d'Azur"},{"v":6,"d":"06"},{"$error":"#N/A"},60010394,{"$error":"#N/A"},{"$error":"#N/A"},"SARL PHARMACIE DES ARTS",1,"Place","Jacques Cavasse","06220 VALLAURIS",6220,"Vallauris","Pharmacie d'officine","A"]
[{"$f":"VLOOKUP(B685,Régions!A:C,3,FALSE)","v":"Provence-Alpes-Côte d'Azur"},{"v":6,"d":"06"},{"$error":"#N/A"},60010410,{"$error":"#N/A"},{"$error":"#N/A"},"SELARL PHARMACIE CLEMENCEAU",19,"Avenue","GEORGES CLEMENCEAU","06220 VALLAURIS",6220,"Vallauris","Pharmacie d'officine","A"]
[{"$f":"VLOOKUP(B686,Régions!A:C,3,FALSE)","v":"Provence-Alpes-Côte d'Azur"},{"v":6,"d":"06"},{"$error":"#N/A"},60010444,{"$error":"#N/A"},{"$error":"#N/A"},"SELAS PHARMACIE DU VAL D'OR VALLAURIS",54,"Avenue","MARECHAL JUIN","06220 VALLAURIS",6220,"Vallauris","Pharmacie d'officine","A"]
[{"$f":"VLOOKUP(B687,Régions!A:C,3,FALSE)","v":"Provence-Alpes-Côte d'Azur"},{"v":6,"d":"06"},{"$error":"#N/A"},60010477,{"$error":"#N/A"},{"$error":"#N/A"},"SARL PHARMACIE ROCHE",7,"Avenue","MARTYRS DE LA RESISTANCE","06220 VALLAURIS",6220,"Vallauris","Pharmacie d'officine","A"]
[{"$f":"VLOOKUP(B688,Régions!A:C,3,FALSE)","v":"Provence-Alpes-Côte d'Azur"},{"v":6,"d":"06"},{"$error":"#N/A"},60010493,{"$error":"#N/A"},{"$error":"#N/A"},"SELARL PHARMACIE DE L'OPEN","NULL","Avenue","GEORGE POMPIDOU","06220 VALLAURIS",6220,"Vallauris","Pharmacie d'officine","A"]
[{"$f":"VLOOKUP(B689,Régions!A:C,3,FALSE)","v":"Provence-Alpes-Côte d'Azur"},{"v":6,"d":"06"},{"$error":"#N/A"},60010527,{"$error":"#N/A"},{"$error":"#N/A"},"PHARMACIE AUBERT",16,"Avenue","DU TAPIS VERT","06220 VALLAURIS",6220,"Vallauris","Pharmacie d'officine","A"]
[{"$f":"VLOOKUP(B690,Régions!A:C,3,FALSE)","v":"Provence-Alpes-Côte d'Azur"},{"v":6,"d":"06"},"PHARMDIRECTFR",60010543,60010543,"oui","PHARMACIE BOUSSIDAN",4,"Avenue","DE BELGIQUE","06220 VALLAURIS",6220,"Vallauris","Pharmacie d'officine","A"]
[{"$f":"VLOOKUP(B691,Régions!A:C,3,FALSE)","v":"Provence-Alpes-Côte d'Azur"},{"v":6,"d":"06"},"CNOP",60010576,60010576,"oui","SELAS  PHARMACIE DES ILES",36,"Avenue","DE LA GARE","06220 VALLAURIS",6220,"Vallauris","Pharmacie d'officine","A"]
[{"$f":"VLOOKUP(B692,Régions!A:C,3,FALSE)","v":"Provence-Alpes-Côte d'Azur"},{"v":6,"d":"06"},{"$error":"#N/A"},60010592,{"$error":"#N/A"},{"$error":"#N/A"},"PHARMACIE POUZIN",74,"Avenue","DE LA LIBERTE","06220 VALLAURIS",6220,"Vallauris","Pharmacie d'officine","A"]
[{"$f":"VLOOKUP(B693,Régions!A:C,3,FALSE)","v":"Provence-Alpes-Côte d'Azur"},{"v":6,"d":"06"},{"$error":"#N/A"},60010626,{"$error":"#N/A"},{"$error":"#N/A"},"SELARL PHARMACIE DU GRAND JARDIN",30,"Place","DU GRAND JARDIN","06140 VENCE",6140,"Vence","Pharmacie d'officine","A"]
[{"$f":"VLOOKUP(B694,Régions!A:C,3,FALSE)","v":"Provence-Alpes-Côte d'Azur"},{"v":6,"d":"06"},{"$error":"#N/A"},60010642,{"$error":"#N/A"},{"$error":"#N/A"},"SELARL PHARMACIE DU FRENE",1,"Place","DU FRENE","06140 VENCE",6140,"Vence","Pharmacie d'officine","A"]
[{"$f":"VLOOKUP(B695,Régions!A:C,3,FALSE)","v":"Provence-Alpes-Côte d'Azur"},{"v":6,"d":"06"},{"$error":"#N/A"},60010675,{"$error":"#N/A"},{"$error":"#N/A"},"SELARL PHARMACIE DE VOSGELADE",739,"Chemin","DE LA GAUDE","06140 VENCE",6140,"Vence","Pharmacie d'officine","A"]
[{"$f":"VLOOKUP(B696,Régions!A:C,3,FALSE)","v":"Provence-Alpes-Côte d'Azur"},{"v":6,"d":"06"},{"$error":"#N/A"},60010691,{"$error":"#N/A"},{"$error":"#N/A"},"SELAS PHARMACIE DE LA POSTE","NULL","Angle","20 AV  V.TUBY & 2 PL MARECHAL JUIN","06140 VENCE",6140,"Vence","Pharmacie d'officine","A"]
[{"$f":"VLOOKUP(B697,Régions!A:C,3,FALSE)","v":"Provence-Alpes-Côte d'Azur"},{"v":6,"d":"06"},"CNOP",60010725,60010725,"oui","SELASU PHARMACIE NICOLAS",169,"Avenue","DU COLONEL MEYERE","06140 VENCE",6140,"Vence","Pharmacie d'officine","A"]
[{"$f":"VLOOKUP(B698,Régions!A:C,3,FALSE)","v":"Provence-Alpes-Côte d'Azur"},{"v":6,"d":"06"},{"$error":"#N/A"},60010741,{"$error":"#N/A"},{"$error":"#N/A"},"SELARL PHARMACIE LA VENCOISE",27,"Avenue","MARCELLIN MAUREL","06140 VENCE",6140,"Vence","Pharmacie d'officine","A"]
[{"$f":"VLOOKUP(B699,Régions!A:C,3,FALSE)","v":"Provence-Alpes-Côte d'Azur"},{"v":6,"d":"06"},{"$error":"#N/A"},60010774,{"$error":"#N/A"},{"$error":"#N/A"},"SELARL  PHARMACIE PASQUET",125,"Avenue","RHIN ET DANUBE","06140 VENCE",6140,"Vence","Pharmacie d'officine","A"]
[{"$f":"VLOOKUP(B700,Régions!A:C,3,FALSE)","v":"Provence-Alpes-Côte d'Azur"},{"v":6,"d":"06"},"PHARMDIRECTFR",60010790,60010790,"oui","SELEURL PHARMACIE DE L'OCTROI",2,"Avenue","DU MARECHAL FOCH","06230 VILLEFRANCHE-SUR-MER",6230,"Villefranche-sur-Mer","Pharmacie d'officine","A"]
[{"$f":"VLOOKUP(B701,Régions!A:C,3,FALSE)","v":"Provence-Alpes-Côte d'Azur"},{"v":6,"d":"06"},"CNOP",60010824,60010824,"oui","PHARMACIE CUVEREAUX",4,"Rue","MARECHAL JOFFRE","06230 VILLEFRANCHE-SUR-MER",6230,"Villefranche-sur-Mer","Pharmacie d'officine","A"]
[{"$f":"VLOOKUP(B702,Régions!A:C,3,FALSE)","v":"Provence-Alpes-Côte d'Azur"},{"v":6,"d":"06"},{"$error":"#N/A"},60010840,{"$error":"#N/A"},{"$error":"#N/A"},"SELARL PHARMACIE IONITA",1,"Place","DE LA PAIX","06230 VILLEFRANCHE SUR MER",6230,"Villefranche-sur-Mer","Pharmacie d'officine","A"]
[{"$f":"VLOOKUP(B703,Régions!A:C,3,FALSE)","v":"Provence-Alpes-Côte d'Azur"},{"v":6,"d":"06"},{"$error":"#N/A"},60010865,{"$error":"#N/A"},{"$error":"#N/A"},"SELARL PHARMACIE DE LA MER",1,"Avenue","DE LA MER","06270 VILLENEUVE-LOUBET",6270,"Villeneuve-Loubet","Pharmacie d'officine","A"]
[{"$f":"VLOOKUP(B704,Régions!A:C,3,FALSE)","v":"Provence-Alpes-Côte d'Azur"},{"v":6,"d":"06"},{"$error":"#N/A"},60010881,{"$error":"#N/A"},{"$error":"#N/A"},"SELARL PHIE DES HAMEAUX DU SOLEIL",753,"Route","DE LA COLLE","06270 VILLENEUVE-LOUBET",6270,"Villeneuve-Loubet","Pharmacie d'officine","A"]
[{"$f":"VLOOKUP(B705,Régions!A:C,3,FALSE)","v":"Provence-Alpes-Côte d'Azur"},{"v":6,"d":"06"},"CNOP",60010915,60010915,"oui","SELARL PHARMACIE DU VILLAGE",11,"Avenue","DE LA LIBERATION","06270 VILLENEUVE-LOUBET",6270,"Villeneuve-Loubet","Pharmacie d'officine","A"]
[{"$f":"VLOOKUP(B706,Régions!A:C,3,FALSE)","v":"Provence-Alpes-Côte d'Azur"},{"v":6,"d":"06"},{"$error":"#N/A"},60010931,{"$error":"#N/A"},{"$error":"#N/A"},"PHARMACIE GUICHARD-SERRE","NULL","Rue","DU COMMERCE","06270 VILLENEUVE LOUBET",6270,"Villeneuve-Loubet","Pharmacie d'officine","A"]
[{"$f":"VLOOKUP(B707,Régions!A:C,3,FALSE)","v":"Provence-Alpes-Côte d'Azur"},{"v":6,"d":"06"},"CNOP",60010964,60010964,"oui","SELARL PHIE MARINA BAIE DES ANGES",51,"Avenue","DES MAURETTES","06270 VILLENEUVE LOUBET",6270,"Villeneuve-Loubet","Pharmacie d'officine","A"]
[{"$f":"VLOOKUP(B708,Régions!A:C,3,FALSE)","v":"Provence-Alpes-Côte d'Azur"},{"v":6,"d":"06"},"PHARMDIRECTFR",60010980,60010980,"oui","SELASU PHARMACIE ALEXANDRE III",44,"Boulevard","ALEXANDRE III","06400 CANNES",6400,"Cannes","Pharmacie d'officine","A"]
[{"$f":"VLOOKUP(B709,Régions!A:C,3,FALSE)","v":"Provence-Alpes-Côte d'Azur"},{"v":6,"d":"06"},{"$error":"#N/A"},60011012,{"$error":"#N/A"},{"$error":"#N/A"},"SELAS PHARMACIE DU FESTIVAL",7,"Rue","D'ANTIBES","06400 CANNES",6400,"Cannes","Pharmacie d'officine","A"]
[{"$f":"VLOOKUP(B710,Régions!A:C,3,FALSE)","v":"Provence-Alpes-Côte d'Azur"},{"v":6,"d":"06"},"CNOP",60011046,60011046,"oui","SELAS PHARMACIE LOYER",36,"Rue","D'ANTIBES","06400 CANNES",6400,"Cannes","Pharmacie d'officine","A"]
[{"$f":"VLOOKUP(B711,Régions!A:C,3,FALSE)","v":"Provence-Alpes-Côte d'Azur"},{"v":6,"d":"06"},{"$error":"#N/A"},60011061,{"$error":"#N/A"},{"$error":"#N/A"},"SELARL PHARMACIE EUROPEENNE",46,"Rue","D ANTIBES","06400 CANNES",6400,"Cannes","Pharmacie d'officine","A"]
[{"$f":"VLOOKUP(B712,Régions!A:C,3,FALSE)","v":"Provence-Alpes-Côte d'Azur"},{"v":6,"d":"06"},{"$error":"#N/A"},60011111,{"$error":"#N/A"},{"$error":"#N/A"},"SELAS PHARMACIE ANGLO-FRANCAISE",94,"Rue","d'Antibes","06400 CANNES",6400,"Cannes","Pharmacie d'officine","A"]
[{"$f":"VLOOKUP(B713,Régions!A:C,3,FALSE)","v":"Provence-Alpes-Côte d'Azur"},{"v":6,"d":"06"},"CNOP",60011160,60011160,"oui","SELARL PHARMACIE WEHREL",137,"Rue","D'ANTIBES","06400 CANNES",6400,"Cannes","Pharmacie d'officine","A"]
[{"$f":"VLOOKUP(B714,Régions!A:C,3,FALSE)","v":"Provence-Alpes-Côte d'Azur"},{"v":6,"d":"06"},{"$error":"#N/A"},60011194,{"$error":"#N/A"},{"$error":"#N/A"},"SELARL PHARMACIE VERDEAUX",2,"Boulevard","CARNOT - 1 BOULEVARD D'ALSACE","06400 CANNES",6400,"Cannes","Pharmacie d'officine","A"]
[{"$f":"VLOOKUP(B715,Régions!A:C,3,FALSE)","v":"Provence-Alpes-Côte d'Azur"},{"v":6,"d":"06"},"CNOP",60011210,60011210,"oui","SARL PHARMACIE VAUBAN",26,"Boulevard","CARNOT","06400 CANNES",6400,"Cannes","Pharmacie d'officine","A"]
[{"$f":"VLOOKUP(B716,Régions!A:C,3,FALSE)","v":"Provence-Alpes-Côte d'Azur"},{"v":6,"d":"06"},"PHARMDIRECTFR",60011244,60011244,"oui","SELARL PHARMACIE MODERNE",81,"Boulevard","CARNOT","06400 CANNES",6400,"Cannes","Pharmacie d'officine","A"]
[{"$f":"VLOOKUP(B717,Régions!A:C,3,FALSE)","v":"Provence-Alpes-Côte d'Azur"},{"v":6,"d":"06"},{"$error":"#N/A"},60011277,{"$error":"#N/A"},{"$error":"#N/A"},"SARL PHARMACIE CHAPELLE",23,"Avenue","DE LERINS","06400 CANNES",6400,"Cannes","Pharmacie d'officine","A"]
[{"$f":"VLOOKUP(B718,Régions!A:C,3,FALSE)","v":"Provence-Alpes-Côte d'Azur"},{"v":6,"d":"06"},"PHARMDIRECTFR",60011293,60011293,"oui","SELAS PHARMACIE DU BOCAGE 2",26,"Avenue","DES COTEAUX","06400 CANNES",6400,"Cannes","Pharmacie d'officine","A"]
[{"$f":"VLOOKUP(B719,Régions!A:C,3,FALSE)","v":"Provence-Alpes-Côte d'Azur"},{"v":6,"d":"06"},{"$error":"#N/A"},60011327,{"$error":"#N/A"},{"$error":"#N/A"},"PHARMACIE BARONE",2,"Place","DE L'ETANG","06400 CANNES",6400,"Cannes","Pharmacie d'officine","A"]
[{"$f":"VLOOKUP(B720,Régions!A:C,3,FALSE)","v":"Provence-Alpes-Côte d'Azur"},{"v":6,"d":"06"},"CNOP",60011343,60011343,"oui","SNC PHIE DE L'HÔTEL DE VILLE B.ARNAUD",1,"Rue","FELIX FAURE","06400 CANNES",6400,"Cannes","Pharmacie d'officine","A"]
[{"$f":"VLOOKUP(B721,Régions!A:C,3,FALSE)","v":"Provence-Alpes-Côte d'Azur"},{"v":6,"d":"06"},{"$error":"#N/A"},60011376,{"$error":"#N/A"},{"$error":"#N/A"},"SELARL PHARMACIE CHANAY-LAUZE",21,"Rue","FELIX FAURE","06400 CANNES",6400,"Cannes","Pharmacie d'officine","A"]
[{"$f":"VLOOKUP(B722,Régions!A:C,3,FALSE)","v":"Provence-Alpes-Côte d'Azur"},{"v":6,"d":"06"},{"$error":"#N/A"},60011392,{"$error":"#N/A"},{"$error":"#N/A"},"SELARL PHARMACIE CANNES GAMBETTA",1,"Place","GAMBETTA","06400 CANNES",6400,"Cannes","Pharmacie d'officine","A"]
[{"$f":"VLOOKUP(B723,Régions!A:C,3,FALSE)","v":"Provence-Alpes-Côte d'Azur"},{"v":6,"d":"06"},{"$error":"#N/A"},60011426,{"$error":"#N/A"},{"$error":"#N/A"},"PHARMACIE FUSCO",7,"Rue","DU DOCTEUR GAZAGNAIRE","06400 CANNES",6400,"Cannes","Pharmacie d'officine","A"]
[{"$f":"VLOOKUP(B724,Régions!A:C,3,FALSE)","v":"Provence-Alpes-Côte d'Azur"},{"v":6,"d":"06"},{"$error":"#N/A"},60011442,{"$error":"#N/A"},{"$error":"#N/A"},"SELARL PHARMACIE CONTINENTALE",19,"Avenue","DE GRASSE","06400 CANNES",6400,"Cannes","Pharmacie d'officine","A"]
[{"$f":"VLOOKUP(B725,Régions!A:C,3,FALSE)","v":"Provence-Alpes-Côte d'Azur"},{"v":6,"d":"06"},{"$error":"#N/A"},60011491,{"$error":"#N/A"},{"$error":"#N/A"},"SARL PHARMACIE DES BROUSSAILLES",173,"Avenue","de Grasse","06400 CANNES",6400,"Cannes","Pharmacie d'officine","A"]
[{"$f":"VLOOKUP(B726,Régions!A:C,3,FALSE)","v":"Provence-Alpes-Côte d'Azur"},{"v":6,"d":"06"},{"$error":"#N/A"},60011541,{"$error":"#N/A"},{"$error":"#N/A"},"SELARL PHARMACIE MARECHAL JUIN",42,"Avenue","DU MARECHAL JUIN","06400 CANNES",6400,"Cannes","Pharmacie d'officine","A"]
[{"$f":"VLOOKUP(B727,Régions!A:C,3,FALSE)","v":"Provence-Alpes-Côte d'Azur"},{"v":6,"d":"06"},{"$error":"#N/A"},60011574,{"$error":"#N/A"},{"$error":"#N/A"},"SELEURL PHARMACIE UHLRICH",1,"Rue","DE LIEGE","06400 CANNES",6400,"Cannes","Pharmacie d'officine","A"]
[{"$f":"VLOOKUP(B728,Régions!A:C,3,FALSE)","v":"Provence-Alpes-Côte d'Azur"},{"v":6,"d":"06"},{"$error":"#N/A"},60011624,{"$error":"#N/A"},{"$error":"#N/A"},"SELARL GRANDE PHARMACIE MEYNADIER",5,"Rue","MEYNADIER","06400 CANNES",6400,"Cannes","Pharmacie d'officine","A"]
[{"$f":"VLOOKUP(B729,Régions!A:C,3,FALSE)","v":"Provence-Alpes-Côte d'Azur"},{"v":6,"d":"06"},{"$error":"#N/A"},60011640,{"$error":"#N/A"},{"$error":"#N/A"},"SELARL PHARMACIE DE LA PEYRIERE",40,"Rue","DE MIMONT","06400 CANNES",6400,"Cannes","Pharmacie d'officine","A"]
[{"$f":"VLOOKUP(B730,Régions!A:C,3,FALSE)","v":"Provence-Alpes-Côte d'Azur"},{"v":6,"d":"06"},"CNOP",60011665,60011665,"oui","SELARL PHARMACIE BOUC-CAYOL",12,"Boulevard","MONTFLEURY","06400 CANNES",6400,"Cannes","Pharmacie d'officine","A"]
[{"$f":"VLOOKUP(B731,Régions!A:C,3,FALSE)","v":"Provence-Alpes-Côte d'Azur"},{"v":6,"d":"06"},{"$error":"#N/A"},60011681,{"$error":"#N/A"},{"$error":"#N/A"},"PHARMACIE HOUDANT-SASSARD",26,"Avenue","DU DOCTEUR PICAUD","06400 CANNES",6400,"Cannes","Pharmacie d'officine","A"]
[{"$f":"VLOOKUP(B732,Régions!A:C,3,FALSE)","v":"Provence-Alpes-Côte d'Azur"},{"v":6,"d":"06"},{"$error":"#N/A"},60011715,{"$error":"#N/A"},{"$error":"#N/A"},"SELARL PHARMACIE DE LA BASTIDE ROUGE","NULL","Zone industrielle","LES TOURRADES","06150 CANNES",6150,"Cannes","Pharmacie d'officine","A"]
[{"$f":"VLOOKUP(B733,Régions!A:C,3,FALSE)","v":"Provence-Alpes-Côte d'Azur"},{"v":6,"d":"06"},{"$error":"#N/A"},60011731,{"$error":"#N/A"},{"$error":"#N/A"},"SELAS PHARMACIE DU PARC RANGUIN",1,"Avenue","VICTOR HUGO","06150 CANNES LA BOCCA",6150,"Cannes","Pharmacie d'officine","A"]
[{"$f":"VLOOKUP(B734,Régions!A:C,3,FALSE)","v":"Provence-Alpes-Côte d'Azur"},{"v":6,"d":"06"},{"$error":"#N/A"},60011764,{"$error":"#N/A"},{"$error":"#N/A"},"PHARMACIE  DELAYE",73,"Boulevard","DE LA REPUBLIQUE","06400 CANNES",6400,"Cannes","Pharmacie d'officine","A"]
[{"$f":"VLOOKUP(B735,Régions!A:C,3,FALSE)","v":"Provence-Alpes-Côte d'Azur"},{"v":6,"d":"06"},"PHARMDIRECTFR",60011780,60011780,"oui","SELARL PHARMACIE DU PROGRES GARRET",167,"Boulevard","DE LA REPUBLIQUE","06400 CANNES",6400,"Cannes","Pharmacie d'officine","A"]
[{"$f":"VLOOKUP(B736,Régions!A:C,3,FALSE)","v":"Provence-Alpes-Côte d'Azur"},{"v":6,"d":"06"},"CNOP",60011814,60011814,"non","SARL PHARMACIE DU RIOU",15,"Boulevard","DU RIOU","06400 CANNES",6400,"Cannes","Pharmacie d'officine","A"]
[{"$f":"VLOOKUP(B737,Régions!A:C,3,FALSE)","v":"Provence-Alpes-Côte d'Azur"},{"v":6,"d":"06"},{"$error":"#N/A"},60011830,{"$error":"#N/A"},{"$error":"#N/A"},"PHARMACIE  FABRE-VAILLANT",9,"Square","MERIMEE","06400 CANNES",6400,"Cannes","Pharmacie d'officine","A"]
[{"$f":"VLOOKUP(B738,Régions!A:C,3,FALSE)","v":"Provence-Alpes-Côte d'Azur"},{"v":6,"d":"06"},{"$error":"#N/A"},60011863,{"$error":"#N/A"},{"$error":"#N/A"},"SELARL PHARMACIE DU SUQUET DUBERTRAND",16,"Rue","DES SUISSES","06400 CANNES",6400,"Cannes","Pharmacie d'officine","A"]
[{"$f":"VLOOKUP(B739,Régions!A:C,3,FALSE)","v":"Provence-Alpes-Côte d'Azur"},{"v":6,"d":"06"},"CNOP",60011897,60011897,"oui","SELARL PHARMACIE DU MARCHE",11,"Rue","DU DR BALOUX","06150 CANNES-LA-BOCCA",6150,"Cannes","Pharmacie d'officine","A"]
[{"$f":"VLOOKUP(B740,Régions!A:C,3,FALSE)","v":"Provence-Alpes-Côte d'Azur"},{"v":6,"d":"06"},"CNOP",60011913,60011913,"oui","SELARL PHARMACIE CANNES GRAND BLEU","NULL","Avenue","DES BUISSONS ARDENTS","06150 CANNES-LA-BOCCA",6150,"Cannes","Pharmacie d'officine","A"]
[{"$f":"VLOOKUP(B741,Régions!A:C,3,FALSE)","v":"Provence-Alpes-Côte d'Azur"},{"v":6,"d":"06"},{"$error":"#N/A"},60011947,{"$error":"#N/A"},{"$error":"#N/A"},"SELAS PHARMACIE DE LA BOCCA",51,"Avenue","FRANCIS TONNER","06150 CANNES-LA-BOCCA",6150,"Cannes","Pharmacie d'officine","A"]
[{"$f":"VLOOKUP(B742,Régions!A:C,3,FALSE)","v":"Provence-Alpes-Côte d'Azur"},{"v":6,"d":"06"},{"$error":"#N/A"},60011996,{"$error":"#N/A"},{"$error":"#N/A"},"SELAS PHARMACIE DES MIMOSAS",106,"Avenue","MICHEL JOURDAN","06150 CANNES LA BOCCA",6150,"Cannes","Pharmacie d'officine","A"]
[{"$f":"VLOOKUP(B743,Régions!A:C,3,FALSE)","v":"Provence-Alpes-Côte d'Azur"},{"v":6,"d":"06"},{"$error":"#N/A"},60012010,{"$error":"#N/A"},{"$error":"#N/A"},"SARL PHARMACIE FOURTIER-ROUX",121,"Avenue","MICHEL JOURDAN","06150 CANNES LA BOCCA",6150,"Cannes","Pharmacie d'officine","A"]
[{"$f":"VLOOKUP(B744,Régions!A:C,3,FALSE)","v":"Provence-Alpes-Côte d'Azur"},{"v":6,"d":"06"},"CNOP",60012044,60012044,"oui","SELARL PHARMACIE DE L'ESTEREL",118,"Avenue","FRANCIS TONNER","06150 CANNES-LA-BOCCA",6150,"Cannes","Pharmacie d'officine","A"]
[{"$f":"VLOOKUP(B745,Régions!A:C,3,FALSE)","v":"Provence-Alpes-Côte d'Azur"},{"v":6,"d":"06"},{"$error":"#N/A"},60012077,{"$error":"#N/A"},{"$error":"#N/A"},"PHARMACIE FODDA",5,"Rue","DE LA VERRERIE","06150 CANNES-LA-BOCCA",6150,"Cannes","Pharmacie d'officine","A"]
[{"$f":"VLOOKUP(B746,Régions!A:C,3,FALSE)","v":"Provence-Alpes-Côte d'Azur"},{"v":6,"d":"06"},{"$error":"#N/A"},60012093,{"$error":"#N/A"},{"$error":"#N/A"},"SELARL PHARMACIE DU PONT DE LYON",108,"Rue","DE CANNES","06110 LE CANNET",6110,"Le Cannet","Pharmacie d'officine","A"]
[{"$f":"VLOOKUP(B747,Régions!A:C,3,FALSE)","v":"Provence-Alpes-Côte d'Azur"},{"v":6,"d":"06"},{"$error":"#N/A"},60012127,{"$error":"#N/A"},{"$error":"#N/A"},"PHARMACIE PIGRENET",1,"Boulevard","CARNOT","06110 CANNET (LE)",6110,"Le Cannet","Pharmacie d'officine","A"]
[{"$f":"VLOOKUP(B748,Régions!A:C,3,FALSE)","v":"Provence-Alpes-Côte d'Azur"},{"v":6,"d":"06"},{"$error":"#N/A"},60012143,{"$error":"#N/A"},{"$error":"#N/A"},"SELARL PHARMACIE ROUX",39,"Boulevard","CARNOT","06110 CANNET (LE)",6110,"Le Cannet","Pharmacie d'officine","A"]
[{"$f":"VLOOKUP(B749,Régions!A:C,3,FALSE)","v":"Provence-Alpes-Côte d'Azur"},{"v":6,"d":"06"},"CNOP",60012176,60012176,"non","SELARL PHARMACIE ROUMY",77,"Boulevard","SADI CARNOT","06110 CANNET (LE)",6110,"Le Cannet","Pharmacie d'officine","A"]
[{"$f":"VLOOKUP(B750,Régions!A:C,3,FALSE)","v":"Provence-Alpes-Côte d'Azur"},{"v":6,"d":"06"},{"$error":"#N/A"},60012192,{"$error":"#N/A"},{"$error":"#N/A"},"SELARL PHARMACIE DE L'ONYX",111,"Boulevard","Sadi Carnot","06110 LE CANNET",6110,"Le Cannet","Pharmacie d'officine","A"]
[{"$f":"VLOOKUP(B751,Régions!A:C,3,FALSE)","v":"Provence-Alpes-Côte d'Azur"},{"v":6,"d":"06"},{"$error":"#N/A"},60012226,{"$error":"#N/A"},{"$error":"#N/A"},"SELARL PHARMACIE ZAGAD",42,"Chemin","de l'Aubarede","06110 LE CANNET",6110,"Le Cannet","Pharmacie d'officine","A"]
[{"$f":"VLOOKUP(B752,Régions!A:C,3,FALSE)","v":"Provence-Alpes-Côte d'Azur"},{"v":6,"d":"06"},{"$error":"#N/A"},60012242,{"$error":"#N/A"},{"$error":"#N/A"},"SELARL PHARMACIE GALLAND",38,"Boulevard","JEAN MOULIN","06110 CANNET (LE)",6110,"Le Cannet","Pharmacie d'officine","A"]
[{"$f":"VLOOKUP(B753,Régions!A:C,3,FALSE)","v":"Provence-Alpes-Côte d'Azur"},{"v":6,"d":"06"},{"$error":"#N/A"},60012275,{"$error":"#N/A"},{"$error":"#N/A"},"SELARL PHARMACIE FONTANA",20,"Avenue","MAURICE JEANPIERRE","06110 CANNET (LE)",6110,"Le Cannet","Pharmacie d'officine","A"]
[{"$f":"VLOOKUP(B754,Régions!A:C,3,FALSE)","v":"Provence-Alpes-Côte d'Azur"},{"v":6,"d":"06"},"PHARMDIRECTFR",60012291,60012291,"oui","SELAS PHARMACIE DU MONT JOLI",46,"Avenue","MAURICE JEAN PIERRE","06110 CANNET (LE)",6110,"Le Cannet","Pharmacie d'officine","A"]
[{"$f":"VLOOKUP(B755,Régions!A:C,3,FALSE)","v":"Provence-Alpes-Côte d'Azur"},{"v":6,"d":"06"},{"$error":"#N/A"},60012341,{"$error":"#N/A"},{"$error":"#N/A"},"SELARL PHARMACIE DE ROCHEVILLE",1,"Avenue","Franklin Roosevelt","06110 CANNET (LE)",6110,"Le Cannet","Pharmacie d'officine","A"]
[{"$f":"VLOOKUP(B756,Régions!A:C,3,FALSE)","v":"Provence-Alpes-Côte d'Azur"},{"v":6,"d":"06"},{"$error":"#N/A"},60012374,{"$error":"#N/A"},{"$error":"#N/A"},"PHARMACIE BEAU",71,"Avenue","MAURICE CHEVAL","06110 CANNET (LE)",6110,"Le Cannet","Pharmacie d'officine","A"]
[{"$f":"VLOOKUP(B757,Régions!A:C,3,FALSE)","v":"Provence-Alpes-Côte d'Azur"},{"v":6,"d":"06"},{"$error":"#N/A"},60012390,{"$error":"#N/A"},{"$error":"#N/A"},"SELEURL PHARMACIE EGLENNE",44,"Avenue","FRANKLIN ROOSEVELT","06110 LE CANNET",6110,"Le Cannet","Pharmacie d'officine","A"]
[{"$f":"VLOOKUP(B758,Régions!A:C,3,FALSE)","v":"Provence-Alpes-Côte d'Azur"},{"v":6,"d":"06"},{"$error":"#N/A"},60012424,{"$error":"#N/A"},{"$error":"#N/A"},"SELARL PHARMACIE DES MOULIERES",12,"Route","DE VALBONNE","06110 CANNET (LE)",6110,"Le Cannet","Pharmacie d'officine","A"]
[{"$f":"VLOOKUP(B759,Régions!A:C,3,FALSE)","v":"Provence-Alpes-Côte d'Azur"},{"v":6,"d":"06"},{"$error":"#N/A"},60012440,{"$error":"#N/A"},{"$error":"#N/A"},"SELARL PHARMACIE PIZZITOLA","NULL","Place","PIERRE SAUVAIGO","06110 LE CANNET",6110,"Le Cannet","Pharmacie d'officine","A"]
[{"$f":"VLOOKUP(B760,Régions!A:C,3,FALSE)","v":"Provence-Alpes-Côte d'Azur"},{"v":6,"d":"06"},{"$error":"#N/A"},60012465,{"$error":"#N/A"},{"$error":"#N/A"},"PHARMACIE CHOUCROUN",383,"Boulevard","MONOD","06110 CANNET (LE)",6110,"Le Cannet","Pharmacie d'officine","A"]
[{"$f":"VLOOKUP(B761,Régions!A:C,3,FALSE)","v":"Provence-Alpes-Côte d'Azur"},{"v":6,"d":"06"},{"$error":"#N/A"},60012481,{"$error":"#N/A"},{"$error":"#N/A"},"SELARL PHIE GOUAZE ET GRAVEREAUX",293,"Avenue","Janvier Passero","06210 MANDELIEU-LA-NAPOULE",6210,"Mandelieu-la-Napoule","Pharmacie d'officine","A"]
[{"$f":"VLOOKUP(B762,Régions!A:C,3,FALSE)","v":"Provence-Alpes-Côte d'Azur"},{"v":6,"d":"06"},{"$error":"#N/A"},60012515,{"$error":"#N/A"},{"$error":"#N/A"},"SARL PHARMACIE DES MARINAS","NULL","Residence","CANNES MARINA","06210 MANDELIEU",6210,"Mandelieu-la-Napoule","Pharmacie d'officine","A"]
[{"$f":"VLOOKUP(B763,Régions!A:C,3,FALSE)","v":"Provence-Alpes-Côte d'Azur"},{"v":6,"d":"06"},"PHARMDIRECTFR",60012531,60012531,"oui","PHARMACIE VERDAN",822,"Avenue","JANVIER PASERO","06210 MANDELIEU-LA-NAPOULE",6210,"Mandelieu-la-Napoule","Pharmacie d'officine","A"]
[{"$f":"VLOOKUP(B764,Régions!A:C,3,FALSE)","v":"Provence-Alpes-Côte d'Azur"},{"v":6,"d":"06"},"CNOP",60012564,60012564,"oui","SELARL PHARMACIE DU CAPITOU",72,"Place","Jeanne d'Arc","06210 MANDELIEU-LA-NAPOULE",6210,"Mandelieu-la-Napoule","Pharmacie d'officine","A"]
[{"$f":"VLOOKUP(B765,Régions!A:C,3,FALSE)","v":"Provence-Alpes-Côte d'Azur"},{"v":6,"d":"06"},{"$error":"#N/A"},60012580,{"$error":"#N/A"},{"$error":"#N/A"},"SELAS PHARMACIE DU MARCO POLO",312,"Boulevard","DES ECUREUILS","06210 MANDELIEU-LA-NAPOULE",6210,"Mandelieu-la-Napoule","Pharmacie d'officine","A"]
[{"$f":"VLOOKUP(B766,Régions!A:C,3,FALSE)","v":"Provence-Alpes-Côte d'Azur"},{"v":6,"d":"06"},{"$error":"#N/A"},60012614,{"$error":"#N/A"},{"$error":"#N/A"},"SELARL PHARMACIE ERRERA",884,"Avenue","DE FREJUS","06210 MANDELIEU-LA-NAPOULE",6210,"Mandelieu-la-Napoule","Pharmacie d'officine","A"]
[{"$f":"VLOOKUP(B767,Régions!A:C,3,FALSE)","v":"Provence-Alpes-Côte d'Azur"},{"v":6,"d":"06"},"PHARMDIRECTFR",60012630,60012630,"oui","SELARL PHARMACIE MORALES - TEUMA",319,"Avenue","DE CANNES","06211 MANDELIEU",6211,"Mandelieu-la-Napoule","Pharmacie d'officine","A"]
[{"$f":"VLOOKUP(B768,Régions!A:C,3,FALSE)","v":"Provence-Alpes-Côte d'Azur"},{"v":6,"d":"06"},{"$error":"#N/A"},60012663,{"$error":"#N/A"},{"$error":"#N/A"},"SELAS PHARMACIE DE LA NAPOULE",50,"Rue","JEAN AULAS","06210 MANDELIEU-LA-NAPOULE",6210,"Mandelieu-la-Napoule","Pharmacie d'officine","A"]
[{"$f":"VLOOKUP(B769,Régions!A:C,3,FALSE)","v":"Provence-Alpes-Côte d'Azur"},{"v":6,"d":"06"},{"$error":"#N/A"},60012697,{"$error":"#N/A"},{"$error":"#N/A"},"SELARL PHARMACIE DU ROY SOLEIL",26,"Route","DE SAINT JEAN","06600 ANTIBES",6600,"Antibes","Pharmacie d'officine","A"]
[{"$f":"VLOOKUP(B770,Régions!A:C,3,FALSE)","v":"Provence-Alpes-Côte d'Azur"},{"v":6,"d":"06"},{"$error":"#N/A"},60012713,{"$error":"#N/A"},{"$error":"#N/A"},"PHARMACIE VINCIGUERRA",52,"Boulevard","CARLONE","06200 NICE",6200,"Nice","Pharmacie d'officine","A"]
[{"$f":"VLOOKUP(B771,Régions!A:C,3,FALSE)","v":"Provence-Alpes-Côte d'Azur"},{"v":6,"d":"06"},{"$error":"#N/A"},60012762,{"$error":"#N/A"},{"$error":"#N/A"},"SELAS GRANDE PHIE DE LA CROIX ROUGE",1140,"Route","DE GRASSE","06600 ANTIBES",6600,"Antibes","Pharmacie d'officine","A"]
[{"$f":"VLOOKUP(B772,Régions!A:C,3,FALSE)","v":"Provence-Alpes-Côte d'Azur"},{"v":6,"d":"06"},"CNOP",60012796,60012796,"oui","SELARL GRANDE PHIE DE LA FONTONNE",3,"Place","JEAN AUDE","06600 ANTIBES",6600,"Antibes","Pharmacie d'officine","A"]
[{"$f":"VLOOKUP(B773,Régions!A:C,3,FALSE)","v":"Provence-Alpes-Côte d'Azur"},{"v":6,"d":"06"},{"$error":"#N/A"},60012812,{"$error":"#N/A"},{"$error":"#N/A"},"SELARL PHARMACIE DU ROND-POINT",2,"Chemin","DES AUTRICHIENS","06600 ANTIBES",6600,"Antibes","Pharmacie d'officine","A"]
[{"$f":"VLOOKUP(B774,Régions!A:C,3,FALSE)","v":"Provence-Alpes-Côte d'Azur"},{"v":6,"d":"06"},{"$error":"#N/A"},60012846,{"$error":"#N/A"},{"$error":"#N/A"},"SELARL PHARMACIE ANTIBOISE",2,"Avenue","ARISTIDE BRIAND","06600 ANTIBES",6600,"Antibes","Pharmacie d'officine","A"]
[{"$f":"VLOOKUP(B775,Régions!A:C,3,FALSE)","v":"Provence-Alpes-Côte d'Azur"},{"v":6,"d":"06"},"PHARMDIRECTFR",60012861,60012861,"oui","SELARL PHARMACIE FONTMERLE",320,"Boulevard","PIERRE DELMAS","06600 ANTIBES",6600,"Antibes","Pharmacie d'officine","A"]
[{"$f":"VLOOKUP(B776,Régions!A:C,3,FALSE)","v":"Provence-Alpes-Côte d'Azur"},{"v":6,"d":"06"},{"$error":"#N/A"},60012895,{"$error":"#N/A"},{"$error":"#N/A"},"SELARL PHARMACIE DU SOLEIL",10,"Avenue","GAZAN","06600 ANTIBES",6600,"Antibes","Pharmacie d'officine","A"]
[{"$f":"VLOOKUP(B777,Régions!A:C,3,FALSE)","v":"Provence-Alpes-Côte d'Azur"},{"v":6,"d":"06"},"PHARMDIRECTFR",60012911,60012911,"oui","PHARMACIE KULEYAN",85,"Boulevard","FRANCIS MEILLAND","06160 ANTIBES",6160,"Antibes","Pharmacie d'officine","A"]
[{"$f":"VLOOKUP(B778,Régions!A:C,3,FALSE)","v":"Provence-Alpes-Côte d'Azur"},{"v":6,"d":"06"},{"$error":"#N/A"},60012945,{"$error":"#N/A"},{"$error":"#N/A"},"SELARL  PHARMACIE ROCHAT",54,"Avenue","PHILIPPE ROCHAT","06600 ANTIBES",6600,"Antibes","Pharmacie d'officine","A"]
[{"$f":"VLOOKUP(B779,Régions!A:C,3,FALSE)","v":"Provence-Alpes-Côte d'Azur"},{"v":6,"d":"06"},"CNOP",60012960,60012960,"oui","SELAS PHARMACIE DES TERRES BLANCHES",233,"Route","DE GRASSE","06600 ANTIBES",6600,"Antibes","Pharmacie d'officine","A"]
[{"$f":"VLOOKUP(B780,Régions!A:C,3,FALSE)","v":"Provence-Alpes-Côte d'Azur"},{"v":6,"d":"06"},{"$error":"#N/A"},60012994,{"$error":"#N/A"},{"$error":"#N/A"},"SELARL OTTO-BRUC LE GUAY",14,"Boulevard","MARECHAL LECLERC","06600 ANTIBES",6600,"Antibes","Pharmacie d'officine","A"]
[{"$f":"VLOOKUP(B781,Régions!A:C,3,FALSE)","v":"Provence-Alpes-Côte d'Azur"},{"v":6,"d":"06"},{"$error":"#N/A"},60013026,{"$error":"#N/A"},{"$error":"#N/A"},"SELARL GRANDE PHARMACIE D'ANTIBES",2,"Place","GUYNEMER","06600 ANTIBES",6600,"Antibes","Pharmacie d'officine","A"]
[{"$f":"VLOOKUP(B782,Régions!A:C,3,FALSE)","v":"Provence-Alpes-Côte d'Azur"},{"v":6,"d":"06"},{"$error":"#N/A"},60013042,{"$error":"#N/A"},{"$error":"#N/A"},"SELARL PHARMACIE DE LA SALIS",26,"Boulevard","MARECHAL LECLERC","06600 ANTIBES",6600,"Antibes","Pharmacie d'officine","A"]
[{"$f":"VLOOKUP(B783,Régions!A:C,3,FALSE)","v":"Provence-Alpes-Côte d'Azur"},{"v":6,"d":"06"},{"$error":"#N/A"},60013075,{"$error":"#N/A"},{"$error":"#N/A"},"SELARL PHARMACIE FOSSEY","NULL","Avenue","JULES GREC","06600 ANTIBES",6600,"Antibes","Pharmacie d'officine","A"]
[{"$f":"VLOOKUP(B784,Régions!A:C,3,FALSE)","v":"Provence-Alpes-Côte d'Azur"},{"v":6,"d":"06"},{"$error":"#N/A"},60013091,{"$error":"#N/A"},{"$error":"#N/A"},"SELAS LONGOFINO",39,"Cours","MASSENA","06600 ANTIBES",6600,"Antibes","Pharmacie d'officine","A"]
[{"$f":"VLOOKUP(B785,Régions!A:C,3,FALSE)","v":"Provence-Alpes-Côte d'Azur"},{"v":6,"d":"06"},{"$error":"#N/A"},60013125,{"$error":"#N/A"},{"$error":"#N/A"},"SELARL PHARMACIE DE LA BRAGUE",747,"Route","DE NICE","06600 ANTIBES",6600,"Antibes","Pharmacie d'officine","A"]
[{"$f":"VLOOKUP(B786,Régions!A:C,3,FALSE)","v":"Provence-Alpes-Côte d'Azur"},{"v":6,"d":"06"},"CNOP",60013141,60013141,"oui","PHARMACIE CAMIA-LIONNET","NULL","Quartier","LES SEMBOULES","06600 ANTIBES",6600,"Antibes","Pharmacie d'officine","A"]
[{"$f":"VLOOKUP(B787,Régions!A:C,3,FALSE)","v":"Provence-Alpes-Côte d'Azur"},{"v":6,"d":"06"},{"$error":"#N/A"},60013174,{"$error":"#N/A"},{"$error":"#N/A"},"SELARL PHARMACIE SAINT DAMIEN","NULL","Chemin","DE ST CLAUDE","06600 ANTIBES",6600,"Antibes","Pharmacie d'officine","A"]
[{"$f":"VLOOKUP(B788,Régions!A:C,3,FALSE)","v":"Provence-Alpes-Côte d'Azur"},{"v":6,"d":"06"},{"$error":"#N/A"},60013190,{"$error":"#N/A"},{"$error":"#N/A"},"SARL PHARMACIE LINCLAU",48,"Rue","DE LA REPUBLIQUE","06600 ANTIBES",6600,"Antibes","Pharmacie d'officine","A"]
[{"$f":"VLOOKUP(B789,Régions!A:C,3,FALSE)","v":"Provence-Alpes-Côte d'Azur"},{"v":6,"d":"06"},{"$error":"#N/A"},60013224,{"$error":"#N/A"},{"$error":"#N/A"},"PHARMACIE ANDROVANDI",63,"Rue","DE LA REPUBLIQUE","06600 ANTIBES",6600,"Antibes","Pharmacie d'officine","A"]
[{"$f":"VLOOKUP(B790,Régions!A:C,3,FALSE)","v":"Provence-Alpes-Côte d'Azur"},{"v":6,"d":"06"},{"$error":"#N/A"},60013240,{"$error":"#N/A"},{"$error":"#N/A"},"SELARL PHARMACIE VAUTRIN",1,"Avenue","PHILIPPE ROCHAT","06600 ANTIBES",6600,"Antibes","Pharmacie d'officine","A"]
[{"$f":"VLOOKUP(B791,Régions!A:C,3,FALSE)","v":"Provence-Alpes-Côte d'Azur"},{"v":6,"d":"06"},{"$error":"#N/A"},60013265,{"$error":"#N/A"},{"$error":"#N/A"},"SELAS  PHARMACIE DE L'ETOILE",26,"Avenue","ROBERT SOLEAU","06600 ANTIBES",6600,"Antibes","Pharmacie d'officine","A"]
[{"$f":"VLOOKUP(B792,Régions!A:C,3,FALSE)","v":"Provence-Alpes-Côte d'Azur"},{"v":6,"d":"06"},{"$error":"#N/A"},60013315,{"$error":"#N/A"},{"$error":"#N/A"},"SELAS PHARMACIE DE LA REGENCE",1,"Avenue","AMIRAL COURBET & BLD R. POINCA","06160 JUAN-LES-PINS",6160,"Antibes","Pharmacie d'officine","A"]
[{"$f":"VLOOKUP(B793,Régions!A:C,3,FALSE)","v":"Provence-Alpes-Côte d'Azur"},{"v":6,"d":"06"},{"$error":"#N/A"},60013331,{"$error":"#N/A"},{"$error":"#N/A"},"SELAS PHARMACIE PONROY-CHASPOUL","NULL","Place","DE LA GARE","06160 JUAN-LES-PINS",6160,"Antibes","Pharmacie d'officine","A"]
[{"$f":"VLOOKUP(B794,Régions!A:C,3,FALSE)","v":"Provence-Alpes-Côte d'Azur"},{"v":6,"d":"06"},{"$error":"#N/A"},60013364,{"$error":"#N/A"},{"$error":"#N/A"},"PHARMACIE JOYET",7,"Boulevard","CHARLES GUILLAUMONT","06160 JUAN-LES-PINS",6160,"Antibes","Pharmacie d'officine","A"]
[{"$f":"VLOOKUP(B795,Régions!A:C,3,FALSE)","v":"Provence-Alpes-Côte d'Azur"},{"v":6,"d":"06"},{"$error":"#N/A"},60013414,{"$error":"#N/A"},{"$error":"#N/A"},"SELARL PHARMACIE DES PINS",22,"Avenue","de Cannes","06160 ANTIBES",6160,"Antibes","Pharmacie d'officine","A"]
[{"$f":"VLOOKUP(B796,Régions!A:C,3,FALSE)","v":"Provence-Alpes-Côte d'Azur"},{"v":6,"d":"06"},{"$error":"#N/A"},60013430,{"$error":"#N/A"},{"$error":"#N/A"},"PHARMACIE CHASPOUL",156,"Boulevard","RAYMOND POINCARE","06160 JUAN-LES-PINS",6160,"Antibes","Pharmacie d'officine","A"]
[{"$f":"VLOOKUP(B797,Régions!A:C,3,FALSE)","v":"Provence-Alpes-Côte d'Azur"},{"v":6,"d":"06"},"CNOP",60013463,60013463,"oui","SELARL PHARMACIE CARRE",8,"Avenue","DE L'ESTEREL","06160 JUAN-LES-PINS",6160,"Antibes","Pharmacie d'officine","A"]
[{"$f":"VLOOKUP(B798,Régions!A:C,3,FALSE)","v":"Provence-Alpes-Côte d'Azur"},{"v":6,"d":"06"},{"$error":"#N/A"},60013497,{"$error":"#N/A"},{"$error":"#N/A"},"SELARL PHARMACIE 16 WILSON",16,"Boulevard","WILSON","06600 ANTIBES",6600,"Antibes","Pharmacie d'officine","A"]
[{"$f":"VLOOKUP(B799,Régions!A:C,3,FALSE)","v":"Provence-Alpes-Côte d'Azur"},{"v":6,"d":"06"},"CNOP",60013513,60013513,"oui","SELAS PHARMACIE WILSON",67,"Boulevard","WILSON","06600 ANTIBES",6600,"Antibes","Pharmacie d'officine","A"]
[{"$f":"VLOOKUP(B800,Régions!A:C,3,FALSE)","v":"Provence-Alpes-Côte d'Azur"},{"v":6,"d":"06"},"PHARMDIRECTFR",60013547,60013547,"oui","SELEURL PHIE PROVENCALE ET DU CASINO",144,"Boulevard","WILSON","06160 JUAN-LES-PINS",6160,"Antibes","Pharmacie d'officine","A"]
[{"$f":"VLOOKUP(B801,Régions!A:C,3,FALSE)","v":"Provence-Alpes-Côte d'Azur"},{"v":6,"d":"06"},"PHARMDIRECTFR",60013562,60013562,"oui","SELARL PHARMACIE DE CHATEAUNEUF",19,"Chemin","DU CABANON","06740 CHATEAUNEUF-DE-GRASSE",6740,"Châteauneuf-Grasse","Pharmacie d'officine","A"]
[{"$f":"VLOOKUP(B802,Régions!A:C,3,FALSE)","v":"Provence-Alpes-Côte d'Azur"},{"v":6,"d":"06"},{"$error":"#N/A"},60013596,{"$error":"#N/A"},{"$error":"#N/A"},"SELARL PHARMACIE BERT",19,"Chemin","DU SERVANT - CLOS LUCIOLES","06130 GRASSE",6130,"Grasse","Pharmacie d'officine","A"]
[{"$f":"VLOOKUP(B803,Régions!A:C,3,FALSE)","v":"Provence-Alpes-Côte d'Azur"},{"v":6,"d":"06"},"CNOP",60013612,60013612,"oui","PHARMACIE LOIR",12,"Boulevard","CARNOT","06130 GRASSE",6130,"Grasse","Pharmacie d'officine","A"]
[{"$f":"VLOOKUP(B804,Régions!A:C,3,FALSE)","v":"Provence-Alpes-Côte d'Azur"},{"v":6,"d":"06"},{"$error":"#N/A"},60013646,{"$error":"#N/A"},{"$error":"#N/A"},"SELARL PHARMACIE CAZALS",15,"Boulevard","du Jeu de Ballon","06130 GRASSE",6130,"Grasse","Pharmacie d'officine","A"]
[{"$f":"VLOOKUP(B805,Régions!A:C,3,FALSE)","v":"Provence-Alpes-Côte d'Azur"},{"v":6,"d":"06"},{"$error":"#N/A"},60013661,{"$error":"#N/A"},{"$error":"#N/A"},"PHARMACIE MOREAUX",147,"Avenue","RENOIR","06520 GRASSE",6520,"Grasse","Pharmacie d'officine","A"]
[{"$f":"VLOOKUP(B806,Régions!A:C,3,FALSE)","v":"Provence-Alpes-Côte d'Azur"},{"v":6,"d":"06"},{"$error":"#N/A"},60013695,{"$error":"#N/A"},{"$error":"#N/A"},"PHARMACIE BONNAUD",2,"Chemin","de Clavary","06130 GRASSE",6130,"Grasse","Pharmacie d'officine","A"]
[{"$f":"VLOOKUP(B807,Régions!A:C,3,FALSE)","v":"Provence-Alpes-Côte d'Azur"},{"v":6,"d":"06"},{"$error":"#N/A"},60013711,{"$error":"#N/A"},{"$error":"#N/A"},"SELAS PHARMACIE DU CHENE VERT",24,"Chemin","DU DARBOUSSON","06560 VALBONNE",6560,"Valbonne","Pharmacie d'officine","A"]
[{"$f":"VLOOKUP(B808,Régions!A:C,3,FALSE)","v":"Provence-Alpes-Côte d'Azur"},{"v":6,"d":"06"},{"$error":"#N/A"},60013745,{"$error":"#N/A"},{"$error":"#N/A"},"SELARL PHARMACIE CAP 3000","NULL","Quartier","DU LAC","06700 SAINT-LAURENT-DU-VAR",6700,"Saint-Laurent-du-Var","Pharmacie d'officine","A"]
[{"$f":"VLOOKUP(B809,Régions!A:C,3,FALSE)","v":"Provence-Alpes-Côte d'Azur"},{"v":6,"d":"06"},{"$error":"#N/A"},60013760,{"$error":"#N/A"},{"$error":"#N/A"},"SELARL PHARMACIE CCAL. TRINITE",2,"Route","DE LAGHET","06340 TRINITÉ (LA)",6340,"La Trinité","Pharmacie d'officine","A"]
[{"$f":"VLOOKUP(B810,Régions!A:C,3,FALSE)","v":"Provence-Alpes-Côte d'Azur"},{"v":6,"d":"06"},{"$error":"#N/A"},60013810,{"$error":"#N/A"},{"$error":"#N/A"},"SELARL PHARMACIE DU LYCEE",35,"Avenue","MATHIAS DUVAL","06130 GRASSE",6130,"Grasse","Pharmacie d'officine","A"]
[{"$f":"VLOOKUP(B811,Régions!A:C,3,FALSE)","v":"Provence-Alpes-Côte d'Azur"},{"v":6,"d":"06"},{"$error":"#N/A"},60013844,{"$error":"#N/A"},{"$error":"#N/A"},"SELAS PHARMACIE LIAUTAUD - GERBAUD","NULL","Quartier","MOULIN DE BRUN","06130 GRASSE",6130,"Grasse","Pharmacie d'officine","A"]
[{"$f":"VLOOKUP(B812,Régions!A:C,3,FALSE)","v":"Provence-Alpes-Côte d'Azur"},{"v":6,"d":"06"},{"$error":"#N/A"},60013877,{"$error":"#N/A"},{"$error":"#N/A"},"SELARL PHARMACIE DE LA FONTAINE",28,"Place","AUX AIRES","06130 GRASSE",6130,"Grasse","Pharmacie d'officine","A"]
[{"$f":"VLOOKUP(B813,Régions!A:C,3,FALSE)","v":"Provence-Alpes-Côte d'Azur"},{"v":6,"d":"06"},{"$error":"#N/A"},60013893,{"$error":"#N/A"},{"$error":"#N/A"},"SNC PHARMACIE DU PROGRES","NULL","Place","AUX HERBES","06130 GRASSE",6130,"Grasse","Pharmacie d'officine","A"]
[{"$f":"VLOOKUP(B814,Régions!A:C,3,FALSE)","v":"Provence-Alpes-Côte d'Azur"},{"v":6,"d":"06"},{"$error":"#N/A"},60013927,{"$error":"#N/A"},{"$error":"#N/A"},"SELAS PHARMACIE DE LA FOUX",1,"Place","MAXIMIN ISNARD","06130 GRASSE",6130,"Grasse","Pharmacie d'officine","A"]
[{"$f":"VLOOKUP(B815,Régions!A:C,3,FALSE)","v":"Provence-Alpes-Côte d'Azur"},{"v":6,"d":"06"},"CNOP",60013943,60013943,"oui","SELARL PHARMACIE DE PROVENCE",69,"Avenue","DE LA LIBERATION","06130 GRASSE",6130,"Grasse","Pharmacie d'officine","A"]
[{"$f":"VLOOKUP(B816,Régions!A:C,3,FALSE)","v":"Provence-Alpes-Côte d'Azur"},{"v":6,"d":"06"},{"$error":"#N/A"},60013976,{"$error":"#N/A"},{"$error":"#N/A"},"SNC PHARMACIE DU PLAN DE GRASSE",8,"Route","DE LA PAOUTE","06130 GRASSE",6130,"Grasse","Pharmacie d'officine","A"]
[{"$f":"VLOOKUP(B817,Régions!A:C,3,FALSE)","v":"Provence-Alpes-Côte d'Azur"},{"v":6,"d":"06"},"CNOP",60013992,60013992,"oui","SELAS PHARMACIE DES QUATRE CHEMINS",4,"Boulevard","Emmanuel Rouquier","06130 GRASSE",6130,"Grasse","Pharmacie d'officine","A"]
[{"$f":"VLOOKUP(B818,Régions!A:C,3,FALSE)","v":"Provence-Alpes-Côte d'Azur"},{"v":6,"d":"06"},{"$error":"#N/A"},60014024,{"$error":"#N/A"},{"$error":"#N/A"},"SELARL PHARMACIE DE ST JACQUES",10,"Avenue","FELIX RAYBAUD","06130 GRASSE",6130,"Grasse","Pharmacie d'officine","A"]
[{"$f":"VLOOKUP(B819,Régions!A:C,3,FALSE)","v":"Provence-Alpes-Côte d'Azur"},{"v":6,"d":"06"},{"$error":"#N/A"},60014040,{"$error":"#N/A"},{"$error":"#N/A"},"PHARMACIE PASCAL-LOUIS",38,"Avenue","SIDI-BRAHIM","06130 GRASSE",6130,"Grasse","Pharmacie d'officine","A"]
[{"$f":"VLOOKUP(B820,Régions!A:C,3,FALSE)","v":"Provence-Alpes-Côte d'Azur"},{"v":6,"d":"06"},{"$error":"#N/A"},60014065,{"$error":"#N/A"},{"$error":"#N/A"},"SELARL PHARMACIE DU PALAIS",57,"Avenue","PIERRE SEMARD","06130 GRASSE",6130,"Grasse","Pharmacie d'officine","A"]
[{"$f":"VLOOKUP(B821,Régions!A:C,3,FALSE)","v":"Provence-Alpes-Côte d'Azur"},{"v":6,"d":"06"},{"$error":"#N/A"},60014081,{"$error":"#N/A"},{"$error":"#N/A"},"SARL PHARMACIE DU COURS",1,"Boulevard","VICTOR HUGO","06130 GRASSE",6130,"Grasse","Pharmacie d'officine","A"]
[{"$f":"VLOOKUP(B822,Régions!A:C,3,FALSE)","v":"Provence-Alpes-Côte d'Azur"},{"v":6,"d":"06"},{"$error":"#N/A"},60014115,{"$error":"#N/A"},{"$error":"#N/A"},"SELAS PHARMACIE DINICO",29,"Chemin","du Santon","06130 GRASSE",6130,"Grasse","Pharmacie d'officine","A"]
[{"$f":"VLOOKUP(B823,Régions!A:C,3,FALSE)","v":"Provence-Alpes-Côte d'Azur"},{"v":6,"d":"06"},{"$error":"#N/A"},60014131,{"$error":"#N/A"},{"$error":"#N/A"},"PHARMACIE LEGRAND",78,"Avenue","DES ALLIES LE BORRIGO","06500 MENTON",6500,"Menton","Pharmacie d'officine","A"]
[{"$f":"VLOOKUP(B824,Régions!A:C,3,FALSE)","v":"Provence-Alpes-Côte d'Azur"},{"v":6,"d":"06"},"CNOP",60014164,60014164,"oui","PHARMACIE REMY",1,"Avenue","ARISTIDE BRIAND","06500 MENTON",6500,"Menton","Pharmacie d'officine","A"]
[{"$f":"VLOOKUP(B825,Régions!A:C,3,FALSE)","v":"Provence-Alpes-Côte d'Azur"},{"v":6,"d":"06"},{"$error":"#N/A"},60014180,{"$error":"#N/A"},{"$error":"#N/A"},"SARL PHARMACIE BALLESTRA",21,"Avenue","CARNOT","06500 MENTON",6500,"Menton","Pharmacie d'officine","A"]
[{"$f":"VLOOKUP(B826,Régions!A:C,3,FALSE)","v":"Provence-Alpes-Côte d'Azur"},{"v":6,"d":"06"},{"$error":"#N/A"},60014214,{"$error":"#N/A"},{"$error":"#N/A"},"PHARMACIE ALESSANDRA",45,"Avenue","CERNUSCHI","06500 MENTON",6500,"Menton","Pharmacie d'officine","A"]
[{"$f":"VLOOKUP(B827,Régions!A:C,3,FALSE)","v":"Provence-Alpes-Côte d'Azur"},{"v":6,"d":"06"},{"$error":"#N/A"},60014230,{"$error":"#N/A"},{"$error":"#N/A"},"PHARMACIE CALVIN",29,"Avenue","FELIX FAURE","06500 MENTON",6500,"Menton","Pharmacie d'officine","A"]
[{"$f":"VLOOKUP(B828,Régions!A:C,3,FALSE)","v":"Provence-Alpes-Côte d'Azur"},{"v":6,"d":"06"},"CNOP",60014263,60014263,"oui","SELAS PHARMACIE SANSON COLOMBANI",19,"Rue","PAUL MORILLOT","06500 MENTON",6500,"Menton","Pharmacie d'officine","A"]
[{"$f":"VLOOKUP(B829,Régions!A:C,3,FALSE)","v":"Provence-Alpes-Côte d'Azur"},{"v":6,"d":"06"},{"$error":"#N/A"},60014297,{"$error":"#N/A"},{"$error":"#N/A"},"SELARL PHARMACIE GIANAZZA",13,"Place","GEORGES CLEMENCEAU","06500 MENTON",6500,"Menton","Pharmacie d'officine","A"]
[{"$f":"VLOOKUP(B830,Régions!A:C,3,FALSE)","v":"Provence-Alpes-Côte d'Azur"},{"v":6,"d":"06"},"PHARMDIRECTFR",60014313,60014313,"non","SELARL PHARMACIE OTTO","NULL","Place","SAINT ROCH","06500 MENTON",6500,"Menton","Pharmacie d'officine","A"]
[{"$f":"VLOOKUP(B831,Régions!A:C,3,FALSE)","v":"Provence-Alpes-Côte d'Azur"},{"v":6,"d":"06"},"CNOP",60014347,60014347,"oui","SELAS  PHARMACIE DES JARDINS BIOVES",2,"Rue","PARTOUNEAUX","06500 MENTON",6500,"Menton","Pharmacie d'officine","A"]
[{"$f":"VLOOKUP(B832,Régions!A:C,3,FALSE)","v":"Provence-Alpes-Côte d'Azur"},{"v":6,"d":"06"},{"$error":"#N/A"},60014362,{"$error":"#N/A"},{"$error":"#N/A"},"PHARMACIE ROSSO",15,"Porte","DE FRANCE","06500 MENTON",6500,"Menton","Pharmacie d'officine","A"]
[{"$f":"VLOOKUP(B833,Régions!A:C,3,FALSE)","v":"Provence-Alpes-Côte d'Azur"},{"v":6,"d":"06"},{"$error":"#N/A"},60014396,{"$error":"#N/A"},{"$error":"#N/A"},"SELARL PHARMACIE JACQUIER PEROTTI",32,"Rue","DE LA REPUBLIQUE","06500 MENTON",6500,"Menton","Pharmacie d'officine","A"]
[{"$f":"VLOOKUP(B834,Régions!A:C,3,FALSE)","v":"Provence-Alpes-Côte d'Azur"},{"v":6,"d":"06"},{"$error":"#N/A"},60014446,{"$error":"#N/A"},{"$error":"#N/A"},"SELARL PHARMACIE SAINT MICHEL",27,"Rue","ST MICHEL","06500 MENTON",6500,"Menton","Pharmacie d'officine","A"]
[{"$f":"VLOOKUP(B835,Régions!A:C,3,FALSE)","v":"Provence-Alpes-Côte d'Azur"},{"v":6,"d":"06"},{"$error":"#N/A"},60014461,{"$error":"#N/A"},{"$error":"#N/A"},"SELARL PHARMACIE MARTIN",7,"Avenue","de Sospel","06500 MENTON",6500,"Menton","Pharmacie d'officine","A"]
[{"$f":"VLOOKUP(B836,Régions!A:C,3,FALSE)","v":"Provence-Alpes-Côte d'Azur"},{"v":6,"d":"06"},{"$error":"#N/A"},60014495,{"$error":"#N/A"},{"$error":"#N/A"},"SELARL PHARMACIE DU CAREI",61,"Avenue","DE SOSPEL","06500 MENTON",6500,"Menton","Pharmacie d'officine","A"]
[{"$f":"VLOOKUP(B837,Régions!A:C,3,FALSE)","v":"Provence-Alpes-Côte d'Azur"},{"v":6,"d":"06"},{"$error":"#N/A"},60014511,{"$error":"#N/A"},{"$error":"#N/A"},"PHARMACIE GROSPELLIER-BONINCHI",85,"Route","DE SOSPEL","06500 MENTON",6500,"Menton","Pharmacie d'officine","A"]
[{"$f":"VLOOKUP(B838,Régions!A:C,3,FALSE)","v":"Provence-Alpes-Côte d'Azur"},{"v":6,"d":"06"},"CNOP",60014545,60014545,"oui","SARL PHARMACIE VAL DE GORBIO",92,"Val","DE GORBIO","06500 MENTON",6500,"Menton","Pharmacie d'officine","A"]
[{"$f":"VLOOKUP(B839,Régions!A:C,3,FALSE)","v":"Provence-Alpes-Côte d'Azur"},{"v":6,"d":"06"},"CNOP",60014560,60014560,"oui","PHARMACIE FIANDINO","NULL","NULL","NULL","06200 NICE",6200,"Nice","Pharmacie d'officine","A"]
[{"$f":"VLOOKUP(B840,Régions!A:C,3,FALSE)","v":"Provence-Alpes-Côte d'Azur"},{"v":6,"d":"06"},{"$error":"#N/A"},60014594,{"$error":"#N/A"},{"$error":"#N/A"},"SELARL PHARMACIE VERDIER",46,"Boulevard","GAMBETTA","06000 NICE",6000,"Nice","Pharmacie d'officine","A"]
[{"$f":"VLOOKUP(B841,Régions!A:C,3,FALSE)","v":"Provence-Alpes-Côte d'Azur"},{"v":6,"d":"06"},"PHARMDIRECTFR",60014610,60014610,"oui","PHARMACIE TEMMAR-PEROLA",31,"Rue","D'ANGLETERRE","06000 NICE",6000,"Nice","Pharmacie d'officine","A"]
[{"$f":"VLOOKUP(B842,Régions!A:C,3,FALSE)","v":"Provence-Alpes-Côte d'Azur"},{"v":6,"d":"06"},{"$error":"#N/A"},60014644,{"$error":"#N/A"},{"$error":"#N/A"},"PHARMACIE TOMASI-DAVID","NULL","Avenue","PAUL ARENE","06000 NICE",6000,"Nice","Pharmacie d'officine","A"]
[{"$f":"VLOOKUP(B843,Régions!A:C,3,FALSE)","v":"Provence-Alpes-Côte d'Azur"},{"v":6,"d":"06"},{"$error":"#N/A"},60014677,{"$error":"#N/A"},{"$error":"#N/A"},"SELAS PHARMACIE DU VAL D'OR",104,"Boulevard","DE L'ARIANE","06300 NICE",6300,"Nice","Pharmacie d'officine","A"]
[{"$f":"VLOOKUP(B844,Régions!A:C,3,FALSE)","v":"Provence-Alpes-Côte d'Azur"},{"v":6,"d":"06"},"CNOP",60014701,60014701,"oui","SELARL  PHARMACIE DE L'ARIANE",137,"Boulevard","DE L'ARIANE","06300 NICE",6300,"Nice","Pharmacie d'officine","A"]
[{"$f":"VLOOKUP(B845,Régions!A:C,3,FALSE)","v":"Provence-Alpes-Côte d'Azur"},{"v":6,"d":"06"},{"$error":"#N/A"},60014735,{"$error":"#N/A"},{"$error":"#N/A"},"SELARL PHIE DES JARDINS DE L'ARIANE",31,"Rue","GUIGLIONDA DE STE AGATHE","06300 NICE",6300,"Nice","Pharmacie d'officine","A"]
[{"$f":"VLOOKUP(B846,Régions!A:C,3,FALSE)","v":"Provence-Alpes-Côte d'Azur"},{"v":6,"d":"06"},{"$error":"#N/A"},60014750,{"$error":"#N/A"},{"$error":"#N/A"},"SELARL PHARMANTIBES",1145,"Chemin","DE RABIAC ESTAGNOL","06600 ANTIBES",6600,"Antibes","Pharmacie d'officine","A"]
[{"$f":"VLOOKUP(B847,Régions!A:C,3,FALSE)","v":"Provence-Alpes-Côte d'Azur"},{"v":6,"d":"06"},{"$error":"#N/A"},60014784,{"$error":"#N/A"},{"$error":"#N/A"},"SELARL PHARMACIE MILARKA",19,"Avenue","EMILE RIPERT","06000 NICE",6000,"Nice","Pharmacie d'officine","A"]
[{"$f":"VLOOKUP(B848,Régions!A:C,3,FALSE)","v":"Provence-Alpes-Côte d'Azur"},{"v":6,"d":"06"},{"$error":"#N/A"},60014800,{"$error":"#N/A"},{"$error":"#N/A"},"PHARMACIE THOUVENOT",122,"Avenue","DES ARENES DE CIMIEZ","06000 NICE",6000,"Nice","Pharmacie d'officine","A"]
[{"$f":"VLOOKUP(B849,Régions!A:C,3,FALSE)","v":"Provence-Alpes-Côte d'Azur"},{"v":6,"d":"06"},{"$error":"#N/A"},60014834,{"$error":"#N/A"},{"$error":"#N/A"},"SELAS PHARMACIE DES 7 VALLEES",81,"Boulevard","DE L'ARIANE","06300 NICE",6300,"Nice","Pharmacie d'officine","A"]
[{"$f":"VLOOKUP(B850,Régions!A:C,3,FALSE)","v":"Provence-Alpes-Côte d'Azur"},{"v":6,"d":"06"},"PHARMDIRECTFR",60014875,60014875,"oui","EURL PHARMACIE GENY-MARTINON",22,"Rue","ARSON","06300 NICE",6300,"Nice","Pharmacie d'officine","A"]
[{"$f":"VLOOKUP(B851,Régions!A:C,3,FALSE)","v":"Provence-Alpes-Côte d'Azur"},{"v":6,"d":"06"},{"$error":"#N/A"},60014891,{"$error":"#N/A"},{"$error":"#N/A"},"SELARL PHARMACIE CASALTA",33,"Rue","ARSON","06300 NICE",6300,"Nice","Pharmacie d'officine","A"]
[{"$f":"VLOOKUP(B852,Régions!A:C,3,FALSE)","v":"Provence-Alpes-Côte d'Azur"},{"v":6,"d":"06"},{"$error":"#N/A"},60014925,{"$error":"#N/A"},{"$error":"#N/A"},"PHARMACIE CABOT - ROLINO",51,"Rue","D ARSON","06300 NICE",6300,"Nice","Pharmacie d'officine","A"]
[{"$f":"VLOOKUP(B853,Régions!A:C,3,FALSE)","v":"Provence-Alpes-Côte d'Azur"},{"v":6,"d":"06"},"CNOP",60014941,60014941,"oui","PHARMACIE AUGUSTE",6,"Rue","ASSALIT","06000 NICE",6000,"Nice","Pharmacie d'officine","A"]
[{"$f":"VLOOKUP(B854,Régions!A:C,3,FALSE)","v":"Provence-Alpes-Côte d'Azur"},{"v":6,"d":"06"},{"$error":"#N/A"},60014974,{"$error":"#N/A"},{"$error":"#N/A"},"SELARL PHARMACIE MOZART",11,"Avenue","AUBER","06000 NICE",6000,"Nice","Pharmacie d'officine","A"]
[{"$f":"VLOOKUP(B855,Régions!A:C,3,FALSE)","v":"Provence-Alpes-Côte d'Azur"},{"v":6,"d":"06"},"PHARMDIRECTFR",60015013,60015013,"oui","SELARL PHARMACIE BARLA",2,"Rue","François Guisol","06300 NICE",6300,"Nice","Pharmacie d'officine","A"]
[{"$f":"VLOOKUP(B856,Régions!A:C,3,FALSE)","v":"Provence-Alpes-Côte d'Azur"},{"v":6,"d":"06"},"CNOP",60015047,60015047,"oui","SELARL PHARMACIE EDA SANTE",28,"Avenue","DU RAY","06100 NICE",6100,"Nice","Pharmacie d'officine","A"]
[{"$f":"VLOOKUP(B857,Régions!A:C,3,FALSE)","v":"Provence-Alpes-Côte d'Azur"},{"v":6,"d":"06"},{"$error":"#N/A"},60015062,{"$error":"#N/A"},{"$error":"#N/A"},"SELARL PHARMACIE RINALDI",23,"Rue","DE BELGIQUE","06000 NICE",6000,"Nice","Pharmacie d'officine","A"]
[{"$f":"VLOOKUP(B858,Régions!A:C,3,FALSE)","v":"Provence-Alpes-Côte d'Azur"},{"v":6,"d":"06"},"PHARMDIRECTFR",60015096,60015096,"oui","PHARMACIE  HUBERT",60,"Avenue","FRANKLIN ROOSEVELT","06110 CANNET (LE)",6110,"Le Cannet","Pharmacie d'officine","A"]
[{"$f":"VLOOKUP(B859,Régions!A:C,3,FALSE)","v":"Provence-Alpes-Côte d'Azur"},{"v":6,"d":"06"},{"$error":"#N/A"},60015112,{"$error":"#N/A"},{"$error":"#N/A"},"SELEURL PHARMACIE LEA",21,"Rue","VERDI","06000 NICE",6000,"Nice","Pharmacie d'officine","A"]
[{"$f":"VLOOKUP(B860,Régions!A:C,3,FALSE)","v":"Provence-Alpes-Côte d'Azur"},{"v":6,"d":"06"},"PHARMDIRECTFR",60015146,60015146,"oui","SELARL PHARMACIE VELAY",47,"Avenue","CYRILLE BESSET","06100 NICE",6100,"Nice","Pharmacie d'officine","A"]
[{"$f":"VLOOKUP(B861,Régions!A:C,3,FALSE)","v":"Provence-Alpes-Côte d'Azur"},{"v":6,"d":"06"},{"$error":"#N/A"},60015161,{"$error":"#N/A"},{"$error":"#N/A"},"SARL PHARMACIE DU PIN",10,"Rue","BONAPARTE","06300 NICE",6300,"Nice","Pharmacie d'officine","A"]
[{"$f":"VLOOKUP(B862,Régions!A:C,3,FALSE)","v":"Provence-Alpes-Côte d'Azur"},{"v":6,"d":"06"},{"$error":"#N/A"},60015211,{"$error":"#N/A"},{"$error":"#N/A"},"SELARL PHARMACIE FAGOT COPELLI",2,"Avenue","BORRIGLIONE","06100 NICE",6100,"Nice","Pharmacie d'officine","A"]
[{"$f":"VLOOKUP(B863,Régions!A:C,3,FALSE)","v":"Provence-Alpes-Côte d'Azur"},{"v":6,"d":"06"},"PHARMDIRECTFR",60015252,60015252,"oui","SARL PHARMACIE ERIC GRANIER",25,"Avenue","BORRIGLIONE","06100 NICE",6100,"Nice","Pharmacie d'officine","A"]
[{"$f":"VLOOKUP(B864,Régions!A:C,3,FALSE)","v":"Provence-Alpes-Côte d'Azur"},{"v":6,"d":"06"},"CNOP",60015286,60015286,"oui","SELARL VALROSE",51,"Avenue","BORRIGLIONE","06100 NICE",6100,"Nice","Pharmacie d'officine","A"]
[{"$f":"VLOOKUP(B865,Régions!A:C,3,FALSE)","v":"Provence-Alpes-Côte d'Azur"},{"v":6,"d":"06"},{"$error":"#N/A"},60015302,{"$error":"#N/A"},{"$error":"#N/A"},"PHARMACIE BEDOUCHA-CAILLAREC",25,"Rue","DE LA BUFFA","06000 NICE",6000,"Nice","Pharmacie d'officine","A"]
[{"$f":"VLOOKUP(B866,Régions!A:C,3,FALSE)","v":"Provence-Alpes-Côte d'Azur"},{"v":6,"d":"06"},{"$error":"#N/A"},60015336,{"$error":"#N/A"},{"$error":"#N/A"},"SELARL PHARMACIE MEYERBEER",30,"Rue","DE LA BUFFA","06000 NICE",6000,"Nice","Pharmacie d'officine","A"]
[{"$f":"VLOOKUP(B867,Régions!A:C,3,FALSE)","v":"Provence-Alpes-Côte d'Azur"},{"v":6,"d":"06"},{"$error":"#N/A"},60015351,{"$error":"#N/A"},{"$error":"#N/A"},"SELAS PHARMACIE SAINT ISIDORE","NULL","NULL","RD 6202 SAINT ISIDORE","06200 NICE",6200,"Nice","Pharmacie d'officine","A"]
[{"$f":"VLOOKUP(B868,Régions!A:C,3,FALSE)","v":"Provence-Alpes-Côte d'Azur"},{"v":6,"d":"06"},"PHARMDIRECTFR",60015385,60015385,"oui","SELARL PHARMACIE CASELLA ET ROMAN",11,"Avenue","DE LA CALIFORNIE","06200 NICE",6200,"Nice","Pharmacie d'officine","A"]
[{"$f":"VLOOKUP(B869,Régions!A:C,3,FALSE)","v":"Provence-Alpes-Côte d'Azur"},{"v":6,"d":"06"},{"$error":"#N/A"},60015401,{"$error":"#N/A"},{"$error":"#N/A"},"SELARL CALIROSA",54,"Avenue","DE LA CALIFORNIE","06200 NICE",6200,"Nice","Pharmacie d'officine","A"]
[{"$f":"VLOOKUP(B870,Régions!A:C,3,FALSE)","v":"Provence-Alpes-Côte d'Azur"},{"v":6,"d":"06"},"CNOP",60015435,60015435,"oui","PHARMACIE HUMEAU",122,"Avenue","DE LA CALIFORNIE","06200 NICE",6200,"Nice","Pharmacie d'officine","A"]
[{"$f":"VLOOKUP(B871,Régions!A:C,3,FALSE)","v":"Provence-Alpes-Côte d'Azur"},{"v":6,"d":"06"},"PHARMDIRECTFR",60015500,60015500,"oui","SELARL PHARMACIE FERBER",254,"Avenue","DE LA CALIFORNIE","06200 NICE",6200,"Nice","Pharmacie d'officine","A"]
[{"$f":"VLOOKUP(B872,Régions!A:C,3,FALSE)","v":"Provence-Alpes-Côte d'Azur"},{"v":6,"d":"06"},{"$error":"#N/A"},60015534,{"$error":"#N/A"},{"$error":"#N/A"},"EURL PHARMACIE LE PAPEETE",35,"Rue","CANAVESE","06000 NICE",6000,"Nice","Pharmacie d'officine","A"]
[{"$f":"VLOOKUP(B873,Régions!A:C,3,FALSE)","v":"Provence-Alpes-Côte d'Azur"},{"v":6,"d":"06"},{"$error":"#N/A"},60015567,{"$error":"#N/A"},{"$error":"#N/A"},"PHARMACIE IANNOTTA",44,"Avenue","DU CAP DE CROIX","06100 NICE",6100,"Nice","Pharmacie d'officine","A"]
[{"$f":"VLOOKUP(B874,Régions!A:C,3,FALSE)","v":"Provence-Alpes-Côte d'Azur"},{"v":6,"d":"06"},{"$error":"#N/A"},60015625,{"$error":"#N/A"},{"$error":"#N/A"},"SELAS PHARMACIE KABTENI",3,"Boulevard","CARNOT","06300 NICE",6300,"Nice","Pharmacie d'officine","A"]
[{"$f":"VLOOKUP(B875,Régions!A:C,3,FALSE)","v":"Provence-Alpes-Côte d'Azur"},{"v":6,"d":"06"},{"$error":"#N/A"},60015641,{"$error":"#N/A"},{"$error":"#N/A"},"SELARL PHARMACIE BIARD CHAHED",22,"Boulevard","RENE CASSIN","06200 NICE",6200,"Nice","Pharmacie d'officine","A"]
[{"$f":"VLOOKUP(B876,Régions!A:C,3,FALSE)","v":"Provence-Alpes-Côte d'Azur"},{"v":6,"d":"06"},{"$error":"#N/A"},60015674,{"$error":"#N/A"},{"$error":"#N/A"},"SELARL PHARMACIE SIGNOURET",11,"Rue","CASSINI","06300 NICE",6300,"Nice","Pharmacie d'officine","A"]
[{"$f":"VLOOKUP(B877,Régions!A:C,3,FALSE)","v":"Provence-Alpes-Côte d'Azur"},{"v":6,"d":"06"},{"$error":"#N/A"},60015690,{"$error":"#N/A"},{"$error":"#N/A"},"SARL PHARMACIE DU PORT",17,"Rue","CASSINI","06300 NICE",6300,"Nice","Pharmacie d'officine","A"]
[{"$f":"VLOOKUP(B878,Régions!A:C,3,FALSE)","v":"Provence-Alpes-Côte d'Azur"},{"v":6,"d":"06"},"CNOP",60015724,60015724,"oui","SELARL ROUX - ADECHOKAN",6,"Rue","CENTRALE","06300 NICE",6300,"Nice","Pharmacie d'officine","A"]
[{"$f":"VLOOKUP(B879,Régions!A:C,3,FALSE)","v":"Provence-Alpes-Côte d'Azur"},{"v":6,"d":"06"},{"$error":"#N/A"},60015740,{"$error":"#N/A"},{"$error":"#N/A"},"SELARL PHARMACIE DU PASSAGE A NIVEAU",8,"Boulevard","DE CESSOLE","06100 NICE",6100,"Nice","Pharmacie d'officine","A"]
[{"$f":"VLOOKUP(B880,Régions!A:C,3,FALSE)","v":"Provence-Alpes-Côte d'Azur"},{"v":6,"d":"06"},"CNOP",60015781,60015781,"oui","PHARMACIE LAFFONT - VAUCHEZ",98,"Boulevard","DE CESSOLE","06100 NICE",6100,"Nice","Pharmacie d'officine","A"]
[{"$f":"VLOOKUP(B881,Régions!A:C,3,FALSE)","v":"Provence-Alpes-Côte d'Azur"},{"v":6,"d":"06"},"PHARMDIRECTFR",60015815,60015815,"oui","SELARL PHARMACIE PERIN",140,"Boulevard","DE CESSOLE","06100 NICE",6100,"Nice","Pharmacie d'officine","A"]
[{"$f":"VLOOKUP(B882,Régions!A:C,3,FALSE)","v":"Provence-Alpes-Côte d'Azur"},{"v":6,"d":"06"},"CNOP",60015831,60015831,"oui","SNC PHARMACIE WINTER",84,"Boulevard","DE CIMIEZ","06000 NICE",6000,"Nice","Pharmacie d'officine","A"]
[{"$f":"VLOOKUP(B883,Régions!A:C,3,FALSE)","v":"Provence-Alpes-Côte d'Azur"},{"v":6,"d":"06"},"PHARMDIRECTFR",60015849,60015849,"oui","SELARL PHARMAZUR",12,"Boulevard","COMTE DE FALICON","06100 NICE",6100,"Nice","Pharmacie d'officine","A"]
[{"$f":"VLOOKUP(B884,Régions!A:C,3,FALSE)","v":"Provence-Alpes-Côte d'Azur"},{"v":6,"d":"06"},{"$error":"#N/A"},60015864,{"$error":"#N/A"},{"$error":"#N/A"},"SELARL PHARMACIE MANDIL",5,"Avenue","G.CLEMENCEAU & 7 RUE DE RUSSIE","06000 NICE",6000,"Nice","Pharmacie d'officine","A"]
[{"$f":"VLOOKUP(B885,Régions!A:C,3,FALSE)","v":"Provence-Alpes-Côte d'Azur"},{"v":6,"d":"06"},{"$error":"#N/A"},60015880,{"$error":"#N/A"},{"$error":"#N/A"},"SELARL PHARMACIE CLEMENCEAU",14,"Avenue","GEORGES CLEMENCEAU","06000 NICE",6000,"Nice","Pharmacie d'officine","A"]
[{"$f":"VLOOKUP(B886,Régions!A:C,3,FALSE)","v":"Provence-Alpes-Côte d'Azur"},{"v":6,"d":"06"},"CNOP",60015914,60015914,"oui","SELARL PHARMACIE CILENTI",32,"Avenue","GEORGES CLEMENCEAU","06000 NICE",6000,"Nice","Pharmacie d'officine","A"]
[{"$f":"VLOOKUP(B887,Régions!A:C,3,FALSE)","v":"Provence-Alpes-Côte d'Azur"},{"v":6,"d":"06"},{"$error":"#N/A"},60015930,{"$error":"#N/A"},{"$error":"#N/A"},"PHARMACIE  KALFON",22,"Avenue","R. COMBOUL","06000 NICE",6000,"Nice","Pharmacie d'officine","A"]
[{"$f":"VLOOKUP(B888,Régions!A:C,3,FALSE)","v":"Provence-Alpes-Côte d'Azur"},{"v":6,"d":"06"},"CNOP",60015997,60015997,"oui","SELARL COTE D'AZUR PHARMACY",14,"Rue","DE FRANCE","06000 NICE",6000,"Nice","Pharmacie d'officine","A"]
[{"$f":"VLOOKUP(B889,Régions!A:C,3,FALSE)","v":"Provence-Alpes-Côte d'Azur"},{"v":6,"d":"06"},"CNOP",60016011,60016011,"oui","SNC PHARMACIE SIMON",98,"Corniche","ANDRE DE JOLY","06300 NICE",6300,"Nice","Pharmacie d'officine","A"]
[{"$f":"VLOOKUP(B890,Régions!A:C,3,FALSE)","v":"Provence-Alpes-Côte d'Azur"},{"v":6,"d":"06"},{"$error":"#N/A"},60016045,{"$error":"#N/A"},{"$error":"#N/A"},"SARL PHIE DU CASTEL DES DEUX ROIS",10,"Corniche","ANDRE DE JOLY","06300 NICE",6300,"Nice","Pharmacie d'officine","A"]
[{"$f":"VLOOKUP(B891,Régions!A:C,3,FALSE)","v":"Provence-Alpes-Côte d'Azur"},{"v":6,"d":"06"},{"$error":"#N/A"},60016060,{"$error":"#N/A"},{"$error":"#N/A"},"SELARL PHARMACIE MONTAGNY",61,"Avenue","CORNICHE FLEURIE","06200 NICE",6200,"Nice","Pharmacie d'officine","A"]
[{"$f":"VLOOKUP(B892,Régions!A:C,3,FALSE)","v":"Provence-Alpes-Côte d'Azur"},{"v":6,"d":"06"},"PHARMDIRECTFR",60016094,60016094,"oui","SELAS PHIE STE AGATHE - CTRE CAL TNL",15,"Boulevard","LOUIS DELFINO","06300 NICE",6300,"Nice","Pharmacie d'officine","A"]
[{"$f":"VLOOKUP(B893,Régions!A:C,3,FALSE)","v":"Provence-Alpes-Côte d'Azur"},{"v":6,"d":"06"},{"$error":"#N/A"},60016144,{"$error":"#N/A"},{"$error":"#N/A"},"SELARL PHARMACIE HALIMI",6,"Boulevard","DUBOUCHAGE","06000 NICE",6000,"Nice","Pharmacie d'officine","A"]
[{"$f":"VLOOKUP(B894,Régions!A:C,3,FALSE)","v":"Provence-Alpes-Côte d'Azur"},{"v":6,"d":"06"},"CNOP",60016177,60016177,"oui","PHARMACIE SALVETTO",28,"Boulevard","DUBOUCHAGE & RUE LAMARTINE","06000 NICE",6000,"Nice","Pharmacie d'officine","A"]
[{"$f":"VLOOKUP(B895,Régions!A:C,3,FALSE)","v":"Provence-Alpes-Côte d'Azur"},{"v":6,"d":"06"},{"$error":"#N/A"},60016193,{"$error":"#N/A"},{"$error":"#N/A"},"SELARL PHARMACIE HENRY DUNANT",87,"Avenue","HENRY DUNANT","06100 NICE",6100,"Nice","Pharmacie d'officine","A"]
[{"$f":"VLOOKUP(B896,Régions!A:C,3,FALSE)","v":"Provence-Alpes-Côte d'Azur"},{"v":6,"d":"06"},{"$error":"#N/A"},60016227,{"$error":"#N/A"},{"$error":"#N/A"},"SELARL LES PINS",112,"Avenue","HENRY DUNANT","06100 NICE",6100,"Nice","Pharmacie d'officine","A"]
[{"$f":"VLOOKUP(B897,Régions!A:C,3,FALSE)","v":"Provence-Alpes-Côte d'Azur"},{"v":6,"d":"06"},"CNOP",60016243,60016243,"oui","SELARL PHARMACIE LAVALLIERE",11,"Rue","DUNOYER DE SEGONZAC","06200 NICE",6200,"Nice","Pharmacie d'officine","A"]
[{"$f":"VLOOKUP(B898,Régions!A:C,3,FALSE)","v":"Provence-Alpes-Côte d'Azur"},{"v":6,"d":"06"},{"$error":"#N/A"},60016276,{"$error":"#N/A"},{"$error":"#N/A"},"PHARMACIE LOBEL",177,"Boulevard","DE L'ARIANE","06100 NICE",6100,"Nice","Pharmacie d'officine","A"]
[{"$f":"VLOOKUP(B899,Régions!A:C,3,FALSE)","v":"Provence-Alpes-Côte d'Azur"},{"v":6,"d":"06"},"PHARMDIRECTFR",60016292,60016292,"oui","SELARL PHARMACIE FELIX FAURE",12,"Avenue","FELIX FAURE","06000 NICE",6000,"Nice","Pharmacie d'officine","A"]
[{"$f":"VLOOKUP(B900,Régions!A:C,3,FALSE)","v":"Provence-Alpes-Côte d'Azur"},{"v":6,"d":"06"},{"$error":"#N/A"},60016326,{"$error":"#N/A"},{"$error":"#N/A"},"SELAS GDE PHIE ANGLO AMERICAINE",1,"Rue","MACCARANI - 2 RUE DE FRANCE","06000 NICE",6000,"Nice","Pharmacie d'officine","A"]
[{"$f":"VLOOKUP(B901,Régions!A:C,3,FALSE)","v":"Provence-Alpes-Côte d'Azur"},{"v":6,"d":"06"},"PHARMDIRECTFR",60016342,60016342,"oui","SELARL PHARMACIE DU CARRE D'OR",30,"Rue","DE FRANCE","06000 NICE",6000,"Nice","Pharmacie d'officine","A"]
[{"$f":"VLOOKUP(B902,Régions!A:C,3,FALSE)","v":"Provence-Alpes-Côte d'Azur"},{"v":6,"d":"06"},{"$error":"#N/A"},60016375,{"$error":"#N/A"},{"$error":"#N/A"},"SELAS PHARMACIE BOUKERT",134,"Rue","DE FRANCE","06000 NICE",6000,"Nice","Pharmacie d'officine","A"]
[{"$f":"VLOOKUP(B903,Régions!A:C,3,FALSE)","v":"Provence-Alpes-Côte d'Azur"},{"v":6,"d":"06"},{"$error":"#N/A"},60016391,{"$error":"#N/A"},{"$error":"#N/A"},"SELARL PHARMACIE DE FRANCE",13,"Boulevard","GAMBETTA","06000 NICE",6000,"Nice","Pharmacie d'officine","A"]
[{"$f":"VLOOKUP(B904,Régions!A:C,3,FALSE)","v":"Provence-Alpes-Côte d'Azur"},{"v":6,"d":"06"},{"$error":"#N/A"},60016425,{"$error":"#N/A"},{"$error":"#N/A"},"SELARL PHARMACIE DU PANACHE",191,"Boulevard","DE LA MADELEINE","06000 NICE",6000,"Nice","Pharmacie d'officine","A"]
[{"$f":"VLOOKUP(B905,Régions!A:C,3,FALSE)","v":"Provence-Alpes-Côte d'Azur"},{"v":6,"d":"06"},{"$error":"#N/A"},60016441,{"$error":"#N/A"},{"$error":"#N/A"},"SELARL PHARMACIE MICHALET",27,"Boulevard","GAMBETTA","06000 NICE",6000,"Nice","Pharmacie d'officine","A"]
[{"$f":"VLOOKUP(B906,Régions!A:C,3,FALSE)","v":"Provence-Alpes-Côte d'Azur"},{"v":6,"d":"06"},"CNOP",60016474,60016474,"non","SELARL PHARMACIE SIMHA",34,"Boulevard","GAMBETTA","06000 NICE",6000,"Nice","Pharmacie d'officine","A"]
[{"$f":"VLOOKUP(B907,Régions!A:C,3,FALSE)","v":"Provence-Alpes-Côte d'Azur"},{"v":6,"d":"06"},"CNOP",60016490,60016490,"oui","PHARMACIE ABBA",47,"Boulevard","GAMBETTA","06000 NICE",6000,"Nice","Pharmacie d'officine","A"]
[{"$f":"VLOOKUP(B908,Régions!A:C,3,FALSE)","v":"Provence-Alpes-Côte d'Azur"},{"v":6,"d":"06"},{"$error":"#N/A"},60016524,{"$error":"#N/A"},{"$error":"#N/A"},"SELARL PHIE THIERS - DR ANNE AUBRY",62,"Boulevard","GAMBETTA","06000 NICE",6000,"Nice","Pharmacie d'officine","A"]
[{"$f":"VLOOKUP(B909,Régions!A:C,3,FALSE)","v":"Provence-Alpes-Côte d'Azur"},{"v":6,"d":"06"},{"$error":"#N/A"},60016540,{"$error":"#N/A"},{"$error":"#N/A"},"PHARMACIE BLAMPAIN",77,"Boulevard","GAMBETTA","06000 NICE",6000,"Nice","Pharmacie d'officine","A"]
[{"$f":"VLOOKUP(B910,Régions!A:C,3,FALSE)","v":"Provence-Alpes-Côte d'Azur"},{"v":6,"d":"06"},{"$error":"#N/A"},60016565,{"$error":"#N/A"},{"$error":"#N/A"},"SELARL PHARMACIE DU PARC",94,"Boulevard","GAMBETTA","06000 NICE",6000,"Nice","Pharmacie d'officine","A"]
[{"$f":"VLOOKUP(B911,Régions!A:C,3,FALSE)","v":"Provence-Alpes-Côte d'Azur"},{"v":6,"d":"06"},{"$error":"#N/A"},60016581,{"$error":"#N/A"},{"$error":"#N/A"},"PHARMACIE BRU",114,"Boulevard","GAMBETTA","06000 NICE",6000,"Nice","Pharmacie d'officine","A"]
[{"$f":"VLOOKUP(B912,Régions!A:C,3,FALSE)","v":"Provence-Alpes-Côte d'Azur"},{"v":6,"d":"06"},{"$error":"#N/A"},60016615,{"$error":"#N/A"},{"$error":"#N/A"},"SELARL AZUR SANTE",136,"Boulevard","GAMBETTA","06000 NICE",6000,"Nice","Pharmacie d'officine","A"]
[{"$f":"VLOOKUP(B913,Régions!A:C,3,FALSE)","v":"Provence-Alpes-Côte d'Azur"},{"v":6,"d":"06"},"PHARMDIRECTFR",60016631,60016631,"oui","SELASU PHARMACIE FERRIERE",51,"Avenue","Simone Veil","06200 NICE",6200,"Nice","Pharmacie d'officine","A"]
[{"$f":"VLOOKUP(B914,Régions!A:C,3,FALSE)","v":"Provence-Alpes-Côte d'Azur"},{"v":6,"d":"06"},{"$error":"#N/A"},60016664,{"$error":"#N/A"},{"$error":"#N/A"},"SELARL PHARMACIE FIORIO",7,"Boulevard","JOSEPH GARNIER","06000 NICE",6000,"Nice","Pharmacie d'officine","A"]
[{"$f":"VLOOKUP(B915,Régions!A:C,3,FALSE)","v":"Provence-Alpes-Côte d'Azur"},{"v":6,"d":"06"},{"$error":"#N/A"},60016680,{"$error":"#N/A"},{"$error":"#N/A"},"SELARL PHARMACIE JOSEPH GARNIER",20,"Boulevard","JOSEPH GARNIER","06000 NICE",6000,"Nice","Pharmacie d'officine","A"]
[{"$f":"VLOOKUP(B916,Régions!A:C,3,FALSE)","v":"Provence-Alpes-Côte d'Azur"},{"v":6,"d":"06"},"PHARMDIRECTFR",60016730,60016730,"oui","SELARL PHARMACIE ST ANTOINE NOUVELLE",341,"Chemin","DE GINESTIÈRE","06200 NICE",6200,"Nice","Pharmacie d'officine","A"]
[{"$f":"VLOOKUP(B917,Régions!A:C,3,FALSE)","v":"Provence-Alpes-Côte d'Azur"},{"v":6,"d":"06"},{"$error":"#N/A"},60016847,{"$error":"#N/A"},{"$error":"#N/A"},"SELARL PHARMACIE DU LYCEE MASSENA",40,"Rue","GIOFFREDO","06000 NICE",6000,"Nice","Pharmacie d'officine","A"]
[{"$f":"VLOOKUP(B918,Régions!A:C,3,FALSE)","v":"Provence-Alpes-Côte d'Azur"},{"v":6,"d":"06"},{"$error":"#N/A"},60016862,{"$error":"#N/A"},{"$error":"#N/A"},"SELARL PHARMACIE NICE MERIDIA",272,"Route","DE GRENOBLE","06200 NICE",6200,"Nice","Pharmacie d'officine","A"]
[{"$f":"VLOOKUP(B919,Régions!A:C,3,FALSE)","v":"Provence-Alpes-Côte d'Azur"},{"v":6,"d":"06"},{"$error":"#N/A"},60016896,{"$error":"#N/A"},{"$error":"#N/A"},"SELARL  PHARMACIE GORBELLA",12,"Boulevard","GORBELLA","06100 NICE",6100,"Nice","Pharmacie d'officine","A"]
[{"$f":"VLOOKUP(B920,Régions!A:C,3,FALSE)","v":"Provence-Alpes-Côte d'Azur"},{"v":6,"d":"06"},{"$error":"#N/A"},60016912,{"$error":"#N/A"},{"$error":"#N/A"},"SELARL PHARMACIE DU STADE DU RAY",54,"Boulevard","Gorbella","06100 NICE",6100,"Nice","Pharmacie d'officine","A"]
[{"$f":"VLOOKUP(B921,Régions!A:C,3,FALSE)","v":"Provence-Alpes-Côte d'Azur"},{"v":6,"d":"06"},{"$error":"#N/A"},60016946,{"$error":"#N/A"},{"$error":"#N/A"},"SELARL PHARMACIE CARLIN",69,"Boulevard","GORBELLA","06100 NICE",6100,"Nice","Pharmacie d'officine","A"]
[{"$f":"VLOOKUP(B922,Régions!A:C,3,FALSE)","v":"Provence-Alpes-Côte d'Azur"},{"v":6,"d":"06"},{"$error":"#N/A"},60016995,{"$error":"#N/A"},{"$error":"#N/A"},"SELARL PHIE CARREFOUR LINGOSTIERE","NULL","Route","DIGNE - RN 202 NICE LINGOSTIERE","06200 NICE",6200,"Nice","Pharmacie d'officine","A"]
[{"$f":"VLOOKUP(B923,Régions!A:C,3,FALSE)","v":"Provence-Alpes-Côte d'Azur"},{"v":6,"d":"06"},"PHARMDIRECTFR",60017027,60017027,"oui","SELARL NATHANAEL PHARMA",58,"Boulevard","FRANCOIS GROSSO","06200 NICE",6200,"Nice","Pharmacie d'officine","A"]
[{"$f":"VLOOKUP(B924,Régions!A:C,3,FALSE)","v":"Provence-Alpes-Côte d'Azur"},{"v":6,"d":"06"},{"$error":"#N/A"},60017043,{"$error":"#N/A"},{"$error":"#N/A"},"SARL JACQUOT SEPCHAT",76,"Boulevard","GROSSO","06000 NICE",6000,"Nice","Pharmacie d'officine","A"]
[{"$f":"VLOOKUP(B925,Régions!A:C,3,FALSE)","v":"Provence-Alpes-Côte d'Azur"},{"v":6,"d":"06"},{"$error":"#N/A"},60017076,{"$error":"#N/A"},{"$error":"#N/A"},"PHARMACIE LANCE",27,"Rue","DE L'HOTEL DES POSTES","06000 NICE",6000,"Nice","Pharmacie d'officine","A"]
[{"$f":"VLOOKUP(B926,Régions!A:C,3,FALSE)","v":"Provence-Alpes-Côte d'Azur"},{"v":6,"d":"06"},"CNOP",60017092,60017092,"oui","SELARL PHARMACIE NICE EUROPE",43,"Rue","HOTEL DES POSTES","06000 NICE",6000,"Nice","Pharmacie d'officine","A"]
[{"$f":"VLOOKUP(B927,Régions!A:C,3,FALSE)","v":"Provence-Alpes-Côte d'Azur"},{"v":6,"d":"06"},{"$error":"#N/A"},60017126,{"$error":"#N/A"},{"$error":"#N/A"},"SELARL PHARMACIE COLONNA",2,"Boulevard","JEAN JAURES","06300 NICE",6300,"Nice","Pharmacie d'officine","A"]
[{"$f":"VLOOKUP(B928,Régions!A:C,3,FALSE)","v":"Provence-Alpes-Côte d'Azur"},{"v":6,"d":"06"},"CNOP",60017142,60017142,"oui","SELAS PHARMACIE ERASMUS",5,"Traverse","de la Digue des Français","06200 NICE",6200,"Nice","Pharmacie d'officine","A"]
[{"$f":"VLOOKUP(B929,Régions!A:C,3,FALSE)","v":"Provence-Alpes-Côte d'Azur"},{"v":6,"d":"06"},"CNOP",60017225,60017225,"oui","SELARL PHARMACIE DE SAINT-ROMAN",45,"Avenue","ST ROMAN","06500 MENTON",6500,"Menton","Pharmacie d'officine","A"]
[{"$f":"VLOOKUP(B930,Régions!A:C,3,FALSE)","v":"Provence-Alpes-Côte d'Azur"},{"v":6,"d":"06"},"CNOP",60017241,60017241,"oui","SELARL CAPA",15,"Boulevard","VICTOR HUGO","06000 NICE",6000,"Nice","Pharmacie d'officine","A"]
[{"$f":"VLOOKUP(B931,Régions!A:C,3,FALSE)","v":"Provence-Alpes-Côte d'Azur"},{"v":6,"d":"06"},{"$error":"#N/A"},60017274,{"$error":"#N/A"},{"$error":"#N/A"},"PHARMACIE REBOUL",12,"Rue","LAMARTINE","06000 NICE",6000,"Nice","Pharmacie d'officine","A"]
[{"$f":"VLOOKUP(B932,Régions!A:C,3,FALSE)","v":"Provence-Alpes-Côte d'Azur"},{"v":6,"d":"06"},{"$error":"#N/A"},60017290,{"$error":"#N/A"},{"$error":"#N/A"},"EURL PHARMACIE DE LA LANTERNE",14,"Avenue","DE LA LANTERNE","06200 NICE",6200,"Nice","Pharmacie d'officine","A"]
[{"$f":"VLOOKUP(B933,Régions!A:C,3,FALSE)","v":"Provence-Alpes-Côte d'Azur"},{"v":6,"d":"06"},"CNOP",60017324,60017324,"oui","SELARL PHARMACIE LA PIGNATA NOUVELLE",242,"Avenue","DE FABRON","06200 NICE",6200,"Nice","Pharmacie d'officine","A"]
[{"$f":"VLOOKUP(B934,Régions!A:C,3,FALSE)","v":"Provence-Alpes-Côte d'Azur"},{"v":6,"d":"06"},"PHARMDIRECTFR",60017340,60017340,"oui","SELARL PHARMELKO",67,"Boulevard","HENRI SAPPIA","06100 NICE",6100,"Nice","Pharmacie d'officine","A"]
[{"$f":"VLOOKUP(B935,Régions!A:C,3,FALSE)","v":"Provence-Alpes-Côte d'Azur"},{"v":6,"d":"06"},{"$error":"#N/A"},60017365,{"$error":"#N/A"},{"$error":"#N/A"},"PHARMACIE BENVENISTE-TEBOUL",17,"Rue","LEPANTE","06000 NICE",6000,"Nice","Pharmacie d'officine","A"]
[{"$f":"VLOOKUP(B936,Régions!A:C,3,FALSE)","v":"Provence-Alpes-Côte d'Azur"},{"v":6,"d":"06"},{"$error":"#N/A"},60017381,{"$error":"#N/A"},{"$error":"#N/A"},"SELARL PHARMACIE DE LA MADELEINE",12,"Boulevard","DE LA MADELEINE","06000 NICE",6000,"Nice","Pharmacie d'officine","A"]
[{"$f":"VLOOKUP(B937,Régions!A:C,3,FALSE)","v":"Provence-Alpes-Côte d'Azur"},{"v":6,"d":"06"},{"$error":"#N/A"},60017415,{"$error":"#N/A"},{"$error":"#N/A"},"SELARL PHARMACIE DES ECOLES",104,"Boulevard","DE LA MADELEINE","06000 NICE",6000,"Nice","Pharmacie d'officine","A"]
[{"$f":"VLOOKUP(B938,Régions!A:C,3,FALSE)","v":"Provence-Alpes-Côte d'Azur"},{"v":6,"d":"06"},"CNOP",60017464,60017464,"oui","PHARMACIE GUERIN - BELIN",224,"Boulevard","DE LA MADELEINE","06000 NICE",6000,"Nice","Pharmacie d'officine","A"]
[{"$f":"VLOOKUP(B939,Régions!A:C,3,FALSE)","v":"Provence-Alpes-Côte d'Azur"},{"v":6,"d":"06"},{"$error":"#N/A"},60017480,{"$error":"#N/A"},{"$error":"#N/A"},"SELARL PHARMACIE COLLOMBIER",9,"Allee","CAMILLE MUFFAT","06000 NICE",6000,"Nice","Pharmacie d'officine","A"]
[{"$f":"VLOOKUP(B940,Régions!A:C,3,FALSE)","v":"Provence-Alpes-Côte d'Azur"},{"v":6,"d":"06"},"CNOP",60017514,60017514,"oui","SELAS GRANDE PHARMACIE DU SUD",11,"Avenue","MALAUSSENA","06000 NICE",6000,"Nice","Pharmacie d'officine","A"]
[{"$f":"VLOOKUP(B941,Régions!A:C,3,FALSE)","v":"Provence-Alpes-Côte d'Azur"},{"v":6,"d":"06"},"CNOP",60017530,60017530,"oui","SELARL PHARMACIE JAIME",12,"Avenue","MALAUSSENA","06000 NICE",6000,"Nice","Pharmacie d'officine","A"]
[{"$f":"VLOOKUP(B942,Régions!A:C,3,FALSE)","v":"Provence-Alpes-Côte d'Azur"},{"v":6,"d":"06"},{"$error":"#N/A"},60017563,{"$error":"#N/A"},{"$error":"#N/A"},"SARL PHARMACIE DEGAND",30,"Avenue","MALAUSSENA","06000 NICE",6000,"Nice","Pharmacie d'officine","A"]
[{"$f":"VLOOKUP(B943,Régions!A:C,3,FALSE)","v":"Provence-Alpes-Côte d'Azur"},{"v":6,"d":"06"},"PHARMDIRECTFR",60017597,60017597,"oui","SELARL PHARMACIE PASTEUR",143,"Quai","MARECHAL LYAUTEY","06000 NICE",6000,"Nice","Pharmacie d'officine","A"]
[{"$f":"VLOOKUP(B944,Régions!A:C,3,FALSE)","v":"Provence-Alpes-Côte d'Azur"},{"v":6,"d":"06"},"PHARMDIRECTFR",60017613,60017613,"oui","SELARL PHARMACIE LYAUTEY",31,"Avenue","MARECHAL LYAUTEY","06000 NICE",6000,"Nice","Pharmacie d'officine","A"]
[{"$f":"VLOOKUP(B945,Régions!A:C,3,FALSE)","v":"Provence-Alpes-Côte d'Azur"},{"v":6,"d":"06"},"PHARMDIRECTFR",60017647,60017647,"oui","SELAS PHARMACIE CARREFOUR DE SANTE",69,"Avenue","DU MARECHAL LYAUTEY","06000 NICE",6000,"Nice","Pharmacie d'officine","A"]
[{"$f":"VLOOKUP(B946,Régions!A:C,3,FALSE)","v":"Provence-Alpes-Côte d'Azur"},{"v":6,"d":"06"},{"$error":"#N/A"},60017662,{"$error":"#N/A"},{"$error":"#N/A"},"SELARL PHARMACIE AIR PUR",2,"Boulevard","DU MONT BORON","06300 NICE",6300,"Nice","Pharmacie d'officine","A"]
[{"$f":"VLOOKUP(B947,Régions!A:C,3,FALSE)","v":"Provence-Alpes-Côte d'Azur"},{"v":6,"d":"06"},{"$error":"#N/A"},60017696,{"$error":"#N/A"},{"$error":"#N/A"},"SNC PHARMACIE BERGEL LA GRANDE",10,"Rue","MASSENA","06000 NICE",6000,"Nice","Pharmacie d'officine","A"]
[{"$f":"VLOOKUP(B948,Régions!A:C,3,FALSE)","v":"Provence-Alpes-Côte d'Azur"},{"v":6,"d":"06"},{"$error":"#N/A"},60017746,{"$error":"#N/A"},{"$error":"#N/A"},"SELAS COUTO OURY LA PHARMACIE MERCIER",16,"Avenue","JEAN MEDECIN","06000 NICE",6000,"Nice","Pharmacie d'officine","A"]
[{"$f":"VLOOKUP(B949,Régions!A:C,3,FALSE)","v":"Provence-Alpes-Côte d'Azur"},{"v":6,"d":"06"},{"$error":"#N/A"},60017761,{"$error":"#N/A"},{"$error":"#N/A"},"SELARL PHARMACIE MASSENA",7,"Rue","MASSENA","06000 NICE",6000,"Nice","Pharmacie d'officine","A"]
[{"$f":"VLOOKUP(B950,Régions!A:C,3,FALSE)","v":"Provence-Alpes-Côte d'Azur"},{"v":6,"d":"06"},"CNOP",60017795,60017795,"oui","SELARL PHARMACIE SEGEON",37,"Avenue","HENRI MATISSE","06000 NICE",6000,"Nice","Pharmacie d'officine","A"]
[{"$f":"VLOOKUP(B951,Régions!A:C,3,FALSE)","v":"Provence-Alpes-Côte d'Azur"},{"v":6,"d":"06"},"PHARMDIRECTFR",60017811,60017811,"oui","SELAS PHARMACIE DE L'AVENUE",45,"Avenue","JEAN MEDECIN","06200 NICE",6200,"Nice","Pharmacie d'officine","A"]
[{"$f":"VLOOKUP(B952,Régions!A:C,3,FALSE)","v":"Provence-Alpes-Côte d'Azur"},{"v":6,"d":"06"},{"$error":"#N/A"},60017845,{"$error":"#N/A"},{"$error":"#N/A"},"SELARL PHARMACIE NICE ETOILE",24,"Avenue","JEAN MEDECIN","06000 NICE",6000,"Nice","Pharmacie d'officine","A"]
[{"$f":"VLOOKUP(B953,Régions!A:C,3,FALSE)","v":"Provence-Alpes-Côte d'Azur"},{"v":6,"d":"06"},{"$error":"#N/A"},60017860,{"$error":"#N/A"},{"$error":"#N/A"},"SELAS PHARMACIE DE PARIS",60,"Avenue","JEAN MEDECIN","06000 NICE",6000,"Nice","Pharmacie d'officine","A"]
[{"$f":"VLOOKUP(B954,Régions!A:C,3,FALSE)","v":"Provence-Alpes-Côte d'Azur"},{"v":6,"d":"06"},{"$error":"#N/A"},60017894,{"$error":"#N/A"},{"$error":"#N/A"},"SELARL PHARMACIE DARMON GOFFIN",66,"Avenue","JEAN MEDECIN","06000 NICE",6000,"Nice","Pharmacie d'officine","A"]
[{"$f":"VLOOKUP(B955,Régions!A:C,3,FALSE)","v":"Provence-Alpes-Côte d'Azur"},{"v":6,"d":"06"},"PHARMDIRECTFR",60017910,60017910,"oui","SNC PHARMACIE SMITH NOVELLAS",62,"Boulevard","NAPOLEON III","06200 NICE",6200,"Nice","Pharmacie d'officine","A"]
[{"$f":"VLOOKUP(B956,Régions!A:C,3,FALSE)","v":"Provence-Alpes-Côte d'Azur"},{"v":6,"d":"06"},"PHARMDIRECTFR",60017944,60017944,"oui","SELARL PHARMACIE DES MAGNOLIAS",121,"Boulevard","NAPOLEON III","06200 NICE",6200,"Nice","Pharmacie d'officine","A"]
[{"$f":"VLOOKUP(B957,Régions!A:C,3,FALSE)","v":"Provence-Alpes-Côte d'Azur"},{"v":6,"d":"06"},"CNOP",60017977,60017977,"oui","SELARL PHARMACIE NOTRE DAME",19,"Avenue","NOTRE DAME","06000 NICE",6000,"Nice","Pharmacie d'officine","A"]
[{"$f":"VLOOKUP(B958,Régions!A:C,3,FALSE)","v":"Provence-Alpes-Côte d'Azur"},{"v":6,"d":"06"},{"$error":"#N/A"},60017993,{"$error":"#N/A"},{"$error":"#N/A"},"SARL PHIE DE LA BAIE DES ANGES ORENGO",4,"Rue","DE  L'OPERA","06300 NICE",6300,"Nice","Pharmacie d'officine","A"]
[{"$f":"VLOOKUP(B959,Régions!A:C,3,FALSE)","v":"Provence-Alpes-Côte d'Azur"},{"v":6,"d":"06"},{"$error":"#N/A"},60018025,{"$error":"#N/A"},{"$error":"#N/A"},"SELARL PHIE ST MAURICE -SELMI BERGERY",2,"Place","ALEXANDRE MEDECIN","06100 NICE",6100,"Nice","Pharmacie d'officine","A"]
[{"$f":"VLOOKUP(B960,Régions!A:C,3,FALSE)","v":"Provence-Alpes-Côte d'Azur"},{"v":6,"d":"06"},"CNOP",60018041,60018041,"oui","SELAS  PHARMACIE DE CIMIEZ",20,"Avenue","DE FLIREY","06100 NICE",6100,"Nice","Pharmacie d'officine","A"]
[{"$f":"VLOOKUP(B961,Régions!A:C,3,FALSE)","v":"Provence-Alpes-Côte d'Azur"},{"v":6,"d":"06"},{"$error":"#N/A"},60018074,{"$error":"#N/A"},{"$error":"#N/A"},"SELARL PHARMACIE GRIMALDI",2,"Place","GRIMALDI","06000 NICE",6000,"Nice","Pharmacie d'officine","A"]
[{"$f":"VLOOKUP(B962,Régions!A:C,3,FALSE)","v":"Provence-Alpes-Côte d'Azur"},{"v":6,"d":"06"},{"$error":"#N/A"},60018124,{"$error":"#N/A"},{"$error":"#N/A"},"SELEURL PHIE DE LA GARE DE RIQUIER",14,"Place","AUGUSTE BLANQUI","06300 NICE",6300,"Nice","Pharmacie d'officine","A"]
[{"$f":"VLOOKUP(B963,Régions!A:C,3,FALSE)","v":"Provence-Alpes-Côte d'Azur"},{"v":6,"d":"06"},{"$error":"#N/A"},60018140,{"$error":"#N/A"},{"$error":"#N/A"},"SELARL  MHX PHARMA",7,"Rue","DE LA PREFECTURE","06300 NICE",6300,"Nice","Pharmacie d'officine","A"]
[{"$f":"VLOOKUP(B964,Régions!A:C,3,FALSE)","v":"Provence-Alpes-Côte d'Azur"},{"v":6,"d":"06"},"CNOP",60018165,60018165,"oui","SELARL PHARMACIE SEZIONALE",1,"Route","DE TURIN","06300 NICE",6300,"Nice","Pharmacie d'officine","A"]
[{"$f":"VLOOKUP(B965,Régions!A:C,3,FALSE)","v":"Provence-Alpes-Côte d'Azur"},{"v":6,"d":"06"},"PHARMDIRECTFR",60018181,60018181,"oui","SELARL PHARMACIE BOILEAU",17,"Rue","PERTINAX","06000 NICE",6000,"Nice","Pharmacie d'officine","A"]
[{"$f":"VLOOKUP(B966,Régions!A:C,3,FALSE)","v":"Provence-Alpes-Côte d'Azur"},{"v":6,"d":"06"},{"$error":"#N/A"},60018215,{"$error":"#N/A"},{"$error":"#N/A"},"SELARL PHARMACIE DES COLLINES",162,"Avenue","DE PESSICART","06100 NICE",6100,"Nice","Pharmacie d'officine","A"]
[{"$f":"VLOOKUP(B967,Régions!A:C,3,FALSE)","v":"Provence-Alpes-Côte d'Azur"},{"v":6,"d":"06"},"PHARMDIRECTFR",60018264,60018264,"oui","SELAS PHARMACIE PAUL MONTEL",40,"Boulevard","PAUL MONTEL","06200 NICE",6200,"Nice","Pharmacie d'officine","A"]
[{"$f":"VLOOKUP(B968,Régions!A:C,3,FALSE)","v":"Provence-Alpes-Côte d'Azur"},{"v":6,"d":"06"},{"$error":"#N/A"},60018280,{"$error":"#N/A"},{"$error":"#N/A"},"PHARMACIE OUARITINI-MEKKI BERRADA",28,"Boulevard","RAIMBALDI","06000 NICE",6000,"Nice","Pharmacie d'officine","A"]
[{"$f":"VLOOKUP(B969,Régions!A:C,3,FALSE)","v":"Provence-Alpes-Côte d'Azur"},{"v":6,"d":"06"},{"$error":"#N/A"},60018314,{"$error":"#N/A"},{"$error":"#N/A"},"PHARMACIE DIBO COHEN",5,"Avenue","DE LA REPUBLIQUE","06300 NICE",6300,"Nice","Pharmacie d'officine","A"]
[{"$f":"VLOOKUP(B970,Régions!A:C,3,FALSE)","v":"Provence-Alpes-Côte d'Azur"},{"v":6,"d":"06"},{"$error":"#N/A"},60018330,{"$error":"#N/A"},{"$error":"#N/A"},"SELAS L2M SANTE",29,"Avenue","DE LA REPUBLIQUE","06300 NICE",6300,"Nice","Pharmacie d'officine","A"]
[{"$f":"VLOOKUP(B971,Régions!A:C,3,FALSE)","v":"Provence-Alpes-Côte d'Azur"},{"v":6,"d":"06"},"CNOP",60018397,60018397,"oui","PHARMACIE BORRIGLIONE",15,"Rue","DU PONT VIEUX","06300 NICE",6300,"Nice","Pharmacie d'officine","A"]
[{"$f":"VLOOKUP(B972,Régions!A:C,3,FALSE)","v":"Provence-Alpes-Côte d'Azur"},{"v":6,"d":"06"},"CNOP",60018413,60018413,"non","PHARMACIE PESSINA",30,"Avenue","DE LA REPUBLIQUE & 4 RUE SMOLETT","06300 NICE",6300,"Nice","Pharmacie d'officine","A"]
[{"$f":"VLOOKUP(B973,Régions!A:C,3,FALSE)","v":"Provence-Alpes-Côte d'Azur"},{"v":6,"d":"06"},{"$error":"#N/A"},60018447,{"$error":"#N/A"},{"$error":"#N/A"},"SELARL GRANDE PHARMACIE NICOISE",41,"Rue","DE LA REPUBLIQUE","06300 NICE",6300,"Nice","Pharmacie d'officine","A"]
[{"$f":"VLOOKUP(B974,Régions!A:C,3,FALSE)","v":"Provence-Alpes-Côte d'Azur"},{"v":6,"d":"06"},{"$error":"#N/A"},60018462,{"$error":"#N/A"},{"$error":"#N/A"},"SELARL PHARMACIE ROSTAIN",13,"Rue","DE RIVOLI","06000 NICE",6000,"Nice","Pharmacie d'officine","A"]
[{"$f":"VLOOKUP(B975,Régions!A:C,3,FALSE)","v":"Provence-Alpes-Côte d'Azur"},{"v":6,"d":"06"},{"$error":"#N/A"},60018496,{"$error":"#N/A"},{"$error":"#N/A"},"SELARL  ISIS PHARMA",3,"Allee","Philippe Séguin","06000 NICE",6000,"Nice","Pharmacie d'officine","A"]
[{"$f":"VLOOKUP(B976,Régions!A:C,3,FALSE)","v":"Provence-Alpes-Côte d'Azur"},{"v":6,"d":"06"},{"$error":"#N/A"},60018512,{"$error":"#N/A"},{"$error":"#N/A"},"SELARL PHARMACIE BEUGNIES",22,"Rue","Jules et Aline Avigdor","06300 NICE",6300,"Nice","Pharmacie d'officine","A"]
[{"$f":"VLOOKUP(B977,Régions!A:C,3,FALSE)","v":"Provence-Alpes-Côte d'Azur"},{"v":6,"d":"06"},{"$error":"#N/A"},60018611,{"$error":"#N/A"},{"$error":"#N/A"},"SELARL PHARMACIE MOUSSA KHOFFI",44,"Avenue","ST AUGUSTIN","06200 NICE",6200,"Nice","Pharmacie d'officine","A"]
[{"$f":"VLOOKUP(B978,Régions!A:C,3,FALSE)","v":"Provence-Alpes-Côte d'Azur"},{"v":6,"d":"06"},"CNOP",60018645,60018645,"oui","SNC PHARMACIE TABARD","NULL","Avenue","J. ROMAIN","06100 NICE",6100,"Nice","Pharmacie d'officine","A"]
[{"$f":"VLOOKUP(B979,Régions!A:C,3,FALSE)","v":"Provence-Alpes-Côte d'Azur"},{"v":6,"d":"06"},{"$error":"#N/A"},60018660,{"$error":"#N/A"},{"$error":"#N/A"},"SELEURL PHARMACIE DE L'OPERA",7,"Rue","ST FRANCOIS DE PAULE","06300 NICE",6300,"Nice","Pharmacie d'officine","A"]
[{"$f":"VLOOKUP(B980,Régions!A:C,3,FALSE)","v":"Provence-Alpes-Côte d'Azur"},{"v":6,"d":"06"},{"$error":"#N/A"},60018694,{"$error":"#N/A"},{"$error":"#N/A"},"SELARL PHARMACIE YAHIYA",2,"Avenue","ST JEAN BAPTISTE","06000 NICE",6000,"Nice","Pharmacie d'officine","A"]
[{"$f":"VLOOKUP(B981,Régions!A:C,3,FALSE)","v":"Provence-Alpes-Côte d'Azur"},{"v":6,"d":"06"},"CNOP",60018710,60018710,"oui","SELARL PHARMACIE DES ARTS",16,"Avenue","ST JEAN BAPTISTE","06000 NICE",6000,"Nice","Pharmacie d'officine","A"]
[{"$f":"VLOOKUP(B982,Régions!A:C,3,FALSE)","v":"Provence-Alpes-Côte d'Azur"},{"v":6,"d":"06"},{"$error":"#N/A"},60018744,{"$error":"#N/A"},{"$error":"#N/A"},"SELAS PHARMACIE OUAKNINE",40,"Avenue","STE MARGUERITE","06200 NICE",6200,"Nice","Pharmacie d'officine","A"]
[{"$f":"VLOOKUP(B983,Régions!A:C,3,FALSE)","v":"Provence-Alpes-Côte d'Azur"},{"v":6,"d":"06"},{"$error":"#N/A"},60018777,{"$error":"#N/A"},{"$error":"#N/A"},"PHARMACIE JOULIE",135,"Avenue","SAINTE MARGUERITE","06200 NICE",6200,"Nice","Pharmacie d'officine","A"]
[{"$f":"VLOOKUP(B984,Régions!A:C,3,FALSE)","v":"Provence-Alpes-Côte d'Azur"},{"v":6,"d":"06"},"CNOP",60018793,60018793,"oui","PHARMACIE LUQUET-RODRIGUEZ",237,"Avenue","STE MARGUERITE","06200 NICE",6200,"Nice","Pharmacie d'officine","A"]
[{"$f":"VLOOKUP(B985,Régions!A:C,3,FALSE)","v":"Provence-Alpes-Côte d'Azur"},{"v":6,"d":"06"},{"$error":"#N/A"},60018827,{"$error":"#N/A"},{"$error":"#N/A"},"SELAS  GRANDE CORNICHE",2,"Boulevard","SAINT ROCH","06300 NICE",6300,"Nice","Pharmacie d'officine","A"]
[{"$f":"VLOOKUP(B986,Régions!A:C,3,FALSE)","v":"Provence-Alpes-Côte d'Azur"},{"v":6,"d":"06"},{"$error":"#N/A"},60018843,{"$error":"#N/A"},{"$error":"#N/A"},"SELARL AVENIR PHARMACIE",44,"Boulevard","ST ROCH","06300 NICE",6300,"Nice","Pharmacie d'officine","A"]
[{"$f":"VLOOKUP(B987,Régions!A:C,3,FALSE)","v":"Provence-Alpes-Côte d'Azur"},{"v":6,"d":"06"},{"$error":"#N/A"},60018876,{"$error":"#N/A"},{"$error":"#N/A"},"SELAS PHARMACIE PONT-MICHEL",170,"Route","DE TURIN","06300 NICE",6300,"Nice","Pharmacie d'officine","A"]
[{"$f":"VLOOKUP(B988,Régions!A:C,3,FALSE)","v":"Provence-Alpes-Côte d'Azur"},{"v":6,"d":"06"},{"$error":"#N/A"},60018892,{"$error":"#N/A"},{"$error":"#N/A"},"SELARL PHARMACIE SAINT ROCH",43,"Avenue","DENIS SEMERIA","06300 NICE",6300,"Nice","Pharmacie d'officine","A"]
[{"$f":"VLOOKUP(B989,Régions!A:C,3,FALSE)","v":"Provence-Alpes-Côte d'Azur"},{"v":6,"d":"06"},{"$error":"#N/A"},60018926,{"$error":"#N/A"},{"$error":"#N/A"},"PHARMACIE MATTEI",57,"Route","DE TURIN","06300 NICE",6300,"Nice","Pharmacie d'officine","A"]
[{"$f":"VLOOKUP(B990,Régions!A:C,3,FALSE)","v":"Provence-Alpes-Côte d'Azur"},{"v":6,"d":"06"},"PHARMDIRECTFR",60018975,60018975,"oui","SELEURL PHARMACIE ST-CHARLES",98,"Boulevard","VIRGIL BAREL","06300 NICE",6300,"Nice","Pharmacie d'officine","A"]
[{"$f":"VLOOKUP(B991,Régions!A:C,3,FALSE)","v":"Provence-Alpes-Côte d'Azur"},{"v":6,"d":"06"},{"$error":"#N/A"},60019015,{"$error":"#N/A"},{"$error":"#N/A"},"SELARL  PHARMACIE PORT LYMPIA",50,"Boulevard","DE STALINGRAD","06300 NICE",6300,"Nice","Pharmacie d'officine","A"]
[{"$f":"VLOOKUP(B992,Régions!A:C,3,FALSE)","v":"Provence-Alpes-Côte d'Azur"},{"v":6,"d":"06"},{"$error":"#N/A"},60019031,{"$error":"#N/A"},{"$error":"#N/A"},"PHARMACIE TATU",10,"Rue","DE LA SUISSE","06000 NICE",6000,"Nice","Pharmacie d'officine","A"]
[{"$f":"VLOOKUP(B993,Régions!A:C,3,FALSE)","v":"Provence-Alpes-Côte d'Azur"},{"v":6,"d":"06"},{"$error":"#N/A"},60019064,{"$error":"#N/A"},{"$error":"#N/A"},"SELAS PHARMACIE INTERNATIONALE",5,"Rue","THIERS","06000 NICE",6000,"Nice","Pharmacie d'officine","A"]
[{"$f":"VLOOKUP(B994,Régions!A:C,3,FALSE)","v":"Provence-Alpes-Côte d'Azur"},{"v":6,"d":"06"},{"$error":"#N/A"},60019080,{"$error":"#N/A"},{"$error":"#N/A"},"SNC PHARMACIE TRACHEL",22,"Rue","TRACHEL","06000 NICE",6000,"Nice","Pharmacie d'officine","A"]
[{"$f":"VLOOKUP(B995,Régions!A:C,3,FALSE)","v":"Provence-Alpes-Côte d'Azur"},{"v":6,"d":"06"},"CNOP",60019130,60019130,"oui","SELARL PHIE CHARPENEL - VICTOR HUGO",45,"Boulevard","VICTOR HUGO","06000 NICE",6000,"Nice","Pharmacie d'officine","A"]
[{"$f":"VLOOKUP(B996,Régions!A:C,3,FALSE)","v":"Provence-Alpes-Côte d'Azur"},{"v":6,"d":"06"},{"$error":"#N/A"},60019163,{"$error":"#N/A"},{"$error":"#N/A"},"SELARL NLLE PHIE DE LA VOIE ROMAINE",22,"Avenue","DE LA VOIE ROMAINE ANGLE","06000 NICE",6000,"Nice","Pharmacie d'officine","A"]
[{"$f":"VLOOKUP(B997,Régions!A:C,3,FALSE)","v":"Provence-Alpes-Côte d'Azur"},{"v":6,"d":"06"},"CNOP",60019197,60019197,"oui","SELARL L'APOTHEQK DU SQUARE GOIRAN",19,"Avenue","DE ST-SYLVESTRE","06100 NICE",6100,"Nice","Pharmacie d'officine","A"]
[{"$f":"VLOOKUP(B998,Régions!A:C,3,FALSE)","v":"Provence-Alpes-Côte d'Azur"},{"v":6,"d":"06"},{"$error":"#N/A"},60019312,{"$error":"#N/A"},{"$error":"#N/A"},"SELARL PHARMACIE DES VALLEES","NULL","Route","NATIONALE 202 PLAN DU VAR","06670 LEVENS",6670,"Levens","Pharmacie d'officine","A"]
[{"$f":"VLOOKUP(B999,Régions!A:C,3,FALSE)","v":"Provence-Alpes-Côte d'Azur"},{"v":6,"d":"06"},"PHARMDIRECTFR",60020195,60020195,"oui","SELARL PHARMACIE ARVICE",11,"Avenue","Gaston de Fontmichel",6460,6460,"Saint-Vallier-de-Thiey","Pharmacie d'officine","A"]
[{"$f":"VLOOKUP(B1000,Régions!A:C,3,FALSE)","v":"Provence-Alpes-Côte d'Azur"},{"v":6,"d":"06"},{"$error":"#N/A"},60020245,{"$error":"#N/A"},{"$error":"#N/A"},"PHARMACIE BRUNETON","NULL","NULL","LA LUGIERE","06660 SAINT-ETIENNE-DE-TINEE",6660,"Saint-Étienne-de-Tinée","Pharmacie d'officine","A"]
[{"$f":"VLOOKUP(B1001,Régions!A:C,3,FALSE)","v":"Provence-Alpes-Côte d'Azur"},{"v":6,"d":"06"},{"$error":"#N/A"},60020310,{"$error":"#N/A"},{"$error":"#N/A"},"SELAS PHARMACIE DES 4 CHEMINS",828,"Chemin","DES QUATRE CHEMINS","06600 ANTIBES",6600,"Antibes","Pharmacie d'officine","A"]
[{"$f":"VLOOKUP(B1002,Régions!A:C,3,FALSE)","v":"Provence-Alpes-Côte d'Azur"},{"v":6,"d":"06"},{"$error":"#N/A"},60020351,{"$error":"#N/A"},{"$error":"#N/A"},"PHARMACIE WEBER",13,"Place","OLLIVIER","06390 CONTES",6390,"Contes","Pharmacie d'officine","A"]
[{"$f":"VLOOKUP(B1003,Régions!A:C,3,FALSE)","v":"Provence-Alpes-Côte d'Azur"},{"v":6,"d":"06"},"CNOP",60020435,60020435,"oui","SELASU PHARMACIE DE L'ESTERON","NULL","Route","DEPARTEMENTALE 17","06830 GILETTE",6830,"Gilette","Pharmacie d'officine","A"]
[{"$f":"VLOOKUP(B1004,Régions!A:C,3,FALSE)","v":"Provence-Alpes-Côte d'Azur"},{"v":6,"d":"06"},{"$error":"#N/A"},60020831,{"$error":"#N/A"},{"$error":"#N/A"},"SELARL PHARMACIE LEFEUVRE",311,"Avenue","du Général Leclerc","06700 SAINT-LAURENT-DU-VAR",6700,"Saint-Laurent-du-Var","Pharmacie d'officine","A"]
[{"$f":"VLOOKUP(B1005,Régions!A:C,3,FALSE)","v":"Provence-Alpes-Côte d'Azur"},{"v":6,"d":"06"},{"$error":"#N/A"},60021391,{"$error":"#N/A"},{"$error":"#N/A"},"SELAS PHARMACIE SAINT MARTIN",1009,"Avenue","SAINT-MARTIN","06250 MOUGINS",6250,"Mougins","Pharmacie d'officine","A"]
[{"$f":"VLOOKUP(B1006,Régions!A:C,3,FALSE)","v":"Provence-Alpes-Côte d'Azur"},{"v":6,"d":"06"},{"$error":"#N/A"},60021433,{"$error":"#N/A"},{"$error":"#N/A"},"PHARMACIE MESTRE-SIMO",324,"Boulevard","DE PROVENCE","06700 SAINT-LAURENT-DU-VAR",6700,"Saint-Laurent-du-Var","Pharmacie d'officine","A"]
[{"$f":"VLOOKUP(B1007,Régions!A:C,3,FALSE)","v":"Auvergne-Rhône-Alpes"},{"v":7,"d":"07"},"CNOP",70001458,70001458,"oui","PHARMACIE LARGERON",50,"Avenue","de l'Europe","07100 ANNONAY",7100,"Annonay","Pharmacie d'officine","A"]
[{"$f":"VLOOKUP(B1008,Régions!A:C,3,FALSE)","v":"Auvergne-Rhône-Alpes"},{"v":7,"d":"07"},{"$error":"#N/A"},70001722,{"$error":"#N/A"},{"$error":"#N/A"},"PHARMACIE PERROT-PINATEL","NULL","Place","NEUVE","07400 ALBA-LA-ROMAINE",7400,"Alba-la-Romaine","Pharmacie d'officine","A"]
[{"$f":"VLOOKUP(B1009,Régions!A:C,3,FALSE)","v":"Auvergne-Rhône-Alpes"},{"v":7,"d":"07"},{"$error":"#N/A"},70001755,{"$error":"#N/A"},{"$error":"#N/A"},"PHARMACIE PRANEUF","NULL","Route","de Valence","07440 ALBOUSSIERE",7440,"Alboussière","Pharmacie d'officine","A"]
[{"$f":"VLOOKUP(B1010,Régions!A:C,3,FALSE)","v":"Auvergne-Rhône-Alpes"},{"v":7,"d":"07"},"PHARMDIRECTFR",70001771,70001771,"oui","PHARMACIE ANTARI",4,"Rue","DU LIEUTENANT-COLONEL MEYRAND","07340 ANDANCE",7340,"Andance","Pharmacie d'officine","A"]
[{"$f":"VLOOKUP(B1011,Régions!A:C,3,FALSE)","v":"Auvergne-Rhône-Alpes"},{"v":7,"d":"07"},"PHARMDIRECTFR",70001805,70001805,"oui","PHARMACIE CHHUY","NULL","Quartier","DE BEL AIR","07100 ANNONAY",7100,"Annonay","Pharmacie d'officine","A"]
[{"$f":"VLOOKUP(B1012,Régions!A:C,3,FALSE)","v":"Auvergne-Rhône-Alpes"},{"v":7,"d":"07"},{"$error":"#N/A"},70001821,{"$error":"#N/A"},{"$error":"#N/A"},"PHARMACIE BREBION-TRUC","NULL","Lieu dit","LES SIX CHEMINS","07100 ANNONAY",7100,"Annonay","Pharmacie d'officine","A"]
[{"$f":"VLOOKUP(B1013,Régions!A:C,3,FALSE)","v":"Auvergne-Rhône-Alpes"},{"v":7,"d":"07"},{"$error":"#N/A"},70001854,{"$error":"#N/A"},{"$error":"#N/A"},"PHARMACIE SOLLIER - PICARD","NULL","Domaine","DE LA GARE","07100 ANNONAY",7100,"Annonay","Pharmacie d'officine","A"]
[{"$f":"VLOOKUP(B1014,Régions!A:C,3,FALSE)","v":"Auvergne-Rhône-Alpes"},{"v":7,"d":"07"},{"$error":"#N/A"},70001904,{"$error":"#N/A"},{"$error":"#N/A"},"PHARMACIE MONTEIL",19,"Avenue","de l'Europe","07100 ANNONAY",7100,"Annonay","Pharmacie d'officine","A"]
[{"$f":"VLOOKUP(B1015,Régions!A:C,3,FALSE)","v":"Auvergne-Rhône-Alpes"},{"v":7,"d":"07"},"CNOP",70001920,70001920,"oui","PHARMACIE DE LA LIBERTÉ",2,"Rue","Henri Guironnet","07100 ANNONAY",7100,"Annonay","Pharmacie d'officine","A"]
[{"$f":"VLOOKUP(B1016,Régions!A:C,3,FALSE)","v":"Auvergne-Rhône-Alpes"},{"v":7,"d":"07"},"CNOP",70001987,70001987,"oui","PHARMACIE RIFFARD",14,"Rue","SAINT-PRIX BAROU","07100 ANNONAY",7100,"Annonay","Pharmacie d'officine","A"]
[{"$f":"VLOOKUP(B1017,Régions!A:C,3,FALSE)","v":"Auvergne-Rhône-Alpes"},{"v":7,"d":"07"},"CNOP",70002001,70002001,"oui","PHARMACIE DEBARD","NULL","Lieu dit","Le Pont de l'Huile","07530 VALLEES-D?ANTRAIGUES-ASPERJOC",7530,"Vallées-d'Antraigues-Asperjoc","Pharmacie d'officine","A"]
[{"$f":"VLOOKUP(B1018,Régions!A:C,3,FALSE)","v":"Auvergne-Rhône-Alpes"},{"v":7,"d":"07"},{"$error":"#N/A"},70002035,{"$error":"#N/A"},{"$error":"#N/A"},"PHARMACIE GRIFFON","NULL","Boulevard","MERCET - VALFLEURY","07200 AUBENAS",7200,"Aubenas","Pharmacie d'officine","A"]
[{"$f":"VLOOKUP(B1019,Régions!A:C,3,FALSE)","v":"Auvergne-Rhône-Alpes"},{"v":7,"d":"07"},{"$error":"#N/A"},70002050,{"$error":"#N/A"},{"$error":"#N/A"},"PHARMACIE ETIENNE L'HOSPITAL-FAIVRE",45,"Rue","DU DOCTEUR LOUIS PARGOIRE","07200 AUBENAS",7200,"Aubenas","Pharmacie d'officine","A"]
[{"$f":"VLOOKUP(B1020,Régions!A:C,3,FALSE)","v":"Auvergne-Rhône-Alpes"},{"v":7,"d":"07"},{"$error":"#N/A"},70002084,{"$error":"#N/A"},{"$error":"#N/A"},"PHARMACIE ETIENNE-TERISSE",29,"Boulevard","GAMBETTA","07200 AUBENAS",7200,"Aubenas","Pharmacie d'officine","A"]
[{"$f":"VLOOKUP(B1021,Régions!A:C,3,FALSE)","v":"Auvergne-Rhône-Alpes"},{"v":7,"d":"07"},{"$error":"#N/A"},70002134,{"$error":"#N/A"},{"$error":"#N/A"},"PHARMACIE GAMBETTA",61,"Boulevard","GAMBETTA","07200 AUBENAS",7200,"Aubenas","Pharmacie d'officine","A"]
[{"$f":"VLOOKUP(B1022,Régions!A:C,3,FALSE)","v":"Auvergne-Rhône-Alpes"},{"v":7,"d":"07"},{"$error":"#N/A"},70002167,{"$error":"#N/A"},{"$error":"#N/A"},"PHARMACIE REY",6,"Avenue","DE BELLANDE","07200 AUBENAS",7200,"Aubenas","Pharmacie d'officine","A"]
[{"$f":"VLOOKUP(B1023,Régions!A:C,3,FALSE)","v":"Auvergne-Rhône-Alpes"},{"v":7,"d":"07"},"CNOP",70002183,70002183,"oui","PHARMACIE BOISSY",15,"Route","Basseville","07800 BEAUCHASTEL",7800,"Beauchastel","Pharmacie d'officine","A"]
[{"$f":"VLOOKUP(B1024,Régions!A:C,3,FALSE)","v":"Auvergne-Rhône-Alpes"},{"v":7,"d":"07"},"CNOP",70002217,70002217,"oui","PHARMACIE DE BOULIEU","NULL","Rue","CHARLES DE GAULLE","07100 BOULIEU-LES-ANNONAY",7100,"Boulieu-lès-Annonay","Pharmacie d'officine","A"]
[{"$f":"VLOOKUP(B1025,Régions!A:C,3,FALSE)","v":"Auvergne-Rhône-Alpes"},{"v":7,"d":"07"},{"$error":"#N/A"},70002233,{"$error":"#N/A"},{"$error":"#N/A"},"PHARMACIE DES MATTHIEU",22,"Place","FREDERIC MISTRAL","07700 BOURG-SAINT-ANDEOL",7700,"Bourg-Saint-Andéol","Pharmacie d'officine","A"]
[{"$f":"VLOOKUP(B1026,Régions!A:C,3,FALSE)","v":"Auvergne-Rhône-Alpes"},{"v":7,"d":"07"},"CNOP",70002266,70002266,"oui","PHARMACIE VIGREUX",23,"Avenue","MARÉCHAL LECLERC","07700 BOURG-SAINT-ANDÉOL",7700,"Bourg-Saint-Andéol","Pharmacie d'officine","A"]
[{"$f":"VLOOKUP(B1027,Régions!A:C,3,FALSE)","v":"Auvergne-Rhône-Alpes"},{"v":7,"d":"07"},"CNOP",70002332,70002332,"oui","PHARMACIE DES BOUTIERES",265,"Chemin","de Lapra","07160 LE CHEYLARD",7160,"Le Cheylard","Pharmacie d'officine","A"]
[{"$f":"VLOOKUP(B1028,Régions!A:C,3,FALSE)","v":"Auvergne-Rhône-Alpes"},{"v":7,"d":"07"},"CNOP",70002357,70002357,"oui","PHARMACIE ROCHETTE",26,"Rue","DE LA REPUBLIQUE","07160 LE-CHEYLARD",7160,"Le Cheylard","Pharmacie d'officine","A"]
[{"$f":"VLOOKUP(B1029,Régions!A:C,3,FALSE)","v":"Auvergne-Rhône-Alpes"},{"v":7,"d":"07"},"PHARMDIRECTFR",70002373,70002373,"oui","PHARMACIE DE CHOMERAC",155,"Rue","de l'Europe","07210 CHOMERAC",7210,"Chomérac","Pharmacie d'officine","A"]
[{"$f":"VLOOKUP(B1030,Régions!A:C,3,FALSE)","v":"Auvergne-Rhône-Alpes"},{"v":7,"d":"07"},{"$error":"#N/A"},70002407,{"$error":"#N/A"},{"$error":"#N/A"},"PHARMACIE ALABEATRIX",1,"Hameau","DU CENTRE","07130 CORNAS",7130,"Cornas","Pharmacie d'officine","A"]
[{"$f":"VLOOKUP(B1031,Régions!A:C,3,FALSE)","v":"Auvergne-Rhône-Alpes"},{"v":7,"d":"07"},"PHARMDIRECTFR",70002423,70002423,"oui","PHARMACIE DELMAS-MONGE","NULL","Route","DU LAC D'ISSARLES","07470 COUCOURON",7470,"Coucouron","Pharmacie d'officine","A"]
[{"$f":"VLOOKUP(B1032,Régions!A:C,3,FALSE)","v":"Auvergne-Rhône-Alpes"},{"v":7,"d":"07"},{"$error":"#N/A"},70002456,{"$error":"#N/A"},{"$error":"#N/A"},"PHARMACIE SAUZE",7,"Rue","JOLIOT CURIE","07350 CRUAS",7350,"Cruas","Pharmacie d'officine","A"]
[{"$f":"VLOOKUP(B1033,Régions!A:C,3,FALSE)","v":"Auvergne-Rhône-Alpes"},{"v":7,"d":"07"},{"$error":"#N/A"},70002472,{"$error":"#N/A"},{"$error":"#N/A"},"PHARMACIE DE DAVEZIEUX",82,"Place","DES PEUPLIERS","07430 DAVEZIEUX",7430,"Davézieux","Pharmacie d'officine","A"]
[{"$f":"VLOOKUP(B1034,Régions!A:C,3,FALSE)","v":"Auvergne-Rhône-Alpes"},{"v":7,"d":"07"},"CNOP",70002506,70002506,"oui","PHARMACIE DES LONES",20,"Rue","Gustave Eiffel","07500 GUILHERAND-GRANGES",7500,"Guilherand-Granges","Pharmacie d'officine","A"]
[{"$f":"VLOOKUP(B1035,Régions!A:C,3,FALSE)","v":"Auvergne-Rhône-Alpes"},{"v":7,"d":"07"},{"$error":"#N/A"},70002522,{"$error":"#N/A"},{"$error":"#N/A"},"PHARMACIE MODELON",1449,"Avenue","DE LA REPUBLIQUE","07500 GUILHERAND-GRANGES",7500,"Guilherand-Granges","Pharmacie d'officine","A"]
[{"$f":"VLOOKUP(B1036,Régions!A:C,3,FALSE)","v":"Auvergne-Rhône-Alpes"},{"v":7,"d":"07"},"CNOP",70002555,70002555,"oui","PHARMACIE DES GRANGES",554,"Avenue","DE LA REPUBLIQUE","07500 GUILHERAND-GRANGES",7500,"Guilherand-Granges","Pharmacie d'officine","A"]
[{"$f":"VLOOKUP(B1037,Régions!A:C,3,FALSE)","v":"Auvergne-Rhône-Alpes"},{"v":7,"d":"07"},{"$error":"#N/A"},70002571,{"$error":"#N/A"},{"$error":"#N/A"},"PHARMACIE CARNOT",278,"Avenue","SADI CARNOT","07500 GUILHERAND-GRANGES",7500,"Guilherand-Granges","Pharmacie d'officine","A"]
[{"$f":"VLOOKUP(B1038,Régions!A:C,3,FALSE)","v":"Auvergne-Rhône-Alpes"},{"v":7,"d":"07"},"CNOP",70002605,70002605,"non","PHARMACIE BEGON","NULL","Place","SAINT BONNET","07380 JAUJAC",7380,"Jaujac","Pharmacie d'officine","A"]
[{"$f":"VLOOKUP(B1039,Régions!A:C,3,FALSE)","v":"Auvergne-Rhône-Alpes"},{"v":7,"d":"07"},"PHARMDIRECTFR",70002621,70002621,"oui","SELARL PHARMACIE DE LA BEAUME",20,"Place","de la Gare","07260 JOYEUSE",7260,"Joyeuse","Pharmacie d'officine","A"]
[{"$f":"VLOOKUP(B1040,Régions!A:C,3,FALSE)","v":"Auvergne-Rhône-Alpes"},{"v":7,"d":"07"},{"$error":"#N/A"},70002654,{"$error":"#N/A"},{"$error":"#N/A"},"PHARMACIE GILLES",580,"Route","DE LABLACHERE","07260 JOYEUSE",7260,"Joyeuse","Pharmacie d'officine","A"]
[{"$f":"VLOOKUP(B1041,Régions!A:C,3,FALSE)","v":"Auvergne-Rhône-Alpes"},{"v":7,"d":"07"},"CNOP",70002670,70002670,"oui","PHARMACIE MONTJAUX-OLIVIE","NULL","NULL","NULL","07200 LABEGUDE",7200,"Labégude","Pharmacie d'officine","A"]
[{"$f":"VLOOKUP(B1042,Régions!A:C,3,FALSE)","v":"Auvergne-Rhône-Alpes"},{"v":7,"d":"07"},"CNOP",70002720,70002720,"non","PHARMACIE BEYDON - VEYSSEYRE","NULL","Quartier","CROIX DE RASPAIL","07200 LACHAPELLE-SOUS-AUBENAS",7200,"Lachapelle-sous-Aubenas","Pharmacie d'officine","A"]
[{"$f":"VLOOKUP(B1043,Régions!A:C,3,FALSE)","v":"Auvergne-Rhône-Alpes"},{"v":7,"d":"07"},{"$error":"#N/A"},70002753,{"$error":"#N/A"},{"$error":"#N/A"},"PHARMACIE DUMAS",50,"Avenue","DE LA GARE","07380 LALEVADE-D'ARDECHE",7380,"Lalevade-d'Ardèche","Pharmacie d'officine","A"]
[{"$f":"VLOOKUP(B1044,Régions!A:C,3,FALSE)","v":"Auvergne-Rhône-Alpes"},{"v":7,"d":"07"},{"$error":"#N/A"},70002787,{"$error":"#N/A"},{"$error":"#N/A"},"PHARMACIE COUETTE-GOETZ",2,"Rue","de la Fontaine","07520 LALOUVESC",7520,"Lalouvesc","Pharmacie d'officine","A"]
[{"$f":"VLOOKUP(B1045,Régions!A:C,3,FALSE)","v":"Auvergne-Rhône-Alpes"},{"v":7,"d":"07"},"CNOP",70002803,70002803,"oui","PHARMACIE DU VIVARAIS",22,"Place","SEIGNOBOS","07270 LAMASTRE",7270,"Lamastre","Pharmacie d'officine","A"]
[{"$f":"VLOOKUP(B1046,Régions!A:C,3,FALSE)","v":"Auvergne-Rhône-Alpes"},{"v":7,"d":"07"},{"$error":"#N/A"},70002852,{"$error":"#N/A"},{"$error":"#N/A"},"PHARMACIE BAFFIE","NULL","Avenue","DE LA REPUBLIQUE","07110 LARGENTIERE",7110,"Largentière","Pharmacie d'officine","A"]
[{"$f":"VLOOKUP(B1047,Régions!A:C,3,FALSE)","v":"Auvergne-Rhône-Alpes"},{"v":7,"d":"07"},{"$error":"#N/A"},70002886,{"$error":"#N/A"},{"$error":"#N/A"},"PHARMACIE MERLET","NULL","Place","DU MARCHE - RUE CAMILLE VIELFA","07110 LARGENTIERE",7110,"Largentière","Pharmacie d'officine","A"]
[{"$f":"VLOOKUP(B1048,Régions!A:C,3,FALSE)","v":"Auvergne-Rhône-Alpes"},{"v":7,"d":"07"},{"$error":"#N/A"},70002902,{"$error":"#N/A"},{"$error":"#N/A"},"PHARMACIE DE LARD DE REGOULLIERE",2,"Rue","Joseph Meynier","07110 LAURAC-EN-VIVARAIS",7110,"Laurac-en-Vivarais","Pharmacie d'officine","A"]
[{"$f":"VLOOKUP(B1049,Régions!A:C,3,FALSE)","v":"Auvergne-Rhône-Alpes"},{"v":7,"d":"07"},{"$error":"#N/A"},70002936,{"$error":"#N/A"},{"$error":"#N/A"},"PHARMACIE REY",7,"NULL","Ilot des Fournaches","07170 LAVILLEDIEU",7170,"Lavilledieu","Pharmacie d'officine","A"]
[{"$f":"VLOOKUP(B1050,Régions!A:C,3,FALSE)","v":"Auvergne-Rhône-Alpes"},{"v":7,"d":"07"},{"$error":"#N/A"},70002951,{"$error":"#N/A"},{"$error":"#N/A"},"PHARMACIE TALLARON","NULL","Rue","PASTEUR","07560 MONTPEZAT-SOUS-BAUZON",7560,"Montpezat-sous-Bauzon","Pharmacie d'officine","A"]
[{"$f":"VLOOKUP(B1051,Régions!A:C,3,FALSE)","v":"Auvergne-Rhône-Alpes"},{"v":7,"d":"07"},{"$error":"#N/A"},70002985,{"$error":"#N/A"},{"$error":"#N/A"},"PHARMACIE MARTINENT","NULL","NULL","QUARTIER LACOMBE","07360 LES OLLIERES SUR EYRIEUX",7360,"Les Ollières-sur-Eyrieux","Pharmacie d'officine","A"]
[{"$f":"VLOOKUP(B1052,Régions!A:C,3,FALSE)","v":"Auvergne-Rhône-Alpes"},{"v":7,"d":"07"},{"$error":"#N/A"},70003017,{"$error":"#N/A"},{"$error":"#N/A"},"PHARMACIE GAUTHIER",54,"Route","de l'Egalité","07340 PEAUGRES",7340,"Peaugres","Pharmacie d'officine","A"]
[{"$f":"VLOOKUP(B1053,Régions!A:C,3,FALSE)","v":"Auvergne-Rhône-Alpes"},{"v":7,"d":"07"},{"$error":"#N/A"},70003033,{"$error":"#N/A"},{"$error":"#N/A"},"PHARMACIE BRISSON - RENEVIER - REMIA",30,"Avenue","Jean Claude Dupau","07250 LE POUZIN",7250,"Le Pouzin","Pharmacie d'officine","A"]
[{"$f":"VLOOKUP(B1054,Régions!A:C,3,FALSE)","v":"Auvergne-Rhône-Alpes"},{"v":7,"d":"07"},{"$error":"#N/A"},70003082,{"$error":"#N/A"},{"$error":"#N/A"},"PHARMACIE PEDARD",29,"Avenue","DE CHOMERAC","07000 PRIVAS",7000,"Privas","Pharmacie d'officine","A"]
[{"$f":"VLOOKUP(B1055,Régions!A:C,3,FALSE)","v":"Auvergne-Rhône-Alpes"},{"v":7,"d":"07"},"PHARMDIRECTFR",70003116,70003116,"oui","PHARMACIE TERRY","NULL","Boulevard","DE PASTE","07000 PRIVAS",7000,"Privas","Pharmacie d'officine","A"]
[{"$f":"VLOOKUP(B1056,Régions!A:C,3,FALSE)","v":"Auvergne-Rhône-Alpes"},{"v":7,"d":"07"},"CNOP",70003132,70003132,"oui","PHARMACIE HERMAL-GETTO",9,"Rue","DE LA REPUBLIQUE","07000 PRIVAS",7000,"Privas","Pharmacie d'officine","A"]
[{"$f":"VLOOKUP(B1057,Régions!A:C,3,FALSE)","v":"Auvergne-Rhône-Alpes"},{"v":7,"d":"07"},"PHARMDIRECTFR",70003157,70003157,"oui","PHARMACIE EQUOY",338,"Avenue","Marc Seguin","07000 PRIVAS",7000,"Privas","Pharmacie d'officine","A"]
[{"$f":"VLOOKUP(B1058,Régions!A:C,3,FALSE)","v":"Auvergne-Rhône-Alpes"},{"v":7,"d":"07"},{"$error":"#N/A"},70003173,{"$error":"#N/A"},{"$error":"#N/A"},"PHARMACIE SAUVAN","NULL","Place","VICTOR HUGO","07000 PRIVAS",7000,"Privas","Pharmacie d'officine","A"]
[{"$f":"VLOOKUP(B1059,Régions!A:C,3,FALSE)","v":"Auvergne-Rhône-Alpes"},{"v":7,"d":"07"},"CNOP",70003207,70003207,"oui","PHARMACIE BOBICHON","NULL","Place","DE L'EGLISE","07290 QUINTENAS",7290,"Quintenas","Pharmacie d'officine","A"]
[{"$f":"VLOOKUP(B1060,Régions!A:C,3,FALSE)","v":"Auvergne-Rhône-Alpes"},{"v":7,"d":"07"},"CNOP",70003223,70003223,"oui"," PHARMACIE DE ROCHEMAURE",17,"Avenue","DU TEIL","07400 ROCHEMAURE",7400,"Rochemaure","Pharmacie d'officine","A"]
[{"$f":"VLOOKUP(B1061,Régions!A:C,3,FALSE)","v":"Auvergne-Rhône-Alpes"},{"v":7,"d":"07"},"CNOP",70003256,70003256,"oui","PHARMACIE VERT-ASTIER",48,"Place","DU GRAND CHEMIN","07100 ROIFFIEUX",7100,"Roiffieux","Pharmacie d'officine","A"]
[{"$f":"VLOOKUP(B1062,Régions!A:C,3,FALSE)","v":"Auvergne-Rhône-Alpes"},{"v":7,"d":"07"},{"$error":"#N/A"},70003272,{"$error":"#N/A"},{"$error":"#N/A"},"PHARMACIE GILLES-DUMONT",75,"Traverse","des Vernades","07260 ROSIERES",7260,"Rosières","Pharmacie d'officine","A"]
[{"$f":"VLOOKUP(B1063,Régions!A:C,3,FALSE)","v":"Auvergne-Rhône-Alpes"},{"v":7,"d":"07"},{"$error":"#N/A"},70003306,{"$error":"#N/A"},{"$error":"#N/A"},"PHARMACIE TAULEIGNE",10,"Place","DU GÉNÉRAL DE GAULLE","07120 RUOMS",7120,"Ruoms","Pharmacie d'officine","A"]
[{"$f":"VLOOKUP(B1064,Régions!A:C,3,FALSE)","v":"Auvergne-Rhône-Alpes"},{"v":7,"d":"07"},"CNOP",70003322,70003322,"oui","PHARMACIE LAGERGE",2,"Rue","ALPHONSE DAUDET","07120 RUOMS",7120,"Ruoms","Pharmacie d'officine","A"]
[{"$f":"VLOOKUP(B1065,Régions!A:C,3,FALSE)","v":"Auvergne-Rhône-Alpes"},{"v":7,"d":"07"},{"$error":"#N/A"},70003355,{"$error":"#N/A"},{"$error":"#N/A"},"PHARMACIE GUIRONNET - ALARCON","NULL","Place","FELICIE D'ASSEYNE","07320 ST AGREVE",7320,"Saint-Agrève","Pharmacie d'officine","A"]
[{"$f":"VLOOKUP(B1066,Régions!A:C,3,FALSE)","v":"Auvergne-Rhône-Alpes"},{"v":7,"d":"07"},{"$error":"#N/A"},70003371,{"$error":"#N/A"},{"$error":"#N/A"},"SELAS PHARMACIE LES CHAMPS","NULL","Quartier","LES CHAMPS","07200 SAINT-ETIENNE-DE-FONTBELLON",7200,"Saint-Étienne-de-Fontbellon","Pharmacie d'officine","A"]
[{"$f":"VLOOKUP(B1067,Régions!A:C,3,FALSE)","v":"Auvergne-Rhône-Alpes"},{"v":7,"d":"07"},"CNOP",70003405,70003405,"oui","PHARMACIE SERVE",15,"Place","DE L'HOTEL DE VILLE","07410 ST FELICIEN",7410,"Saint-Félicien","Pharmacie d'officine","A"]
[{"$f":"VLOOKUP(B1068,Régions!A:C,3,FALSE)","v":"Auvergne-Rhône-Alpes"},{"v":7,"d":"07"},"CNOP",70003421,70003421,"oui","PHARMACIE LARNAUD - CHARPENTIER","NULL","NULL","NULL","07300 SAINT-JEAN-DE-MUZOLS",7300,"Saint-Jean-de-Muzols","Pharmacie d'officine","A"]
[{"$f":"VLOOKUP(B1069,Régions!A:C,3,FALSE)","v":"Auvergne-Rhône-Alpes"},{"v":7,"d":"07"},"PHARMDIRECTFR",70003454,70003454,"oui","PHARMACIE MONTEL",1,"Place","JEAN GILLES","07000 SAINT-JULIEN-EN-SAINT-ALBAN",7000,"Saint-Julien-en-Saint-Alban","Pharmacie d'officine","A"]
[{"$f":"VLOOKUP(B1070,Régions!A:C,3,FALSE)","v":"Auvergne-Rhône-Alpes"},{"v":7,"d":"07"},"CNOP",70003470,70003470,"oui","PHARMACIE AMPHOUX - BOURGUE","NULL","NULL","LE CREU DE BOULE","07700 SAINT-JUST",7700,"Saint-Just-d'Ardèche","Pharmacie d'officine","A"]
[{"$f":"VLOOKUP(B1071,Régions!A:C,3,FALSE)","v":"Auvergne-Rhône-Alpes"},{"v":7,"d":"07"},"CNOP",70003504,70003504,"oui","PHARMACIE COMTE","NULL","Place","DU MONUMENT","07700 SAINT-MARCEL-D'ARDECHE",7700,"Saint-Marcel-d'Ardèche","Pharmacie d'officine","A"]
[{"$f":"VLOOKUP(B1072,Régions!A:C,3,FALSE)","v":"Auvergne-Rhône-Alpes"},{"v":7,"d":"07"},"CNOP",70003520,70003520,"oui","PHARMACIE JOUBERT",215,"Rue","de la poste","07310 SAINT-MARTIN-DE-VALAMAS",7310,"Saint-Martin-de-Valamas","Pharmacie d'officine","A"]
[{"$f":"VLOOKUP(B1073,Régions!A:C,3,FALSE)","v":"Auvergne-Rhône-Alpes"},{"v":7,"d":"07"},{"$error":"#N/A"},70003553,{"$error":"#N/A"},{"$error":"#N/A"},"PHARMACIE CHAPON - GOURDON",5,"Place","DE LA GARE","07460 SAINT-PAUL-LE-JEUNE",7460,"Saint-Paul-le-Jeune","Pharmacie d'officine","A"]
[{"$f":"VLOOKUP(B1074,Régions!A:C,3,FALSE)","v":"Auvergne-Rhône-Alpes"},{"v":7,"d":"07"},"CNOP",70003587,70003587,"oui","PHARMACIE DE CRUSSOL",16,"Rue","DE LA REPUBLIQUE","07130 SAINT-PERAY",7130,"Saint-Péray","Pharmacie d'officine","A"]
[{"$f":"VLOOKUP(B1075,Régions!A:C,3,FALSE)","v":"Auvergne-Rhône-Alpes"},{"v":7,"d":"07"},"CNOP",70003603,70003603,"oui","PHARMACIE NIPIOSSIAN",91,"Rue","DE LA REPUBLIQUE","07130 SAINT-PERAY",7130,"Saint-Péray","Pharmacie d'officine","A"]
[{"$f":"VLOOKUP(B1076,Régions!A:C,3,FALSE)","v":"Auvergne-Rhône-Alpes"},{"v":7,"d":"07"},"CNOP",70003637,70003637,"oui"," PHARMACIE BRIGITTE CHALVET","NULL","Place","des cerisiers","07200 SAINT-PRIVAT",7200,"Saint-Privat","Pharmacie d'officine","A"]
[{"$f":"VLOOKUP(B1077,Régions!A:C,3,FALSE)","v":"Auvergne-Rhône-Alpes"},{"v":7,"d":"07"},{"$error":"#N/A"},70003652,{"$error":"#N/A"},{"$error":"#N/A"},"PHARMACIE LAURIER","NULL","Route","DES BOUTIERES","07190 SAINT-SAUVEUR-DE-MONTAGUT",7190,"Saint-Sauveur-de-Montagut","Pharmacie d'officine","A"]
[{"$f":"VLOOKUP(B1078,Régions!A:C,3,FALSE)","v":"Auvergne-Rhône-Alpes"},{"v":7,"d":"07"},"PHARMDIRECTFR",70003686,70003686,"oui","PHARMACIE DURET",53,"Avenue","DU 8 MAI 1945","07370 SARRAS",7370,"Sarras","Pharmacie d'officine","A"]
[{"$f":"VLOOKUP(B1079,Régions!A:C,3,FALSE)","v":"Auvergne-Rhône-Alpes"},{"v":7,"d":"07"},{"$error":"#N/A"},70003702,{"$error":"#N/A"},{"$error":"#N/A"},"PHARMACIE DE SATILLIEU",66,"Rue","Centrale","07290 SATILLIEU",7290,"Satillieu","Pharmacie d'officine","A"]
[{"$f":"VLOOKUP(B1080,Régions!A:C,3,FALSE)","v":"Auvergne-Rhône-Alpes"},{"v":7,"d":"07"},{"$error":"#N/A"},70003736,{"$error":"#N/A"},{"$error":"#N/A"},"PHARMACIE VALENTIN","NULL","Quai","JULES ROCHE","07340 SERRIERES",7340,"Serrières","Pharmacie d'officine","A"]
[{"$f":"VLOOKUP(B1081,Régions!A:C,3,FALSE)","v":"Auvergne-Rhône-Alpes"},{"v":7,"d":"07"},{"$error":"#N/A"},70003751,{"$error":"#N/A"},{"$error":"#N/A"},"PHARMACIE BARSANTI",19,"Rue","HENRI BARBUSSE","07400 LE-TEIL-D'ARDECHE",7400,"Le Teil","Pharmacie d'officine","A"]
[{"$f":"VLOOKUP(B1082,Régions!A:C,3,FALSE)","v":"Auvergne-Rhône-Alpes"},{"v":7,"d":"07"},"CNOP",70003785,70003785,"oui","PHARMACIE JOUVE-SINGER","NULL","Espace","ENTRE PONT ET RHONE","07400 TEIL (LE)",7400,"Le Teil","Pharmacie d'officine","A"]
[{"$f":"VLOOKUP(B1083,Régions!A:C,3,FALSE)","v":"Auvergne-Rhône-Alpes"},{"v":7,"d":"07"},{"$error":"#N/A"},70003835,{"$error":"#N/A"},{"$error":"#N/A"},"PHARMACIE DU CENTRE",15,"Avenue","MATTEOTI","07400 TEIL (LE)",7400,"Le Teil","Pharmacie d'officine","A"]
[{"$f":"VLOOKUP(B1084,Régions!A:C,3,FALSE)","v":"Auvergne-Rhône-Alpes"},{"v":7,"d":"07"},{"$error":"#N/A"},70003850,{"$error":"#N/A"},{"$error":"#N/A"},"PHARMACIE LAPIERRE-SALOMON",35,"Avenue","DU VAL D'ARDECHE","07330 THUEYTS",7330,"Thueyts","Pharmacie d'officine","A"]
[{"$f":"VLOOKUP(B1085,Régions!A:C,3,FALSE)","v":"Auvergne-Rhône-Alpes"},{"v":7,"d":"07"},{"$error":"#N/A"},70003884,{"$error":"#N/A"},{"$error":"#N/A"},"PHARMACIE QUELAVOINE",45,"Avenue","de Nîmes","07300 TOURNON-SUR-RHONE",7300,"Tournon-sur-Rhône","Pharmacie d'officine","A"]
[{"$f":"VLOOKUP(B1086,Régions!A:C,3,FALSE)","v":"Auvergne-Rhône-Alpes"},{"v":7,"d":"07"},{"$error":"#N/A"},70003900,{"$error":"#N/A"},{"$error":"#N/A"},"PHARMACIE DUPUIS - DECOUSSY",20,"Quai","FARCONNET","07300 TOURNON-SUR-RHONE",7300,"Tournon-sur-Rhône","Pharmacie d'officine","A"]
[{"$f":"VLOOKUP(B1087,Régions!A:C,3,FALSE)","v":"Auvergne-Rhône-Alpes"},{"v":7,"d":"07"},"CNOP",70003934,70003934,"oui","PHARMACIE LAURENT","NULL","NULL","NULL","07300 TOURNON-SUR-RHÔNE",7300,"Tournon-sur-Rhône","Pharmacie d'officine","A"]
[{"$f":"VLOOKUP(B1088,Régions!A:C,3,FALSE)","v":"Auvergne-Rhône-Alpes"},{"v":7,"d":"07"},"CNOP",70003967,70003967,"oui","PHARMACIE LOR-FIGON",45,"NULL","GRANDE RUE","07300 TOURNON-SUR-RHÔNE",7300,"Tournon-sur-Rhône","Pharmacie d'officine","A"]
[{"$f":"VLOOKUP(B1089,Régions!A:C,3,FALSE)","v":"Auvergne-Rhône-Alpes"},{"v":7,"d":"07"},"PHARMDIRECTFR",70004007,70004007,"oui","PHARMACIE GABILLAUD",579,"Route","DEPARTEMENTALE","07150 VALLON PONT D ARC",7150,"Vallon-Pont-d'Arc","Pharmacie d'officine","A"]
[{"$f":"VLOOKUP(B1090,Régions!A:C,3,FALSE)","v":"Auvergne-Rhône-Alpes"},{"v":7,"d":"07"},{"$error":"#N/A"},70004056,{"$error":"#N/A"},{"$error":"#N/A"},"FLORENCE TOURRETTE",1,"Rue","AUGUSTE CLEMENT","07600 VALS-LES-BAINS",7600,"Vals-les-Bains","Pharmacie d'officine","A"]
[{"$f":"VLOOKUP(B1091,Régions!A:C,3,FALSE)","v":"Auvergne-Rhône-Alpes"},{"v":7,"d":"07"},{"$error":"#N/A"},70004072,{"$error":"#N/A"},{"$error":"#N/A"},"PHARMACIE FEIT",2,"Faubourg","D'ANTRAIGUES","07600 VALS-LES-BAINS",7600,"Vals-les-Bains","Pharmacie d'officine","A"]
[{"$f":"VLOOKUP(B1092,Régions!A:C,3,FALSE)","v":"Auvergne-Rhône-Alpes"},{"v":7,"d":"07"},"CNOP",70004122,70004122,"oui","SELARL PHARMACIE BLANC",16,"Place","Léopold Ollier","07140 LES VANS",7140,"Les Vans","Pharmacie d'officine","A"]
[{"$f":"VLOOKUP(B1093,Régions!A:C,3,FALSE)","v":"Auvergne-Rhône-Alpes"},{"v":7,"d":"07"},{"$error":"#N/A"},70004155,{"$error":"#N/A"},{"$error":"#N/A"},"PHARMACIE AMATO - ROSE","NULL","Zone activite","LA CLAIRETTE","07140 VANS (LES)",7140,"Les Vans","Pharmacie d'officine","A"]
[{"$f":"VLOOKUP(B1094,Régions!A:C,3,FALSE)","v":"Auvergne-Rhône-Alpes"},{"v":7,"d":"07"},"CNOP",70004171,70004171,"oui","PHARMACIE DE VERNOUX",37,"Rue","SIMON VIALET","07240 VERNOUX-EN-VIVARAIS",7240,"Vernoux-en-Vivarais","Pharmacie d'officine","A"]
[{"$f":"VLOOKUP(B1095,Régions!A:C,3,FALSE)","v":"Auvergne-Rhône-Alpes"},{"v":7,"d":"07"},"PHARMDIRECTFR",70004205,70004205,"oui","PHARMACIE BRUNIN",60,"Chemin","de Lansas","07170 VILLENEUVE-DE-BERG",7170,"Villeneuve-de-Berg","Pharmacie d'officine","A"]
[{"$f":"VLOOKUP(B1096,Régions!A:C,3,FALSE)","v":"Auvergne-Rhône-Alpes"},{"v":7,"d":"07"},"PHARMDIRECTFR",70004221,70004221,"oui","PHARMACIE BROUSSOLLE",45,"Rue","de la Libération","07690 VILLEVOCANCE",7690,"Villevocance","Pharmacie d'officine","A"]
[{"$f":"VLOOKUP(B1097,Régions!A:C,3,FALSE)","v":"Auvergne-Rhône-Alpes"},{"v":7,"d":"07"},"PHARMDIRECTFR",70004254,70004254,"oui","PHARMACIE CERRET",8,"Faubourg","SAINT JACQUES","07220 VIVIERS",7220,"Viviers","Pharmacie d'officine","A"]
[{"$f":"VLOOKUP(B1098,Régions!A:C,3,FALSE)","v":"Auvergne-Rhône-Alpes"},{"v":7,"d":"07"},{"$error":"#N/A"},70004270,{"$error":"#N/A"},{"$error":"#N/A"},"PHARMACIE DOISE-ALZAS",195,"Route","d'AUBENAS","07200 VOGUE",7200,"Vogüé","Pharmacie d'officine","A"]
[{"$f":"VLOOKUP(B1099,Régions!A:C,3,FALSE)","v":"Auvergne-Rhône-Alpes"},{"v":7,"d":"07"},"PHARMDIRECTFR",70004304,70004304,"oui","PHARMACIE DE LA VOULTE",2,"Rue","BOISSY D'ANGLAS","07800 VOULTE-SUR-RHÔNE (LA)",7800,"La Voulte-sur-Rhône","Pharmacie d'officine","A"]
[{"$f":"VLOOKUP(B1100,Régions!A:C,3,FALSE)","v":"Auvergne-Rhône-Alpes"},{"v":7,"d":"07"},"PHARMDIRECTFR",70004320,70004320,"oui","PHARMACIE LOCHET",25,"Avenue","du 11 Novembre","07800 LA VOULTE-SUR-RHONE",7800,"La Voulte-sur-Rhône","Pharmacie d'officine","A"]
[{"$f":"VLOOKUP(B1101,Régions!A:C,3,FALSE)","v":"Auvergne-Rhône-Alpes"},{"v":7,"d":"07"},{"$error":"#N/A"},70004841,{"$error":"#N/A"},{"$error":"#N/A"},"PHARMACIE MIGNOT-LIAUTIER","NULL","Quartier","BAUVACHE","07220 SAINT-MONTAN",7220,"Saint-Montan","Pharmacie d'officine","A"]
[{"$f":"VLOOKUP(B1102,Régions!A:C,3,FALSE)","v":"Auvergne-Rhône-Alpes"},{"v":7,"d":"07"},{"$error":"#N/A"},70004874,{"$error":"#N/A"},{"$error":"#N/A"},"PHARMACIE BARGE",110,"Rue","VINCENT D'INDY","07130 SOYONS",7130,"Soyons","Pharmacie d'officine","A"]
[{"$f":"VLOOKUP(B1103,Régions!A:C,3,FALSE)","v":"Auvergne-Rhône-Alpes"},{"v":7,"d":"07"},"PHARMDIRECTFR",70008016,70008016,"oui","PHARMACIE MIGNOT-LIAUTIER",121,"Place","de la Poste","07430 VERNOSC-LES-ANNONAY",7430,"Vernosc-lès-Annonay","Pharmacie d'officine","A"]
[{"$f":"VLOOKUP(B1104,Régions!A:C,3,FALSE)","v":"Grand Est"},{"v":8,"d":"08"},"CNOP",80001985,80001985,"oui","PHARMACIE DU POLE SANTE",11,"Rue","MARCEL DORIGNY","08090 AIGLEMONT",8090,"Aiglemont","Pharmacie d'officine","A"]
[{"$f":"VLOOKUP(B1105,Régions!A:C,3,FALSE)","v":"Grand Est"},{"v":8,"d":"08"},"PHARMDIRECTFR",80002074,80002074,"oui","PHARMACIE  PONSINET",21,"Rue","du Docteur Landes","08190 ASFELD",8190,"Asfeld","Pharmacie d'officine","A"]
[{"$f":"VLOOKUP(B1106,Régions!A:C,3,FALSE)","v":"Grand Est"},{"v":8,"d":"08"},"PHARMDIRECTFR",80002124,80002124,"oui","PHARMACIE PUGLISI",27,"Place","CHARLEMAGNE","08130 ATTIGNY",8130,"Attigny","Pharmacie d'officine","A"]
[{"$f":"VLOOKUP(B1107,Régions!A:C,3,FALSE)","v":"Grand Est"},{"v":8,"d":"08"},"CNOP",80002165,80002165,"oui","PHARMACIE LAIRE-CHERICHI",15,"Route","DE ROCROI","08260 AUVILLERS LES FORGES",8260,"Auvillers-les-Forges","Pharmacie d'officine","A"]
[{"$f":"VLOOKUP(B1108,Régions!A:C,3,FALSE)","v":"Grand Est"},{"v":8,"d":"08"},{"$error":"#N/A"},80002215,{"$error":"#N/A"},{"$error":"#N/A"},"PHARMACIE FABRE",11,"Avenue","CHARLES DE GAULLE","08200 BALAN",8200,"Balan","Pharmacie d'officine","A"]
[{"$f":"VLOOKUP(B1109,Régions!A:C,3,FALSE)","v":"Grand Est"},{"v":8,"d":"08"},"PHARMDIRECTFR",80002231,80002231,"oui","PHARMACIE DE BAZEILLES",26,"Rue","Flamanville","08140 BAZEILLES",8140,"Bazeilles","Pharmacie d'officine","A"]
[{"$f":"VLOOKUP(B1110,Régions!A:C,3,FALSE)","v":"Grand Est"},{"v":8,"d":"08"},"PHARMDIRECTFR",80002264,80002264,"oui","PHARMACIE BRICAU","NULL","Route","NATIONALE","08110 BLAGNY",8110,"Blagny","Pharmacie d'officine","A"]
[{"$f":"VLOOKUP(B1111,Régions!A:C,3,FALSE)","v":"Grand Est"},{"v":8,"d":"08"},"PHARMDIRECTFR",80002314,80002314,"oui","PHARMACIE  BOUDRIQUE",16,"Rue","MAURICE LOUIS","08120 BOGNY-SUR-MEUSE",8120,"Bogny-sur-Meuse","Pharmacie d'officine","A"]
[{"$f":"VLOOKUP(B1112,Régions!A:C,3,FALSE)","v":"Grand Est"},{"v":8,"d":"08"},{"$error":"#N/A"},80002330,{"$error":"#N/A"},{"$error":"#N/A"},"PHARMACIE BILLAUDEL - GONZALEZ",6,"Place","DANTON","08120 BOGNY-SUR-MEUSE",8120,"Bogny-sur-Meuse","Pharmacie d'officine","A"]
[{"$f":"VLOOKUP(B1113,Régions!A:C,3,FALSE)","v":"Grand Est"},{"v":8,"d":"08"},"PHARMDIRECTFR",80002363,80002363,"oui","PHARMACIE GUILLAUME",6,"Place","CHANZY","08240 BUZANCY",8240,"Buzancy","Pharmacie d'officine","A"]
[{"$f":"VLOOKUP(B1114,Régions!A:C,3,FALSE)","v":"Grand Est"},{"v":8,"d":"08"},"CNOP",80002397,80002397,"oui","PHARMACIE PIGNOLET",14,"Rue","HABLOT","08110 CARIGNAN",8110,"Carignan","Pharmacie d'officine","A"]
[{"$f":"VLOOKUP(B1115,Régions!A:C,3,FALSE)","v":"Grand Est"},{"v":8,"d":"08"},"PHARMDIRECTFR",80002413,80002413,"oui","PHARMACIE VALLEE",50,"Rue","MARIA VISSEAUX","08110 CARIGNAN",8110,"Carignan","Pharmacie d'officine","A"]
[{"$f":"VLOOKUP(B1116,Régions!A:C,3,FALSE)","v":"Grand Est"},{"v":8,"d":"08"},{"$error":"#N/A"},80002447,{"$error":"#N/A"},{"$error":"#N/A"},"PHARMACIE PRUVOT",94,"Rue","DE MONTHERMÉ","08000 CHARLEVILLE MEZIERES",8000,"Charleville-Mézières","Pharmacie d'officine","A"]
[{"$f":"VLOOKUP(B1117,Régions!A:C,3,FALSE)","v":"Grand Est"},{"v":8,"d":"08"},"CNOP",80002462,80002462,"oui","PHARMACIE THOMAS",61,"Avenue","D'ARCHES","08000 CHARLEVILLE-MEZIERES",8000,"Charleville-Mézières","Pharmacie d'officine","A"]
[{"$f":"VLOOKUP(B1118,Régions!A:C,3,FALSE)","v":"Grand Est"},{"v":8,"d":"08"},{"$error":"#N/A"},80002512,{"$error":"#N/A"},{"$error":"#N/A"},"PHARMACIE MORELLE",54,"Avenue","CHARLES BOUTET","08000 CHARLEVILLE-MEZIERES",8000,"Charleville-Mézières","Pharmacie d'officine","A"]
[{"$f":"VLOOKUP(B1119,Régions!A:C,3,FALSE)","v":"Grand Est"},{"v":8,"d":"08"},"PHARMDIRECTFR",80002546,80002546,"oui","PHARMACIE AZZAHIDI",43,"Place","DUCALE","08000 CHARLEVILLE MEZIERES",8000,"Charleville-Mézières","Pharmacie d'officine","A"]
[{"$f":"VLOOKUP(B1120,Régions!A:C,3,FALSE)","v":"Grand Est"},{"v":8,"d":"08"},"PHARMDIRECTFR",80002561,80002561,"oui","PHARMACIE VILLAIN",24,"Place","Lucien Bauchart","08000 CHARLEVILLE-MEZIERES",8000,"Charleville-Mézières","Pharmacie d'officine","A"]
[{"$f":"VLOOKUP(B1121,Régions!A:C,3,FALSE)","v":"Grand Est"},{"v":8,"d":"08"},{"$error":"#N/A"},80002595,{"$error":"#N/A"},{"$error":"#N/A"},"PHARMACIE BERTHELOT",33,"Rue","FERROUL","08000 CHARLEVILLE-MEZIERES",8000,"Charleville-Mézières","Pharmacie d'officine","A"]
[{"$f":"VLOOKUP(B1122,Régions!A:C,3,FALSE)","v":"Grand Est"},{"v":8,"d":"08"},{"$error":"#N/A"},80002611,{"$error":"#N/A"},{"$error":"#N/A"},"PHARMACIE ARBONVILLE - CHARLIER",4,"Avenue","FOREST","08000 CHARLEVILLE-MEZIERES",8000,"Charleville-Mézières","Pharmacie d'officine","A"]
[{"$f":"VLOOKUP(B1123,Régions!A:C,3,FALSE)","v":"Grand Est"},{"v":8,"d":"08"},{"$error":"#N/A"},80002645,{"$error":"#N/A"},{"$error":"#N/A"},"PHARMACIE DES POETES",42,"Rue","D'ETION","08000 CHARLEVILLE-MEZIERES",8000,"Charleville-Mézières","Pharmacie d'officine","A"]
[{"$f":"VLOOKUP(B1124,Régions!A:C,3,FALSE)","v":"Grand Est"},{"v":8,"d":"08"},"PHARMDIRECTFR",80002660,80002660,"oui","PHARMACIE  MODAINE",20,"Boulevard","HENRI BRONNERT","08000 CHARLEVILLE-MEZIERES",8000,"Charleville-Mézières","Pharmacie d'officine","A"]
[{"$f":"VLOOKUP(B1125,Régions!A:C,3,FALSE)","v":"Grand Est"},{"v":8,"d":"08"},"PHARMDIRECTFR",80002710,80002710,"oui","PHARMACIE BERGNIER - DEBLOCQ",8,"Rue","JEAN MOULIN","08000 CHARLEVILLE MEZIERES",8000,"Charleville-Mézières","Pharmacie d'officine","A"]
[{"$f":"VLOOKUP(B1126,Régions!A:C,3,FALSE)","v":"Grand Est"},{"v":8,"d":"08"},"PHARMDIRECTFR",80002777,80002777,"oui","PHARMACIE DE LA CITADELLE",15,"Avenue","MARTYRS DE LA RESISTANCE","08000 CHARLEVILLE-MEZIERES",8000,"Charleville-Mézières","Pharmacie d'officine","A"]
[{"$f":"VLOOKUP(B1127,Régions!A:C,3,FALSE)","v":"Grand Est"},{"v":8,"d":"08"},"CNOP",80002793,80002793,"oui","PHARMACIE MOROIS",19,"Rue","MONGE","08000 CHARLEVILLE-MEZIERES",8000,"Charleville-Mézières","Pharmacie d'officine","A"]
[{"$f":"VLOOKUP(B1128,Régions!A:C,3,FALSE)","v":"Grand Est"},{"v":8,"d":"08"},{"$error":"#N/A"},80002843,{"$error":"#N/A"},{"$error":"#N/A"},"PHARMACIE HUGARD - TOURNIER",6,"Rue","DU MOULIN","08000 CHARLEVILLE-MEZIERES",8000,"Charleville-Mézières","Pharmacie d'officine","A"]
[{"$f":"VLOOKUP(B1129,Régions!A:C,3,FALSE)","v":"Grand Est"},{"v":8,"d":"08"},{"$error":"#N/A"},80002876,{"$error":"#N/A"},{"$error":"#N/A"},"PHARMACIE GODET-HALLOY",8,"Place","DE NEVERS","08000 CHARLEVILLE-MÉZIÈRES",8000,"Charleville-Mézières","Pharmacie d'officine","A"]
[{"$f":"VLOOKUP(B1130,Régions!A:C,3,FALSE)","v":"Grand Est"},{"v":8,"d":"08"},{"$error":"#N/A"},80002892,{"$error":"#N/A"},{"$error":"#N/A"},"PHARMACIE MONNIER",86,"Rue","DU 11 NOVEMBRE","08000 CHARLEVILLE-MEZIERES",8000,"Charleville-Mézières","Pharmacie d'officine","A"]
[{"$f":"VLOOKUP(B1131,Régions!A:C,3,FALSE)","v":"Grand Est"},{"v":8,"d":"08"},"PHARMDIRECTFR",80002926,80002926,"oui","PHARMACIE PONSINET",7,"Rue","DE LA POSTE","08109 CHARLEVILLE-MEZIERES CEDEX",8109,"Charleville-Mézières","Pharmacie d'officine","A"]
[{"$f":"VLOOKUP(B1132,Régions!A:C,3,FALSE)","v":"Grand Est"},{"v":8,"d":"08"},{"$error":"#N/A"},80002942,{"$error":"#N/A"},{"$error":"#N/A"},"PHARMACIE PERAUDEAU","NULL","Carrefour","RUE J. BREL","08000 CHARLEVILLE MEZIERES",8000,"Charleville-Mézières","Pharmacie d'officine","A"]
[{"$f":"VLOOKUP(B1133,Régions!A:C,3,FALSE)","v":"Grand Est"},{"v":8,"d":"08"},"PHARMDIRECTFR",80002975,80002975,"oui","PHARMACIE CURY",5,"Rue","SAINT LOUIS","08000 CHARLEVILLE-MEZIERES",8000,"Charleville-Mézières","Pharmacie d'officine","A"]
[{"$f":"VLOOKUP(B1134,Régions!A:C,3,FALSE)","v":"Grand Est"},{"v":8,"d":"08"},"CNOP",80002991,80002991,"oui","PHARMACIE BARBOTTE",7,"Rue","PIERRE BEREGOVOY","08000 CHARLEVILLE-MEZIERES",8000,"Charleville-Mézières","Pharmacie d'officine","A"]
[{"$f":"VLOOKUP(B1135,Régions!A:C,3,FALSE)","v":"Grand Est"},{"v":8,"d":"08"},{"$error":"#N/A"},80003015,{"$error":"#N/A"},{"$error":"#N/A"},"PHARMACIE ULPAT-GUERLINCE",4,"Faubourg","DE LIESSE","08360 CHATEAU-PORCIEN",8360,"Château-Porcien","Pharmacie d'officine","A"]
[{"$f":"VLOOKUP(B1136,Régions!A:C,3,FALSE)","v":"Grand Est"},{"v":8,"d":"08"},{"$error":"#N/A"},80003031,{"$error":"#N/A"},{"$error":"#N/A"},"PHARMACIE BERTRAND","NULL","Lieu dit","LE VILLAGE","08220 CHAUMONT-PORCIEN",8220,"Chaumont-Porcien","Pharmacie d'officine","A"]
[{"$f":"VLOOKUP(B1137,Régions!A:C,3,FALSE)","v":"Grand Est"},{"v":8,"d":"08"},"PHARMDIRECTFR",80003064,80003064,"oui","PHARMACIE BRIARD",2,"Avenue","Lucien Lelarge","08390 BAIRON ET SES ENVIRONS",8390,"Bairon et ses environs","Pharmacie d'officine","A"]
[{"$f":"VLOOKUP(B1138,Régions!A:C,3,FALSE)","v":"Grand Est"},{"v":8,"d":"08"},"PHARMDIRECTFR",80003080,80003080,"oui","PHARMACIE CHARDARD",613,"NULL","GRANDE RUE","08800 DEVILLE",8800,"Deville","Pharmacie d'officine","A"]
[{"$f":"VLOOKUP(B1139,Régions!A:C,3,FALSE)","v":"Grand Est"},{"v":8,"d":"08"},"CNOP",80003114,80003114,"oui","PHARMACIE DEGLAIRE",1,"Rue","DU GENERAL DE GAULLE","08350 DONCHERY",8350,"Donchery","Pharmacie d'officine","A"]
[{"$f":"VLOOKUP(B1140,Régions!A:C,3,FALSE)","v":"Grand Est"},{"v":8,"d":"08"},"PHARMDIRECTFR",80003130,80003130,"oui","PHARMACIE DU MAGNE",76,"Route","Nationale","08140 DOUZY",8140,"Douzy","Pharmacie d'officine","A"]
[{"$f":"VLOOKUP(B1141,Régions!A:C,3,FALSE)","v":"Grand Est"},{"v":8,"d":"08"},"PHARMDIRECTFR",80003163,80003163,"oui","PHARMACIE MEYER",26,"Route","de Sedan","08160 FLIZE",8160,"Flize","Pharmacie d'officine","A"]
[{"$f":"VLOOKUP(B1142,Régions!A:C,3,FALSE)","v":"Grand Est"},{"v":8,"d":"08"},{"$error":"#N/A"},80003676,{"$error":"#N/A"},{"$error":"#N/A"},"PHARMACIE CRÉQUY",2,"Place","DE LA MAIRIE","08200 FLOING",8200,"Floing","Pharmacie d'officine","A"]
[{"$f":"VLOOKUP(B1143,Régions!A:C,3,FALSE)","v":"Grand Est"},{"v":8,"d":"08"},{"$error":"#N/A"},80004476,{"$error":"#N/A"},{"$error":"#N/A"},"PHARMACIE DE LA VENCE","NULL","Route","de Paris","08000 LA FRANCHEVILLE",8000,"La Francheville","Pharmacie d'officine","A"]
[{"$f":"VLOOKUP(B1144,Régions!A:C,3,FALSE)","v":"Grand Est"},{"v":8,"d":"08"},{"$error":"#N/A"},80004492,{"$error":"#N/A"},{"$error":"#N/A"},"PHARMACIE COMANDINI - BARRAS",11,"Place","ARISTIDE BRIAND","08170 FUMAY",8170,"Fumay","Pharmacie d'officine","A"]
[{"$f":"VLOOKUP(B1145,Régions!A:C,3,FALSE)","v":"Grand Est"},{"v":8,"d":"08"},"CNOP",80004526,80004526,"oui","PHARMACIE DE L'ARDOISE",87,"Rue","DU GENERAL DE GAULLE","08170 FUMAY",8170,"Fumay","Pharmacie d'officine","A"]
[{"$f":"VLOOKUP(B1146,Régions!A:C,3,FALSE)","v":"Grand Est"},{"v":8,"d":"08"},{"$error":"#N/A"},80004542,{"$error":"#N/A"},{"$error":"#N/A"},"PHARMACIE PITORT - DEPRET",35,"Rue","DE PUSSEMANGE","08700 GESPUNSART",8700,"Gespunsart","Pharmacie d'officine","A"]
[{"$f":"VLOOKUP(B1147,Régions!A:C,3,FALSE)","v":"Grand Est"},{"v":8,"d":"08"},{"$error":"#N/A"},80004633,{"$error":"#N/A"},{"$error":"#N/A"},"PHARMACIE DECLEF - GOOSSE",9,"Zone activite","de la route de Beauraing","08600 GIVET",8600,"Givet","Pharmacie d'officine","A"]
[{"$f":"VLOOKUP(B1148,Régions!A:C,3,FALSE)","v":"Grand Est"},{"v":8,"d":"08"},{"$error":"#N/A"},80004823,{"$error":"#N/A"},{"$error":"#N/A"},"PHARMACIE GOOSSE - VANDEVELDE",17,"Place","MEHUL","08600 GIVET",8600,"Givet","Pharmacie d'officine","A"]
[{"$f":"VLOOKUP(B1149,Régions!A:C,3,FALSE)","v":"Grand Est"},{"v":8,"d":"08"},{"$error":"#N/A"},80006026,{"$error":"#N/A"},{"$error":"#N/A"},"PHARMACIE  DECLEF - MONETA",13,"Place","DE LA REPUBLIQUE","08600 GIVET",8600,"Givet","Pharmacie d'officine","A"]
[{"$f":"VLOOKUP(B1150,Régions!A:C,3,FALSE)","v":"Grand Est"},{"v":8,"d":"08"},"PHARMDIRECTFR",80006521,80006521,"oui","PHARMACIE MOUTON HOCQUERELLE","NULL","Rue","de Chantereine","08250 GRANDPRE",8250,"Grandpré","Pharmacie d'officine","A"]
[{"$f":"VLOOKUP(B1151,Régions!A:C,3,FALSE)","v":"Grand Est"},{"v":8,"d":"08"},"PHARMDIRECTFR",80006877,80006877,"oui","PHARMACIE DETRIGNE",2,"Rue","DE L'HOTEL DE VILLE","08800 MONTHERME",8800,"Les Hautes-Rivières","Pharmacie d'officine","A"]
[{"$f":"VLOOKUP(B1152,Régions!A:C,3,FALSE)","v":"Grand Est"},{"v":8,"d":"08"},{"$error":"#N/A"},80006927,{"$error":"#N/A"},{"$error":"#N/A"},"PHARMACIE ROUSSELLE",1,"Rue","DU RIVAGE","08170 HAYBES",8170,"Haybes","Pharmacie d'officine","A"]
[{"$f":"VLOOKUP(B1153,Régions!A:C,3,FALSE)","v":"Grand Est"},{"v":8,"d":"08"},"CNOP",80006943,80006943,"oui","PHARMACIE DESAVEINES",71,"Rue","ALFRED DOURY","08310 JUNIVILLE",8310,"Juniville","Pharmacie d'officine","A"]
[{"$f":"VLOOKUP(B1154,Régions!A:C,3,FALSE)","v":"Grand Est"},{"v":8,"d":"08"},"CNOP",80007065,80007065,"oui","PHARMACIE BLAIN",3,"Rue","328ÈME RÉGIMENT D'INFANTERIE","08290 LIART",8290,"Liart","Pharmacie d'officine","A"]
[{"$f":"VLOOKUP(B1155,Régions!A:C,3,FALSE)","v":"Grand Est"},{"v":8,"d":"08"},{"$error":"#N/A"},80007081,{"$error":"#N/A"},{"$error":"#N/A"},"PHARMACIE PASTEUR",16,"Rue","PASTEUR","08300 LUCQUY",8300,"Lucquy","Pharmacie d'officine","A"]
[{"$f":"VLOOKUP(B1156,Régions!A:C,3,FALSE)","v":"Grand Est"},{"v":8,"d":"08"},{"$error":"#N/A"},80007297,{"$error":"#N/A"},{"$error":"#N/A"},"PHARMACIE ZANTE",8,"Rue","DE LA GARE","08370 MARGUT",8370,"Margut","Pharmacie d'officine","A"]
[{"$f":"VLOOKUP(B1157,Régions!A:C,3,FALSE)","v":"Grand Est"},{"v":8,"d":"08"},"CNOP",80007313,80007313,"oui","PHARMACIE LAIRÉ","NULL","Place","DE VERSAILLES","08260 MAUBERT-FONTAINE",8260,"Maubert-Fontaine","Pharmacie d'officine","A"]
[{"$f":"VLOOKUP(B1158,Régions!A:C,3,FALSE)","v":"Grand Est"},{"v":8,"d":"08"},{"$error":"#N/A"},80007354,{"$error":"#N/A"},{"$error":"#N/A"},"PHARMACIE CHATRY-D'ANGELO",1,"Place","J B CLEMENT","08800 MONTHERME",8800,"Monthermé","Pharmacie d'officine","A"]
[{"$f":"VLOOKUP(B1159,Régions!A:C,3,FALSE)","v":"Grand Est"},{"v":8,"d":"08"},"PHARMDIRECTFR",80007420,80007420,"oui","PHARMACIE DUBOIS",32,"Rue","PASTEUR","08800 MONTHERME",8800,"Monthermé","Pharmacie d'officine","A"]
[{"$f":"VLOOKUP(B1160,Régions!A:C,3,FALSE)","v":"Grand Est"},{"v":8,"d":"08"},{"$error":"#N/A"},80007453,{"$error":"#N/A"},{"$error":"#N/A"},"PHARMACIE FEUCHER",2,"Rue","DE L'ARGONNE","08400 MONTHOIS",8400,"Monthois","Pharmacie d'officine","A"]
[{"$f":"VLOOKUP(B1161,Régions!A:C,3,FALSE)","v":"Grand Est"},{"v":8,"d":"08"},{"$error":"#N/A"},80007487,{"$error":"#N/A"},{"$error":"#N/A"},"PHARMACIE LATROMPETTE-DEVELOTTE",8,"Rue","Charles de Gaulle","08210 MOUZON",8210,"Mouzon","Pharmacie d'officine","A"]
[{"$f":"VLOOKUP(B1162,Régions!A:C,3,FALSE)","v":"Grand Est"},{"v":8,"d":"08"},"CNOP",80007503,80007503,"oui","PHARMACIE DE NOUVION-SUR-MEUSE",40,"Rue","JEAN JAURES","08160 NOUVION SUR MEUSE",8160,"Nouvion-sur-Meuse","Pharmacie d'officine","A"]
[{"$f":"VLOOKUP(B1163,Régions!A:C,3,FALSE)","v":"Grand Est"},{"v":8,"d":"08"},{"$error":"#N/A"},80007537,{"$error":"#N/A"},{"$error":"#N/A"},"PHARMACIE SOGNE",62,"Rue","DE CHANZY","08700 NOUZONVILLE",8700,"Nouzonville","Pharmacie d'officine","A"]
[{"$f":"VLOOKUP(B1164,Régions!A:C,3,FALSE)","v":"Grand Est"},{"v":8,"d":"08"},"CNOP",80007602,80007602,"oui","PHARMACIE NOUZONNAISE",2,"Rue","JEAN JAURES","08700 NOUZONVILLE",8700,"Nouzonville","Pharmacie d'officine","A"]
[{"$f":"VLOOKUP(B1165,Régions!A:C,3,FALSE)","v":"Grand Est"},{"v":8,"d":"08"},"PHARMDIRECTFR",80007636,80007636,"oui","PHARMACIE ROSE",65,"NULL","GRANDE RUE","08430 POIX-TERRON",8430,"Poix-Terron","Pharmacie d'officine","A"]
[{"$f":"VLOOKUP(B1166,Régions!A:C,3,FALSE)","v":"Grand Est"},{"v":8,"d":"08"},"PHARMDIRECTFR",80007834,80007834,"oui","PHARMACIE MOUGIN",5,"Route","NATIONALE","08140 POURU ST REMY",8140,"Pouru-Saint-Remy","Pharmacie d'officine","A"]
[{"$f":"VLOOKUP(B1167,Régions!A:C,3,FALSE)","v":"Grand Est"},{"v":8,"d":"08"},{"$error":"#N/A"},80007867,{"$error":"#N/A"},{"$error":"#N/A"},"PHARMACIE BARBAISE",17,"Rue","DE WARNECOURT","08000 PRIX-LES-MEZIERES",8000,"Prix-lès-Mézières","Pharmacie d'officine","A"]
[{"$f":"VLOOKUP(B1168,Régions!A:C,3,FALSE)","v":"Grand Est"},{"v":8,"d":"08"},{"$error":"#N/A"},80007883,{"$error":"#N/A"},{"$error":"#N/A"},"PHARMACIE CHRISTELLE","NULL","Route","DE MESSEMPRE","08110 PURE",8110,"Pure","Pharmacie d'officine","A"]
[{"$f":"VLOOKUP(B1169,Régions!A:C,3,FALSE)","v":"Grand Est"},{"v":8,"d":"08"},{"$error":"#N/A"},80007925,{"$error":"#N/A"},{"$error":"#N/A"},"PHARMACIE BERTRAND-MARCHAL",2,"Place","DU PAVE","08450 RAUCOURT-ET-FLABA",8450,"Raucourt-et-Flaba","Pharmacie d'officine","A"]
[{"$f":"VLOOKUP(B1170,Régions!A:C,3,FALSE)","v":"Grand Est"},{"v":8,"d":"08"},{"$error":"#N/A"},80008220,{"$error":"#N/A"},{"$error":"#N/A"},"PHARMACIE LAMKIN-DULUC",41,"Rue","DES MARTYRS DE LA RESISTANCE","08150 RENWEZ",8150,"Renwez","Pharmacie d'officine","A"]
[{"$f":"VLOOKUP(B1171,Régions!A:C,3,FALSE)","v":"Grand Est"},{"v":8,"d":"08"},{"$error":"#N/A"},80008253,{"$error":"#N/A"},{"$error":"#N/A"},"PHARMACIE DES ARCHERS","NULL","Rue","ETIENNE DOLET","08300 RETHEL",8300,"Rethel","Pharmacie d'officine","A"]
[{"$f":"VLOOKUP(B1172,Régions!A:C,3,FALSE)","v":"Grand Est"},{"v":8,"d":"08"},{"$error":"#N/A"},80008287,{"$error":"#N/A"},{"$error":"#N/A"},"PHARMACIE HUGARD",27,"Rue","GAMBETTA","08300 RETHEL",8300,"Rethel","Pharmacie d'officine","A"]
[{"$f":"VLOOKUP(B1173,Régions!A:C,3,FALSE)","v":"Grand Est"},{"v":8,"d":"08"},"CNOP",80008303,80008303,"oui","PHARMACIE MAZARIN",2,"Avenue","JEAN JAURES","08300 RETHEL",8300,"Rethel","Pharmacie d'officine","A"]
[{"$f":"VLOOKUP(B1174,Régions!A:C,3,FALSE)","v":"Grand Est"},{"v":8,"d":"08"},{"$error":"#N/A"},80008337,{"$error":"#N/A"},{"$error":"#N/A"},"PHARMACIE DALES",12,"Place","DE LA REPUBLIQUE","08300 RETHEL",8300,"Rethel","Pharmacie d'officine","A"]
[{"$f":"VLOOKUP(B1175,Régions!A:C,3,FALSE)","v":"Grand Est"},{"v":8,"d":"08"},{"$error":"#N/A"},80008352,{"$error":"#N/A"},{"$error":"#N/A"},"PHARMACIE DENIS",22,"Avenue","JEAN BAPTISTE CLEMENT","08500 REVIN",8500,"Revin","Pharmacie d'officine","A"]
[{"$f":"VLOOKUP(B1176,Régions!A:C,3,FALSE)","v":"Grand Est"},{"v":8,"d":"08"},"PHARMDIRECTFR",80008402,80008402,"oui","PHARMACIE PHARMACIE DU CENTRE",98,"Rue","VICTOR HUGO","08500 REVIN",8500,"Revin","Pharmacie d'officine","A"]
[{"$f":"VLOOKUP(B1177,Régions!A:C,3,FALSE)","v":"Grand Est"},{"v":8,"d":"08"},{"$error":"#N/A"},80008451,{"$error":"#N/A"},{"$error":"#N/A"},"PHARMACIE DE RIMOGNE",149,"Avenue","PASTEUR","08150 RIMOGNE",8150,"Rimogne","Pharmacie d'officine","A"]
[{"$f":"VLOOKUP(B1178,Régions!A:C,3,FALSE)","v":"Grand Est"},{"v":8,"d":"08"},"CNOP",80008485,80008485,"oui","PHARMACIE RACOUR",6,"Place","VERTE","08230 ROCROI",8230,"Rocroi","Pharmacie d'officine","A"]
[{"$f":"VLOOKUP(B1179,Régions!A:C,3,FALSE)","v":"Grand Est"},{"v":8,"d":"08"},"CNOP",80008501,80008501,"oui","PHARMACIE AMANTINI",149,"NULL","Grande Rue","08150 ROUVROY-SUR-AUDRY",8150,"Rouvroy-sur-Audry","Pharmacie d'officine","A"]
[{"$f":"VLOOKUP(B1180,Régions!A:C,3,FALSE)","v":"Grand Est"},{"v":8,"d":"08"},{"$error":"#N/A"},80008535,{"$error":"#N/A"},{"$error":"#N/A"},"PHARMACIE GUYON",54,"Rue","DESIRE LINARD","08190 SAINT-GERMAINMONT",8190,"Saint-Germainmont","Pharmacie d'officine","A"]
[{"$f":"VLOOKUP(B1181,Régions!A:C,3,FALSE)","v":"Grand Est"},{"v":8,"d":"08"},"CNOP",80008550,80008550,"oui","PHARMACIE PENALBA",10,"NULL","PÔLE MULTISERVICES","08270 SAULCES MONCLIN",8270,"Saulces-Monclin","Pharmacie d'officine","A"]
[{"$f":"VLOOKUP(B1182,Régions!A:C,3,FALSE)","v":"Grand Est"},{"v":8,"d":"08"},{"$error":"#N/A"},80008584,{"$error":"#N/A"},{"$error":"#N/A"},"PHARMACIE SARAZIN",33,"Avenue","DE BOURGOIN","08300 SAULT-LES-RETHEL",8300,"Sault-lès-Rethel","Pharmacie d'officine","A"]
[{"$f":"VLOOKUP(B1183,Régions!A:C,3,FALSE)","v":"Grand Est"},{"v":8,"d":"08"},"PHARMDIRECTFR",80008600,80008600,"oui","PHARMACIE BEAUVIERE",2,"Place","D'ARMES","08200 SEDAN",8200,"Sedan","Pharmacie d'officine","A"]
[{"$f":"VLOOKUP(B1184,Régions!A:C,3,FALSE)","v":"Grand Est"},{"v":8,"d":"08"},{"$error":"#N/A"},80008634,{"$error":"#N/A"},{"$error":"#N/A"},"PHARMACIE  BENYAHIA",9,"Rue","GÉNÉRAL DUBOIS","08200 SEDAN",8200,"Sedan","Pharmacie d'officine","A"]
[{"$f":"VLOOKUP(B1185,Régions!A:C,3,FALSE)","v":"Grand Est"},{"v":8,"d":"08"},"PHARMDIRECTFR",80008667,80008667,"oui","PHARMACIE LEPOIRE - DAVID",20,"Rue","CARNOT","08200 SEDAN",8200,"Sedan","Pharmacie d'officine","A"]
[{"$f":"VLOOKUP(B1186,Régions!A:C,3,FALSE)","v":"Grand Est"},{"v":8,"d":"08"},{"$error":"#N/A"},80008683,{"$error":"#N/A"},{"$error":"#N/A"},"PHARMACIE THIERS",14,"Rue","THIERS","08200 SEDAN",8200,"Sedan","Pharmacie d'officine","A"]
[{"$f":"VLOOKUP(B1187,Régions!A:C,3,FALSE)","v":"Grand Est"},{"v":8,"d":"08"},{"$error":"#N/A"},80008717,{"$error":"#N/A"},{"$error":"#N/A"},"PHARMACIE POTRON",33,"Rue","GAMBETTA","08200 SEDAN",8200,"Sedan","Pharmacie d'officine","A"]
[{"$f":"VLOOKUP(B1188,Régions!A:C,3,FALSE)","v":"Grand Est"},{"v":8,"d":"08"},"CNOP",80008733,80008733,"non","PHARMACIE AMIOT",18,"Rue","SALVADOR ALLENDÉ","08200 SEDAN",8200,"Sedan","Pharmacie d'officine","A"]
[{"$f":"VLOOKUP(B1189,Régions!A:C,3,FALSE)","v":"Grand Est"},{"v":8,"d":"08"},{"$error":"#N/A"},80008766,{"$error":"#N/A"},{"$error":"#N/A"},"PHARMACIE AMIOT-THOMAS",81,"Rue","DE LA MARNE","08200 SEDAN",8200,"Sedan","Pharmacie d'officine","A"]
[{"$f":"VLOOKUP(B1190,Régions!A:C,3,FALSE)","v":"Grand Est"},{"v":8,"d":"08"},{"$error":"#N/A"},80008782,{"$error":"#N/A"},{"$error":"#N/A"},"PHARMACIE SIMAL",32,"Rue","MENIL","08200 SEDAN",8200,"Sedan","Pharmacie d'officine","A"]
[{"$f":"VLOOKUP(B1191,Régions!A:C,3,FALSE)","v":"Grand Est"},{"v":8,"d":"08"},"PHARMDIRECTFR",80008816,80008816,"oui","PHARMACIE DE TORCY",18,"Rue","JEAN JAURES","08200 SEDAN",8200,"Sedan","Pharmacie d'officine","A"]
[{"$f":"VLOOKUP(B1192,Régions!A:C,3,FALSE)","v":"Grand Est"},{"v":8,"d":"08"},{"$error":"#N/A"},80008832,{"$error":"#N/A"},{"$error":"#N/A"},"PHARMACIE MANSART",10,"Avenue","DU GÉNÉRAL MARGUERITTE","08200 SEDAN",8200,"Sedan","Pharmacie d'officine","A"]
[{"$f":"VLOOKUP(B1193,Régions!A:C,3,FALSE)","v":"Grand Est"},{"v":8,"d":"08"},{"$error":"#N/A"},80008857,{"$error":"#N/A"},{"$error":"#N/A"},"PHARMACIE SIMON-CANARD",4,"Rue","DE THIN","08460 SIGNY L ABBAYE",8460,"Signy-l'Abbaye","Pharmacie d'officine","A"]
[{"$f":"VLOOKUP(B1194,Régions!A:C,3,FALSE)","v":"Grand Est"},{"v":8,"d":"08"},{"$error":"#N/A"},80008873,{"$error":"#N/A"},{"$error":"#N/A"},"PHARMACIE SAINT NICOLAS","NULL","Place","DE L'EGLISE","08380 SIGNY-LE-PETIT",8380,"Signy-le-Petit","Pharmacie d'officine","A"]
[{"$f":"VLOOKUP(B1195,Régions!A:C,3,FALSE)","v":"Grand Est"},{"v":8,"d":"08"},"PHARMDIRECTFR",80008907,80008907,"oui","PHARMACIE BAUDET-BROSSE",32,"Avenue","DE LA 2EME DI","08300 TAGNON",8300,"Tagnon","Pharmacie d'officine","A"]
[{"$f":"VLOOKUP(B1196,Régions!A:C,3,FALSE)","v":"Grand Est"},{"v":8,"d":"08"},"CNOP",80008923,80008923,"oui","PHARMACIE TISSERAND",11,"Rue","RENE DUPONT","08090 TOURNES",8090,"Tournes","Pharmacie d'officine","A"]
[{"$f":"VLOOKUP(B1197,Régions!A:C,3,FALSE)","v":"Grand Est"},{"v":8,"d":"08"},{"$error":"#N/A"},80008956,{"$error":"#N/A"},{"$error":"#N/A"},"PHARMACIE DESANLIS",44,"Avenue","JEAN JAURES","08000 VILLERS-SEMEUSE",8000,"Villers-Semeuse","Pharmacie d'officine","A"]
[{"$f":"VLOOKUP(B1198,Régions!A:C,3,FALSE)","v":"Grand Est"},{"v":8,"d":"08"},"CNOP",80008972,80008972,"oui","PHARMACIE RENARD",37,"Rue","ROGER POSTY","08320 VIREUX-MOLHAIN",8320,"Vireux-Molhain","Pharmacie d'officine","A"]
[{"$f":"VLOOKUP(B1199,Régions!A:C,3,FALSE)","v":"Grand Est"},{"v":8,"d":"08"},{"$error":"#N/A"},80009004,{"$error":"#N/A"},{"$error":"#N/A"},"PHARMACIE DEKENS",12,"Place","DE L'EGLISE","08320 VIREUX-WALLERAND",8320,"Vireux-Wallerand","Pharmacie d'officine","A"]
[{"$f":"VLOOKUP(B1200,Régions!A:C,3,FALSE)","v":"Grand Est"},{"v":8,"d":"08"},{"$error":"#N/A"},80009020,{"$error":"#N/A"},{"$error":"#N/A"},"PHARMACIE PANNET",32,"Rue","ALPHONSE PANIER","08440 VIVIER-AU-COURT",8440,"Vivier-au-Court","Pharmacie d'officine","A"]
[{"$f":"VLOOKUP(B1201,Régions!A:C,3,FALSE)","v":"Grand Est"},{"v":8,"d":"08"},"CNOP",80009053,80009053,"oui","PHARMACIE PAYEN",43,"Place","Carnot","08400 VOUZIERS",8400,"Vouziers","Pharmacie d'officine","A"]
[{"$f":"VLOOKUP(B1202,Régions!A:C,3,FALSE)","v":"Grand Est"},{"v":8,"d":"08"},"PHARMDIRECTFR",80009087,80009087,"oui","PHARMACIE BRAULT-FEGE",33,"Rue","Chanzy","08400 VOUZIERS",8400,"Vouziers","Pharmacie d'officine","A"]
[{"$f":"VLOOKUP(B1203,Régions!A:C,3,FALSE)","v":"Grand Est"},{"v":8,"d":"08"},"CNOP",80009103,80009103,"oui","PHARMACIE MOREAU - PUTTEMANS",20,"Rue","Bournizet","08400 VOUZIERS",8400,"Vouziers","Pharmacie d'officine","A"]
[{"$f":"VLOOKUP(B1204,Régions!A:C,3,FALSE)","v":"Grand Est"},{"v":8,"d":"08"},"CNOP",80009137,80009137,"oui","PHARMACIE ROSSIGNON",1,"Avenue","Roger Salengro","08330 VRIGNE AUX BOIS",8330,"Vrigne aux Bois","Pharmacie d'officine","A"]
[{"$f":"VLOOKUP(B1205,Régions!A:C,3,FALSE)","v":"Grand Est"},{"v":8,"d":"08"},"CNOP",80009152,80009152,"oui","PHARMACIE PANNET",2,"Place","François Mitterrand","08330 VRIGNE AUX BOIS",8330,"Vrigne aux Bois","Pharmacie d'officine","A"]
[{"$f":"VLOOKUP(B1206,Régions!A:C,3,FALSE)","v":"Grand Est"},{"v":8,"d":"08"},{"$error":"#N/A"},80009186,{"$error":"#N/A"},{"$error":"#N/A"},"PHARMACIE BARBAISE",22,"Boulevard","PIERQUIN","08000 WARCQ",8000,"Warcq","Pharmacie d'officine","A"]
[{"$f":"VLOOKUP(B1207,Régions!A:C,3,FALSE)","v":"Occitanie"},{"v":9,"d":"09"},{"$error":"#N/A"},90000696,{"$error":"#N/A"},{"$error":"#N/A"},"PHARMACIE ROUANET-RICCI",7,"Avenue","DELCASSE","09110 AX-LES-THERMES",9110,"Ax-les-Thermes","Pharmacie d'officine","A"]
[{"$f":"VLOOKUP(B1208,Régions!A:C,3,FALSE)","v":"Occitanie"},{"v":9,"d":"09"},{"$error":"#N/A"},90000712,{"$error":"#N/A"},{"$error":"#N/A"},"PHARMACIE AYBRAM",10,"Rue","RIGAL","09110 AX LES THERMES",9110,"Ax-les-Thermes","Pharmacie d'officine","A"]
[{"$f":"VLOOKUP(B1209,Régions!A:C,3,FALSE)","v":"Occitanie"},{"v":9,"d":"09"},"CNOP",90000746,90000746,"oui","PHARMACIE LAGARDE",37,"Avenue","du Faubourg Sainte-Croix","09240 LA BASTIDE-DE-SEROU",9240,"La Bastide-de-Sérou","Pharmacie d'officine","A"]
[{"$f":"VLOOKUP(B1210,Régions!A:C,3,FALSE)","v":"Occitanie"},{"v":9,"d":"09"},"CNOP",90000761,90000761,"oui","PHARMACIE RECOUDERC","NULL","Place","1ère Armée Française Rhin Danube","09300 BELESTA",9300,"Bélesta","Pharmacie d'officine","A"]
[{"$f":"VLOOKUP(B1211,Régions!A:C,3,FALSE)","v":"Occitanie"},{"v":9,"d":"09"},"CNOP",90000795,90000795,"non","PHARMACIE FRAISSE",87,"Rue","PRINCIPALE","09310 CABANNES (LES)",9310,"Les Cabannes","Pharmacie d'officine","A"]
[{"$f":"VLOOKUP(B1212,Régions!A:C,3,FALSE)","v":"Occitanie"},{"v":9,"d":"09"},{"$error":"#N/A"},90000811,{"$error":"#N/A"},{"$error":"#N/A"},"SELARL PHARMACIE DES 4 VALLEES",15,"Avenue","NOEL PEYREVIDAL","09800 CASTILLON-EN-COUSERANS",9800,"Castillon-en-Couserans","Pharmacie d'officine","A"]
[{"$f":"VLOOKUP(B1213,Régions!A:C,3,FALSE)","v":"Occitanie"},{"v":9,"d":"09"},"CNOP",90000845,90000845,"oui","PHARMACIE BONNEVILLE","NULL","Route","DE TOULOUSE","09350 DAUMAZAN-SUR-ARIZE",9350,"Daumazan-sur-Arize","Pharmacie d'officine","A"]
[{"$f":"VLOOKUP(B1214,Régions!A:C,3,FALSE)","v":"Occitanie"},{"v":9,"d":"09"},{"$error":"#N/A"},90000860,{"$error":"#N/A"},{"$error":"#N/A"},"PHARMACIE BOUSQUET",61,"Avenue","GENERAL LECLERC","09000 FOIX",9000,"Foix","Pharmacie d'officine","A"]
[{"$f":"VLOOKUP(B1215,Régions!A:C,3,FALSE)","v":"Occitanie"},{"v":9,"d":"09"},"CNOP",90000894,90000894,"oui","SELARL DU CHATEAU",1,"Place","Parmentier","09000 FOIX",9000,"Foix","Pharmacie d'officine","A"]
[{"$f":"VLOOKUP(B1216,Régions!A:C,3,FALSE)","v":"Occitanie"},{"v":9,"d":"09"},{"$error":"#N/A"},90000944,{"$error":"#N/A"},{"$error":"#N/A"},"PHARMACIE SANNAC-SUBRA",26,"Rue","DELCASSE","09000 FOIX",9000,"Foix","Pharmacie d'officine","A"]
[{"$f":"VLOOKUP(B1217,Régions!A:C,3,FALSE)","v":"Occitanie"},{"v":9,"d":"09"},"CNOP",90000977,90000977,"oui","PHARMACIE FONDERE-MARTINEZ ET BERDEIL",2,"Rue","de la Résistance","09000 FOIX",9000,"Foix","Pharmacie d'officine","A"]
[{"$f":"VLOOKUP(B1218,Régions!A:C,3,FALSE)","v":"Occitanie"},{"v":9,"d":"09"},"CNOP",90000993,90000993,"oui","PHARMACIE DS PROVOST CAPPONI",9,"Cours","GABRIEL FAURE","09000 FOIX",9000,"Foix","Pharmacie d'officine","A"]
[{"$f":"VLOOKUP(B1219,Régions!A:C,3,FALSE)","v":"Occitanie"},{"v":9,"d":"09"},"CNOP",90001025,90001025,"oui","PHARMACIE BLANC -  COUDERC",18,"Route","DE TOULOUSE","09130 LE FOSSAT",9130,"Le Fossat","Pharmacie d'officine","A"]
[{"$f":"VLOOKUP(B1220,Régions!A:C,3,FALSE)","v":"Occitanie"},{"v":9,"d":"09"},"CNOP",90001074,90001074,"oui","PHARMACIE BREMBILLA-TOMMASEL","NULL","NULL","NULL","09600 LAROQUE D OLMES",9600,"Laroque-d'Olmes","Pharmacie d'officine","A"]
[{"$f":"VLOOKUP(B1221,Régions!A:C,3,FALSE)","v":"Occitanie"},{"v":9,"d":"09"},"PHARMDIRECTFR",90001090,90001090,"oui","PHARMACIE PERILHOU","NULL","Rue","DES PYRENÉES","09300 LAVELANET",9300,"Lavelanet","Pharmacie d'officine","A"]
[{"$f":"VLOOKUP(B1222,Régions!A:C,3,FALSE)","v":"Occitanie"},{"v":9,"d":"09"},"PHARMDIRECTFR",90001124,90001124,"oui","PHARMACIE ROUX",1,"Place","DE LA REPUBLIQUE","09300 LAVELANET",9300,"Lavelanet","Pharmacie d'officine","A"]
[{"$f":"VLOOKUP(B1223,Régions!A:C,3,FALSE)","v":"Occitanie"},{"v":9,"d":"09"},"CNOP",90001181,90001181,"oui","PHARMACIE BASCOULES - GIASSI",5,"Rue","THEOPHILE DELCASSE","09210 LEZAT-SUR-LEZE",9210,"Lézat-sur-Lèze","Pharmacie d'officine","A"]
[{"$f":"VLOOKUP(B1224,Régions!A:C,3,FALSE)","v":"Occitanie"},{"v":9,"d":"09"},{"$error":"#N/A"},90001215,{"$error":"#N/A"},{"$error":"#N/A"},"PHARMACIE SAURIN-BARRIOULET","NULL","Place","CHAMP DE MARS","09290 LE MAS D AZIL",9290,"Le Mas-d'Azil","Pharmacie d'officine","A"]
[{"$f":"VLOOKUP(B1225,Régions!A:C,3,FALSE)","v":"Occitanie"},{"v":9,"d":"09"},{"$error":"#N/A"},90001231,{"$error":"#N/A"},{"$error":"#N/A"},"PHARMACIE FILIOZAT - PIE","NULL","Avenue","DE L'EUROPE","09320 MASSAT",9320,"Massat","Pharmacie d'officine","A"]
[{"$f":"VLOOKUP(B1226,Régions!A:C,3,FALSE)","v":"Occitanie"},{"v":9,"d":"09"},{"$error":"#N/A"},90001264,{"$error":"#N/A"},{"$error":"#N/A"},"PHARMACIE AUTULY",16,"Avenue","DU MARECHAL FOCH","09270 MAZERES",9270,"Mazères","Pharmacie d'officine","A"]
[{"$f":"VLOOKUP(B1227,Régions!A:C,3,FALSE)","v":"Occitanie"},{"v":9,"d":"09"},"PHARMDIRECTFR",90001280,90001280,"oui","PHARMACIE GARAUD",13,"Cours","DU MARECHAL DE MIREPOIX","09500 MIREPOIX",9500,"Mirepoix","Pharmacie d'officine","A"]
[{"$f":"VLOOKUP(B1228,Régions!A:C,3,FALSE)","v":"Occitanie"},{"v":9,"d":"09"},"CNOP",90001314,90001314,"oui","PHARMACIE DAMELINCOURT","NULL","Rue","DU COLONEL PETIT PIED","09500 MIREPOIX",9500,"Mirepoix","Pharmacie d'officine","A"]
[{"$f":"VLOOKUP(B1229,Régions!A:C,3,FALSE)","v":"Occitanie"},{"v":9,"d":"09"},"CNOP",90001330,90001330,"oui","PHARMACIE PAPPAKOSTAS","NULL","Cours","DU JEU DU MAIL","09500 MIREPOIX",9500,"Mirepoix","Pharmacie d'officine","A"]
[{"$f":"VLOOKUP(B1230,Régions!A:C,3,FALSE)","v":"Occitanie"},{"v":9,"d":"09"},{"$error":"#N/A"},90001363,{"$error":"#N/A"},{"$error":"#N/A"},"PHARMACIE PYRENE",32,"Route","Nationale","09330 MONTGAILHARD",9330,"Montgaillard","Pharmacie d'officine","A"]
[{"$f":"VLOOKUP(B1231,Régions!A:C,3,FALSE)","v":"Occitanie"},{"v":9,"d":"09"},"CNOP",90001413,90001413,"oui","PHARMACIE ROOSEN",11,"Route","DE MIREPOIX","09100 PAMIERS",9100,"Pamiers","Pharmacie d'officine","A"]
[{"$f":"VLOOKUP(B1232,Régions!A:C,3,FALSE)","v":"Occitanie"},{"v":9,"d":"09"},"CNOP",90001447,90001447,"oui","PHARMACIE JALABERT","NULL","Chemin","DE ROQUES","09100 PAMIERS",9100,"Pamiers","Pharmacie d'officine","A"]
[{"$f":"VLOOKUP(B1233,Régions!A:C,3,FALSE)","v":"Occitanie"},{"v":9,"d":"09"},"CNOP",90001462,90001462,"oui","PHARMACIE CARRIERE",32,"Avenue","DE FOIX","09100 PAMIERS",9100,"Pamiers","Pharmacie d'officine","A"]
[{"$f":"VLOOKUP(B1234,Régions!A:C,3,FALSE)","v":"Occitanie"},{"v":9,"d":"09"},"CNOP",90001496,90001496,"oui","PHARMACIE LAGREU-CORBALAN",9,"Rue","VICTOR HUGO","09100 PAMIERS",9100,"Pamiers","Pharmacie d'officine","A"]
[{"$f":"VLOOKUP(B1235,Régions!A:C,3,FALSE)","v":"Occitanie"},{"v":9,"d":"09"},"CNOP",90001546,90001546,"oui","PHARMACIE  DE MILLIANE",68,"Boulevard","ALSACE LORRAINE","09100 PAMIERS",9100,"Pamiers","Pharmacie d'officine","A"]
[{"$f":"VLOOKUP(B1236,Régions!A:C,3,FALSE)","v":"Occitanie"},{"v":9,"d":"09"},"PHARMDIRECTFR",90001561,90001561,"oui","PHARMACIE SAVALL",33,"Rue","NATIONALE","09160 PRAT-BONREPAUX",9160,"Prat-Bonrepaux","Pharmacie d'officine","A"]
[{"$f":"VLOOKUP(B1237,Régions!A:C,3,FALSE)","v":"Occitanie"},{"v":9,"d":"09"},"CNOP",90001595,90001595,"oui","PHARMACIE PEDEBOSCQ","NULL","Rue","DU PONT","09230 SAINTE-CROIX-VOLVESTRE",9230,"Sainte-Croix-Volvestre","Pharmacie d'officine","A"]
[{"$f":"VLOOKUP(B1238,Régions!A:C,3,FALSE)","v":"Occitanie"},{"v":9,"d":"09"},{"$error":"#N/A"},90001611,{"$error":"#N/A"},{"$error":"#N/A"},"SELARL PHARMACIE DU CENTRE",9,"Rue","GAMBETTA","09200 SAINT-GIRONS",9200,"Saint-Girons","Pharmacie d'officine","A"]
[{"$f":"VLOOKUP(B1239,Régions!A:C,3,FALSE)","v":"Occitanie"},{"v":9,"d":"09"},{"$error":"#N/A"},90001645,{"$error":"#N/A"},{"$error":"#N/A"},"PHARMACIE  FINEL",3,"Avenue","ARISTIDE BERGES","09200 SAINT-GIRONS",9200,"Saint-Girons","Pharmacie d'officine","A"]
[{"$f":"VLOOKUP(B1240,Régions!A:C,3,FALSE)","v":"Occitanie"},{"v":9,"d":"09"},"CNOP",90001660,90001660,"oui","PHARMACIE CLAUSTRES",54,"Rue","VILLEFRANCHE","09200 ST GIRONS",9200,"Saint-Girons","Pharmacie d'officine","A"]
[{"$f":"VLOOKUP(B1241,Régions!A:C,3,FALSE)","v":"Occitanie"},{"v":9,"d":"09"},"CNOP",90001777,90001777,"oui","PHARMACIE SOULA-MURCIA","NULL","NULL","NULL","09100 ST JEAN DU FALGA",9100,"Saint-Jean-du-Falga","Pharmacie d'officine","A"]
[{"$f":"VLOOKUP(B1242,Régions!A:C,3,FALSE)","v":"Occitanie"},{"v":9,"d":"09"},"PHARMDIRECTFR",90001793,90001793,"oui","PHARMACIE DELVALLE",4,"Rue","DU CARAILLE","09000 ST PAUL DE JARRAT",9000,"Saint-Paul-de-Jarrat","Pharmacie d'officine","A"]
[{"$f":"VLOOKUP(B1243,Régions!A:C,3,FALSE)","v":"Occitanie"},{"v":9,"d":"09"},"CNOP",90001827,90001827,"oui","PHARMACIE  SACRISTE","NULL","Place","DE LA MAIRIE","09210 SAINT-YBARS",9210,"Saint-Ybars","Pharmacie d'officine","A"]
[{"$f":"VLOOKUP(B1244,Régions!A:C,3,FALSE)","v":"Occitanie"},{"v":9,"d":"09"},{"$error":"#N/A"},90001892,{"$error":"#N/A"},{"$error":"#N/A"},"PHARMACIE SICRE - MANERA",2,"Rue","LOUIS PASTEUR","09700 SAVERDUN",9700,"Saverdun","Pharmacie d'officine","A"]
[{"$f":"VLOOKUP(B1245,Régions!A:C,3,FALSE)","v":"Occitanie"},{"v":9,"d":"09"},{"$error":"#N/A"},90001926,{"$error":"#N/A"},{"$error":"#N/A"},"PHARMACIE MOLES","NULL","Lieu dit","Ille Moula","09140 OUST",9140,"Oust","Pharmacie d'officine","A"]
[{"$f":"VLOOKUP(B1246,Régions!A:C,3,FALSE)","v":"Occitanie"},{"v":9,"d":"09"},"PHARMDIRECTFR",90001942,90001942,"oui","PHARMACIE  FONDERE",4,"Place","JEAN JAURES","09400 TARASCON-SUR-ARIEGE",9400,"Tarascon-sur-Ariège","Pharmacie d'officine","A"]
[{"$f":"VLOOKUP(B1247,Régions!A:C,3,FALSE)","v":"Occitanie"},{"v":9,"d":"09"},"CNOP",90001991,90001991,"oui","PHIE DOMENACH - DINE - GROTTO",9,"Avenue","PAUL JOUCLA","09400 TARASCON SUR ARIEGE",9400,"Tarascon-sur-Ariège","Pharmacie d'officine","A"]
[{"$f":"VLOOKUP(B1248,Régions!A:C,3,FALSE)","v":"Occitanie"},{"v":9,"d":"09"},{"$error":"#N/A"},90002023,{"$error":"#N/A"},{"$error":"#N/A"},"PHARMACIE BRUYERE-PIROT - CASTELNAU",9,"Rue","DU 8 MAI 1945","09100 LA TOUR DU CRIEU",9100,"La Tour-du-Crieu","Pharmacie d'officine","A"]
[{"$f":"VLOOKUP(B1249,Régions!A:C,3,FALSE)","v":"Occitanie"},{"v":9,"d":"09"},"PHARMDIRECTFR",90002056,90002056,"oui","PHARMACIE MARECHAL",28,"Avenue","JACQUES CARRIE","09120 VARILHES",9120,"Varilhes","Pharmacie d'officine","A"]
[{"$f":"VLOOKUP(B1250,Régions!A:C,3,FALSE)","v":"Occitanie"},{"v":9,"d":"09"},{"$error":"#N/A"},90002106,{"$error":"#N/A"},{"$error":"#N/A"},"PHARMACIE MUNOZ",32,"Avenue","DES PYRENEES","09340 VERNIOLLE",9340,"Verniolle","Pharmacie d'officine","A"]
[{"$f":"VLOOKUP(B1251,Régions!A:C,3,FALSE)","v":"Occitanie"},{"v":9,"d":"09"},"CNOP",90002122,90002122,"oui","PHARMACIE MAS","NULL","Place","DU GRAVIER","09220 VAL-DE-SOS",9220,"Val-de-Sos","Pharmacie d'officine","A"]
[{"$f":"VLOOKUP(B1252,Régions!A:C,3,FALSE)","v":"Occitanie"},{"v":9,"d":"09"},"CNOP",90002155,90002155,"oui","PHARMACIE ROUX",2,"Chemin","DU LAOUZET","09300 VILLENEUVE-D'OLMES",9300,"Villeneuve-d'Olmes","Pharmacie d'officine","A"]
[{"$f":"VLOOKUP(B1253,Régions!A:C,3,FALSE)","v":"Occitanie"},{"v":9,"d":"09"},"CNOP",90002585,90002585,"oui","PHARMACIE TOURNUT","NULL","Avenue","Aristide Berges","09190 LORP-SENTARAILLE",9190,"Lorp-Sentaraille","Pharmacie d'officine","A"]
[{"$f":"VLOOKUP(B1254,Régions!A:C,3,FALSE)","v":"Occitanie"},{"v":9,"d":"09"},"CNOP",90002601,90002601,"oui","PHARMACIE SOUSTRE -SOFFIATTI",3,"Avenue","DES ECOLIERS","09000 SAINT-JEAN-DE-VERGES",9000,"Saint-Jean-de-Verges","Pharmacie d'officine","A"]
[{"$f":"VLOOKUP(B1255,Régions!A:C,3,FALSE)","v":"Grand Est"},10,{"$error":"#N/A"},100001445,{"$error":"#N/A"},{"$error":"#N/A"},"PHARMACIE PIERRON-BELE - LECHAPT",12,"Rue","Pierre Brossolette","10160 AIX-VILLEMAUR-PALIS",10160,"Aix-Villemaur-Pâlis","Pharmacie d'officine","A"]
[{"$f":"VLOOKUP(B1256,Régions!A:C,3,FALSE)","v":"Grand Est"},10,"CNOP",100001494,100001494,"oui","PHARMACIE RIBÉRON",2,"Place","de la République","10700 ARCIS-SUR-AUBE",10700,"Arcis-sur-Aube","Pharmacie d'officine","A"]
[{"$f":"VLOOKUP(B1257,Régions!A:C,3,FALSE)","v":"Grand Est"},10,"CNOP",100001510,100001510,"oui","PHARMACIE BONNOTTE ET BONNOTTE-CASTRO",329,"Rue","des Carres","10130 AUXON",10130,"Auxon","Pharmacie d'officine","A"]
[{"$f":"VLOOKUP(B1258,Régions!A:C,3,FALSE)","v":"Grand Est"},10,"PHARMDIRECTFR",100001544,100001544,"oui","PHARMACIE CAMUS-DURAND",20,"Avenue","DU GENERAL LECLERC","10200 BAR SUR AUBE",10200,"Bar-sur-Aube","Pharmacie d'officine","A"]
[{"$f":"VLOOKUP(B1259,Régions!A:C,3,FALSE)","v":"Grand Est"},10,{"$error":"#N/A"},100001577,{"$error":"#N/A"},{"$error":"#N/A"},"PHARMACIE ROUYER",48,"Rue","NATIONALE","10200 BAR-SUR-AUBE",10200,"Bar-sur-Aube","Pharmacie d'officine","A"]
[{"$f":"VLOOKUP(B1260,Régions!A:C,3,FALSE)","v":"Grand Est"},10,"PHARMDIRECTFR",100001593,100001593,"oui","PHARMACIE DES HALLES",99,"Rue","Nationale","10200 BAR-SUR-AUBE",10200,"Bar-sur-Aube","Pharmacie d'officine","A"]
[{"$f":"VLOOKUP(B1261,Régions!A:C,3,FALSE)","v":"Grand Est"},10,{"$error":"#N/A"},100001627,{"$error":"#N/A"},{"$error":"#N/A"},"PHARMACIE FRANCOIS",76,"Rue","NATIONALE","10200 BAR SUR AUBE",10200,"Bar-sur-Aube","Pharmacie d'officine","A"]
[{"$f":"VLOOKUP(B1262,Régions!A:C,3,FALSE)","v":"Grand Est"},10,"CNOP",100001643,100001643,"oui","PHARMACIE LEPELTIER",11,"Faubourg","DE CHAMPAGNE","10110 BAR-SUR-SEINE",10110,"Bar-sur-Seine","Pharmacie d'officine","A"]
[{"$f":"VLOOKUP(B1263,Régions!A:C,3,FALSE)","v":"Grand Est"},10,"CNOP",100001676,100001676,"oui","PHARMACIE DE LA SEINE",18,"Avenue","GENERAL LECLERC","10110 BAR-SUR-SEINE",10110,"Bar-sur-Seine","Pharmacie d'officine","A"]
[{"$f":"VLOOKUP(B1264,Régions!A:C,3,FALSE)","v":"Grand Est"},10,{"$error":"#N/A"},100001692,{"$error":"#N/A"},{"$error":"#N/A"},"PHARMACIE DOILLON",9,"Rue","COMBATTANTS D'A F N","10320 BOUILLY",10320,"Bouilly","Pharmacie d'officine","A"]
[{"$f":"VLOOKUP(B1265,Régions!A:C,3,FALSE)","v":"Grand Est"},10,"PHARMDIRECTFR",100001726,100001726,"oui","PHARMACIE DE BREVIANDES",108,"Avenue","DU MARECHAL LECLERC","10450 BREVIANDES",10450,"Bréviandes","Pharmacie d'officine","A"]
[{"$f":"VLOOKUP(B1266,Régions!A:C,3,FALSE)","v":"Grand Est"},10,"PHARMDIRECTFR",100001742,100001742,"oui","PHARMACIE  MARTINI - JOFFIN",1,"Place","DE L'HOTEL DE VILLE","10500 BRIENNE-LE-CHÂTEAU",10500,"Brienne-le-Château","Pharmacie d'officine","A"]
[{"$f":"VLOOKUP(B1267,Régions!A:C,3,FALSE)","v":"Grand Est"},10,"CNOP",100001775,100001775,"oui","SELARL PHARMACIE DE L'ECOLE MILITAIRE",86,"Rue","DE L'ECOLE MILITAIRE","10500 BRIENNE-LE-CHÂTEAU",10500,"Brienne-le-Château","Pharmacie d'officine","A"]
[{"$f":"VLOOKUP(B1268,Régions!A:C,3,FALSE)","v":"Grand Est"},10,{"$error":"#N/A"},100001791,{"$error":"#N/A"},{"$error":"#N/A"},"PHARMACIE BARRET - WATELET",3,"Route","DE TROYES","10210 CHAOURCE",10210,"Chaource","Pharmacie d'officine","A"]
[{"$f":"VLOOKUP(B1269,Régions!A:C,3,FALSE)","v":"Grand Est"},10,"CNOP",100001825,100001825,"non","PHARMAVENTURE",4,"Rue","JULES FERRY","10600 CHAPELLE-SAINT-LUC (LA)",10600,"La Chapelle-Saint-Luc","Pharmacie d'officine","A"]
[{"$f":"VLOOKUP(B1270,Régions!A:C,3,FALSE)","v":"Grand Est"},10,{"$error":"#N/A"},100001874,{"$error":"#N/A"},{"$error":"#N/A"},"PHARMACIE SARRAIL",3,"Rue","ROGER SALENGRO","10600 CHAPELLE-SAINT-LUC (LA)",10600,"La Chapelle-Saint-Luc","Pharmacie d'officine","A"]
[{"$f":"VLOOKUP(B1271,Régions!A:C,3,FALSE)","v":"Grand Est"},10,"CNOP",100001890,100001890,"oui","PHARMACIE BERSAUTER",30,"Avenue","ROGER SALENGRO","10600 LA CHAPELLE ST LUC",10600,"La Chapelle-Saint-Luc","Pharmacie d'officine","A"]
[{"$f":"VLOOKUP(B1272,Régions!A:C,3,FALSE)","v":"Grand Est"},10,{"$error":"#N/A"},100001924,{"$error":"#N/A"},{"$error":"#N/A"},"PHARMACIE RICHARD","NULL","Boulevard","de l'Ouest","10600 LA CHAPELLE-SAINT-LUC",10600,"La Chapelle-Saint-Luc","Pharmacie d'officine","A"]
[{"$f":"VLOOKUP(B1273,Régions!A:C,3,FALSE)","v":"Grand Est"},10,"CNOP",100001940,100001940,"oui","PHARMACIE BENKADDOUR",11,"Avenue","JEAN MOULIN","10600 LA CHAPELLE ST LUC",10600,"La Chapelle-Saint-Luc","Pharmacie d'officine","A"]
[{"$f":"VLOOKUP(B1274,Régions!A:C,3,FALSE)","v":"Grand Est"},10,"PHARMDIRECTFR",100001965,100001965,"oui","PHARMACIE PHILIPPE",7,"Place","COLAVERDEY","10150 CHARMONT-SOUS-BARBUISE",10150,"Charmont-sous-Barbuise","Pharmacie d'officine","A"]
[{"$f":"VLOOKUP(B1275,Régions!A:C,3,FALSE)","v":"Grand Est"},10,{"$error":"#N/A"},100001981,{"$error":"#N/A"},{"$error":"#N/A"},"PHARMACIE DEMARSON - LESEURRE",15,"Rue","DU GILLIARD","10330 CHAVANGES",10330,"Chavanges","Pharmacie d'officine","A"]
[{"$f":"VLOOKUP(B1276,Régions!A:C,3,FALSE)","v":"Grand Est"},10,"CNOP",100002013,100002013,"oui","PHARMACIE  FRAPPART",36,"Route","CLAUDE BERTRAND","10150 CRENEY PRES TROYES",10150,"Creney-près-Troyes","Pharmacie d'officine","A"]
[{"$f":"VLOOKUP(B1277,Régions!A:C,3,FALSE)","v":"Grand Est"},10,{"$error":"#N/A"},100002047,{"$error":"#N/A"},{"$error":"#N/A"},"PHARMACIE AMY",25,"Rue","GREGOIRE ROYER","10500 DIENVILLE",10500,"Dienville","Pharmacie d'officine","A"]
[{"$f":"VLOOKUP(B1278,Régions!A:C,3,FALSE)","v":"Grand Est"},10,{"$error":"#N/A"},100002062,{"$error":"#N/A"},{"$error":"#N/A"},"PHARMACIE PALKO ET BENNETON-MARTINEZ",6,"Place","Saint-nicolas","10130 ERVY-LE-CHATEL",10130,"Ervy-le-Châtel","Pharmacie d'officine","A"]
[{"$f":"VLOOKUP(B1279,Régions!A:C,3,FALSE)","v":"Grand Est"},10,"CNOP",100002237,100002237,"oui","PHARMACIE DELOSTAL - DUMONT",14,"Rue","VICTOR HUGO","10360 ESSOYES",10360,"Essoyes","Pharmacie d'officine","A"]
[{"$f":"VLOOKUP(B1280,Régions!A:C,3,FALSE)","v":"Grand Est"},10,{"$error":"#N/A"},100002260,{"$error":"#N/A"},{"$error":"#N/A"},"PHARMACIE PETIT",7,"Rue","DE LA REPUBLIQUE","10190 ESTISSAC",10190,"Estissac","Pharmacie d'officine","A"]
[{"$f":"VLOOKUP(B1281,Régions!A:C,3,FALSE)","v":"Grand Est"},10,"CNOP",100002377,100002377,"oui","PHARMACIE FOULON",35,"Avenue","DU MARECHAL FOCH","10280 FONTAINE-LES-GRES",10280,"Fontaine-les-Grès","Pharmacie d'officine","A"]
[{"$f":"VLOOKUP(B1282,Régions!A:C,3,FALSE)","v":"Grand Est"},10,{"$error":"#N/A"},100002393,{"$error":"#N/A"},{"$error":"#N/A"},"PHARMACIE DOUSSOT",24,"Avenue","PIERRE GOMAND","10270 LUSIGNY SUR BARSE",10270,"Lusigny-sur-Barse","Pharmacie d'officine","A"]
[{"$f":"VLOOKUP(B1283,Régions!A:C,3,FALSE)","v":"Grand Est"},10,{"$error":"#N/A"},100002427,{"$error":"#N/A"},{"$error":"#N/A"},"PHARMACIE MAUVIGNANT PHARMACIE NOUVELLE",140,"Rue","CHARLES DE GAULLE","10230 MAILLY-LE-CAMP",10230,"Mailly-le-Camp","Pharmacie d'officine","A"]
[{"$f":"VLOOKUP(B1284,Régions!A:C,3,FALSE)","v":"Grand Est"},10,{"$error":"#N/A"},100002443,{"$error":"#N/A"},{"$error":"#N/A"},"SELARL MAIZIERONNE",29,"Avenue","du Général de Gaulle","10510 MAIZIERES-LA-GRANDE-PAROISSE",10510,"Maizières-la-Grande-Paroisse","Pharmacie d'officine","A"]
[{"$f":"VLOOKUP(B1285,Régions!A:C,3,FALSE)","v":"Grand Est"},10,"CNOP",100002492,100002492,"oui","PHARMACIE  CHARLES-LEVY",19,"Rue","PICARD VALLOT","10350 MARIGNY-LE-CHATEL",10350,"Marigny-le-Châtel","Pharmacie d'officine","A"]
[{"$f":"VLOOKUP(B1286,Régions!A:C,3,FALSE)","v":"Grand Est"},10,"CNOP",100002526,100002526,"oui","PHARMACIE BECARD",42,"Rue","GEORGES FLIZOT","10170 MÉRY-SUR-SEINE",10170,"Méry-sur-Seine","Pharmacie d'officine","A"]
[{"$f":"VLOOKUP(B1287,Régions!A:C,3,FALSE)","v":"Grand Est"},10,"PHARMDIRECTFR",100002542,100002542,"oui","PHARMACIE DE MUSSY SUR SEINE",1,"Quai","INTERROMPU","10250 MUSSY-SUR-SEINE",10250,"Mussy-sur-Seine","Pharmacie d'officine","A"]
[{"$f":"VLOOKUP(B1288,Régions!A:C,3,FALSE)","v":"Grand Est"},10,"CNOP",100002575,100002575,"oui","PHARMACIE NOIZET",47,"Rue","DES MAROTS","10420 LES-NOES-PRES-TROYES",10420,"Les Noës-près-Troyes","Pharmacie d'officine","A"]
[{"$f":"VLOOKUP(B1289,Régions!A:C,3,FALSE)","v":"Grand Est"},10,{"$error":"#N/A"},100002591,{"$error":"#N/A"},{"$error":"#N/A"},"PHARMACIE LERMITE-BEAURIEUX",63,"NULL","GRANDE RUE","10240 NOGENT-SUR-AUBE",10240,"Nogent-sur-Aube","Pharmacie d'officine","A"]
[{"$f":"VLOOKUP(B1290,Régions!A:C,3,FALSE)","v":"Grand Est"},10,{"$error":"#N/A"},100002625,{"$error":"#N/A"},{"$error":"#N/A"},"PHARMACIE GODFRIND-GATEAU",16,"Avenue","PASTEUR","10400 NOGENT-SUR-SEINE",10400,"Nogent-sur-Seine","Pharmacie d'officine","A"]
[{"$f":"VLOOKUP(B1291,Régions!A:C,3,FALSE)","v":"Grand Est"},10,{"$error":"#N/A"},100002641,{"$error":"#N/A"},{"$error":"#N/A"},"PHARMACIE BILLIOUT",22,"Grand rue","SAINT LAURENT","10400 NOGENT-SUR-SEINE",10400,"Nogent-sur-Seine","Pharmacie d'officine","A"]
[{"$f":"VLOOKUP(B1292,Régions!A:C,3,FALSE)","v":"Grand Est"},10,"PHARMDIRECTFR",100002674,100002674,"oui","PHARMACIE CUNAT",19,"Rue","DES FRERES HUBERT","10220 PINEY",10220,"Piney","Pharmacie d'officine","A"]
[{"$f":"VLOOKUP(B1293,Régions!A:C,3,FALSE)","v":"Grand Est"},10,"PHARMDIRECTFR",100002690,100002690,"oui","PHARMACIE HENTZIEN",3,"Place","DU MARECHAL FOCH","10380 PLANCY L ABBAYE",10380,"Plancy-l'Abbaye","Pharmacie d'officine","A"]
[{"$f":"VLOOKUP(B1294,Régions!A:C,3,FALSE)","v":"Grand Est"},10,{"$error":"#N/A"},100002724,{"$error":"#N/A"},{"$error":"#N/A"},"PHARMACIE MOUTARD",1,"Place","CHARLES DE GAULLE","10150 PONT-SAINTE-MARIE",10150,"Pont-Sainte-Marie","Pharmacie d'officine","A"]
[{"$f":"VLOOKUP(B1295,Régions!A:C,3,FALSE)","v":"Grand Est"},10,"PHARMDIRECTFR",100002740,100002740,"oui","PHARMACIE RENAULT",85,"Avenue","JULES GUESDE","10150 PONT STE MARIE",10150,"Pont-Sainte-Marie","Pharmacie d'officine","A"]
[{"$f":"VLOOKUP(B1296,Régions!A:C,3,FALSE)","v":"Grand Est"},10,{"$error":"#N/A"},100002765,{"$error":"#N/A"},{"$error":"#N/A"},"PHARMACIE BELLENGER",14,"NULL","GRANDE RUE","10400 PONT-SUR-SEINE",10400,"Pont-sur-Seine","Pharmacie d'officine","A"]
[{"$f":"VLOOKUP(B1297,Régions!A:C,3,FALSE)","v":"Grand Est"},10,"CNOP",100002781,100002781,"oui","PHARMACIE MASSIAS",25,"Rue","SAINT ROBERT","10340 LES-RICEYS",10340,"Les Riceys","Pharmacie d'officine","A"]
[{"$f":"VLOOKUP(B1298,Régions!A:C,3,FALSE)","v":"Grand Est"},10,"PHARMDIRECTFR",100002815,100002815,"oui","PHARMACIE COMTE - CARBALLO",37,"Rue","Jean Jaurès",10440,10440,"La Rivière-de-Corps","Pharmacie d'officine","A"]
[{"$f":"VLOOKUP(B1299,Régions!A:C,3,FALSE)","v":"Grand Est"},10,"CNOP",100002831,100002831,"oui","PHARMACIE  RAMBERTI",193,"Rue","ARISTIDE BRIAND","10100 ROMILLY SUR SEINE",10100,"Romilly-sur-Seine","Pharmacie d'officine","A"]
[{"$f":"VLOOKUP(B1300,Régions!A:C,3,FALSE)","v":"Grand Est"},10,"CNOP",100002864,100002864,"oui","PHARMACIE LE PELLEC",237,"Rue","GORNET BOIVIN","10100 ROMILLY-SUR-SEINE",10100,"Romilly-sur-Seine","Pharmacie d'officine","A"]
[{"$f":"VLOOKUP(B1301,Régions!A:C,3,FALSE)","v":"Grand Est"},10,"PHARMDIRECTFR",100002880,100002880,"oui","PHARMACIE CAEL-DEROUET",43,"Rue","DE LA BOULE D OR","10100 ROMILLY-SUR-SEINE",10100,"Romilly-sur-Seine","Pharmacie d'officine","A"]
[{"$f":"VLOOKUP(B1302,Régions!A:C,3,FALSE)","v":"Grand Est"},10,{"$error":"#N/A"},100002914,{"$error":"#N/A"},{"$error":"#N/A"},"PHARMACIE GANDON - JOUET",69,"Rue","DE LA BOULE D'OR","10100 ROMILLY-SUR-SEINE",10100,"Romilly-sur-Seine","Pharmacie d'officine","A"]
[{"$f":"VLOOKUP(B1303,Régions!A:C,3,FALSE)","v":"Grand Est"},10,"PHARMDIRECTFR",100002930,100002930,"oui","PHARMACIE THOUVENIN","NULL","Boulevard","MAXIMILIEN ROBESPIERRE","10100 ROMILLY SUR SEINE",10100,"Romilly-sur-Seine","Pharmacie d'officine","A"]
[{"$f":"VLOOKUP(B1304,Régions!A:C,3,FALSE)","v":"Grand Est"},10,{"$error":"#N/A"},100002963,{"$error":"#N/A"},{"$error":"#N/A"},"PHARMACIE BOHLER",7,"Rue","VOLTAIRE SELLIERES","10100 ROMILLY",10100,"Romilly-sur-Seine","Pharmacie d'officine","A"]
[{"$f":"VLOOKUP(B1305,Régions!A:C,3,FALSE)","v":"Grand Est"},10,"CNOP",100003011,100003011,"oui","PHARMACIE TOUPET",9,"Rue","DES LOMBARDS","10430 ROSIERES-PRES-TROYES",10430,"Rosières-près-Troyes","Pharmacie d'officine","A"]
[{"$f":"VLOOKUP(B1306,Régions!A:C,3,FALSE)","v":"Grand Est"},10,{"$error":"#N/A"},100003045,{"$error":"#N/A"},{"$error":"#N/A"},"PHARMACIE DES TILLEULS",30,"Rue","ANDRE MAUGOUT","10120 SAINT-ANDRE-LES-VERGERS",10120,"Saint-André-les-Vergers","Pharmacie d'officine","A"]
[{"$f":"VLOOKUP(B1307,Régions!A:C,3,FALSE)","v":"Grand Est"},10,"CNOP",100003060,100003060,"oui","PHARMACIE RICHARD","NULL","Avenue","CHARLES DE REFUGE","10120 SAINT-ANDRE-LES-VERGERS",10120,"Saint-André-les-Vergers","Pharmacie d'officine","A"]
[{"$f":"VLOOKUP(B1308,Régions!A:C,3,FALSE)","v":"Grand Est"},10,"PHARMDIRECTFR",100003094,100003094,"oui","PHARMACIE POUILLOT - PAYEN",29,"Rue","JEAN JAURES","10120 SAINT-ANDRE-LES-VERGERS",10120,"Saint-André-les-Vergers","Pharmacie d'officine","A"]
[{"$f":"VLOOKUP(B1309,Régions!A:C,3,FALSE)","v":"Grand Est"},10,"CNOP",100003110,100003110,"oui","PHARMACIE LEDOUBLE",75,"Route","D'AUXERRE","10120 SAINT-ANDRE-LES-VERGERS",10120,"Saint-André-les-Vergers","Pharmacie d'officine","A"]
[{"$f":"VLOOKUP(B1310,Régions!A:C,3,FALSE)","v":"Grand Est"},10,"CNOP",100003144,100003144,"oui","PHARMACIE PEILLERON",8,"Rue","DU COMMERCE","10120 SAINT-GERMAIN",10120,"Saint-Germain","Pharmacie d'officine","A"]
[{"$f":"VLOOKUP(B1311,Régions!A:C,3,FALSE)","v":"Grand Est"},10,{"$error":"#N/A"},100003177,{"$error":"#N/A"},{"$error":"#N/A"},"PHARMACIE  LAURENT",130,"Avenue","MICHEL BAROIN","10800 SAINT-JULIEN-LES-VILLAS",10800,"Saint-Julien-les-Villas","Pharmacie d'officine","A"]
[{"$f":"VLOOKUP(B1312,Régions!A:C,3,FALSE)","v":"Grand Est"},10,"CNOP",100003193,100003193,"oui","PHARMACIE VANDEPUTTE",108,"Boulevard","DE DIJON","10800 SAINT-JULIEN-LES-VILLAS",10800,"Saint-Julien-les-Villas","Pharmacie d'officine","A"]
[{"$f":"VLOOKUP(B1313,Régions!A:C,3,FALSE)","v":"Grand Est"},10,"CNOP",100003227,100003227,"oui","PHARMACIE CONTINANT",23,"Rue","DU GENERAL DE GAULLE","10180 SAINT-LYE",10180,"Saint-Lyé","Pharmacie d'officine","A"]
[{"$f":"VLOOKUP(B1314,Régions!A:C,3,FALSE)","v":"Grand Est"},10,{"$error":"#N/A"},100003243,{"$error":"#N/A"},{"$error":"#N/A"},"PHARMACIE GILLARD",103,"Avenue","DU GENERAL DE GAULLE","10410 SAINT PARRES AUX TERTRES",10410,"Saint-Parres-aux-Tertres","Pharmacie d'officine","A"]
[{"$f":"VLOOKUP(B1315,Régions!A:C,3,FALSE)","v":"Grand Est"},10,"CNOP",100003276,100003276,"oui","PHARMACIE PLIEZ",11,"Boulevard","FRANCOIS MOTHRE","10260 SAINT-PARRES-LES-VAUDES",10260,"Saint-Parres-lès-Vaudes","Pharmacie d'officine","A"]
[{"$f":"VLOOKUP(B1316,Régions!A:C,3,FALSE)","v":"Grand Est"},10,{"$error":"#N/A"},100003292,{"$error":"#N/A"},{"$error":"#N/A"},"PHARMACIE  FEVRE",21,"Avenue","GALLIENI","10300 SAINTE-SAVINE",10300,"Sainte-Savine","Pharmacie d'officine","A"]
[{"$f":"VLOOKUP(B1317,Régions!A:C,3,FALSE)","v":"Grand Est"},10,"CNOP",100003342,100003342,"oui","PHARMACIE GEORGET-AUMIGNON",110,"Avenue","GALLIENI","10300 SAINTE-SAVINE",10300,"Sainte-Savine","Pharmacie d'officine","A"]
[{"$f":"VLOOKUP(B1318,Régions!A:C,3,FALSE)","v":"Grand Est"},10,"CNOP",100003383,100003383,"oui","PHARMACIE BRUGIRARD",56,"Avenue","du General Leclerc","10300 SAINTE-SAVINE",10300,"Sainte-Savine","Pharmacie d'officine","A"]
[{"$f":"VLOOKUP(B1319,Régions!A:C,3,FALSE)","v":"Grand Est"},10,"CNOP",100004142,100004142,"oui","PHARMACIE MAKIL - SIMONNOT",77,"Rue","DES NOES","10300 SAINTE-SAVINE",10300,"Sainte-Savine","Pharmacie d'officine","A"]
[{"$f":"VLOOKUP(B1320,Régions!A:C,3,FALSE)","v":"Grand Est"},10,{"$error":"#N/A"},100004175,{"$error":"#N/A"},{"$error":"#N/A"},"PHARMACIE RAUDIN",9,"Rue","JULES CHARONNAT","10400 TRAINEL",10400,"Traînel","Pharmacie d'officine","A"]
[{"$f":"VLOOKUP(B1321,Régions!A:C,3,FALSE)","v":"Grand Est"},10,"CNOP",100005602,100005602,"oui","PHARMACIE HERRGOTT",19,"Rue","EDMOND FARIAT","10000 TROYES",10000,"Troyes","Pharmacie d'officine","A"]
[{"$f":"VLOOKUP(B1322,Régions!A:C,3,FALSE)","v":"Grand Est"},10,"CNOP",100006220,100006220,"oui","SELAS PHARMACIE EDOUARD HERRIOT",85,"Avenue","EDOUARD HERRIOT","10000 TROYES",10000,"Troyes","Pharmacie d'officine","A"]
[{"$f":"VLOOKUP(B1323,Régions!A:C,3,FALSE)","v":"Grand Est"},10,{"$error":"#N/A"},100006717,{"$error":"#N/A"},{"$error":"#N/A"},"PHARMACIE BERGAENTZLE",57,"Rue","URBAIN IV","10000 TROYES",10000,"Troyes","Pharmacie d'officine","A"]
[{"$f":"VLOOKUP(B1324,Régions!A:C,3,FALSE)","v":"Grand Est"},10,"PHARMDIRECTFR",100006733,100006733,"oui","PHARMACIE  GUERARD",57,"Boulevard","DU 14 JUILLET","10000 TROYES",10000,"Troyes","Pharmacie d'officine","A"]
[{"$f":"VLOOKUP(B1325,Régions!A:C,3,FALSE)","v":"Grand Est"},10,{"$error":"#N/A"},100006865,{"$error":"#N/A"},{"$error":"#N/A"},"PHARMACIE DES HALLES",48,"Rue","DU GENERAL DE GAULLE","10000 TROYES",10000,"Troyes","Pharmacie d'officine","A"]
[{"$f":"VLOOKUP(B1326,Régions!A:C,3,FALSE)","v":"Grand Est"},10,"CNOP",100007087,100007087,"oui","PHARMACIE GATOUILLAT-CUABOS",2,"Boulevard","CARNOT","10000 TROYES",10000,"Troyes","Pharmacie d'officine","A"]
[{"$f":"VLOOKUP(B1327,Régions!A:C,3,FALSE)","v":"Grand Est"},10,{"$error":"#N/A"},100007244,{"$error":"#N/A"},{"$error":"#N/A"},"PHARMACIE BAILLY",22,"Quai","DAMPIERRE - 2 R GEORGES CLEMEN","10000 TROYES",10000,"Troyes","Pharmacie d'officine","A"]
[{"$f":"VLOOKUP(B1328,Régions!A:C,3,FALSE)","v":"Grand Est"},10,{"$error":"#N/A"},100007434,{"$error":"#N/A"},{"$error":"#N/A"},"PHARMACIE FRAENKEL-LOCHARD",28,"Boulevard","JULES GUESDE","10000 TROYES",10000,"Troyes","Pharmacie d'officine","A"]
[{"$f":"VLOOKUP(B1329,Régions!A:C,3,FALSE)","v":"Grand Est"},10,"PHARMDIRECTFR",100007582,100007582,"oui","PHARMACIE LEOFOLD ADECHOKAN",116,"Avenue","PASTEUR","10000 TROYES",10000,"Troyes","Pharmacie d'officine","A"]
[{"$f":"VLOOKUP(B1330,Régions!A:C,3,FALSE)","v":"Grand Est"},10,"CNOP",100007681,100007681,"oui","PHARMACIE RICHARD",92,"Avenue","PIERRE BROSSOLETTE","10000 TROYES",10000,"Troyes","Pharmacie d'officine","A"]
[{"$f":"VLOOKUP(B1331,Régions!A:C,3,FALSE)","v":"Grand Est"},10,"PHARMDIRECTFR",100007897,100007897,"oui","PHARMACIE DESSARD",127,"Rue","DE PREIZE","10000 TROYES",10000,"Troyes","Pharmacie d'officine","A"]
[{"$f":"VLOOKUP(B1332,Régions!A:C,3,FALSE)","v":"Grand Est"},10,"CNOP",100007913,100007913,"oui","PHARMACIE SEIGNEUR",36,"Avenue","DU 1ER MAI","10000 TROYES",10000,"Troyes","Pharmacie d'officine","A"]
[{"$f":"VLOOKUP(B1333,Régions!A:C,3,FALSE)","v":"Grand Est"},10,"PHARMDIRECTFR",100007962,100007962,"oui","PHARMACIE FERNANDES - DENOTTE",12,"Rue","DE LA REPUBLIQUE","10000 TROYES",10000,"Troyes","Pharmacie d'officine","A"]
[{"$f":"VLOOKUP(B1334,Régions!A:C,3,FALSE)","v":"Grand Est"},10,"CNOP",100008010,100008010,"oui","PHARMACIE RAGUIN",26,"Avenue","CHOMEDEY DE MAISONNEUVE","10000 TROYES",10000,"Troyes","Pharmacie d'officine","A"]
[{"$f":"VLOOKUP(B1335,Régions!A:C,3,FALSE)","v":"Grand Est"},10,{"$error":"#N/A"},100008093,{"$error":"#N/A"},{"$error":"#N/A"},"PHARMACIE AVIERINOS","NULL","Rue","DES ANCIENNES TANNERIES","10140 VENDEUVRE-SUR-BARSE",10140,"Vendeuvre-sur-Barse","Pharmacie d'officine","A"]
[{"$f":"VLOOKUP(B1336,Régions!A:C,3,FALSE)","v":"Grand Est"},10,"CNOP",100008143,100008143,"oui","PHARMACIE VARIN",4,"Rue","DU FRENE","10390 VERRIERES",10390,"Verrières","Pharmacie d'officine","A"]
[{"$f":"VLOOKUP(B1337,Régions!A:C,3,FALSE)","v":"Grand Est"},10,{"$error":"#N/A"},100008176,{"$error":"#N/A"},{"$error":"#N/A"},"PHARMACIE SAINT-PIERRE",26,"Place","GEORGES CLEMENCEAU","10370 VILLENAUXE-LA-GRANDE",10370,"Villenauxe-la-Grande","Pharmacie d'officine","A"]
[{"$f":"VLOOKUP(B1338,Régions!A:C,3,FALSE)","v":"Grand Est"},10,"PHARMDIRECTFR",100008192,100008192,"oui","PHARMACIE BARBIER - LECLERE",39,"Route","DE DIJON","10310 VILLE-SOUS-LA-FERTE",10310,"Ville-sous-la-Ferté","Pharmacie d'officine","A"]
[{"$f":"VLOOKUP(B1339,Régions!A:C,3,FALSE)","v":"Occitanie"},11,{"$error":"#N/A"},110003027,{"$error":"#N/A"},{"$error":"#N/A"},"PHARMACIE ALARD",48,"Rue","GEORGES CLEMENCEAU","11000 CARCASSONNE",11000,"Carcassonne","Pharmacie d'officine","A"]
[{"$f":"VLOOKUP(B1340,Régions!A:C,3,FALSE)","v":"Occitanie"},11,{"$error":"#N/A"},110003043,{"$error":"#N/A"},{"$error":"#N/A"},"PHARMACIE AYROLLES - FERRE","NULL","Avenue","LEO LAGRANGE","11620 VILLEMOUSTAUSSOU",11620,"Villemoustaussou","Pharmacie d'officine","A"]
[{"$f":"VLOOKUP(B1341,Régions!A:C,3,FALSE)","v":"Occitanie"},11,"CNOP",110003076,110003076,"oui","PHARMACIE BENOIT GUILLOT",17,"Rue","DE L'OURMETTO","11400 SAINT-PAPOUL-VILLAGE",11400,"Saint-Papoul","Pharmacie d'officine","A"]
[{"$f":"VLOOKUP(B1342,Régions!A:C,3,FALSE)","v":"Occitanie"},11,{"$error":"#N/A"},110003092,{"$error":"#N/A"},{"$error":"#N/A"},"PHARMACIE ESCOBAR - TUBERY",19,"Route","DEPARTEMENTALE 6113","11150 VILLEPINTE",11150,"Villepinte","Pharmacie d'officine","A"]
[{"$f":"VLOOKUP(B1343,Régions!A:C,3,FALSE)","v":"Occitanie"},11,{"$error":"#N/A"},110003142,{"$error":"#N/A"},{"$error":"#N/A"},"PHARMACIE RAMEL","NULL","Centre commercial","LO MORAL","11570 PALAJA",11570,"Palaja","Pharmacie d'officine","A"]
[{"$f":"VLOOKUP(B1344,Régions!A:C,3,FALSE)","v":"Occitanie"},11,{"$error":"#N/A"},110003175,{"$error":"#N/A"},{"$error":"#N/A"},"PHARMACIE RECHE-MUR",10,"Promenade","DES FOSSES","11160 VILLENEUVE-MINERVOIS",11160,"Villeneuve-Minervois","Pharmacie d'officine","A"]
[{"$f":"VLOOKUP(B1345,Régions!A:C,3,FALSE)","v":"Occitanie"},11,{"$error":"#N/A"},110003225,{"$error":"#N/A"},{"$error":"#N/A"},"PHARMACIE CAMINERO",32,"Avenue","DE NARBONNE","11110 VINASSAN",11110,"Vinassan","Pharmacie d'officine","A"]
[{"$f":"VLOOKUP(B1346,Régions!A:C,3,FALSE)","v":"Occitanie"},11,{"$error":"#N/A"},110003241,{"$error":"#N/A"},{"$error":"#N/A"},"PHARMACIE HEURLEY",70,"Avenue","DE BORDEAUX","11100 NARBONNE",11100,"Narbonne","Pharmacie d'officine","A"]
[{"$f":"VLOOKUP(B1347,Régions!A:C,3,FALSE)","v":"Occitanie"},11,{"$error":"#N/A"},110003274,{"$error":"#N/A"},{"$error":"#N/A"},"PHARMACIE BLECON - COCQUET - AZEMA",13,"NULL","GRAND RUE","11430 GRUISSAN",11430,"Gruissan","Pharmacie d'officine","A"]
[{"$f":"VLOOKUP(B1348,Régions!A:C,3,FALSE)","v":"Occitanie"},11,{"$error":"#N/A"},110003290,{"$error":"#N/A"},{"$error":"#N/A"},"PHARMACIE RESCLAUSE","NULL","Lotissement","LOUIS ANGELVY","11220 VAL-DE-DAGNE",11220,"Val-de-Dagne","Pharmacie d'officine","A"]
[{"$f":"VLOOKUP(B1349,Régions!A:C,3,FALSE)","v":"Occitanie"},11,{"$error":"#N/A"},110003324,{"$error":"#N/A"},{"$error":"#N/A"},"PHARMACIE JUGE-SIAUD",14,"Boulevard","DE VINGRE","11590 CUXAC-D'AUDE",11590,"Cuxac-d'Aude","Pharmacie d'officine","A"]
[{"$f":"VLOOKUP(B1350,Régions!A:C,3,FALSE)","v":"Occitanie"},11,{"$error":"#N/A"},110003571,{"$error":"#N/A"},{"$error":"#N/A"},"PHARMACIE RIVES",5,"Rue","DES GRENACHES","11600 VILLALIER",11600,"Villalier","Pharmacie d'officine","A"]
[{"$f":"VLOOKUP(B1351,Régions!A:C,3,FALSE)","v":"Occitanie"},11,"CNOP",110003605,110003605,"oui","PHARMACIE GARCIA",8,"Lotissement","TERRET D'AUGUSTA","11490 PORTEL-DES-CORBIERES",11490,"Portel-des-Corbières","Pharmacie d'officine","A"]
[{"$f":"VLOOKUP(B1352,Régions!A:C,3,FALSE)","v":"Occitanie"},11,{"$error":"#N/A"},110789740,{"$error":"#N/A"},{"$error":"#N/A"},"PHARMACIE BOUISSINET - MANZANARES",31,"Avenue","Antoine Courrière",11170,11170,"Alzonne","Pharmacie d'officine","A"]
[{"$f":"VLOOKUP(B1353,Régions!A:C,3,FALSE)","v":"Occitanie"},11,{"$error":"#N/A"},110789757,{"$error":"#N/A"},{"$error":"#N/A"},"PHARMACIE MIRMAN",7,"Cours","DE LA REPUBLIQUE","11120 ARGELIERS",11120,"Argeliers","Pharmacie d'officine","A"]
[{"$f":"VLOOKUP(B1354,Régions!A:C,3,FALSE)","v":"Occitanie"},11,"CNOP",110789765,110789765,"oui","PHARMACIE FOZZA-PLANES","NULL","Avenue","DE LA PROMENADE","11290 ARZENS",11290,"Arzens","Pharmacie d'officine","A"]
[{"$f":"VLOOKUP(B1355,Régions!A:C,3,FALSE)","v":"Occitanie"},11,"CNOP",110789773,110789773,"oui","PHARMACIE BOURREL-BERTHOMIEU",2,"Place","JOACHIM ESTRADE","11140 AXAT",11140,"Axat","Pharmacie d'officine","A"]
[{"$f":"VLOOKUP(B1356,Régions!A:C,3,FALSE)","v":"Occitanie"},11,"CNOP",110789781,110789781,"oui","PHARMACIE CARRE",11,"Allee","PÔL LAPEYRE","11700 AZILLE",11700,"Azille","Pharmacie d'officine","A"]
[{"$f":"VLOOKUP(B1357,Régions!A:C,3,FALSE)","v":"Occitanie"},11,"CNOP",110789799,110789799,"non","PHARMACIE PIGEAT-AUMELAS",6,"Rue","ST JEAN","11420 BELPECH",11420,"Belpech","Pharmacie d'officine","A"]
[{"$f":"VLOOKUP(B1358,Régions!A:C,3,FALSE)","v":"Occitanie"},11,"CNOP",110789807,110789807,"oui","PHARMACIE MESNIL-RAUZY",20,"Allee","DES PLATANES","11240 BELVEZE-DU-RAZES",11240,"Belvèze-du-Razès","Pharmacie d'officine","A"]
[{"$f":"VLOOKUP(B1359,Régions!A:C,3,FALSE)","v":"Occitanie"},11,"PHARMDIRECTFR",110789815,110789815,"oui","PHARMACIE BARTHES - DURAND",49,"Avenue","DE LA GARE","11120 BIZE-MINERVOIS",11120,"Bize-Minervois","Pharmacie d'officine","A"]
[{"$f":"VLOOKUP(B1360,Régions!A:C,3,FALSE)","v":"Occitanie"},11,{"$error":"#N/A"},110789831,{"$error":"#N/A"},{"$error":"#N/A"},"PHARMACIE LOISEL",60,"Avenue","ERNEST LEOTARD","11150 BRAM",11150,"Bram","Pharmacie d'officine","A"]
[{"$f":"VLOOKUP(B1361,Régions!A:C,3,FALSE)","v":"Occitanie"},11,{"$error":"#N/A"},110789849,{"$error":"#N/A"},{"$error":"#N/A"},"PHARMACIE MATHIEU-BONNAUD",2,"Rue","DU PROFESSEUR FRANCINE LECA","11200 CANET",11200,"Canet","Pharmacie d'officine","A"]
[{"$f":"VLOOKUP(B1362,Régions!A:C,3,FALSE)","v":"Occitanie"},11,{"$error":"#N/A"},110789856,{"$error":"#N/A"},{"$error":"#N/A"},"PHARMACIE DURAND-MULLOT",1,"Rue","DU CERS","11700 CAPENDU",11700,"Capendu","Pharmacie d'officine","A"]
[{"$f":"VLOOKUP(B1363,Régions!A:C,3,FALSE)","v":"Occitanie"},11,"CNOP",110789872,110789872,"oui","PHARMACIE BALDY - MEJEAN",122,"Avenue","PRESIDENT FRANKLIN ROOSEVELT","11000 CARCASSONNE",11000,"Carcassonne","Pharmacie d'officine","A"]
[{"$f":"VLOOKUP(B1364,Régions!A:C,3,FALSE)","v":"Occitanie"},11,{"$error":"#N/A"},110789906,{"$error":"#N/A"},{"$error":"#N/A"},"PHARMACIE BOUSSINESQ",117,"Avenue","JEAN MOULIN","11000 CARCASSONNE",11000,"Carcassonne","Pharmacie d'officine","A"]
[{"$f":"VLOOKUP(B1365,Régions!A:C,3,FALSE)","v":"Occitanie"},11,"PHARMDIRECTFR",110789914,110789914,"oui","PHARMACIE ROUX-BARNET",10,"Rue","COURTEJAIRE","11000 CARCASSONNE",11000,"Carcassonne","Pharmacie d'officine","A"]
[{"$f":"VLOOKUP(B1366,Régions!A:C,3,FALSE)","v":"Occitanie"},11,"PHARMDIRECTFR",110789922,110789922,"oui","PHARMACIE CARTOU",13,"Square","GAMBETTA","11000 CARCASSONNE",11000,"Carcassonne","Pharmacie d'officine","A"]
[{"$f":"VLOOKUP(B1367,Régions!A:C,3,FALSE)","v":"Occitanie"},11,{"$error":"#N/A"},110789930,{"$error":"#N/A"},{"$error":"#N/A"},"PHARMACIE DE OLIVEIRA",156,"Avenue","DU GENERAL LECLERC","11000 CARCASSONNE",11000,"Carcassonne","Pharmacie d'officine","A"]
[{"$f":"VLOOKUP(B1368,Régions!A:C,3,FALSE)","v":"Occitanie"},11,{"$error":"#N/A"},110789948,{"$error":"#N/A"},{"$error":"#N/A"},"PHARMACIE DEBAS",10,"Rue","WATTEAU","11000 CARCASSONNE",11000,"Carcassonne","Pharmacie d'officine","A"]
[{"$f":"VLOOKUP(B1369,Régions!A:C,3,FALSE)","v":"Occitanie"},11,{"$error":"#N/A"},110789955,{"$error":"#N/A"},{"$error":"#N/A"},"PHARMACIE ESCOURROU",4,"Boulevard","JOLIOT CURIE","11000 CARCASSONNE",11000,"Carcassonne","Pharmacie d'officine","A"]
[{"$f":"VLOOKUP(B1370,Régions!A:C,3,FALSE)","v":"Occitanie"},11,{"$error":"#N/A"},110789963,{"$error":"#N/A"},{"$error":"#N/A"},"PHARMACIE SALY",9,"Boulevard","OMER SARRAUT","11000 CARCASSONNE",11000,"Carcassonne","Pharmacie d'officine","A"]
[{"$f":"VLOOKUP(B1371,Régions!A:C,3,FALSE)","v":"Occitanie"},11,{"$error":"#N/A"},110789971,{"$error":"#N/A"},{"$error":"#N/A"},"PHARMACIE POUPPEVILLE - BOUSQUET -","NULL","NULL","NULL","11000 CARCASSONNE",11000,"Carcassonne","Pharmacie d'officine","A"]
[{"$f":"VLOOKUP(B1372,Régions!A:C,3,FALSE)","v":"Occitanie"},11,{"$error":"#N/A"},110789989,{"$error":"#N/A"},{"$error":"#N/A"},"PHARMACIE ITOUA-HUC",26,"Rue","DE VERDUN","11000 CARCASSONNE",11000,"Carcassonne","Pharmacie d'officine","A"]
[{"$f":"VLOOKUP(B1373,Régions!A:C,3,FALSE)","v":"Occitanie"},11,"PHARMDIRECTFR",110790045,110790045,"oui","PHARMACIE GRIMALDI",81,"Rue","DE VERDUN","11000 CARCASSONNE",11000,"Carcassonne","Pharmacie d'officine","A"]
[{"$f":"VLOOKUP(B1374,Régions!A:C,3,FALSE)","v":"Occitanie"},11,"CNOP",110790052,110790052,"oui","PHARMACIE PERICH",110,"Rue","BARBACANE","11000 CARCASSONNE",11000,"Carcassonne","Pharmacie d'officine","A"]
[{"$f":"VLOOKUP(B1375,Régions!A:C,3,FALSE)","v":"Occitanie"},11,{"$error":"#N/A"},110790102,{"$error":"#N/A"},{"$error":"#N/A"},"PHARMACIE LLANES",48,"Avenue","FRANKLIN ROOSEVELT","11000 CARCASSONNE",11000,"Carcassonne","Pharmacie d'officine","A"]
[{"$f":"VLOOKUP(B1376,Régions!A:C,3,FALSE)","v":"Occitanie"},11,{"$error":"#N/A"},110790128,{"$error":"#N/A"},{"$error":"#N/A"},"PHARMACIE MILLARET - DEDIEU",1,"Rue","CAVAILLES","11000 CARCASSONNE",11000,"Carcassonne","Pharmacie d'officine","A"]
[{"$f":"VLOOKUP(B1377,Régions!A:C,3,FALSE)","v":"Occitanie"},11,"CNOP",110790136,110790136,"oui","PHARMACIE SARCOS",9,"Place","CARNOT","11000 CARCASSONNE",11000,"Carcassonne","Pharmacie d'officine","A"]
[{"$f":"VLOOKUP(B1378,Régions!A:C,3,FALSE)","v":"Occitanie"},11,{"$error":"#N/A"},110790144,{"$error":"#N/A"},{"$error":"#N/A"},"PHARMACIE DE OLIVEIRA",18,"Avenue","BUNAU VARILLA","11000 CARCASSONNE",11000,"Carcassonne","Pharmacie d'officine","A"]
[{"$f":"VLOOKUP(B1379,Régions!A:C,3,FALSE)","v":"Occitanie"},11,"PHARMDIRECTFR",110790151,110790151,"oui","PHARMACIE ATA",1,"Rue","DES AULNES","11000 CARCASSONNE",11000,"Carcassonne","Pharmacie d'officine","A"]
[{"$f":"VLOOKUP(B1380,Régions!A:C,3,FALSE)","v":"Occitanie"},11,{"$error":"#N/A"},110790177,{"$error":"#N/A"},{"$error":"#N/A"},"PHARMACIE CARRERE - SALA","NULL","Avenue","DE LA FAJEOLLE","11000 CARCASSONNE",11000,"Carcassonne","Pharmacie d'officine","A"]
[{"$f":"VLOOKUP(B1381,Régions!A:C,3,FALSE)","v":"Occitanie"},11,{"$error":"#N/A"},110790185,{"$error":"#N/A"},{"$error":"#N/A"},"PHARMACIE SANFOURCHE - LE QUELLEC",1,"Rue","GAMBETTA","11400 CASTELNAUDARY",11400,"Castelnaudary","Pharmacie d'officine","A"]
[{"$f":"VLOOKUP(B1382,Régions!A:C,3,FALSE)","v":"Occitanie"},11,"PHARMDIRECTFR",110790193,110790193,"oui","PHARMACIE SIBRA - DEVILLE",29,"Avenue","du Maréchal Juin","11400 CASTELNAUDARY",11400,"Castelnaudary","Pharmacie d'officine","A"]
[{"$f":"VLOOKUP(B1383,Régions!A:C,3,FALSE)","v":"Occitanie"},11,{"$error":"#N/A"},110790201,{"$error":"#N/A"},{"$error":"#N/A"},"PHARMACIE DALLOUX",23,"Rue","DE L'HORLOGE","11400 CASTELNAUDARY",11400,"Castelnaudary","Pharmacie d'officine","A"]
[{"$f":"VLOOKUP(B1384,Régions!A:C,3,FALSE)","v":"Occitanie"},11,"PHARMDIRECTFR",110790219,110790219,"oui","PHARMACIE LOZE-BAYSSELIER",84,"Avenue","MONSEIGNEUR DE LANGLE","11400 CASTELNAUDARY",11400,"Castelnaudary","Pharmacie d'officine","A"]
[{"$f":"VLOOKUP(B1385,Régions!A:C,3,FALSE)","v":"Occitanie"},11,{"$error":"#N/A"},110790268,{"$error":"#N/A"},{"$error":"#N/A"},"PHARMACIE SERTILLANGE - DELRIEU",27,"Rue","DU MARECHAL FOCH","11400 CASTELNAUDARY",11400,"Castelnaudary","Pharmacie d'officine","A"]
[{"$f":"VLOOKUP(B1386,Régions!A:C,3,FALSE)","v":"Occitanie"},11,{"$error":"#N/A"},110790284,{"$error":"#N/A"},{"$error":"#N/A"},"PHARMACIE MAUX",1,"Avenue","de l'Argent Double","11160 CAUNES-MINERVOIS",11160,"Caunes-Minervois","Pharmacie d'officine","A"]
[{"$f":"VLOOKUP(B1387,Régions!A:C,3,FALSE)","v":"Occitanie"},11,{"$error":"#N/A"},110790292,{"$error":"#N/A"},{"$error":"#N/A"},"PHARMACIE RIPOLL-GRIMAL",1,"Rue","DE LA MAIRIE","11570 CAZILHAC",11570,"Cazilhac","Pharmacie d'officine","A"]
[{"$f":"VLOOKUP(B1388,Régions!A:C,3,FALSE)","v":"Occitanie"},11,"CNOP",110790300,110790300,"oui","PHARMACIE IACOB","NULL","Cours","COLBERT","11230 CHALABRE",11230,"Chalabre","Pharmacie d'officine","A"]
[{"$f":"VLOOKUP(B1389,Régions!A:C,3,FALSE)","v":"Occitanie"},11,"PHARMDIRECTFR",110790326,110790326,"oui","PHARMACIE TICHADOU","NULL","Lieu dit","Torte","11600 CONQUES-SUR-ORBIEL",11600,"Conques-sur-Orbiel","Pharmacie d'officine","A"]
[{"$f":"VLOOKUP(B1390,Régions!A:C,3,FALSE)","v":"Occitanie"},11,{"$error":"#N/A"},110790334,{"$error":"#N/A"},{"$error":"#N/A"},"PHARMACIE ALANDRY","NULL","Avenue","DES PYRENEES","11190 COUIZA",11190,"Couiza","Pharmacie d'officine","A"]
[{"$f":"VLOOKUP(B1391,Régions!A:C,3,FALSE)","v":"Occitanie"},11,{"$error":"#N/A"},110790367,{"$error":"#N/A"},{"$error":"#N/A"},"PHARMACIE JEUDY",14,"Avenue","JEAN JAURES","11110 COURSAN",11110,"Coursan","Pharmacie d'officine","A"]
[{"$f":"VLOOKUP(B1392,Régions!A:C,3,FALSE)","v":"Occitanie"},11,"PHARMDIRECTFR",110790375,110790375,"oui","PHARMACIE DAROUX - PASCUAL",2,"Rue","de l'Echauguette","11390 CUXAC-CABARDES",11390,"Cuxac-Cabardès","Pharmacie d'officine","A"]
[{"$f":"VLOOKUP(B1393,Régions!A:C,3,FALSE)","v":"Occitanie"},11,{"$error":"#N/A"},110790383,{"$error":"#N/A"},{"$error":"#N/A"},"PHARMACIE MAGAT-YORUK",19,"Boulevard","JEAN JAURES","11590 CUXAC-D'AUDE",11590,"Cuxac-d'Aude","Pharmacie d'officine","A"]
[{"$f":"VLOOKUP(B1394,Régions!A:C,3,FALSE)","v":"Occitanie"},11,"PHARMDIRECTFR",110790391,110790391,"oui","PHARMACIE MULLER",28,"Avenue","DE NARBONNE","11360 DURBAN CORBIERES",11360,"Durban-Corbières","Pharmacie d'officine","A"]
[{"$f":"VLOOKUP(B1395,Régions!A:C,3,FALSE)","v":"Occitanie"},11,{"$error":"#N/A"},110790409,{"$error":"#N/A"},{"$error":"#N/A"},"PHARMACIE CADENE",25,"Rue","VICTOR HUGO","11260 ESPERAZA",11260,"Espéraza","Pharmacie d'officine","A"]
[{"$f":"VLOOKUP(B1396,Régions!A:C,3,FALSE)","v":"Occitanie"},11,"CNOP",110790417,110790417,"non","PHARMACIE GARY",26,"Rue","DE LA GARE","11260 ESPERAZA",11260,"Espéraza","Pharmacie d'officine","A"]
[{"$f":"VLOOKUP(B1397,Régions!A:C,3,FALSE)","v":"Occitanie"},11,{"$error":"#N/A"},110790425,{"$error":"#N/A"},{"$error":"#N/A"},"PHARMACIE FRAISSE - LE RUN","NULL","Avenue","DU STADE","11340 ESPEZEL",11340,"Espezel","Pharmacie d'officine","A"]
[{"$f":"VLOOKUP(B1398,Régions!A:C,3,FALSE)","v":"Occitanie"},11,"PHARMDIRECTFR",110790433,110790433,"oui","PHARMACIE ABCHIR",5,"Avenue","Café Peyrou","11200 FABREZAN",11200,"Fabrezan","Pharmacie d'officine","A"]
[{"$f":"VLOOKUP(B1399,Régions!A:C,3,FALSE)","v":"Occitanie"},11,"CNOP",110790441,110790441,"oui","PHARMACIE TANDOU-ILARY","NULL","Route","DE MIREPOIX","11270 FANJEAUX",11270,"Fanjeaux","Pharmacie d'officine","A"]
[{"$f":"VLOOKUP(B1400,Régions!A:C,3,FALSE)","v":"Occitanie"},11,{"$error":"#N/A"},110790458,{"$error":"#N/A"},{"$error":"#N/A"},"PHARMACIE LAVABRE - GILLE",16,"Avenue","DE BEZIERS","11560 FLEURY-D-AUDE",11560,"Fleury","Pharmacie d'officine","A"]
[{"$f":"VLOOKUP(B1401,Régions!A:C,3,FALSE)","v":"Occitanie"},11,"PHARMDIRECTFR",110790466,110790466,"oui","PHARMACIE SIRVEN","NULL","Avenue","DE LA GINESTO","11120 GINESTAS",11120,"Ginestas","Pharmacie d'officine","A"]
[{"$f":"VLOOKUP(B1402,Régions!A:C,3,FALSE)","v":"Occitanie"},11,{"$error":"#N/A"},110790474,{"$error":"#N/A"},{"$error":"#N/A"},"PHARMACIE SALLES","NULL","Quai","DU LEVANT","11430 GRUISSAN",11430,"Gruissan","Pharmacie d'officine","A"]
[{"$f":"VLOOKUP(B1403,Régions!A:C,3,FALSE)","v":"Occitanie"},11,"CNOP",110790490,110790490,"oui","PHARMACIE MOINE",2,"Avenue","DU MINERVOIS","11700 LA-REDORTE",11700,"La Redorte","Pharmacie d'officine","A"]
[{"$f":"VLOOKUP(B1404,Régions!A:C,3,FALSE)","v":"Occitanie"},11,"CNOP",110790508,110790508,"oui","PHARMACIE BIENFAIT",48,"NULL","GRAND RUE","11320 LABASTIDE D ANJOU",11320,"Labastide-d'Anjou","Pharmacie d'officine","A"]
[{"$f":"VLOOKUP(B1405,Régions!A:C,3,FALSE)","v":"Occitanie"},11,"CNOP",110790516,110790516,"oui","PHARMACIE DELMAS",25,"Boulevard","DE LA PROMENADE","11220 LAGRASSE",11220,"Lagrasse","Pharmacie d'officine","A"]
[{"$f":"VLOOKUP(B1406,Régions!A:C,3,FALSE)","v":"Occitanie"},11,"CNOP",110790524,110790524,"oui","PHARMACIE SERASSE - FINIZIO",20,"Rue","des Vendangeurs","11480 LA PALME",11480,"La Palme","Pharmacie d'officine","A"]
[{"$f":"VLOOKUP(B1407,Régions!A:C,3,FALSE)","v":"Occitanie"},11,"PHARMDIRECTFR",110790532,110790532,"oui","PHARMACIE CAVAILHES-PATIN",7,"Rue","des écoles","11800 LAURE-MINERVOIS",11800,"Laure-Minervois","Pharmacie d'officine","A"]
[{"$f":"VLOOKUP(B1408,Régions!A:C,3,FALSE)","v":"Occitanie"},11,"CNOP",110790540,110790540,"oui","PHARMACIE SYLVESTRE-RODRIGUEZ","NULL","Chemin","du Poux 2 la Condamine","11250 LEUC",11250,"Leuc","Pharmacie d'officine","A"]
[{"$f":"VLOOKUP(B1409,Régions!A:C,3,FALSE)","v":"Occitanie"},11,{"$error":"#N/A"},110790557,{"$error":"#N/A"},{"$error":"#N/A"},"PHARMACIE CABRIDAIN",81,"Rue","Louis Pasteur","11370 LEUCATE",11370,"Leucate","Pharmacie d'officine","A"]
[{"$f":"VLOOKUP(B1410,Régions!A:C,3,FALSE)","v":"Occitanie"},11,"CNOP",110790565,110790565,"oui","PHARMACIE RAYNIER",123,"Avenue","JEAN JAURES","11370 LEUCATE",11370,"Leucate","Pharmacie d'officine","A"]
[{"$f":"VLOOKUP(B1411,Régions!A:C,3,FALSE)","v":"Occitanie"},11,{"$error":"#N/A"},110790573,{"$error":"#N/A"},{"$error":"#N/A"},"PHARMACIE COLOS-CELSE",58,"Cours","LAPEYROUSE","11200 LEZIGNAN-CORBIERES",11200,"Lézignan-Corbières","Pharmacie d'officine","A"]
[{"$f":"VLOOKUP(B1412,Régions!A:C,3,FALSE)","v":"Occitanie"},11,"PHARMDIRECTFR",110790599,110790599,"oui","PHARMACIE TANGUY",5,"Boulevard","CHATEAUDUN","11200 LEZIGNAN-CORBIERES",11200,"Lézignan-Corbières","Pharmacie d'officine","A"]
[{"$f":"VLOOKUP(B1413,Régions!A:C,3,FALSE)","v":"Occitanie"},11,"CNOP",110790607,110790607,"oui","PHARMACIE MIELE  - QUINTANE",52,"Avenue","LEO LAGRANGE","11200 LEZIGNAN CORBIERES",11200,"Lézignan-Corbières","Pharmacie d'officine","A"]
[{"$f":"VLOOKUP(B1414,Régions!A:C,3,FALSE)","v":"Occitanie"},11,{"$error":"#N/A"},110790615,{"$error":"#N/A"},{"$error":"#N/A"},"PHARMACIE HUC - DELACROIX",51,"Avenue","DU MARECHAL FOCH","11200 LEZIGNAN-CORBIERES",11200,"Lézignan-Corbières","Pharmacie d'officine","A"]
[{"$f":"VLOOKUP(B1415,Régions!A:C,3,FALSE)","v":"Occitanie"},11,"CNOP",110790623,110790623,"oui","PHARMACIE TELESE - TRIAIRE",14,"Avenue","DU PONT DE FRANCE","11300 LIMOUX",11300,"Limoux","Pharmacie d'officine","A"]
[{"$f":"VLOOKUP(B1416,Régions!A:C,3,FALSE)","v":"Occitanie"},11,"PHARMDIRECTFR",110790631,110790631,"oui","PHARMACIE BESSET",9,"Avenue","FRANÇOIS CLAMENS","11300 LIMOUX",11300,"Limoux","Pharmacie d'officine","A"]
[{"$f":"VLOOKUP(B1417,Régions!A:C,3,FALSE)","v":"Occitanie"},11,{"$error":"#N/A"},110790649,{"$error":"#N/A"},{"$error":"#N/A"},"PHARMACIE GALIBERT",11,"Allee","DES MARRONNIERS","11300 LIMOUX",11300,"Limoux","Pharmacie d'officine","A"]
[{"$f":"VLOOKUP(B1418,Régions!A:C,3,FALSE)","v":"Occitanie"},11,{"$error":"#N/A"},110790656,{"$error":"#N/A"},{"$error":"#N/A"},"PHARMACIE GAYDA",18,"Esplanade","FRANÇOIS MITTERAND","11300 LIMOUX",11300,"Limoux","Pharmacie d'officine","A"]
[{"$f":"VLOOKUP(B1419,Régions!A:C,3,FALSE)","v":"Occitanie"},11,"CNOP",110790664,110790664,"oui","PHARMACIE CHAUMOND-GLEIZES",35,"Avenue","FABRE D'EGLANTINE","11300 LIMOUX",11300,"Limoux","Pharmacie d'officine","A"]
[{"$f":"VLOOKUP(B1420,Régions!A:C,3,FALSE)","v":"Occitanie"},11,"PHARMDIRECTFR",110790672,110790672,"oui","PHARMACIE JEAN-PIERRE","NULL","NULL","GRAND RUE","11200 LUC SUR ORBIEU",11200,"Luc-sur-Orbieu","Pharmacie d'officine","A"]
[{"$f":"VLOOKUP(B1421,Régions!A:C,3,FALSE)","v":"Occitanie"},11,{"$error":"#N/A"},110790680,{"$error":"#N/A"},{"$error":"#N/A"},"PHARMACIE DECANINI - PAGER",2,"Rue","LUCIEN PORTELLE","11120 MARCORIGNAN",11120,"Marcorignan","Pharmacie d'officine","A"]
[{"$f":"VLOOKUP(B1422,Régions!A:C,3,FALSE)","v":"Occitanie"},11,"PHARMDIRECTFR",110790698,110790698,"oui","PHARMACIE HIBERT",3,"Rue","ANCIENS COMBATTANTS D'AFRIQUE DU NORD","11170 MONTOLIEU",11170,"Montolieu","Pharmacie d'officine","A"]
[{"$f":"VLOOKUP(B1423,Régions!A:C,3,FALSE)","v":"Occitanie"},11,{"$error":"#N/A"},110790706,{"$error":"#N/A"},{"$error":"#N/A"},"PHARMACIE GAUTHERON",22,"Avenue","DU LAURAGAIS","11290 MONTREAL-DE-L'AUDE",11290,"Montréal","Pharmacie d'officine","A"]
[{"$f":"VLOOKUP(B1424,Régions!A:C,3,FALSE)","v":"Occitanie"},11,{"$error":"#N/A"},110790714,{"$error":"#N/A"},{"$error":"#N/A"},"PHARMACIE HARANT-MULLOT",43,"Avenue","Henri Bataille","11700 MOUX",11700,"Moux","Pharmacie d'officine","A"]
[{"$f":"VLOOKUP(B1425,Régions!A:C,3,FALSE)","v":"Occitanie"},11,"PHARMDIRECTFR",110790722,110790722,"oui","PHARMACIE LLORENS - SISTAT -CAZEILLES",52,"Rue","JEAN JAURES","11100 NARBONNE",11100,"Narbonne","Pharmacie d'officine","A"]
[{"$f":"VLOOKUP(B1426,Régions!A:C,3,FALSE)","v":"Occitanie"},11,{"$error":"#N/A"},110790730,{"$error":"#N/A"},{"$error":"#N/A"},"PHARMACIE ARCENS",40,"Avenue","ANATOLE FRANCE","11100 NARBONNE",11100,"Narbonne","Pharmacie d'officine","A"]
[{"$f":"VLOOKUP(B1427,Régions!A:C,3,FALSE)","v":"Occitanie"},11,"CNOP",110790748,110790748,"oui","PHARMACIE ARCENS",30,"Route","de Marcorignan","11100 NARBONNE",11100,"Narbonne","Pharmacie d'officine","A"]
[{"$f":"VLOOKUP(B1428,Régions!A:C,3,FALSE)","v":"Occitanie"},11,"PHARMDIRECTFR",110790755,110790755,"oui","PHARMACIE RIVIERE",21,"Boulevard","MARECHAL JOFFRE","11100 NARBONNE",11100,"Narbonne","Pharmacie d'officine","A"]
[{"$f":"VLOOKUP(B1429,Régions!A:C,3,FALSE)","v":"Occitanie"},11,{"$error":"#N/A"},110790763,{"$error":"#N/A"},{"$error":"#N/A"},"PHARMACIE ARCENS - SIMORRE",14,"Rue","DE LONDRES","11100 NARBONNE",11100,"Narbonne","Pharmacie d'officine","A"]
[{"$f":"VLOOKUP(B1430,Régions!A:C,3,FALSE)","v":"Occitanie"},11,{"$error":"#N/A"},110790797,{"$error":"#N/A"},{"$error":"#N/A"},"PHARMACIE  CHEVILLARD",9,"Rue","DE L'ANCIEN COURRIER","11100 NARBONNE",11100,"Narbonne","Pharmacie d'officine","A"]
[{"$f":"VLOOKUP(B1431,Régions!A:C,3,FALSE)","v":"Occitanie"},11,{"$error":"#N/A"},110790805,{"$error":"#N/A"},{"$error":"#N/A"},"PHARMACIE ANDRE",5,"Quai","VICTOR HUGO","11100 NARBONNE",11100,"Narbonne","Pharmacie d'officine","A"]
[{"$f":"VLOOKUP(B1432,Régions!A:C,3,FALSE)","v":"Occitanie"},11,{"$error":"#N/A"},110790813,{"$error":"#N/A"},{"$error":"#N/A"},"PHARMACIE BOURDIN",1,"Boulevard","DU ROUSSILLON","11100 NARBONNE",11100,"Narbonne","Pharmacie d'officine","A"]
[{"$f":"VLOOKUP(B1433,Régions!A:C,3,FALSE)","v":"Occitanie"},11,{"$error":"#N/A"},110790821,{"$error":"#N/A"},{"$error":"#N/A"},"PHARMACIE DUPRET - CANUT",41,"Avenue","PIERRE SEMARD","11100 NARBONNE",11100,"Narbonne","Pharmacie d'officine","A"]
[{"$f":"VLOOKUP(B1434,Régions!A:C,3,FALSE)","v":"Occitanie"},11,{"$error":"#N/A"},110790839,{"$error":"#N/A"},{"$error":"#N/A"},"PHARMACIE DELPECH",2,"Rue","DU VERDOUBLE","11100 NARBONNE",11100,"Narbonne","Pharmacie d'officine","A"]
[{"$f":"VLOOKUP(B1435,Régions!A:C,3,FALSE)","v":"Occitanie"},11,{"$error":"#N/A"},110790847,{"$error":"#N/A"},{"$error":"#N/A"},"PHARMACIE ROLAND - RODRIGUEZ",18,"Boulevard","GAMBETTA","11100 NARBONNE",11100,"Narbonne","Pharmacie d'officine","A"]
[{"$f":"VLOOKUP(B1436,Régions!A:C,3,FALSE)","v":"Occitanie"},11,{"$error":"#N/A"},110790854,{"$error":"#N/A"},{"$error":"#N/A"},"PHARMACIE MENIAOUI-KERRACHE",6,"Avenue","PAUL TOURNAL","11100 NARBONNE",11100,"Narbonne","Pharmacie d'officine","A"]
[{"$f":"VLOOKUP(B1437,Régions!A:C,3,FALSE)","v":"Occitanie"},11,{"$error":"#N/A"},110790862,{"$error":"#N/A"},{"$error":"#N/A"},"PHARMACIE BROUSSON",8,"Avenue","Maréchal Juin","11100 NARBONNE",11100,"Narbonne","Pharmacie d'officine","A"]
[{"$f":"VLOOKUP(B1438,Régions!A:C,3,FALSE)","v":"Occitanie"},11,{"$error":"#N/A"},110790888,{"$error":"#N/A"},{"$error":"#N/A"},"PHARMACIE GAMUNDI - COMPAGNON - ALBA",91,"Avenue","DU GENERAL LECLERC","11100 NARBONNE",11100,"Narbonne","Pharmacie d'officine","A"]
[{"$f":"VLOOKUP(B1439,Régions!A:C,3,FALSE)","v":"Occitanie"},11,"CNOP",110790896,110790896,"oui","PHARMACIE SIMORRE-ASSIE",1,"Rue","RASPAIL","11100 NARBONNE",11100,"Narbonne","Pharmacie d'officine","A"]
[{"$f":"VLOOKUP(B1440,Régions!A:C,3,FALSE)","v":"Occitanie"},11,{"$error":"#N/A"},110790904,{"$error":"#N/A"},{"$error":"#N/A"},"PHARMACIE BENARD - ANCEAU - CARDON",6,"Rue","DES PRIMEVERES","11100 NARBONNE",11100,"Narbonne","Pharmacie d'officine","A"]
[{"$f":"VLOOKUP(B1441,Régions!A:C,3,FALSE)","v":"Occitanie"},11,"CNOP",110790912,110790912,"non","SELARL COMBETTES-CHEVILLARD",28,"Route","DE PERPIGNAN","11100 NARBONNE",11100,"Narbonne","Pharmacie d'officine","A"]
[{"$f":"VLOOKUP(B1442,Régions!A:C,3,FALSE)","v":"Occitanie"},11,{"$error":"#N/A"},110790920,{"$error":"#N/A"},{"$error":"#N/A"},"PHARMACIE FARNOLE",13,"Boulevard","DU DR FERROUL","11100 NARBONNE",11100,"Narbonne","Pharmacie d'officine","A"]
[{"$f":"VLOOKUP(B1443,Régions!A:C,3,FALSE)","v":"Occitanie"},11,"PHARMDIRECTFR",110790938,110790938,"oui","PHARMACIE MARTCHILI",11,"Place","MEDITERRANEE","11100 NARBONNE-PLAGE",11100,"Narbonne","Pharmacie d'officine","A"]
[{"$f":"VLOOKUP(B1444,Régions!A:C,3,FALSE)","v":"Occitanie"},11,"PHARMDIRECTFR",110790946,110790946,"oui","PHARMACIE GANDON",10,"Avenue","SAINT  MARC","11200 ORNAISONS",11200,"Ornaisons","Pharmacie d'officine","A"]
[{"$f":"VLOOKUP(B1445,Régions!A:C,3,FALSE)","v":"Occitanie"},11,"PHARMDIRECTFR",110790953,110790953,"oui","PHARMACIE LALAURIE",2,"Rue","DU PONANT","11590 OUVEILLAN",11590,"Ouveillan","Pharmacie d'officine","A"]
[{"$f":"VLOOKUP(B1446,Régions!A:C,3,FALSE)","v":"Occitanie"},11,"CNOP",110790961,110790961,"oui","PHARMACIE GUIRAUD - GRIMA","NULL","Avenue","DE LA MONTAGNE NOIRE","11610 PENNAUTIER",11610,"Pennautier","Pharmacie d'officine","A"]
[{"$f":"VLOOKUP(B1447,Régions!A:C,3,FALSE)","v":"Occitanie"},11,"PHARMDIRECTFR",110790979,110790979,"oui","PHARMACIE BOUDON - SCHMITT",2,"NULL","BIS AVENUE DU CAUSSE","11700 PEPIEUX",11700,"Pépieux","Pharmacie d'officine","A"]
[{"$f":"VLOOKUP(B1448,Régions!A:C,3,FALSE)","v":"Occitanie"},11,"CNOP",110790987,110790987,"oui","PHARMACIE CASES-GUIRAUD",1,"Rue","DU SYRAH","11440 PEYRIAC DE MER",11440,"Peyriac-de-Mer","Pharmacie d'officine","A"]
[{"$f":"VLOOKUP(B1449,Régions!A:C,3,FALSE)","v":"Occitanie"},11,"PHARMDIRECTFR",110790995,110790995,"oui","PHARMACIE CASSAGNOL",49,"Avenue","PASTEUR","11160 PEYRIAC-MINERVOIS",11160,"Peyriac-Minervois","Pharmacie d'officine","A"]
[{"$f":"VLOOKUP(B1450,Régions!A:C,3,FALSE)","v":"Occitanie"},11,{"$error":"#N/A"},110791001,{"$error":"#N/A"},{"$error":"#N/A"},"PHARMACIE SERIN","NULL","Avenue","OCCITANIE","11170 PEZENS",11170,"Pezens","Pharmacie d'officine","A"]
[{"$f":"VLOOKUP(B1451,Régions!A:C,3,FALSE)","v":"Occitanie"},11,{"$error":"#N/A"},110791019,{"$error":"#N/A"},{"$error":"#N/A"},"PHARMACIE ALBERT - LA VILLA",484,"Quai","DU PORT","11210 PORT LA NOUVELLE",11210,"Port-la-Nouvelle","Pharmacie d'officine","A"]
[{"$f":"VLOOKUP(B1452,Régions!A:C,3,FALSE)","v":"Occitanie"},11,{"$error":"#N/A"},110791027,{"$error":"#N/A"},{"$error":"#N/A"},"PHARMACIE ALBERT",235,"Boulevard","DU MONUMENT AUX MORTS","11210 PORT-LA-NOUVELLE",11210,"Port-la-Nouvelle","Pharmacie d'officine","A"]
[{"$f":"VLOOKUP(B1453,Régions!A:C,3,FALSE)","v":"Occitanie"},11,{"$error":"#N/A"},110791035,{"$error":"#N/A"},{"$error":"#N/A"},"PHARMACIE ALAUX",1410,"Avenue","de la Mer","11210 PORT-LA-NOUVELLE",11210,"Port-la-Nouvelle","Pharmacie d'officine","A"]
[{"$f":"VLOOKUP(B1454,Régions!A:C,3,FALSE)","v":"Occitanie"},11,{"$error":"#N/A"},110791043,{"$error":"#N/A"},{"$error":"#N/A"},"PHARMACIE TOLSA",346,"Route","MINERVOISE","11700 PUICHERIC",11700,"Puichéric","Pharmacie d'officine","A"]
[{"$f":"VLOOKUP(B1455,Régions!A:C,3,FALSE)","v":"Occitanie"},11,"CNOP",110791050,110791050,"oui","PHARMACIE MARTY",2,"Boulevard","Jean Jaurès","11500 QUILLAN",11500,"Quillan","Pharmacie d'officine","A"]
[{"$f":"VLOOKUP(B1456,Régions!A:C,3,FALSE)","v":"Occitanie"},11,{"$error":"#N/A"},110791068,{"$error":"#N/A"},{"$error":"#N/A"},"PHARMACIE WISSEMER - MARTY",2,"Rue","Jules Ferry","11500 QUILLAN",11500,"Quillan","Pharmacie d'officine","A"]
[{"$f":"VLOOKUP(B1457,Régions!A:C,3,FALSE)","v":"Occitanie"},11,"CNOP",110791076,110791076,"oui","PHARMACIE ALANDRY",4,"Avenue","Pasteur","11500 QUILLAN",11500,"Quillan","Pharmacie d'officine","A"]
[{"$f":"VLOOKUP(B1458,Régions!A:C,3,FALSE)","v":"Occitanie"},11,"PHARMDIRECTFR",110791084,110791084,"oui","PHARMACIE CAVAILHES",70,"Avenue","GEORGES CLEMENCEAU","11160 RIEUX-MINERVOIS",11160,"Rieux-Minervois","Pharmacie d'officine","A"]
[{"$f":"VLOOKUP(B1459,Régions!A:C,3,FALSE)","v":"Occitanie"},11,"PHARMDIRECTFR",110791092,110791092,"oui","PHARMACIE BILLIEMAZ",3,"Avenue","DU FOYER","11200 SAINT-ANDRE-DE-ROQUELONGUE",11200,"Saint-André-de-Roquelongue","Pharmacie d'officine","A"]
[{"$f":"VLOOKUP(B1460,Régions!A:C,3,FALSE)","v":"Occitanie"},11,"CNOP",110791100,110791100,"non","PHARMACIE BURLAN-LECLERCQ",24,"Rue","GRANDE","11250 SAINT-HILAIRE-D'AUDE",11250,"Saint-Hilaire","Pharmacie d'officine","A"]
[{"$f":"VLOOKUP(B1461,Régions!A:C,3,FALSE)","v":"Occitanie"},11,{"$error":"#N/A"},110791118,{"$error":"#N/A"},{"$error":"#N/A"},"PHARMACIE JOURDAN DE LA PASSARDIERE","NULL","Avenue","DE NARBONNE","11220 ST LAURENT LA CABRERISSE#",11220,"Saint-Laurent-de-la-Cabrerisse","Pharmacie d'officine","A"]
[{"$f":"VLOOKUP(B1462,Régions!A:C,3,FALSE)","v":"Occitanie"},11,{"$error":"#N/A"},110791126,{"$error":"#N/A"},{"$error":"#N/A"},"PHARMACIE GOURGEON - CORNA - NICOLEAU",3,"Lotissement","LA GALERIE DE MALASSAN\"\"","11120 SAINT-MARCEL-SUR-AUDE",11120,"Saint-Marcel-sur-Aude","Pharmacie d'officine","A"]
[{"$f":"VLOOKUP(B1463,Régions!A:C,3,FALSE)","v":"Occitanie"},11,{"$error":"#N/A"},110791134,{"$error":"#N/A"},{"$error":"#N/A"},"PHARMACIE  GAU",6,"Rue","DU ROCHER","11560 FLEURY-D'AUDE",11560,"Fleury","Pharmacie d'officine","A"]
[{"$f":"VLOOKUP(B1464,Régions!A:C,3,FALSE)","v":"Occitanie"},11,"CNOP",110791142,110791142,"oui","PHARMACIE BONNAUD",2,"Avenue","MAURICE SARRAUT","11310 SAISSAC",11310,"Saissac","Pharmacie d'officine","A"]
[{"$f":"VLOOKUP(B1465,Régions!A:C,3,FALSE)","v":"Occitanie"},11,"CNOP",110791159,110791159,"oui","PHARMACIE BLAYAC",1,"Rue","DES ARTS","11590 SALLELES-D'AUDE",11590,"Sallèles-d'Aude","Pharmacie d'officine","A"]
[{"$f":"VLOOKUP(B1466,Régions!A:C,3,FALSE)","v":"Occitanie"},11,{"$error":"#N/A"},110791167,{"$error":"#N/A"},{"$error":"#N/A"},"PHARMACIE QUILLE",33,"Avenue","DE COURSAN","11110 SALLES-D'AUDE",11110,"Salles-d'Aude","Pharmacie d'officine","A"]
[{"$f":"VLOOKUP(B1467,Régions!A:C,3,FALSE)","v":"Occitanie"},11,{"$error":"#N/A"},110791175,{"$error":"#N/A"},{"$error":"#N/A"},"PHARMACIE COHENDET",6,"Rue","PAUL DIMEUR","11410 SALLES-SUR-L'HERS",11410,"Salles-sur-l'Hers","Pharmacie d'officine","A"]
[{"$f":"VLOOKUP(B1468,Régions!A:C,3,FALSE)","v":"Occitanie"},11,"CNOP",110791183,110791183,"oui","PHARMACIE VILLARET",25,"Place","DE LA LIBERATION","11130 SIGEAN",11130,"Sigean","Pharmacie d'officine","A"]
[{"$f":"VLOOKUP(B1469,Régions!A:C,3,FALSE)","v":"Occitanie"},11,{"$error":"#N/A"},110791191,{"$error":"#N/A"},{"$error":"#N/A"},"PHARMACIE RICHIARDI - POCH",26,"Avenue","DE NARBONNE","11130 SIGEAN",11130,"Sigean","Pharmacie d'officine","A"]
[{"$f":"VLOOKUP(B1470,Régions!A:C,3,FALSE)","v":"Occitanie"},11,"CNOP",110791209,110791209,"oui","PHARMACIE BLANC",31,"Avenue","PASTEUR","11800 TREBES",11800,"Trèbes","Pharmacie d'officine","A"]
[{"$f":"VLOOKUP(B1471,Régions!A:C,3,FALSE)","v":"Occitanie"},11,"CNOP",110791225,110791225,"oui","PHARMACIE LLOPIS - MARCHAND",12,"Route","DE NARBONNE","11800 TREBES",11800,"Trèbes","Pharmacie d'officine","A"]
[{"$f":"VLOOKUP(B1472,Régions!A:C,3,FALSE)","v":"Occitanie"},11,{"$error":"#N/A"},110791233,{"$error":"#N/A"},{"$error":"#N/A"},"PHARMACIE ESTAMPE",22,"Route","MINERVOISE","11800 TRÈBES",11800,"Trèbes","Pharmacie d'officine","A"]
[{"$f":"VLOOKUP(B1473,Régions!A:C,3,FALSE)","v":"Occitanie"},11,"CNOP",110791241,110791241,"oui","PHARMACIE GLORI",4,"Rue","DU CAMP DE L'IERA","11350 TUCHAN",11350,"Tuchan","Pharmacie d'officine","A"]
[{"$f":"VLOOKUP(B1474,Régions!A:C,3,FALSE)","v":"Occitanie"},11,"CNOP",110791258,110791258,"oui","PHARMACIE THIL-COROMINAS",89,"Rue","DU BARRY","11150 VILLASAVARY",11150,"Villasavary","Pharmacie d'officine","A"]
[{"$f":"VLOOKUP(B1475,Régions!A:C,3,FALSE)","v":"Occitanie"},11,"CNOP",110791266,110791266,"oui","PHARMACIE JOYE",8,"Avenue","DE LA MONTAGNE NOIRE","11600 VILLEGAILHENC",11600,"Villegailhenc","Pharmacie d'officine","A"]
[{"$f":"VLOOKUP(B1476,Régions!A:C,3,FALSE)","v":"Occitanie"},12,"CNOP",120001532,120001532,"oui","PHARMACIE DE LA VALLEE",12,"Avenue","DES CAUSSES","12520 AGUESSAC",12520,"Aguessac","Pharmacie d'officine","A"]
[{"$f":"VLOOKUP(B1477,Régions!A:C,3,FALSE)","v":"Occitanie"},12,"PHARMDIRECTFR",120001607,120001607,"oui","PHARMACIE COQUELLE",15,"Avenue","JULES CABROL","12110 AUBIN",12110,"Aubin","Pharmacie d'officine","A"]
[{"$f":"VLOOKUP(B1478,Régions!A:C,3,FALSE)","v":"Occitanie"},12,"PHARMDIRECTFR",120001623,120001623,"oui","PHARMACIE AYMERIC-DAVID",48,"Rue","PAUL LAFARGUE","12110 AUBIN",12110,"Aubin","Pharmacie d'officine","A"]
[{"$f":"VLOOKUP(B1479,Régions!A:C,3,FALSE)","v":"Occitanie"},12,"PHARMDIRECTFR",120001656,120001656,"oui","PHARMACIE SALES-GRIMAL","NULL","Rue","PRINCIPALE","12370 BELMONT-SUR-RANCE",12370,"Belmont-sur-Rance","Pharmacie d'officine","A"]
[{"$f":"VLOOKUP(B1480,Régions!A:C,3,FALSE)","v":"Occitanie"},12,"CNOP",120001672,120001672,"oui","PHARMACIE DE BOZOULS",18,"Avenue","ARSENE RATIER","12340 BOZOULS",12340,"Bozouls","Pharmacie d'officine","A"]
[{"$f":"VLOOKUP(B1481,Régions!A:C,3,FALSE)","v":"Occitanie"},12,"CNOP",120001706,120001706,"non","PHARMACIE DANTI",1,"Avenue","DE SAINT AFFRIQUE","12360 CAMARES",12360,"Camarès","Pharmacie d'officine","A"]
[{"$f":"VLOOKUP(B1482,Régions!A:C,3,FALSE)","v":"Occitanie"},12,{"$error":"#N/A"},120001755,{"$error":"#N/A"},{"$error":"#N/A"},"PHARMACIE CAPDENAC",14,"Rue","de la République","12700 CAPDENAC-GARE",12700,"Capdenac-Gare","Pharmacie d'officine","A"]
[{"$f":"VLOOKUP(B1483,Régions!A:C,3,FALSE)","v":"Occitanie"},12,"CNOP",120001805,120001805,"oui","PHARMACIE JAUDON",378,"Avenue","DU CENTRE","12160 BARAQUEVILLE",12160,"Baraqueville","Pharmacie d'officine","A"]
[{"$f":"VLOOKUP(B1484,Régions!A:C,3,FALSE)","v":"Occitanie"},12,"CNOP",120001821,120001821,"oui","PHARMACIE BALARD",231,"Avenue","DU CENTRE","12160 BARAQUEVILLE",12160,"Baraqueville","Pharmacie d'officine","A"]
[{"$f":"VLOOKUP(B1485,Régions!A:C,3,FALSE)","v":"Occitanie"},12,"CNOP",120001854,120001854,"oui","PHARMACIE BOUDES-ALBINET","NULL","NULL","NULL","12120 CASSAGNES-BEGONHES",12120,"Cassagnes-Bégonhès","Pharmacie d'officine","A"]
[{"$f":"VLOOKUP(B1486,Régions!A:C,3,FALSE)","v":"Occitanie"},12,"CNOP",120001870,120001870,"oui","PHARMACIE VIVENS-BUISSON",2,"Avenue","DU GENERAL DE GAULLE","12230 LA-CAVALERIE",12230,"La Cavalerie","Pharmacie d'officine","A"]
[{"$f":"VLOOKUP(B1487,Régions!A:C,3,FALSE)","v":"Occitanie"},12,{"$error":"#N/A"},120001904,{"$error":"#N/A"},{"$error":"#N/A"},"PHARMACIE DELON","NULL","Place","DE LA MAIRIE","12550 COUPIAC",12550,"Coupiac","Pharmacie d'officine","A"]
[{"$f":"VLOOKUP(B1488,Régions!A:C,3,FALSE)","v":"Occitanie"},12,"CNOP",120001920,120001920,"oui","PHARMACIE MISTRAL",6,"Rue","DU 1 ER MAI","12110 CRANSAC",12110,"Cransac","Pharmacie d'officine","A"]
[{"$f":"VLOOKUP(B1489,Régions!A:C,3,FALSE)","v":"Occitanie"},12,{"$error":"#N/A"},120001987,{"$error":"#N/A"},{"$error":"#N/A"},"PHARMACIE MAYANOBE - MONNIER",260,"Place","WILSON","12300 DECAZEVILLE",12300,"Decazeville","Pharmacie d'officine","A"]
[{"$f":"VLOOKUP(B1490,Régions!A:C,3,FALSE)","v":"Occitanie"},12,"CNOP",120002027,120002027,"oui","PHARMACIE VERROIT-AVENEL",65,"Avenue","LEO LAGRANGE","12300 DECAZEVILLE",12300,"Decazeville","Pharmacie d'officine","A"]
[{"$f":"VLOOKUP(B1491,Régions!A:C,3,FALSE)","v":"Occitanie"},12,"CNOP",120002043,120002043,"oui","PHARMACIE FEL",3,"Place","GEORGES ABRAHAM","12300 DECAZEVILLE",12300,"Decazeville","Pharmacie d'officine","A"]
[{"$f":"VLOOKUP(B1492,Régions!A:C,3,FALSE)","v":"Occitanie"},12,"CNOP",120002076,120002076,"oui","PHARMACIE VINCENTELLI",12,"Place","DECAZES","12300 DECAZEVILLE",12300,"Decazeville","Pharmacie d'officine","A"]
[{"$f":"VLOOKUP(B1493,Régions!A:C,3,FALSE)","v":"Occitanie"},12,"CNOP",120002092,120002092,"oui","PHARMACIE CERES",99,"Rue","CAYRADE","12300 DECAZEVILLE",12300,"Decazeville","Pharmacie d'officine","A"]
[{"$f":"VLOOKUP(B1494,Régions!A:C,3,FALSE)","v":"Occitanie"},12,{"$error":"#N/A"},120002126,{"$error":"#N/A"},{"$error":"#N/A"},"PHARMACIE CHALIEZ",19,"Tour","DE VILLE","12140 ENTRAYGUES-SUR-TRUYERE",12140,"Entraygues-sur-Truyère","Pharmacie d'officine","A"]
[{"$f":"VLOOKUP(B1495,Régions!A:C,3,FALSE)","v":"Occitanie"},12,"PHARMDIRECTFR",120002175,120002175,"oui","PHARMACIE BRAS",10,"Boulevard","DE GUIZARD","12500 ESPALION",12500,"Espalion","Pharmacie d'officine","A"]
[{"$f":"VLOOKUP(B1496,Régions!A:C,3,FALSE)","v":"Occitanie"},12,"PHARMDIRECTFR",120002191,120002191,"oui","PHARMACIE DECHOZ",8,"Place","ST GEORGES","12500 ESPALION",12500,"Espalion","Pharmacie d'officine","A"]
[{"$f":"VLOOKUP(B1497,Régions!A:C,3,FALSE)","v":"Occitanie"},12,{"$error":"#N/A"},120002225,{"$error":"#N/A"},{"$error":"#N/A"},"PHARMACIE ROQUELAURE-COUSERAN",39,"Rue","FRANÇOIS D'ESTAING","12190 ESTAING",12190,"Estaing","Pharmacie d'officine","A"]
[{"$f":"VLOOKUP(B1498,Régions!A:C,3,FALSE)","v":"Occitanie"},12,{"$error":"#N/A"},120002241,{"$error":"#N/A"},{"$error":"#N/A"},"PHARMACIE ANDRE",2,"Allee","PIECELONGUE","12300 FIRMI",12300,"Firmi","Pharmacie d'officine","A"]
[{"$f":"VLOOKUP(B1499,Régions!A:C,3,FALSE)","v":"Occitanie"},12,"CNOP",120002274,120002274,"oui","PHARMACIE DIEUDE - LE ROY","NULL","NULL","LE BOURG II","12450 FLAVIN",12450,"Flavin","Pharmacie d'officine","A"]
[{"$f":"VLOOKUP(B1500,Régions!A:C,3,FALSE)","v":"Occitanie"},12,"CNOP",120002290,120002290,"oui","PHARMACIE CHARIGNON-DUMAS","NULL","Chemin","LE COMMUNAL","12270 LA-FOUILLADE",12270,"La Fouillade","Pharmacie d'officine","A"]
[{"$f":"VLOOKUP(B1501,Régions!A:C,3,FALSE)","v":"Occitanie"},12,"PHARMDIRECTFR",120002324,120002324,"oui","PHARMACIE BOULDOIRES - ROCAGEL",25,"Allee","DE L'AMICALE","12210 LAGUIOLE",12210,"Laguiole","Pharmacie d'officine","A"]
[{"$f":"VLOOKUP(B1502,Régions!A:C,3,FALSE)","v":"Occitanie"},12,{"$error":"#N/A"},120002340,{"$error":"#N/A"},{"$error":"#N/A"},"PHARMACIE CHARRE",21,"Allee","DE L'AMICALE","12210 LAGUIOLE",12210,"Laguiole","Pharmacie d'officine","A"]
[{"$f":"VLOOKUP(B1503,Régions!A:C,3,FALSE)","v":"Occitanie"},12,"PHARMDIRECTFR",120002381,120002381,"oui","PHARMACIE DES PALANGES","NULL","Rue","du Colombier","12310 LAISSAC-SEVERAC L'EGLISE",12310,"Laissac-Sévérac l'Église","Pharmacie d'officine","A"]
[{"$f":"VLOOKUP(B1504,Régions!A:C,3,FALSE)","v":"Occitanie"},12,{"$error":"#N/A"},120002415,{"$error":"#N/A"},{"$error":"#N/A"},"PHARMACIE CAUSSANEL-GAYRARD",18,"Avenue","DU ROUERGUE","12350 LANUEJOULS",12350,"Lanuéjouls","Pharmacie d'officine","A"]
[{"$f":"VLOOKUP(B1505,Régions!A:C,3,FALSE)","v":"Occitanie"},12,"CNOP",120002431,120002431,"oui","PHARMACIE CALMELS","NULL","Rue","DU CENTRE","12170 LEDERGUES",12170,"Lédergues","Pharmacie d'officine","A"]
[{"$f":"VLOOKUP(B1506,Régions!A:C,3,FALSE)","v":"Occitanie"},12,{"$error":"#N/A"},120002464,{"$error":"#N/A"},{"$error":"#N/A"},"PHARMACIE MAYANOBE-GILLET","NULL","Avenue","PAUL RAMADIER","12300 LIVINHAC-LE-HAUT",12300,"Livinhac-le-Haut","Pharmacie d'officine","A"]
[{"$f":"VLOOKUP(B1507,Régions!A:C,3,FALSE)","v":"Occitanie"},12,{"$error":"#N/A"},120002480,{"$error":"#N/A"},{"$error":"#N/A"},"PHARMACIE  DU LEVANT",4,"Place","DU SEGALA","12450 LUC-LA-PRIMAUBE",12450,"Luc-la-Primaube","Pharmacie d'officine","A"]
[{"$f":"VLOOKUP(B1508,Régions!A:C,3,FALSE)","v":"Occitanie"},12,{"$error":"#N/A"},120002514,{"$error":"#N/A"},{"$error":"#N/A"},"SELARL PHARMACIE ALAUZET",9,"Avenue","DE TOULOUSE","12450 LA-PRIMAUBE",12450,"Luc-la-Primaube","Pharmacie d'officine","A"]
[{"$f":"VLOOKUP(B1509,Régions!A:C,3,FALSE)","v":"Occitanie"},12,"CNOP",120002530,120002530,"oui","PHARMACIE MONESTIER","NULL","NULL","NULL","12330 MARCILLAC VALLON",12330,"Marcillac-Vallon","Pharmacie d'officine","A"]
[{"$f":"VLOOKUP(B1510,Régions!A:C,3,FALSE)","v":"Occitanie"},12,"CNOP",120002563,120002563,"oui","PHARMACIE NOYRIGAT",9,"Avenue","JEAN JAURES","12100 MILLAU",12100,"Millau","Pharmacie d'officine","A"]
[{"$f":"VLOOKUP(B1511,Régions!A:C,3,FALSE)","v":"Occitanie"},12,{"$error":"#N/A"},120002597,{"$error":"#N/A"},{"$error":"#N/A"},"PHARMACIE CASTANIE","NULL","Place","DES MARTYRS DE LA RESISTANCE","12100 MILLAU",12100,"Millau","Pharmacie d'officine","A"]
[{"$f":"VLOOKUP(B1512,Régions!A:C,3,FALSE)","v":"Occitanie"},12,"CNOP",120002613,120002613,"non","PHARMACIE DONNADIEU","NULL","Rond point","DES STADES","12100 MILLAU",12100,"Millau","Pharmacie d'officine","A"]
[{"$f":"VLOOKUP(B1513,Régions!A:C,3,FALSE)","v":"Occitanie"},12,{"$error":"#N/A"},120002647,{"$error":"#N/A"},{"$error":"#N/A"},"PHARMACIE LA CAPELLE","NULL","Place","DE LA CAPELLE","12100 MILLAU",12100,"Millau","Pharmacie d'officine","A"]
[{"$f":"VLOOKUP(B1514,Régions!A:C,3,FALSE)","v":"Occitanie"},12,{"$error":"#N/A"},120002662,{"$error":"#N/A"},{"$error":"#N/A"},"PHARMACIE GARCIA - ARNAL",2,"Boulevard","de Bonald","12100 MILLAU",12100,"Millau","Pharmacie d'officine","A"]
[{"$f":"VLOOKUP(B1515,Régions!A:C,3,FALSE)","v":"Occitanie"},12,"PHARMDIRECTFR",120002696,120002696,"oui","PHARMACIE DU PARC",2,"Rue","LOUIS ARMAND","12100 MILLAU",12100,"Millau","Pharmacie d'officine","A"]
[{"$f":"VLOOKUP(B1516,Régions!A:C,3,FALSE)","v":"Occitanie"},12,{"$error":"#N/A"},120002712,{"$error":"#N/A"},{"$error":"#N/A"},"PHARMACIE DU CENTRE",2,"Avenue","DE LA REPUBLIQUE","12100 MILLAU",12100,"Millau","Pharmacie d'officine","A"]
[{"$f":"VLOOKUP(B1517,Régions!A:C,3,FALSE)","v":"Occitanie"},12,"CNOP",120002746,120002746,"oui","M.A. PHARMACIE",98,"Boulevard","GEORGES BRASSENS","12100 MILLAU",12100,"Millau","Pharmacie d'officine","A"]
[{"$f":"VLOOKUP(B1518,Régions!A:C,3,FALSE)","v":"Occitanie"},12,"CNOP",120002761,120002761,"oui","PHARMACIE JACQUEMAIN-LAVABRE",12,"Boulevard","DE L' AYROLLE","12100 MILLAU",12100,"Millau","Pharmacie d'officine","A"]
[{"$f":"VLOOKUP(B1519,Régions!A:C,3,FALSE)","v":"Occitanie"},12,"PHARMDIRECTFR",120002811,120002811,"oui","PHARMACIE CALMELS",36,"Avenue","DE MILLAU","12000 LE-MONASTERE-SOUS-RODEZ",12000,"Le Monastère","Pharmacie d'officine","A"]
[{"$f":"VLOOKUP(B1520,Régions!A:C,3,FALSE)","v":"Occitanie"},12,{"$error":"#N/A"},120002845,{"$error":"#N/A"},{"$error":"#N/A"},"PHARMACIE MERCIER - PICARD","NULL","Place","DU MARCHE","12220 MONTBAZENS",12220,"Montbazens","Pharmacie d'officine","A"]
[{"$f":"VLOOKUP(B1521,Régions!A:C,3,FALSE)","v":"Occitanie"},12,{"$error":"#N/A"},120002860,{"$error":"#N/A"},{"$error":"#N/A"},"EURL PHARMACIE FOULQUIER-TREMOLIERES","NULL","NULL","NULL","12630 MONTROZIER",12630,"Montrozier","Pharmacie d'officine","A"]
[{"$f":"VLOOKUP(B1522,Régions!A:C,3,FALSE)","v":"Occitanie"},12,"CNOP",120002910,120002910,"oui","PHARMACIE CLANET-CROZATIER",3,"Avenue","DU CARDINAL VERDIER","12600 MUR-DE-BARREZ",12600,"Mur-de-Barrez","Pharmacie d'officine","A"]
[{"$f":"VLOOKUP(B1523,Régions!A:C,3,FALSE)","v":"Occitanie"},12,{"$error":"#N/A"},120002977,{"$error":"#N/A"},{"$error":"#N/A"},"PHARMACIE LACOMBE",24,"Boulevard","EUGENE VIALA","12800 NAUCELLE",12800,"Naucelle","Pharmacie d'officine","A"]
[{"$f":"VLOOKUP(B1524,Régions!A:C,3,FALSE)","v":"Occitanie"},12,{"$error":"#N/A"},120003025,{"$error":"#N/A"},{"$error":"#N/A"},"PHARMACIE TEULIERES","NULL","NULL","PUECH GUILHEM","12510 OLEMPS",12510,"Olemps","Pharmacie d'officine","A"]
[{"$f":"VLOOKUP(B1525,Régions!A:C,3,FALSE)","v":"Occitanie"},12,"CNOP",120003041,120003041,"oui","PHARMACIE DE SAN PAU",868,"Boulevard","DES TAMARIS","12850 ONET-LE-CHÂTEAU",12850,"Onet-le-Château","Pharmacie d'officine","A"]
[{"$f":"VLOOKUP(B1526,Régions!A:C,3,FALSE)","v":"Occitanie"},12,"CNOP",120003074,120003074,"oui","PHARMACIE DES COSTES ROUGES",3,"Rue","DES LORIOTS","12850 ONET LE CHATEAU",12850,"Onet-le-Château","Pharmacie d'officine","A"]
[{"$f":"VLOOKUP(B1527,Régions!A:C,3,FALSE)","v":"Occitanie"},12,"CNOP",120003090,120003090,"oui","GRANDE PHARMACIE DES CAPUCINES",5,"Place","DES CAPUCINES","12850 ONET-LE-CHÂTEAU",12850,"Onet-le-Château","Pharmacie d'officine","A"]
[{"$f":"VLOOKUP(B1528,Régions!A:C,3,FALSE)","v":"Occitanie"},12,"CNOP",120003124,120003124,"oui","PHARMACIE CHALIEZ - GINESTY",26,"Route","D'ESPALION","12850 ONET LE CHATEAU",12850,"Onet-le-Château","Pharmacie d'officine","A"]
[{"$f":"VLOOKUP(B1529,Régions!A:C,3,FALSE)","v":"Occitanie"},12,"PHARMDIRECTFR",120003140,120003140,"oui","PHARMACIE DES  LACS",40,"Avenue","DE RODEZ","12290 PONT-DE-SALARS",12290,"Pont-de-Salars","Pharmacie d'officine","A"]
[{"$f":"VLOOKUP(B1530,Régions!A:C,3,FALSE)","v":"Occitanie"},12,"PHARMDIRECTFR",120003181,120003181,"oui","PHARMACIE BRICE-LOUISY",16,"Avenue","DE MILLAU","12170 REQUISTA",12170,"Réquista","Pharmacie d'officine","A"]
[{"$f":"VLOOKUP(B1531,Régions!A:C,3,FALSE)","v":"Occitanie"},12,"CNOP",120003215,120003215,"oui","PHARMACIE DE RIEUPEYROUX",34,"Avenue","DU SEGALA","12240 RIEUPEYROUX",12240,"Rieupeyroux","Pharmacie d'officine","A"]
[{"$f":"VLOOKUP(B1532,Régions!A:C,3,FALSE)","v":"Occitanie"},12,{"$error":"#N/A"},120003264,{"$error":"#N/A"},{"$error":"#N/A"},"SELARL PHARMACIE DE RIGNAC","NULL","Place","DE L'EGLISE","12390 RIGNAC",12390,"Rignac","Pharmacie d'officine","A"]
[{"$f":"VLOOKUP(B1533,Régions!A:C,3,FALSE)","v":"Occitanie"},12,"PHARMDIRECTFR",120003314,120003314,"oui","PHARMACIE D'ASSONVILLE - VERNHES",70,"Rue","BETEILLE","12000 RODEZ",12000,"Rodez","Pharmacie d'officine","A"]
[{"$f":"VLOOKUP(B1534,Régions!A:C,3,FALSE)","v":"Occitanie"},12,"PHARMDIRECTFR",120003330,120003330,"oui","PHARMACIE ESCAFFRE-MOLY",10,"Avenue","DE LA GINESTE","12000 RODEZ",12000,"Rodez","Pharmacie d'officine","A"]
[{"$f":"VLOOKUP(B1535,Régions!A:C,3,FALSE)","v":"Occitanie"},12,"PHARMDIRECTFR",120003363,120003363,"oui","PHARMACIE BOUSSINOT",52,"Avenue","TARAYRE","12000 RODEZ",12000,"Rodez","Pharmacie d'officine","A"]
[{"$f":"VLOOKUP(B1536,Régions!A:C,3,FALSE)","v":"Occitanie"},12,"CNOP",120003397,120003397,"oui","PHARMACIE ZEBLOUN","NULL","Avenue","DE BOURRAN","12000 RODEZ",12000,"Rodez","Pharmacie d'officine","A"]
[{"$f":"VLOOKUP(B1537,Régions!A:C,3,FALSE)","v":"Occitanie"},12,"CNOP",120003413,120003413,"oui","PHARMACIE RUTHENOISE JAQUES BORDES",11,"Place","DU BOURG","12000 RODEZ",12000,"Rodez","Pharmacie d'officine","A"]
[{"$f":"VLOOKUP(B1538,Régions!A:C,3,FALSE)","v":"Occitanie"},12,"CNOP",120003447,120003447,"oui","PHARMACIE SCHULLER",103,"Rue","du Docteur Théodor Mathieu","12000 RODEZ",12000,"Rodez","Pharmacie d'officine","A"]
[{"$f":"VLOOKUP(B1539,Régions!A:C,3,FALSE)","v":"Occitanie"},12,"CNOP",120003462,120003462,"oui","PHARMACIE LACAZE - LOPEZ",18,"Rue","du Touat","12000 RODEZ",12000,"Rodez","Pharmacie d'officine","A"]
[{"$f":"VLOOKUP(B1540,Régions!A:C,3,FALSE)","v":"Occitanie"},12,"PHARMDIRECTFR",120003496,120003496,"oui","PHARMACIE PANIJEL-VERNHES",72,"Avenue","DE PARIS","12000 RODEZ",12000,"Rodez","Pharmacie d'officine","A"]
[{"$f":"VLOOKUP(B1541,Régions!A:C,3,FALSE)","v":"Occitanie"},12,"CNOP",120003512,120003512,"oui","PHARMACIE FOCH",10,"Rue","COMBAREL","12000 RODEZ",12000,"Rodez","Pharmacie d'officine","A"]
[{"$f":"VLOOKUP(B1542,Régions!A:C,3,FALSE)","v":"Occitanie"},12,"PHARMDIRECTFR",120003546,120003546,"oui","PHARMACIE GUILLON",1,"Place","D'ARMES","12000 RODEZ",12000,"Rodez","Pharmacie d'officine","A"]
[{"$f":"VLOOKUP(B1543,Régions!A:C,3,FALSE)","v":"Occitanie"},12,"CNOP",120003561,120003561,"oui","PHARMACIE HUGONET",2,"Boulevard","DE LA REPUBLIQUE","12000 RODEZ",12000,"Rodez","Pharmacie d'officine","A"]
[{"$f":"VLOOKUP(B1544,Régions!A:C,3,FALSE)","v":"Occitanie"},12,"CNOP",120003595,120003595,"oui","PHARMACIE  PISTRE",19,"Rue","BETEILLE","12000 RODEZ",12000,"Rodez","Pharmacie d'officine","A"]
[{"$f":"VLOOKUP(B1545,Régions!A:C,3,FALSE)","v":"Occitanie"},12,"CNOP",120003611,120003611,"oui","PHARMACIE BARSOTTI",5,"Place","DU BOURG","12000 RODEZ",12000,"Rodez","Pharmacie d'officine","A"]
[{"$f":"VLOOKUP(B1546,Régions!A:C,3,FALSE)","v":"Occitanie"},12,"CNOP",120003645,120003645,"oui","PHARMACIE   ROGER",24,"Avenue","DU SEGALA","12000 RODEZ",12000,"Rodez","Pharmacie d'officine","A"]
[{"$f":"VLOOKUP(B1547,Régions!A:C,3,FALSE)","v":"Occitanie"},12,"CNOP",120003694,120003694,"oui","PHARMACIE  GILLET",4,"Avenue","FRANÇOIS GALTIER","12250 ROQUEFORT SUR SOULZON",12250,"Roquefort-sur-Soulzon","Pharmacie d'officine","A"]
[{"$f":"VLOOKUP(B1548,Régions!A:C,3,FALSE)","v":"Occitanie"},12,"CNOP",120003710,120003710,"oui","PHARMACIE VIDAL - MOURGUES",33,"Boulevard","DE LA REPUBLIQUE","12400 SAINT-AFFRIQUE",12400,"Saint-Affrique","Pharmacie d'officine","A"]
[{"$f":"VLOOKUP(B1549,Régions!A:C,3,FALSE)","v":"Occitanie"},12,"CNOP",120003744,120003744,"oui","PHARMACIE NOGARET - VAISSIERE",20,"Boulevard","DE LA REPUBLIQUE","12402 SAINT-AFFRIQUE CEDEX",12402,"Saint-Affrique","Pharmacie d'officine","A"]
[{"$f":"VLOOKUP(B1550,Régions!A:C,3,FALSE)","v":"Occitanie"},12,"PHARMDIRECTFR",120003777,120003777,"oui","PHARMACIE MAHE-ROUSSEL",10,"Avenue","JULES BOURGOUGNON","12400 ST AFFRIQUE",12400,"Saint-Affrique","Pharmacie d'officine","A"]
[{"$f":"VLOOKUP(B1551,Régions!A:C,3,FALSE)","v":"Occitanie"},12,"PHARMDIRECTFR",120003793,120003793,"oui","PHARMACIE BRUGUEROLLE",10,"Boulevard","CHARLES DE GAULLE","12400 SAINT-AFFRIQUE",12400,"Saint-Affrique","Pharmacie d'officine","A"]
[{"$f":"VLOOKUP(B1552,Régions!A:C,3,FALSE)","v":"Occitanie"},12,"CNOP",120003827,120003827,"oui","PHARMACIE CHENE",1,"Route","de Montézic","12460 SAINT-AMANS-DES-COTS",12460,"Saint-Amans-des-Cots","Pharmacie d'officine","A"]
[{"$f":"VLOOKUP(B1553,Régions!A:C,3,FALSE)","v":"Occitanie"},12,"CNOP",120003843,120003843,"oui","PHARMACIE GALTIER","NULL","Route","DU PONT NEUF","12470 SAINT-CHELY-D'-AUBRAC",12470,"Saint-Chély-d'Aubrac","Pharmacie d'officine","A"]
[{"$f":"VLOOKUP(B1554,Régions!A:C,3,FALSE)","v":"Occitanie"},12,"CNOP",120003876,120003876,"oui","PHARMACIE ABADIE",1,"Route","DE DECAZEVILLE","12330 ST CHRISTOPHE VALLON",12330,"Saint-Christophe-Vallon","Pharmacie d'officine","A"]
[{"$f":"VLOOKUP(B1555,Régions!A:C,3,FALSE)","v":"Occitanie"},12,{"$error":"#N/A"},120003892,{"$error":"#N/A"},{"$error":"#N/A"},"PHARMACIE DE SAINT COME D'OLT",1,"Avenue","DE LA PIGÜE","12500 ST COME D OLT",12500,"Saint-Côme-d'Olt","Pharmacie d'officine","A"]
[{"$f":"VLOOKUP(B1556,Régions!A:C,3,FALSE)","v":"Occitanie"},12,"CNOP",120003926,120003926,"oui","PHARMACIE PARET","NULL","Route","DE CONQUES","12320 CONQUES EN ROUERGUE",12320,"Conques-en-Rouergue","Pharmacie d'officine","A"]
[{"$f":"VLOOKUP(B1557,Régions!A:C,3,FALSE)","v":"Occitanie"},12,"CNOP",120003942,120003942,"oui","PHARMACIE BORS","NULL","Place","des tilleuls","12420 ARGENCES EN AUBRAC",12420,"Argences en Aubrac","Pharmacie d'officine","A"]
[{"$f":"VLOOKUP(B1558,Régions!A:C,3,FALSE)","v":"Occitanie"},12,{"$error":"#N/A"},120003975,{"$error":"#N/A"},{"$error":"#N/A"},"PHARMACIE VERDEILLE-ARNAUD","NULL","Place","DE LA FONTAINE","12130 SAINT GENIEZ D'OLT ET D'AUBRAC",12130,"Saint Geniez d'Olt et d'Aubrac","Pharmacie d'officine","A"]
[{"$f":"VLOOKUP(B1559,Régions!A:C,3,FALSE)","v":"Occitanie"},12,{"$error":"#N/A"},120003991,{"$error":"#N/A"},{"$error":"#N/A"},"SELARL PHARMACIE CENTRALE",7,"Place","DES FRUITS","12130 ST GENIEZ D OLT ET D AUBRAC",12130,"Saint Geniez d'Olt et d'Aubrac","Pharmacie d'officine","A"]
[{"$f":"VLOOKUP(B1560,Régions!A:C,3,FALSE)","v":"Occitanie"},12,"CNOP",120004015,120004015,"oui","SELARL PHARMACIE CECILE MAFFRE",1,"Rue","DU MOULIN DE TALY","12100 SAINT-GEORGES-DE-LUZENCON",12100,"Saint-Georges-de-Luzençon","Pharmacie d'officine","A"]
[{"$f":"VLOOKUP(B1561,Régions!A:C,3,FALSE)","v":"Occitanie"},12,"CNOP",120004031,120004031,"oui","SELAS PHARMACIE PEYRIC",3,"Lotissement","LA BORIE","12230 SAINT-JEAN-DU-BRUEL",12230,"Saint-Jean-du-Bruel","Pharmacie d'officine","A"]
[{"$f":"VLOOKUP(B1562,Régions!A:C,3,FALSE)","v":"Occitanie"},12,"CNOP",120004064,120004064,"oui","PHARMACIE BERGONNIER-ROUS","NULL","NULL","SIGNELONG","12560 ST LAURENT D OLT",12560,"Saint-Laurent-d'Olt","Pharmacie d'officine","A"]
[{"$f":"VLOOKUP(B1563,Régions!A:C,3,FALSE)","v":"Occitanie"},12,"CNOP",120004080,120004080,"oui","PHARMACIE COUTAL","NULL","Avenue","DENIS AFFRE","12490 SAINT-ROME-DE-TARN",12490,"Saint-Rome-de-Tarn","Pharmacie d'officine","A"]
[{"$f":"VLOOKUP(B1564,Régions!A:C,3,FALSE)","v":"Occitanie"},12,"CNOP",120004114,120004114,"oui","PHARMACIE BITAUD",4,"Avenue","de Saint-Affrique","12380 SAINT-SERNIN-SUR-RANCE",12380,"Saint-Sernin-sur-Rance","Pharmacie d'officine","A"]
[{"$f":"VLOOKUP(B1565,Régions!A:C,3,FALSE)","v":"Occitanie"},12,"PHARMDIRECTFR",120004130,120004130,"oui","PHARMACIE VERMOREL","NULL","NULL","NULL","12410 SALLES-CURAN",12410,"Salles-Curan","Pharmacie d'officine","A"]
[{"$f":"VLOOKUP(B1566,Régions!A:C,3,FALSE)","v":"Occitanie"},12,"CNOP",120004163,120004163,"oui","PHARMACIE FERRIEU-REBOUL","NULL","Quartier","SAINT-AMANS","12120 SALMIECH",12120,"Salmiech","Pharmacie d'officine","A"]
[{"$f":"VLOOKUP(B1567,Régions!A:C,3,FALSE)","v":"Occitanie"},12,"CNOP",120004197,120004197,"oui","PHARMACIE LEMAIRE",16,"Route","DE RODEZ","12440 LA-SALVETAT-PEYRALES",12440,"La Salvetat-Peyralès","Pharmacie d'officine","A"]
[{"$f":"VLOOKUP(B1568,Régions!A:C,3,FALSE)","v":"Occitanie"},12,"CNOP",120004213,120004213,"oui","PHARMACIE MIROUS","NULL","Avenue","LAPEROUSE","12800 SAUVETERRE-DE-ROUERGUE",12800,"Sauveterre-de-Rouergue","Pharmacie d'officine","A"]
[{"$f":"VLOOKUP(B1569,Régions!A:C,3,FALSE)","v":"Occitanie"},12,"CNOP",120004247,120004247,"oui","PHARMACIE CARPI - BONAREL",40,"Avenue","TABARDEL","12740 SEBAZAC-CONCOURES",12740,"Sébazac-Concourès","Pharmacie d'officine","A"]
[{"$f":"VLOOKUP(B1570,Régions!A:C,3,FALSE)","v":"Occitanie"},12,{"$error":"#N/A"},120004262,{"$error":"#N/A"},{"$error":"#N/A"},"PHARMACIE BLANCHARD","NULL","Place","de la Gare","12150 SEVERAC D'AVEYRON",12150,"Sévérac d'Aveyron","Pharmacie d'officine","A"]
[{"$f":"VLOOKUP(B1571,Régions!A:C,3,FALSE)","v":"Occitanie"},12,"CNOP",120004296,120004296,"oui","PHARMACIE  DELAGNES",2,"Avenue","DES GORGES DU TARN","12150 SEVERAC D AVEYRON",12150,"Sévérac d'Aveyron","Pharmacie d'officine","A"]
[{"$f":"VLOOKUP(B1572,Régions!A:C,3,FALSE)","v":"Occitanie"},12,{"$error":"#N/A"},120004312,{"$error":"#N/A"},{"$error":"#N/A"},"PHARMACIE DE THERONDELS","NULL","NULL","LE BOURG","12600 THERONDELS",12600,"Thérondels","Pharmacie d'officine","A"]
[{"$f":"VLOOKUP(B1573,Régions!A:C,3,FALSE)","v":"Occitanie"},12,{"$error":"#N/A"},120004346,{"$error":"#N/A"},{"$error":"#N/A"},"PHARMACIE BONIFACE","NULL","NULL","LE BOURG","12780 VEZINS-DE-LEVEZOU",12780,"Vézins-de-Lévézou","Pharmacie d'officine","A"]
[{"$f":"VLOOKUP(B1574,Régions!A:C,3,FALSE)","v":"Occitanie"},12,"CNOP",120004361,120004361,"oui","PHARMACIE REDON - PHILOREAU",9,"Avenue","JOSEPH VIDAL","12580 VILLECOMTAL",12580,"Villecomtal","Pharmacie d'officine","A"]
[{"$f":"VLOOKUP(B1575,Régions!A:C,3,FALSE)","v":"Occitanie"},12,{"$error":"#N/A"},120004395,{"$error":"#N/A"},{"$error":"#N/A"},"PHARMACIE DADOUN - MAUREL",3,"Avenue","DU SEGALA","12430 VILLEFRANCHE-DE-PANAT",12430,"Villefranche-de-Panat","Pharmacie d'officine","A"]
[{"$f":"VLOOKUP(B1576,Régions!A:C,3,FALSE)","v":"Occitanie"},12,"PHARMDIRECTFR",120004445,120004445,"oui","PHARMACIE CARNUS",13,"Rue","MARCELLIN  FABRE","12200 VILLEFRANCHE-DE-ROUERGUE",12200,"Villefranche-de-Rouergue","Pharmacie d'officine","A"]
[{"$f":"VLOOKUP(B1577,Régions!A:C,3,FALSE)","v":"Occitanie"},12,"CNOP",120004460,120004460,"oui","PHARMACIE BONNEMAIRE",1,"Rue","SAINT JACQUES","12200 VILLEFRANCHE-DE-ROUERGUE",12200,"Villefranche-de-Rouergue","Pharmacie d'officine","A"]
[{"$f":"VLOOKUP(B1578,Régions!A:C,3,FALSE)","v":"Occitanie"},12,"PHARMDIRECTFR",120004494,120004494,"oui","PHARMACIE PERTUISOT",2,"Allee","ARISTIDE BRIAND","12200 VILLEFRANCHE DE ROUERGUE",12200,"Villefranche-de-Rouergue","Pharmacie d'officine","A"]
[{"$f":"VLOOKUP(B1579,Régions!A:C,3,FALSE)","v":"Occitanie"},12,{"$error":"#N/A"},120004510,{"$error":"#N/A"},{"$error":"#N/A"},"PHARMACIE ENJOLRAS","NULL","Rue","DU 11 NOVEMBRE","12200 VILLEFRANCHE-DE-ROUERGUE",12200,"Villefranche-de-Rouergue","Pharmacie d'officine","A"]
[{"$f":"VLOOKUP(B1580,Régions!A:C,3,FALSE)","v":"Occitanie"},12,"CNOP",120004544,120004544,"oui","PHARMACIE DUPONT",14,"Place","DE LA REPUBLIQUE","12200 VILLEFRANCHE-DE-ROUERGUE",12200,"Villefranche-de-Rouergue","Pharmacie d'officine","A"]
[{"$f":"VLOOKUP(B1581,Régions!A:C,3,FALSE)","v":"Occitanie"},12,"CNOP",120004577,120004577,"oui","PHARMACIE COLLOC - PAUL",122,"Route","NATIONALE","12260 VILLENEUVE-D'AVEYRON",12260,"Villeneuve","Pharmacie d'officine","A"]
[{"$f":"VLOOKUP(B1582,Régions!A:C,3,FALSE)","v":"Occitanie"},12,"CNOP",120004783,120004783,"oui","PHARMACIE CHEBLI","NULL","Rue","DU COUSTEL","12400 VABRES-L'ABBAYE",12400,"Vabres-l'Abbaye","Pharmacie d'officine","A"]
[{"$f":"VLOOKUP(B1583,Régions!A:C,3,FALSE)","v":"Occitanie"},12,"CNOP",120006036,120006036,"oui","PHARMACIE DE DRUELLE","NULL","Lotissement","COMMERCIAL LE BOULDOU","12510 DRUELLE",12510,"Druelle Balsac","Pharmacie d'officine","A"]
[{"$f":"VLOOKUP(B1584,Régions!A:C,3,FALSE)","v":"Provence-Alpes-Côte d'Azur"},13,{"$error":"#N/A"},130008188,{"$error":"#N/A"},{"$error":"#N/A"},"SELARL PHARMACIE DES CHUTES LAVIE",39,"Avenue","DES CHUTES LAVIE","13004 MARSEILLE",13004,"Marseille 4e  Arrondissement","Pharmacie d'officine","A"]
[{"$f":"VLOOKUP(B1585,Régions!A:C,3,FALSE)","v":"Provence-Alpes-Côte d'Azur"},13,{"$error":"#N/A"},130009012,{"$error":"#N/A"},{"$error":"#N/A"},"SELARL PHARMACIE DES LANCIERS",50,"Rue","JEAN MOULIN","13730 SAINT-VICTORET",13730,"Saint-Victoret","Pharmacie d'officine","A"]
[{"$f":"VLOOKUP(B1586,Régions!A:C,3,FALSE)","v":"Provence-Alpes-Côte d'Azur"},13,{"$error":"#N/A"},130009046,{"$error":"#N/A"},{"$error":"#N/A"},"SARL PHARMACIE DE L'ARC",30,"Avenue","CAMILLE PELLETAN","13003 MARSEILLE",13003,"Marseille 3e  Arrondissement","Pharmacie d'officine","A"]
[{"$f":"VLOOKUP(B1587,Régions!A:C,3,FALSE)","v":"Provence-Alpes-Côte d'Azur"},13,{"$error":"#N/A"},130009061,{"$error":"#N/A"},{"$error":"#N/A"},"SELAS PHARMACIE AIDAN",11,"Place","CASTELLANE","13006 MARSEILLE",13006,"Marseille 6e  Arrondissement","Pharmacie d'officine","A"]
[{"$f":"VLOOKUP(B1588,Régions!A:C,3,FALSE)","v":"Provence-Alpes-Côte d'Azur"},13,{"$error":"#N/A"},130009095,{"$error":"#N/A"},{"$error":"#N/A"},"SELARL GRANDE PHARMACIE VAUBAN",61,"Boulevard","Vauban","13006 MARSEILLE 6E  ARRONDISSEMENT",13006,"Marseille 6e  Arrondissement","Pharmacie d'officine","A"]
[{"$f":"VLOOKUP(B1589,Régions!A:C,3,FALSE)","v":"Provence-Alpes-Côte d'Azur"},13,{"$error":"#N/A"},130009111,{"$error":"#N/A"},{"$error":"#N/A"},"SARL PHARMACIE D' HAITI",28,"Avenue","D' HAITI","13004 MARSEILLE",13004,"Marseille 4e  Arrondissement","Pharmacie d'officine","A"]
[{"$f":"VLOOKUP(B1590,Régions!A:C,3,FALSE)","v":"Provence-Alpes-Côte d'Azur"},13,{"$error":"#N/A"},130009145,{"$error":"#N/A"},{"$error":"#N/A"},"SELARL PHARMACIE CHAIX","NULL","Arcade","DES CITEAUX","13127 VITROLLES",13127,"Vitrolles","Pharmacie d'officine","A"]
[{"$f":"VLOOKUP(B1591,Régions!A:C,3,FALSE)","v":"Provence-Alpes-Côte d'Azur"},13,{"$error":"#N/A"},130009160,{"$error":"#N/A"},{"$error":"#N/A"},"SELEURL PHARMACIE NOUALI",77,"Boulevard","NATIONAL","13003 MARSEILLE 03",13003,"Marseille 3e  Arrondissement","Pharmacie d'officine","A"]
[{"$f":"VLOOKUP(B1592,Régions!A:C,3,FALSE)","v":"Provence-Alpes-Côte d'Azur"},13,{"$error":"#N/A"},130009194,{"$error":"#N/A"},{"$error":"#N/A"},"SELARL EFX PALLOT",31,"Boulevard","DE DUNKERQUE","13002 MARSEILLE 2E  ARRONDISSEMENT",13002,"Marseille 2e  Arrondissement","Pharmacie d'officine","A"]
[{"$f":"VLOOKUP(B1593,Régions!A:C,3,FALSE)","v":"Provence-Alpes-Côte d'Azur"},13,{"$error":"#N/A"},130009210,{"$error":"#N/A"},{"$error":"#N/A"},"SELARL PHARMACIE ALBRAND",24,"Boulevard","BAILLE","13006 MARSEILLE",13006,"Marseille 6e  Arrondissement","Pharmacie d'officine","A"]
[{"$f":"VLOOKUP(B1594,Régions!A:C,3,FALSE)","v":"Provence-Alpes-Côte d'Azur"},13,"PHARMDIRECTFR",130009244,130009244,"oui","EURL PHARMACIE DRUEL-DEMANDOLX",98,"Boulevard","BOISSON","13004 MARSEILLE",13004,"Marseille 4e  Arrondissement","Pharmacie d'officine","A"]
[{"$f":"VLOOKUP(B1595,Régions!A:C,3,FALSE)","v":"Provence-Alpes-Côte d'Azur"},13,{"$error":"#N/A"},130009277,{"$error":"#N/A"},{"$error":"#N/A"},"SELARL PHARMACIE DE LA COLLINE",134,"Boulevard","de la Valbarelle","13011 MARSEILLE 11",13011,"Marseille 11e  Arrondissement","Pharmacie d'officine","A"]
[{"$f":"VLOOKUP(B1596,Régions!A:C,3,FALSE)","v":"Provence-Alpes-Côte d'Azur"},13,"PHARMDIRECTFR",130009293,130009293,"oui","SELEURL PHARMACLARA",35,"Boulevard","BERNABO","13015 MARSEILLE",13015,"Marseille 15e  Arrondissement","Pharmacie d'officine","A"]
[{"$f":"VLOOKUP(B1597,Régions!A:C,3,FALSE)","v":"Provence-Alpes-Côte d'Azur"},13,{"$error":"#N/A"},130009327,{"$error":"#N/A"},{"$error":"#N/A"},"PHARMACIE ODER",40,"Avenue","DES CHUTES LAVIE","13004 MARSEILLE",13004,"Marseille 4e  Arrondissement","Pharmacie d'officine","A"]
[{"$f":"VLOOKUP(B1598,Régions!A:C,3,FALSE)","v":"Provence-Alpes-Côte d'Azur"},13,{"$error":"#N/A"},130009343,{"$error":"#N/A"},{"$error":"#N/A"},"SELARL PHARMACIE DE BEAUMONT",108,"Boulevard","BEAUMONT","13012 MARSEILLE",13012,"Marseille 12e  Arrondissement","Pharmacie d'officine","A"]
[{"$f":"VLOOKUP(B1599,Régions!A:C,3,FALSE)","v":"Provence-Alpes-Côte d'Azur"},13,{"$error":"#N/A"},130009376,{"$error":"#N/A"},{"$error":"#N/A"},"SELARL PHARMACIE DE FRAIS VALLON",25,"Avenue","de Frais Vallon","13013 MARSEILLE 13",13013,"Marseille 13e  Arrondissement","Pharmacie d'officine","A"]
[{"$f":"VLOOKUP(B1600,Régions!A:C,3,FALSE)","v":"Provence-Alpes-Côte d'Azur"},13,"PHARMDIRECTFR",130009392,130009392,"oui","SELARL PHARMACIE ROUX",50,"Avenue","DE STALINGRAD","13200 ARLES",13200,"Arles","Pharmacie d'officine","A"]
[{"$f":"VLOOKUP(B1601,Régions!A:C,3,FALSE)","v":"Provence-Alpes-Côte d'Azur"},13,{"$error":"#N/A"},130009426,{"$error":"#N/A"},{"$error":"#N/A"},"SELARL PHARMACIE PERLA",41,"Avenue","ANSALDI","13014 MARSEILLE 14E  ARRONDISSEMENT",13014,"Marseille 14e  Arrondissement","Pharmacie d'officine","A"]
[{"$f":"VLOOKUP(B1602,Régions!A:C,3,FALSE)","v":"Provence-Alpes-Côte d'Azur"},13,{"$error":"#N/A"},130009442,{"$error":"#N/A"},{"$error":"#N/A"},"SELARL PHARMACIE DE LA COTE BLEUE","NULL","Avenue","DRAIO DE LA MAR","13620 CARRY-LE-ROUET",13620,"Carry-le-Rouet","Pharmacie d'officine","A"]
[{"$f":"VLOOKUP(B1603,Régions!A:C,3,FALSE)","v":"Provence-Alpes-Côte d'Azur"},13,"PHARMDIRECTFR",130009475,130009475,"oui","SELEURL PHARMACIE TERI-LOME",13,"Place","DE LA MAIRIE","13440 CABANNES",13440,"Cabannes","Pharmacie d'officine","A"]
[{"$f":"VLOOKUP(B1604,Régions!A:C,3,FALSE)","v":"Provence-Alpes-Côte d'Azur"},13,{"$error":"#N/A"},130009491,{"$error":"#N/A"},{"$error":"#N/A"},"SELAS PHARMACIE TOUCHE AFFRIAT",388,"Rue","PARADIS","13008 MARSEILLE",13008,"Marseille 8e  Arrondissement","Pharmacie d'officine","A"]
[{"$f":"VLOOKUP(B1605,Régions!A:C,3,FALSE)","v":"Provence-Alpes-Côte d'Azur"},13,{"$error":"#N/A"},130009525,{"$error":"#N/A"},{"$error":"#N/A"},"SELAS  PHARMACIE DE LA CROIX D'OR",1596,"Avenue","DE LA CROIX D'OR","13320 BOUC-BEL-AIR",13320,"Bouc-Bel-Air","Pharmacie d'officine","A"]
[{"$f":"VLOOKUP(B1606,Régions!A:C,3,FALSE)","v":"Provence-Alpes-Côte d'Azur"},13,{"$error":"#N/A"},130009541,{"$error":"#N/A"},{"$error":"#N/A"},"SELARL PHARMACIE ABAT BOREL",188,"Rue","DE LYON","13015 MARSEILLE",13015,"Marseille 15e  Arrondissement","Pharmacie d'officine","A"]
[{"$f":"VLOOKUP(B1607,Régions!A:C,3,FALSE)","v":"Provence-Alpes-Côte d'Azur"},13,"CNOP",130009574,130009574,"oui","SELAS ISACOR",1,"Square","NOTRE DAME D'AFRIQUE","13010 MARSEILLE",13010,"Marseille 10e  Arrondissement","Pharmacie d'officine","A"]
[{"$f":"VLOOKUP(B1608,Régions!A:C,3,FALSE)","v":"Provence-Alpes-Côte d'Azur"},13,"CNOP",130009590,130009590,"oui","EURL PHARMACIE AMORETTI","NULL","Route","du Plan","13860 PEYROLLES-EN-PROVENCE",13860,"Peyrolles-en-Provence","Pharmacie d'officine","A"]
[{"$f":"VLOOKUP(B1609,Régions!A:C,3,FALSE)","v":"Provence-Alpes-Côte d'Azur"},13,"PHARMDIRECTFR",130009624,130009624,"oui","SELAS PHARMACIE DE LA POMME",17,"Avenue","EMMANUEL ALLARD","13011 MARSEILLE",13011,"Marseille 11e  Arrondissement","Pharmacie d'officine","A"]
[{"$f":"VLOOKUP(B1610,Régions!A:C,3,FALSE)","v":"Provence-Alpes-Côte d'Azur"},13,{"$error":"#N/A"},130009640,{"$error":"#N/A"},{"$error":"#N/A"},"SELAS PHARMACIE MIANE",34,"Route","NATIONALE 8","13780 CUGES-LES-PINS",13780,"Cuges-les-Pins","Pharmacie d'officine","A"]
[{"$f":"VLOOKUP(B1611,Régions!A:C,3,FALSE)","v":"Provence-Alpes-Côte d'Azur"},13,"PHARMDIRECTFR",130009665,130009665,"oui","SELARL BEGCAM",104,"Rue","SAINT PIERRE","13005 MARSEILLE",13005,"Marseille 5e  Arrondissement","Pharmacie d'officine","A"]
[{"$f":"VLOOKUP(B1612,Régions!A:C,3,FALSE)","v":"Provence-Alpes-Côte d'Azur"},13,{"$error":"#N/A"},130009681,{"$error":"#N/A"},{"$error":"#N/A"},"SELEURL PHARMACIE DE SAINT JUST",38,"Rue","ALPHONSE DAUDET","13013 MARSEILLE",13013,"Marseille 13e  Arrondissement","Pharmacie d'officine","A"]
[{"$f":"VLOOKUP(B1613,Régions!A:C,3,FALSE)","v":"Provence-Alpes-Côte d'Azur"},13,{"$error":"#N/A"},130009715,{"$error":"#N/A"},{"$error":"#N/A"},"SELARL  CAP SANTE",5,"Rue","ROUVIERE","13001 MARSEILLE 01",13001,"Marseille 1er Arrondissement","Pharmacie d'officine","A"]
[{"$f":"VLOOKUP(B1614,Régions!A:C,3,FALSE)","v":"Provence-Alpes-Côte d'Azur"},13,{"$error":"#N/A"},130009731,{"$error":"#N/A"},{"$error":"#N/A"},"SELEURL PHARMACIE COUREAU",1,"Chemin","DE SORMIOU","13009 MARSEILLE 9E  ARRONDISSEMENT",13009,"Marseille 9e  Arrondissement","Pharmacie d'officine","A"]
[{"$f":"VLOOKUP(B1615,Régions!A:C,3,FALSE)","v":"Provence-Alpes-Côte d'Azur"},13,{"$error":"#N/A"},130009764,{"$error":"#N/A"},{"$error":"#N/A"},"SELARL PHARMACIE DU CARROUSEL",1,"Rue","PARADIS","13001 MARSEILLE",13001,"Marseille 1er Arrondissement","Pharmacie d'officine","A"]
[{"$f":"VLOOKUP(B1616,Régions!A:C,3,FALSE)","v":"Provence-Alpes-Côte d'Azur"},13,{"$error":"#N/A"},130009780,{"$error":"#N/A"},{"$error":"#N/A"},"SELEURL PHARMACIE GENERALE",188,"Avenue","DU 24 AVRIL 1915","13012 MARSEILLE",13012,"Marseille 12e  Arrondissement","Pharmacie d'officine","A"]
[{"$f":"VLOOKUP(B1617,Régions!A:C,3,FALSE)","v":"Provence-Alpes-Côte d'Azur"},13,{"$error":"#N/A"},130009814,{"$error":"#N/A"},{"$error":"#N/A"},"SELEURL PHARMACIE DU VERT BOCAGE",248,"Avenue","DE WERTHEIM","13300 SALON-DE-PROVENCE",13300,"Salon-de-Provence","Pharmacie d'officine","A"]
[{"$f":"VLOOKUP(B1618,Régions!A:C,3,FALSE)","v":"Provence-Alpes-Côte d'Azur"},13,{"$error":"#N/A"},130009830,{"$error":"#N/A"},{"$error":"#N/A"},"SELARL PHARMACIE LA CROIX BLANCHE",106,"Rue","DE LA REPUBLIQUE","13002 MARSEILLE",13002,"Marseille 2e  Arrondissement","Pharmacie d'officine","A"]
[{"$f":"VLOOKUP(B1619,Régions!A:C,3,FALSE)","v":"Provence-Alpes-Côte d'Azur"},13,"CNOP",130009863,130009863,"oui","EURL PHARMACIE PATRITI",111,"Route","DES CAMOINS","13011 MARSEILLE",13011,"Marseille 11e  Arrondissement","Pharmacie d'officine","A"]
[{"$f":"VLOOKUP(B1620,Régions!A:C,3,FALSE)","v":"Provence-Alpes-Côte d'Azur"},13,{"$error":"#N/A"},130009897,{"$error":"#N/A"},{"$error":"#N/A"},"SELARL  PHARMACIE DE LA BRICARDE",159,"Boulevard","HENRI BARNIER","13015 MARSEILLE",13015,"Marseille 15e  Arrondissement","Pharmacie d'officine","A"]
[{"$f":"VLOOKUP(B1621,Régions!A:C,3,FALSE)","v":"Provence-Alpes-Côte d'Azur"},13,{"$error":"#N/A"},130009913,{"$error":"#N/A"},{"$error":"#N/A"},"SELARL PHARMACIE ASSADOURIAN",143,"Rue","FELIX PYAT","13003 MARSEILLE",13003,"Marseille 3e  Arrondissement","Pharmacie d'officine","A"]
[{"$f":"VLOOKUP(B1622,Régions!A:C,3,FALSE)","v":"Provence-Alpes-Côte d'Azur"},13,{"$error":"#N/A"},130009947,{"$error":"#N/A"},{"$error":"#N/A"},"SELARL PHARMACIE DOMENGE",157,"Avenue","DE LA CAPELETTE","13010 MARSEILLE",13010,"Marseille 10e  Arrondissement","Pharmacie d'officine","A"]
[{"$f":"VLOOKUP(B1623,Régions!A:C,3,FALSE)","v":"Provence-Alpes-Côte d'Azur"},13,"PHARMDIRECTFR",130009962,130009962,"oui","PHARMACIE ASTIER",65,"Boulevard","DE LA LIBERATION","13001 MARSEILLE",13001,"Marseille 1er Arrondissement","Pharmacie d'officine","A"]
[{"$f":"VLOOKUP(B1624,Régions!A:C,3,FALSE)","v":"Provence-Alpes-Côte d'Azur"},13,{"$error":"#N/A"},130009996,{"$error":"#N/A"},{"$error":"#N/A"},"SELEURL PHARMACIE DU RACATI",5,"Rue","LUCIEN ROLMER","13003 MARSEILLE",13003,"Marseille 3e  Arrondissement","Pharmacie d'officine","A"]
[{"$f":"VLOOKUP(B1625,Régions!A:C,3,FALSE)","v":"Provence-Alpes-Côte d'Azur"},13,{"$error":"#N/A"},130010010,{"$error":"#N/A"},{"$error":"#N/A"},"SELAS PHARMACIE FOCH",3,"Avenue","Maréchal Foch","13004 MARSEILLE 04",13004,"Marseille 4e  Arrondissement","Pharmacie d'officine","A"]
[{"$f":"VLOOKUP(B1626,Régions!A:C,3,FALSE)","v":"Provence-Alpes-Côte d'Azur"},13,{"$error":"#N/A"},130010044,{"$error":"#N/A"},{"$error":"#N/A"},"SELEURL PHARMACIE DES CAMOINS",1,"Montee","des Camoins","13011 MARSEILLE 11E  ARRONDISSEMENT",13011,"Marseille 11e  Arrondissement","Pharmacie d'officine","A"]
[{"$f":"VLOOKUP(B1627,Régions!A:C,3,FALSE)","v":"Provence-Alpes-Côte d'Azur"},13,"PHARMDIRECTFR",130010077,130010077,"oui","PHARMACIE ROMIEU",233,"Chemin","DU ROUCAS BLANC","13007 MARSEILLE 7E  ARRONDISSEMENT",13007,"Marseille 7e  Arrondissement","Pharmacie d'officine","A"]
[{"$f":"VLOOKUP(B1628,Régions!A:C,3,FALSE)","v":"Provence-Alpes-Côte d'Azur"},13,{"$error":"#N/A"},130010093,{"$error":"#N/A"},{"$error":"#N/A"},"SELARL PHARMACIE VIARENGO LEBLOND",141,"Avenue","de Toulon","13005 MARSEILLE 05",13005,"Marseille 5e  Arrondissement","Pharmacie d'officine","A"]
[{"$f":"VLOOKUP(B1629,Régions!A:C,3,FALSE)","v":"Provence-Alpes-Côte d'Azur"},13,"CNOP",130010127,130010127,"oui","SELARL PHARMACIE D'ENDOUME",2,"Boulevard","BOMPARD","13007 MARSEILLE 7E  ARRONDISSEMENT",13007,"Marseille 7e  Arrondissement","Pharmacie d'officine","A"]
[{"$f":"VLOOKUP(B1630,Régions!A:C,3,FALSE)","v":"Provence-Alpes-Côte d'Azur"},13,{"$error":"#N/A"},130010143,{"$error":"#N/A"},{"$error":"#N/A"},"SNC PHARMACIE DU CHARREL","NULL","NULL","NULL","13400 AUBAGNE",13400,"Aubagne","Pharmacie d'officine","A"]
[{"$f":"VLOOKUP(B1631,Régions!A:C,3,FALSE)","v":"Provence-Alpes-Côte d'Azur"},13,{"$error":"#N/A"},130010176,{"$error":"#N/A"},{"$error":"#N/A"},"SELARL PHARMACIE GUILLANTON","NULL","Allee","LA GRANDE BASTIDE CAZAULX","13012 MARSEILLE",13012,"Marseille 12e  Arrondissement","Pharmacie d'officine","A"]
[{"$f":"VLOOKUP(B1632,Régions!A:C,3,FALSE)","v":"Provence-Alpes-Côte d'Azur"},13,"CNOP",130010192,130010192,"oui","SELURL GRANDE PHIE DE SAINT BARNABE",81,"Rue","MONTAIGNE","13012 MARSEILLE",13012,"Marseille 12e  Arrondissement","Pharmacie d'officine","A"]
[{"$f":"VLOOKUP(B1633,Régions!A:C,3,FALSE)","v":"Provence-Alpes-Côte d'Azur"},13,{"$error":"#N/A"},130010226,{"$error":"#N/A"},{"$error":"#N/A"},"PHARMACIE  RAFFALLI-MONFOURNY",47,"Rue","F DAVSO","13001 MARSEILLE",13001,"Marseille 1er Arrondissement","Pharmacie d'officine","A"]
[{"$f":"VLOOKUP(B1634,Régions!A:C,3,FALSE)","v":"Provence-Alpes-Côte d'Azur"},13,"PHARMDIRECTFR",130010242,130010242,"oui","PHARMACIE AVIGNON","NULL","Avenue","DU 19 MARS 1962","13400 AUBAGNE",13400,"Aubagne","Pharmacie d'officine","A"]
[{"$f":"VLOOKUP(B1635,Régions!A:C,3,FALSE)","v":"Provence-Alpes-Côte d'Azur"},13,{"$error":"#N/A"},130010275,{"$error":"#N/A"},{"$error":"#N/A"},"PHARMACIE AYALA",8,"Place","JEAN JAURES","13450 GRANS",13450,"Grans","Pharmacie d'officine","A"]
[{"$f":"VLOOKUP(B1636,Régions!A:C,3,FALSE)","v":"Provence-Alpes-Côte d'Azur"},13,"CNOP",130010291,130010291,"oui","PHARMACIE AYME",93,"Boulevard","BARRY","13013 MARSEILLE",13013,"Marseille 13e  Arrondissement","Pharmacie d'officine","A"]
[{"$f":"VLOOKUP(B1637,Régions!A:C,3,FALSE)","v":"Provence-Alpes-Côte d'Azur"},13,"PHARMDIRECTFR",130010325,130010325,"oui","SELARL PHARMACIE DE LA TOUR",65,"Avenue","JULES CANTINI","13006 MARSEILLE",13006,"Marseille 6e  Arrondissement","Pharmacie d'officine","A"]
[{"$f":"VLOOKUP(B1638,Régions!A:C,3,FALSE)","v":"Provence-Alpes-Côte d'Azur"},13,"CNOP",130010341,130010341,"oui","SELARL PHARMACIE TOMMASINO",77,"Chemin","DE GIBBES","13014 MARSEILLE",13014,"Marseille 14e  Arrondissement","Pharmacie d'officine","A"]
[{"$f":"VLOOKUP(B1639,Régions!A:C,3,FALSE)","v":"Provence-Alpes-Côte d'Azur"},13,{"$error":"#N/A"},130010374,{"$error":"#N/A"},{"$error":"#N/A"},"SELAS ROME VILLAGE 2",122,"Rue","DE ROME","13006 MARSEILLE",13006,"Marseille 6e  Arrondissement","Pharmacie d'officine","A"]
[{"$f":"VLOOKUP(B1640,Régions!A:C,3,FALSE)","v":"Provence-Alpes-Côte d'Azur"},13,{"$error":"#N/A"},130010390,{"$error":"#N/A"},{"$error":"#N/A"},"SELAS PHARMACIE CUNAT",63,"Avenue","DE LA CRAU","13118 ENTRESSEN",13118,"Istres","Pharmacie d'officine","A"]
[{"$f":"VLOOKUP(B1641,Régions!A:C,3,FALSE)","v":"Provence-Alpes-Côte d'Azur"},13,"CNOP",130010424,130010424,"oui","SELAS PHARMACIE OLIVIER BACCI",97,"Avenue","DES OLIVES","13013 MARSEILLE",13013,"Marseille 13e  Arrondissement","Pharmacie d'officine","A"]
[{"$f":"VLOOKUP(B1642,Régions!A:C,3,FALSE)","v":"Provence-Alpes-Côte d'Azur"},13,{"$error":"#N/A"},130010440,{"$error":"#N/A"},{"$error":"#N/A"},"SELARL PHARMACIE MORON","NULL","Avenue","PAUL VAILLANT COUTURIER","13110 PORT-DE-BOUC",13110,"Port-de-Bouc","Pharmacie d'officine","A"]
[{"$f":"VLOOKUP(B1643,Régions!A:C,3,FALSE)","v":"Provence-Alpes-Côte d'Azur"},13,{"$error":"#N/A"},130010465,{"$error":"#N/A"},{"$error":"#N/A"},"SELARL PHIE D.BOUDOURESQUE J.KOSKAS",88,"Avenue","DU PRADO","13006 MARSEILLE",13006,"Marseille 6e  Arrondissement","Pharmacie d'officine","A"]
[{"$f":"VLOOKUP(B1644,Régions!A:C,3,FALSE)","v":"Provence-Alpes-Côte d'Azur"},13,"PHARMDIRECTFR",130010515,130010515,"oui","SELAS PHARMACIE PONT DE VIVAUX",4,"Boulevard","DE PONT DE VIVAUX","13010 MARSEILLE",13010,"Marseille 10e  Arrondissement","Pharmacie d'officine","A"]
[{"$f":"VLOOKUP(B1645,Régions!A:C,3,FALSE)","v":"Provence-Alpes-Côte d'Azur"},13,{"$error":"#N/A"},130010531,{"$error":"#N/A"},{"$error":"#N/A"},"SELARL PHARMACIE ESCALIER",81,"Boulevard","de Saint Loup","13010 MARSEILLE 10",13010,"Marseille 10e  Arrondissement","Pharmacie d'officine","A"]
[{"$f":"VLOOKUP(B1646,Régions!A:C,3,FALSE)","v":"Provence-Alpes-Côte d'Azur"},13,{"$error":"#N/A"},130010564,{"$error":"#N/A"},{"$error":"#N/A"},"SELARL PHARMACIE ROLLIN DELPECH","NULL","Rue","AUGUSTE CHABAUD","13150 TARASCON",13150,"Tarascon","Pharmacie d'officine","A"]
[{"$f":"VLOOKUP(B1647,Régions!A:C,3,FALSE)","v":"Provence-Alpes-Côte d'Azur"},13,{"$error":"#N/A"},130010614,{"$error":"#N/A"},{"$error":"#N/A"},"SELAS PHARMACIE NIORE",26,"Avenue","ZENATTI","13008 MARSEILLE",13008,"Marseille 8e  Arrondissement","Pharmacie d'officine","A"]
[{"$f":"VLOOKUP(B1648,Régions!A:C,3,FALSE)","v":"Provence-Alpes-Côte d'Azur"},13,"PHARMDIRECTFR",130010630,130010630,"oui","SELARL PHARMACIE VARIZAT",101,"Chemin","BEAUREGARD","13100 AIX-EN-PROVENCE",13100,"Aix-en-Provence","Pharmacie d'officine","A"]
[{"$f":"VLOOKUP(B1649,Régions!A:C,3,FALSE)","v":"Provence-Alpes-Côte d'Azur"},13,{"$error":"#N/A"},130010697,{"$error":"#N/A"},{"$error":"#N/A"},"PHARMACIE FLORIT - BARRAU","NULL","Rue","OLIVIER GRISCELLI","13500 MARTIGUES",13500,"Martigues","Pharmacie d'officine","A"]
[{"$f":"VLOOKUP(B1650,Régions!A:C,3,FALSE)","v":"Provence-Alpes-Côte d'Azur"},13,"PHARMDIRECTFR",130010713,130010713,"oui","SELEURL PHARMACIE DE LA POSTE",15,"Rue","COLBERT","13001 MARSEILLE",13001,"Marseille 1er Arrondissement","Pharmacie d'officine","A"]
[{"$f":"VLOOKUP(B1651,Régions!A:C,3,FALSE)","v":"Provence-Alpes-Côte d'Azur"},13,"CNOP",130010747,130010747,"oui","SNC SOCIETE PHARMACIE OLIVIER SIADOUS",1,"Boulevard","D'ATHENES","13001 MARSEILLE",13001,"Marseille 1er Arrondissement","Pharmacie d'officine","A"]
[{"$f":"VLOOKUP(B1652,Régions!A:C,3,FALSE)","v":"Provence-Alpes-Côte d'Azur"},13,{"$error":"#N/A"},130010762,{"$error":"#N/A"},{"$error":"#N/A"},"SELARL DE PHIEN D'OFF. DE LA LORETTE",51,"Rue","DE LA REPUBLIQUE","13002 MARSEILLE",13002,"Marseille 2e  Arrondissement","Pharmacie d'officine","A"]
[{"$f":"VLOOKUP(B1653,Régions!A:C,3,FALSE)","v":"Provence-Alpes-Côte d'Azur"},13,"CNOP",130010796,130010796,"oui","SELARL PHARMACIE DU LIOURAT",37,"Avenue","DENIS PADOVANI","13127 VITROLLES",13127,"Vitrolles","Pharmacie d'officine","A"]
[{"$f":"VLOOKUP(B1654,Régions!A:C,3,FALSE)","v":"Provence-Alpes-Côte d'Azur"},13,{"$error":"#N/A"},130010812,{"$error":"#N/A"},{"$error":"#N/A"},"PHARMACIE BARTOLINI","NULL","Boulevard","MARCEL PAUL","13400 AUBAGNE",13400,"Aubagne","Pharmacie d'officine","A"]
[{"$f":"VLOOKUP(B1655,Régions!A:C,3,FALSE)","v":"Provence-Alpes-Côte d'Azur"},13,{"$error":"#N/A"},130010861,{"$error":"#N/A"},{"$error":"#N/A"},"SELARL PHARMACIE VANOVERMEIR","NULL","Allee","CLAUDE DEBUSY","13880 VELAUX",13880,"Velaux","Pharmacie d'officine","A"]
[{"$f":"VLOOKUP(B1656,Régions!A:C,3,FALSE)","v":"Provence-Alpes-Côte d'Azur"},13,"PHARMDIRECTFR",130010895,130010895,"oui","SARL PHARMACIE SALVI","NULL","Quartier","BARRIOL","13200 ARLES",13200,"Arles","Pharmacie d'officine","A"]
[{"$f":"VLOOKUP(B1657,Régions!A:C,3,FALSE)","v":"Provence-Alpes-Côte d'Azur"},13,{"$error":"#N/A"},130010911,{"$error":"#N/A"},{"$error":"#N/A"},"SELARL PHARMACIE DU VAL D'ORE",3,"Avenue","ALPHONSE DAUDET","13260 CASSIS",13260,"Cassis","Pharmacie d'officine","A"]
[{"$f":"VLOOKUP(B1658,Régions!A:C,3,FALSE)","v":"Provence-Alpes-Côte d'Azur"},13,{"$error":"#N/A"},130010945,{"$error":"#N/A"},{"$error":"#N/A"},"SARL PHARMACIE CARRERE",1,"Cours","DES HEROS","13109 SIMIANE-COLLONGUE",13109,"Simiane-Collongue","Pharmacie d'officine","A"]
[{"$f":"VLOOKUP(B1659,Régions!A:C,3,FALSE)","v":"Provence-Alpes-Côte d'Azur"},13,{"$error":"#N/A"},130010960,{"$error":"#N/A"},{"$error":"#N/A"},"SELARL PHARMACIE GADILHE","NULL","Cours","BREMOND","13290 AIX-EN-PROVENCE",13290,"Aix-en-Provence","Pharmacie d'officine","A"]
[{"$f":"VLOOKUP(B1660,Régions!A:C,3,FALSE)","v":"Provence-Alpes-Côte d'Azur"},13,{"$error":"#N/A"},130010994,{"$error":"#N/A"},{"$error":"#N/A"},"SELARL PHARMACIE ST PIERRE",1,"Avenue","DE LA LIBERATION","13870 ROGNONAS",13870,"Rognonas","Pharmacie d'officine","A"]
[{"$f":"VLOOKUP(B1661,Régions!A:C,3,FALSE)","v":"Provence-Alpes-Côte d'Azur"},13,"CNOP",130011026,130011026,"oui","PHARMACIE BELTRAN","NULL","Rue","ROQUEPIN","13800 ISTRES",13800,"Istres","Pharmacie d'officine","A"]
[{"$f":"VLOOKUP(B1662,Régions!A:C,3,FALSE)","v":"Provence-Alpes-Côte d'Azur"},13,{"$error":"#N/A"},130011042,{"$error":"#N/A"},{"$error":"#N/A"},"SELAS PHARMACIE DU LANCIER",15,"Chemin","DU LANCIER","13009 MARSEILLE",13009,"Marseille 9e  Arrondissement","Pharmacie d'officine","A"]
[{"$f":"VLOOKUP(B1663,Régions!A:C,3,FALSE)","v":"Provence-Alpes-Côte d'Azur"},13,{"$error":"#N/A"},130011075,{"$error":"#N/A"},{"$error":"#N/A"},"SELARL PHARMACIE DE L'UNITE",308,"Rue","ROMAIN ROLLAND","13090 AIX-EN-PROVENCE",13090,"Aix-en-Provence","Pharmacie d'officine","A"]
[{"$f":"VLOOKUP(B1664,Régions!A:C,3,FALSE)","v":"Provence-Alpes-Côte d'Azur"},13,{"$error":"#N/A"},130011091,{"$error":"#N/A"},{"$error":"#N/A"},"SELAS GRANDE PHARMACIE DU CENTRE",4,"Avenue","Jean Jaures","13700 MARIGNANE",13700,"Marignane","Pharmacie d'officine","A"]
[{"$f":"VLOOKUP(B1665,Régions!A:C,3,FALSE)","v":"Provence-Alpes-Côte d'Azur"},13,{"$error":"#N/A"},130011125,{"$error":"#N/A"},{"$error":"#N/A"},"SELARL PHARMACIE MBOCK",102,"Avenue","CAMILLE PELLETAN","13003 MARSEILLE",13003,"Marseille 3e  Arrondissement","Pharmacie d'officine","A"]
[{"$f":"VLOOKUP(B1666,Régions!A:C,3,FALSE)","v":"Provence-Alpes-Côte d'Azur"},13,{"$error":"#N/A"},130011141,{"$error":"#N/A"},{"$error":"#N/A"},"SELARL PHARMACIE KRIEGER","NULL","Avenue","R. CASSIN /BD COURBET","13340 ROGNAC",13340,"Rognac","Pharmacie d'officine","A"]
[{"$f":"VLOOKUP(B1667,Régions!A:C,3,FALSE)","v":"Provence-Alpes-Côte d'Azur"},13,{"$error":"#N/A"},130011174,{"$error":"#N/A"},{"$error":"#N/A"},"SELAS PHARMACIE LIEUTAUD ALM",55,"Cours","LIEUTAUD","13006 MARSEILLE",13006,"Marseille 6e  Arrondissement","Pharmacie d'officine","A"]
[{"$f":"VLOOKUP(B1668,Régions!A:C,3,FALSE)","v":"Provence-Alpes-Côte d'Azur"},13,{"$error":"#N/A"},130011190,{"$error":"#N/A"},{"$error":"#N/A"},"PHARMACIE CHARBIT",5,"Rue","CHARLES NEDELEC","13110 PORT-DE-BOUC",13110,"Port-de-Bouc","Pharmacie d'officine","A"]
[{"$f":"VLOOKUP(B1669,Régions!A:C,3,FALSE)","v":"Provence-Alpes-Côte d'Azur"},13,"PHARMDIRECTFR",130011224,130011224,"oui","SELARL PHARMACIE BOSC ET JACQUOT",148,"Boulevard","DE ROUX","13004 MARSEILLE",13004,"Marseille 4e  Arrondissement","Pharmacie d'officine","A"]
[{"$f":"VLOOKUP(B1670,Régions!A:C,3,FALSE)","v":"Provence-Alpes-Côte d'Azur"},13,"CNOP",130011240,130011240,"oui","SELAS PHARMACIE LA MEDITERRANEENNE",37,"NULL","LA CANEBIERE","13001 MARSEILLE",13001,"Marseille 1er Arrondissement","Pharmacie d'officine","A"]
[{"$f":"VLOOKUP(B1671,Régions!A:C,3,FALSE)","v":"Provence-Alpes-Côte d'Azur"},13,{"$error":"#N/A"},130011265,{"$error":"#N/A"},{"$error":"#N/A"},"SELARL PHARMACIE MOUSTIER",4,"Rue","MOUSTIER","13001 MARSEILLE",13001,"Marseille 1er Arrondissement","Pharmacie d'officine","A"]
[{"$f":"VLOOKUP(B1672,Régions!A:C,3,FALSE)","v":"Provence-Alpes-Côte d'Azur"},13,"CNOP",130011281,130011281,"oui","SELARL GDE PH. DU MARCHE DES CAPUCINS",12,"Marche","DES CAPUCINS - 17 RUE RODOLPHE POLLAK","13001 MARSEILLE",13001,"Marseille 1er Arrondissement","Pharmacie d'officine","A"]
[{"$f":"VLOOKUP(B1673,Régions!A:C,3,FALSE)","v":"Provence-Alpes-Côte d'Azur"},13,"PHARMDIRECTFR",130011315,130011315,"oui","SELARL PHARMACIE KENNY DRAI",407,"Rue","DE LYON","13015 MARSEILLE",13015,"Marseille 15e  Arrondissement","Pharmacie d'officine","A"]
[{"$f":"VLOOKUP(B1674,Régions!A:C,3,FALSE)","v":"Provence-Alpes-Côte d'Azur"},13,{"$error":"#N/A"},130011331,{"$error":"#N/A"},{"$error":"#N/A"},"SELARL PHARMACIE DU MARCHE",37,"Avenue","GABRIEL PERI","13560 SÉNAS",13560,"Sénas","Pharmacie d'officine","A"]
[{"$f":"VLOOKUP(B1675,Régions!A:C,3,FALSE)","v":"Provence-Alpes-Côte d'Azur"},13,{"$error":"#N/A"},130011364,{"$error":"#N/A"},{"$error":"#N/A"},"SELAS PHARMACIE DE LA REPUBLIQUE",10,"Boulevard","DE LA REPUBLIQUE","13410 LAMBESC",13410,"Lambesc","Pharmacie d'officine","A"]
[{"$f":"VLOOKUP(B1676,Régions!A:C,3,FALSE)","v":"Provence-Alpes-Côte d'Azur"},13,"PHARMDIRECTFR",130011380,130011380,"oui","SELARL DE PHARMACIENS D'OFF. MALLART",80,"Rue","SAINTE","13007 MARSEILLE",13007,"Marseille 7e  Arrondissement","Pharmacie d'officine","A"]
[{"$f":"VLOOKUP(B1677,Régions!A:C,3,FALSE)","v":"Provence-Alpes-Côte d'Azur"},13,{"$error":"#N/A"},130011398,{"$error":"#N/A"},{"$error":"#N/A"},"SELAS PHARMACIE MOULIOM","NULL","Zone d amenagement concerte","DES SALLES","13800 ISTRES",13800,"Istres","Pharmacie d'officine","A"]
[{"$f":"VLOOKUP(B1678,Régions!A:C,3,FALSE)","v":"Provence-Alpes-Côte d'Azur"},13,{"$error":"#N/A"},130011414,{"$error":"#N/A"},{"$error":"#N/A"},"SELARL PHARMACIE DE L'ABBAYE",4,"Avenue","DE LA CORSE","13007 MARSEILLE",13007,"Marseille 7e  Arrondissement","Pharmacie d'officine","A"]
[{"$f":"VLOOKUP(B1679,Régions!A:C,3,FALSE)","v":"Provence-Alpes-Côte d'Azur"},13,"CNOP",130011430,130011430,"oui","PHARMACIE BESSON","NULL","Rue","JOSEPH D ARBAUD","13127 VITROLLES",13127,"Vitrolles","Pharmacie d'officine","A"]
[{"$f":"VLOOKUP(B1680,Régions!A:C,3,FALSE)","v":"Provence-Alpes-Côte d'Azur"},13,{"$error":"#N/A"},130011497,{"$error":"#N/A"},{"$error":"#N/A"},"SELARL DESIREE",10,"Rue","DE LA REPUBLIQUE","13400 AUBAGNE",13400,"Aubagne","Pharmacie d'officine","A"]
[{"$f":"VLOOKUP(B1681,Régions!A:C,3,FALSE)","v":"Provence-Alpes-Côte d'Azur"},13,"PHARMDIRECTFR",130011513,130011513,"oui","SELARL PHARMACIE PRADEL",42,"Cours","VICTOR HUGO","13300 SALON-DE-PROVENCE",13300,"Salon-de-Provence","Pharmacie d'officine","A"]
[{"$f":"VLOOKUP(B1682,Régions!A:C,3,FALSE)","v":"Provence-Alpes-Côte d'Azur"},13,"CNOP",130011547,130011547,"oui","PHARMACIE LEFEVRE-MALASSAGNE",14,"Place","GERARD TENQUE","13500 MARTIGUES",13500,"Martigues","Pharmacie d'officine","A"]
[{"$f":"VLOOKUP(B1683,Régions!A:C,3,FALSE)","v":"Provence-Alpes-Côte d'Azur"},13,{"$error":"#N/A"},130011562,{"$error":"#N/A"},{"$error":"#N/A"},"SELARL PHARMACIE BEL AIR","NULL","Quartier","BEL AIR","13300 SALON-DE-PROVENCE",13300,"Salon-de-Provence","Pharmacie d'officine","A"]
[{"$f":"VLOOKUP(B1684,Régions!A:C,3,FALSE)","v":"Provence-Alpes-Côte d'Azur"},13,{"$error":"#N/A"},130011612,{"$error":"#N/A"},{"$error":"#N/A"},"PHARMACIE BITTON-JOURDAN",1,"Boulevard","DES PLATANES - 322 BLD ROMAIN ROLLAND","13009 MARSEILLE",13009,"Marseille 9e  Arrondissement","Pharmacie d'officine","A"]
[{"$f":"VLOOKUP(B1685,Régions!A:C,3,FALSE)","v":"Provence-Alpes-Côte d'Azur"},13,{"$error":"#N/A"},130011646,{"$error":"#N/A"},{"$error":"#N/A"},"SELARL  PHARMACIE ROME VILLAGE",183,"Rue","DE ROME","13006 MARSEILLE",13006,"Marseille 6e  Arrondissement","Pharmacie d'officine","A"]
[{"$f":"VLOOKUP(B1686,Régions!A:C,3,FALSE)","v":"Provence-Alpes-Côte d'Azur"},13,"CNOP",130011661,130011661,"oui","SELARL PHARMACIE CORDELIERS",69,"Rue","DES CORDELIERS","13100 AIX-EN-PROVENCE",13100,"Aix-en-Provence","Pharmacie d'officine","A"]
[{"$f":"VLOOKUP(B1687,Régions!A:C,3,FALSE)","v":"Provence-Alpes-Côte d'Azur"},13,"PHARMDIRECTFR",130011695,130011695,"oui","SELAS PHARMACIE BURGASSI KERVEGANT",18,"Quai","DE L'HUVEAUNE","13390 AURIOL",13390,"Auriol","Pharmacie d'officine","A"]
[{"$f":"VLOOKUP(B1688,Régions!A:C,3,FALSE)","v":"Provence-Alpes-Côte d'Azur"},13,{"$error":"#N/A"},130011711,{"$error":"#N/A"},{"$error":"#N/A"},"SELARL PHIE DALAKUPEIAN BORRELLI",68,"Boulevard","SAINTE MARGUERITE","13009 MARSEILLE",13009,"Marseille 9e  Arrondissement","Pharmacie d'officine","A"]
[{"$f":"VLOOKUP(B1689,Régions!A:C,3,FALSE)","v":"Provence-Alpes-Côte d'Azur"},13,{"$error":"#N/A"},130011745,{"$error":"#N/A"},{"$error":"#N/A"},"PHARMACIE BOI-SAINSOUS",2,"Place","SADI CARNOT","13001 MARSEILLE",13001,"Marseille 1er Arrondissement","Pharmacie d'officine","A"]
[{"$f":"VLOOKUP(B1690,Régions!A:C,3,FALSE)","v":"Provence-Alpes-Côte d'Azur"},13,"PHARMDIRECTFR",130011760,130011760,"oui","PHARMACIE MESKINI",184,"Chemin","DE GIBBES","13014 MARSEILLE",13014,"Marseille 14e  Arrondissement","Pharmacie d'officine","A"]
[{"$f":"VLOOKUP(B1691,Régions!A:C,3,FALSE)","v":"Provence-Alpes-Côte d'Azur"},13,{"$error":"#N/A"},130011794,{"$error":"#N/A"},{"$error":"#N/A"},"SELARL PHARMACIE DES ECOLES",15,"Rue","BARRELET","13700 MARIGNANE",13700,"Marignane","Pharmacie d'officine","A"]
[{"$f":"VLOOKUP(B1692,Régions!A:C,3,FALSE)","v":"Provence-Alpes-Côte d'Azur"},13,"PHARMDIRECTFR",130011810,130011810,"oui","SELARL PHARMACIE DU VILLAGE",1,"Avenue","DE PLAN DE CAMPAGNE","13170 PENNES-MIRABEAU (LES)",13170,"Les Pennes-Mirabeau","Pharmacie d'officine","A"]
[{"$f":"VLOOKUP(B1693,Régions!A:C,3,FALSE)","v":"Provence-Alpes-Côte d'Azur"},13,{"$error":"#N/A"},130011844,{"$error":"#N/A"},{"$error":"#N/A"},"SELARL PHARMACIE DE L'EUROPE",715,"Avenue","DE L'EUROPE","13300 SALON-DE-PROVENCE",13300,"Salon-de-Provence","Pharmacie d'officine","A"]
[{"$f":"VLOOKUP(B1694,Régions!A:C,3,FALSE)","v":"Provence-Alpes-Côte d'Azur"},13,{"$error":"#N/A"},130011877,{"$error":"#N/A"},{"$error":"#N/A"},"SELARL PHARMACIE DEGHILAGE-LAURENT",45,"Avenue","DE LA CORSE","13007 MARSEILLE",13007,"Marseille 7e  Arrondissement","Pharmacie d'officine","A"]
[{"$f":"VLOOKUP(B1695,Régions!A:C,3,FALSE)","v":"Provence-Alpes-Côte d'Azur"},13,{"$error":"#N/A"},130011927,{"$error":"#N/A"},{"$error":"#N/A"},"SELARL PHARMACIE PERE BLAIZE",4,"Rue","MEOLAN","13001 MARSEILLE",13001,"Marseille 1er Arrondissement","Pharmacie d'officine","A"]
[{"$f":"VLOOKUP(B1696,Régions!A:C,3,FALSE)","v":"Provence-Alpes-Côte d'Azur"},13,{"$error":"#N/A"},130011976,{"$error":"#N/A"},{"$error":"#N/A"},"SELARL PHARMACIE LM",22,"Avenue","JEAN LEBAS","13800 ISTRES",13800,"Istres","Pharmacie d'officine","A"]
[{"$f":"VLOOKUP(B1697,Régions!A:C,3,FALSE)","v":"Provence-Alpes-Côte d'Azur"},13,{"$error":"#N/A"},130011992,{"$error":"#N/A"},{"$error":"#N/A"},"SELARL PHARMACIE SOMMER",7,"Rue","MONTAIGNE","13012 MARSEILLE",13012,"Marseille 12e  Arrondissement","Pharmacie d'officine","A"]
[{"$f":"VLOOKUP(B1698,Régions!A:C,3,FALSE)","v":"Provence-Alpes-Côte d'Azur"},13,{"$error":"#N/A"},130012024,{"$error":"#N/A"},{"$error":"#N/A"},"SELARL PHARMACIE MILCHAM",52,"Rue","BRETEUIL","13006 MARSEILLE",13006,"Marseille 6e  Arrondissement","Pharmacie d'officine","A"]
[{"$f":"VLOOKUP(B1699,Régions!A:C,3,FALSE)","v":"Provence-Alpes-Côte d'Azur"},13,{"$error":"#N/A"},130012040,{"$error":"#N/A"},{"$error":"#N/A"},"SELAS LY THI MINH HIEU",10,"Avenue","CASTELLAS","13015 MARSEILLE",13015,"Marseille 15e  Arrondissement","Pharmacie d'officine","A"]
[{"$f":"VLOOKUP(B1700,Régions!A:C,3,FALSE)","v":"Provence-Alpes-Côte d'Azur"},13,"PHARMDIRECTFR",130012065,130012065,"oui","SELARL PHARMACIE COHEN - CASELLES","NULL","Boulevard","PONT DE PETON","13120 GARDANNE",13120,"Gardanne","Pharmacie d'officine","A"]
[{"$f":"VLOOKUP(B1701,Régions!A:C,3,FALSE)","v":"Provence-Alpes-Côte d'Azur"},13,"CNOP",130012081,130012081,"oui","SELAS RJBA",17,"Rue","DE L'AUDIENCE","13011 MARSEILLE",13011,"Marseille 11e  Arrondissement","Pharmacie d'officine","A"]
[{"$f":"VLOOKUP(B1702,Régions!A:C,3,FALSE)","v":"Provence-Alpes-Côte d'Azur"},13,"CNOP",130012115,130012115,"oui","SELARL PHARMACIE SANCHEZ",109,"Avenue","de Stalingrad","13200 ARLES",13200,"Arles","Pharmacie d'officine","A"]
[{"$f":"VLOOKUP(B1703,Régions!A:C,3,FALSE)","v":"Provence-Alpes-Côte d'Azur"},13,{"$error":"#N/A"},130012131,{"$error":"#N/A"},{"$error":"#N/A"},"SELAS PHARMACIE DE JONQUIERES",3,"Esplanade","DES BELGES","13500 MARTIGUES",13500,"Martigues","Pharmacie d'officine","A"]
[{"$f":"VLOOKUP(B1704,Régions!A:C,3,FALSE)","v":"Provence-Alpes-Côte d'Azur"},13,{"$error":"#N/A"},130012164,{"$error":"#N/A"},{"$error":"#N/A"},"SELARL PHARMACIE DES TROIS LUCS","NULL","Angle","3 PL TROIS LUCS&2 RTE DE LA VALENTINE","13012 MARSEILLE",13012,"Marseille 12e  Arrondissement","Pharmacie d'officine","A"]
[{"$f":"VLOOKUP(B1705,Régions!A:C,3,FALSE)","v":"Provence-Alpes-Côte d'Azur"},13,"PHARMDIRECTFR",130012180,130012180,"oui","SELAS PHARMACIE DES AYGALADES",57,"Chemin","DE ST ANTOINE","13015 MARSEILLE",13015,"Marseille 15e  Arrondissement","Pharmacie d'officine","A"]
[{"$f":"VLOOKUP(B1706,Régions!A:C,3,FALSE)","v":"Provence-Alpes-Côte d'Azur"},13,{"$error":"#N/A"},130012214,{"$error":"#N/A"},{"$error":"#N/A"},"SELARL  PHARMACIE DE CHATEAU GOMBERT",1,"Rue","CENTRALE","13013 MARSEILLE",13013,"Marseille 13e  Arrondissement","Pharmacie d'officine","A"]
[{"$f":"VLOOKUP(B1707,Régions!A:C,3,FALSE)","v":"Provence-Alpes-Côte d'Azur"},13,{"$error":"#N/A"},130012230,{"$error":"#N/A"},{"$error":"#N/A"},"SELARL PHARMACIE BELAROUSSI",1,"Place","BERNARD CADENAT","13003 MARSEILLE",13003,"Marseille 3e  Arrondissement","Pharmacie d'officine","A"]
[{"$f":"VLOOKUP(B1708,Régions!A:C,3,FALSE)","v":"Provence-Alpes-Côte d'Azur"},13,{"$error":"#N/A"},130012263,{"$error":"#N/A"},{"$error":"#N/A"},"SELARL PHARMACIE CORSY","NULL","Avenue","JEAN DALMAS","13090 AIX-EN-PROVENCE",13090,"Aix-en-Provence","Pharmacie d'officine","A"]
[{"$f":"VLOOKUP(B1709,Régions!A:C,3,FALSE)","v":"Provence-Alpes-Côte d'Azur"},13,{"$error":"#N/A"},130012297,{"$error":"#N/A"},{"$error":"#N/A"},"SELAS PHARMACIE DES TOURS",45,"NULL","Av Mal de Lattre de Tassigny","13160 CHATEAURENARD",13160,"Châteaurenard","Pharmacie d'officine","A"]
[{"$f":"VLOOKUP(B1710,Régions!A:C,3,FALSE)","v":"Provence-Alpes-Côte d'Azur"},13,{"$error":"#N/A"},130012313,{"$error":"#N/A"},{"$error":"#N/A"},"SELARL PHARMACIE DE CEYRESTE","NULL","Chemin","des Peupliers","13600 CEYRESTE",13600,"Ceyreste","Pharmacie d'officine","A"]
[{"$f":"VLOOKUP(B1711,Régions!A:C,3,FALSE)","v":"Provence-Alpes-Côte d'Azur"},13,{"$error":"#N/A"},130012347,{"$error":"#N/A"},{"$error":"#N/A"},"SELASU PHARMACIE DE JOUQUES",1,"Boulevard","DU REAL","13490 JOUQUES",13490,"Jouques","Pharmacie d'officine","A"]
[{"$f":"VLOOKUP(B1712,Régions!A:C,3,FALSE)","v":"Provence-Alpes-Côte d'Azur"},13,{"$error":"#N/A"},130012362,{"$error":"#N/A"},{"$error":"#N/A"},"SELAS PHARMACIE DU CINEMA",38,"Avenue","MARECHAL FOCH","13004 MARSEILLE",13004,"Marseille 4e  Arrondissement","Pharmacie d'officine","A"]
[{"$f":"VLOOKUP(B1713,Régions!A:C,3,FALSE)","v":"Provence-Alpes-Côte d'Azur"},13,{"$error":"#N/A"},130012396,{"$error":"#N/A"},{"$error":"#N/A"},"PHARMACIE LASCAR","NULL","Chemin","DE BOURRELYS","13015 MARSEILLE",13015,"Marseille 15e  Arrondissement","Pharmacie d'officine","A"]
[{"$f":"VLOOKUP(B1714,Régions!A:C,3,FALSE)","v":"Provence-Alpes-Côte d'Azur"},13,"CNOP",130012412,130012412,"oui","SELAS PHARMACIE PHARMADAC",628,"Rue","ST PIERRE","13011 MARSEILLE",13011,"Marseille 11e  Arrondissement","Pharmacie d'officine","A"]
[{"$f":"VLOOKUP(B1715,Régions!A:C,3,FALSE)","v":"Provence-Alpes-Côte d'Azur"},13,{"$error":"#N/A"},130012446,{"$error":"#N/A"},{"$error":"#N/A"},"SELARL PHARMACIE PHARMABRIAN",142,"Route","NATIONALE DE ST ANTOINE","13015 MARSEILLE",13015,"Marseille 15e  Arrondissement","Pharmacie d'officine","A"]
[{"$f":"VLOOKUP(B1716,Régions!A:C,3,FALSE)","v":"Provence-Alpes-Côte d'Azur"},13,{"$error":"#N/A"},130012461,{"$error":"#N/A"},{"$error":"#N/A"},"SELAS PHARMACIE BRES",149,"Route","NATIONALE DE ST-ANTOINE","13240 SEPTÈMES-LES-VALLONS",13240,"Septèmes-les-Vallons","Pharmacie d'officine","A"]
[{"$f":"VLOOKUP(B1717,Régions!A:C,3,FALSE)","v":"Provence-Alpes-Côte d'Azur"},13,{"$error":"#N/A"},130012495,{"$error":"#N/A"},{"$error":"#N/A"},"SELARL GRANDE PHARMACIE PROVENCALE",156,"Boulevard","NATIONAL","13003 MARSEILLE",13003,"Marseille 3e  Arrondissement","Pharmacie d'officine","A"]
[{"$f":"VLOOKUP(B1718,Régions!A:C,3,FALSE)","v":"Provence-Alpes-Côte d'Azur"},13,{"$error":"#N/A"},130012511,{"$error":"#N/A"},{"$error":"#N/A"},"SELARL PHARMACIE COROT",67,"Avenue","COROT","13013 MARSEILLE 13",13013,"Marseille 13e  Arrondissement","Pharmacie d'officine","A"]
[{"$f":"VLOOKUP(B1719,Régions!A:C,3,FALSE)","v":"Provence-Alpes-Côte d'Azur"},13,{"$error":"#N/A"},130012545,{"$error":"#N/A"},{"$error":"#N/A"},"PHARMACIE BRINK",10,"Rue","JEAN-LOUIS VAUDOYER","13090 AIX-EN-PROVENCE",13090,"Aix-en-Provence","Pharmacie d'officine","A"]
[{"$f":"VLOOKUP(B1720,Régions!A:C,3,FALSE)","v":"Provence-Alpes-Côte d'Azur"},13,"PHARMDIRECTFR",130012594,130012594,"oui","SELAS PHARMACIE MARTINET","NULL","Galerie","MARCHANDE DU CENTRE","13800 ISTRES",13800,"Istres","Pharmacie d'officine","A"]
[{"$f":"VLOOKUP(B1721,Régions!A:C,3,FALSE)","v":"Provence-Alpes-Côte d'Azur"},13,"PHARMDIRECTFR",130012610,130012610,"oui","SELARL PHARMACIE SIGHIERI",61,"Boulevard","JEANNE D'ARC","13005 MARSEILLE",13005,"Marseille 5e  Arrondissement","Pharmacie d'officine","A"]
[{"$f":"VLOOKUP(B1722,Régions!A:C,3,FALSE)","v":"Provence-Alpes-Côte d'Azur"},13,"PHARMDIRECTFR",130012644,130012644,"oui","SELARL GRECIAS",41,"Boulevard","JEANNE D'ARC","13005 MARSEILLE",13005,"Marseille 5e  Arrondissement","Pharmacie d'officine","A"]
[{"$f":"VLOOKUP(B1723,Régions!A:C,3,FALSE)","v":"Provence-Alpes-Côte d'Azur"},13,{"$error":"#N/A"},130012677,{"$error":"#N/A"},{"$error":"#N/A"},"SELARL PHARMACIE NAYRAL",21,"Avenue","DU 4 SEPTEMBRE","13220 CHÂTEAUNEUF-LES-MARTIGUES",13220,"Châteauneuf-les-Martigues","Pharmacie d'officine","A"]
[{"$f":"VLOOKUP(B1724,Régions!A:C,3,FALSE)","v":"Provence-Alpes-Côte d'Azur"},13,{"$error":"#N/A"},130012693,{"$error":"#N/A"},{"$error":"#N/A"},"SELARL PHARMACIE ETIEVENT PERETTI",57,"Rue","EMILE ZOLA","13009 MARSEILLE",13009,"Marseille 9e  Arrondissement","Pharmacie d'officine","A"]
[{"$f":"VLOOKUP(B1725,Régions!A:C,3,FALSE)","v":"Provence-Alpes-Côte d'Azur"},13,"PHARMDIRECTFR",130012727,130012727,"oui","SARL PHARMACIE DE LA DURANCE",2,"Avenue","DE LA VICTOIRE","13660 ORGON",13660,"Orgon","Pharmacie d'officine","A"]
[{"$f":"VLOOKUP(B1726,Régions!A:C,3,FALSE)","v":"Provence-Alpes-Côte d'Azur"},13,{"$error":"#N/A"},130012743,{"$error":"#N/A"},{"$error":"#N/A"},"SELARL PHARMACIE AUNE",38,"Boulevard","JEAN JAURES","13340 ROGNAC",13340,"Rognac","Pharmacie d'officine","A"]
[{"$f":"VLOOKUP(B1727,Régions!A:C,3,FALSE)","v":"Provence-Alpes-Côte d'Azur"},13,{"$error":"#N/A"},130012776,{"$error":"#N/A"},{"$error":"#N/A"},"SELARL PHARMACIE DE COUDOUX",1,"Place","CLASTRIER","13111 COUDOUX",13111,"Coudoux","Pharmacie d'officine","A"]
[{"$f":"VLOOKUP(B1728,Régions!A:C,3,FALSE)","v":"Provence-Alpes-Côte d'Azur"},13,{"$error":"#N/A"},130012792,{"$error":"#N/A"},{"$error":"#N/A"},"SELARL PHARMACIE T.D.P.","NULL","Quai","DU LAZARET","13002 MARSEILLE 2E  ARRONDISSEMENT",13002,"Marseille 2e  Arrondissement","Pharmacie d'officine","A"]
[{"$f":"VLOOKUP(B1729,Régions!A:C,3,FALSE)","v":"Provence-Alpes-Côte d'Azur"},13,{"$error":"#N/A"},130012826,{"$error":"#N/A"},{"$error":"#N/A"},"SELARL PHARMACIE RAYNAL AGOPIAN",123,"Avenue","DE ST JULIEN","13012 MARSEILLE 12E  ARRONDISSEMENT",13012,"Marseille 12e  Arrondissement","Pharmacie d'officine","A"]
[{"$f":"VLOOKUP(B1730,Régions!A:C,3,FALSE)","v":"Provence-Alpes-Côte d'Azur"},13,{"$error":"#N/A"},130012842,{"$error":"#N/A"},{"$error":"#N/A"},"SELARL PHARMACIE DES COMTES",1,"Angle","AVE AMBROISE CROIZAT/ MANOUCHIAN","13110 PORT-DE-BOUC",13110,"Port-de-Bouc","Pharmacie d'officine","A"]
[{"$f":"VLOOKUP(B1731,Régions!A:C,3,FALSE)","v":"Provence-Alpes-Côte d'Azur"},13,"CNOP",130012875,130012875,"non","SELEURL PHARMACIE DES CARDINALES",29,"Rue","CESAR ALEMAN","13007 MARSEILLE",13007,"Marseille 7e  Arrondissement","Pharmacie d'officine","A"]
[{"$f":"VLOOKUP(B1732,Régions!A:C,3,FALSE)","v":"Provence-Alpes-Côte d'Azur"},13,{"$error":"#N/A"},130012891,{"$error":"#N/A"},{"$error":"#N/A"},"SELARL PHARMACIE DE LA CROIX","NULL","Chemin","DU COTEAU ROUGE","13590 MEYREUIL",13590,"Meyreuil","Pharmacie d'officine","A"]
[{"$f":"VLOOKUP(B1733,Régions!A:C,3,FALSE)","v":"Provence-Alpes-Côte d'Azur"},13,{"$error":"#N/A"},130012925,{"$error":"#N/A"},{"$error":"#N/A"},"PHARMACIE CADENE-MIMRAM",21,"Avenue","DES ECOLES MILITAIRES","13100 AIX-EN-PROVENCE",13100,"Aix-en-Provence","Pharmacie d'officine","A"]
[{"$f":"VLOOKUP(B1734,Régions!A:C,3,FALSE)","v":"Provence-Alpes-Côte d'Azur"},13,"CNOP",130012941,130012941,"oui","SELARL PHARMACIE FORNARIS",129,"Avenue","PIERRE BROSSOLETTE","13120 GARDANNE",13120,"Gardanne","Pharmacie d'officine","A"]
[{"$f":"VLOOKUP(B1735,Régions!A:C,3,FALSE)","v":"Provence-Alpes-Côte d'Azur"},13,"CNOP",130012974,130012974,"oui","SELARL PHARMACIE D'ORBITELLE ROY RENE",1,"Cours","D'ORBITELLE","13100 AIX-EN-PROVENCE",13100,"Aix-en-Provence","Pharmacie d'officine","A"]
[{"$f":"VLOOKUP(B1736,Régions!A:C,3,FALSE)","v":"Provence-Alpes-Côte d'Azur"},13,"CNOP",130012990,130012990,"oui","SELARL PHARMACIE DE BIVER","NULL","Place","DE L'EGLISE","13120 GARDANNE",13120,"Gardanne","Pharmacie d'officine","A"]
[{"$f":"VLOOKUP(B1737,Régions!A:C,3,FALSE)","v":"Provence-Alpes-Côte d'Azur"},13,"CNOP",130013014,130013014,"oui","SELARL  PHARMACIE CAILLAC",5,"Avenue","DE LA LIBÉRATION","13720 LA BOUILLADISSE",13720,"La Bouilladisse","Pharmacie d'officine","A"]
[{"$f":"VLOOKUP(B1738,Régions!A:C,3,FALSE)","v":"Provence-Alpes-Côte d'Azur"},13,{"$error":"#N/A"},130013030,{"$error":"#N/A"},{"$error":"#N/A"},"PHARMACIE DUPLAN",3,"Boulevard","NATIONAL - ANGLE RUE DU COQ NUMERO 60","13001 MARSEILLE",13001,"Marseille 1er Arrondissement","Pharmacie d'officine","A"]
[{"$f":"VLOOKUP(B1739,Régions!A:C,3,FALSE)","v":"Provence-Alpes-Côte d'Azur"},13,{"$error":"#N/A"},130013063,{"$error":"#N/A"},{"$error":"#N/A"},"SELARL PHARMACIE FOURNIER",48,"Impasse","des Templiers","13180 GIGNAC-LA-NERTHE",13180,"Gignac-la-Nerthe","Pharmacie d'officine","A"]
[{"$f":"VLOOKUP(B1740,Régions!A:C,3,FALSE)","v":"Provence-Alpes-Côte d'Azur"},13,{"$error":"#N/A"},130013097,{"$error":"#N/A"},{"$error":"#N/A"},"PHARMACIE CALCAGNI MIREILLE",101,"Avenue","DE LA FOURRAGERE","13012 MARSEILLE",13012,"Marseille 12e  Arrondissement","Pharmacie d'officine","A"]
[{"$f":"VLOOKUP(B1741,Régions!A:C,3,FALSE)","v":"Provence-Alpes-Côte d'Azur"},13,"PHARMDIRECTFR",130013113,130013113,"oui","SELARL PHARMACIE CALISSI","NULL","NULL","NULL","13011 MARSEILLE",13011,"Marseille 11e  Arrondissement","Pharmacie d'officine","A"]
[{"$f":"VLOOKUP(B1742,Régions!A:C,3,FALSE)","v":"Provence-Alpes-Côte d'Azur"},13,{"$error":"#N/A"},130013147,{"$error":"#N/A"},{"$error":"#N/A"},"PHARMACIE MEGEL",1,"Rue","VALDONNE","13013 MARSEILLE",13013,"Marseille 13e  Arrondissement","Pharmacie d'officine","A"]
[{"$f":"VLOOKUP(B1743,Régions!A:C,3,FALSE)","v":"Provence-Alpes-Côte d'Azur"},13,{"$error":"#N/A"},130013162,{"$error":"#N/A"},{"$error":"#N/A"},"SNC PHARMACIE CAMBON",18,"Rue","VICTOR HUGO","13460 SAINTES-MARIES-DE-LA-MER",13460,"Saintes-Maries-de-la-Mer","Pharmacie d'officine","A"]
[{"$f":"VLOOKUP(B1744,Régions!A:C,3,FALSE)","v":"Provence-Alpes-Côte d'Azur"},13,"CNOP",130013196,130013196,"oui","PHARMACIE CAMMELLINI - RISSO","NULL","Avenue","MERLEAU-PONTY","13013 MARSEILLE",13013,"Marseille 13e  Arrondissement","Pharmacie d'officine","A"]
[{"$f":"VLOOKUP(B1745,Régions!A:C,3,FALSE)","v":"Provence-Alpes-Côte d'Azur"},13,"CNOP",130013212,130013212,"oui","SELEURL PHIE DES VENTS PROVENCAUX","NULL","Zone d amenagement concerte","DE LA ROUSSE","13140 MIRAMAS",13140,"Miramas","Pharmacie d'officine","A"]
[{"$f":"VLOOKUP(B1746,Régions!A:C,3,FALSE)","v":"Provence-Alpes-Côte d'Azur"},13,"PHARMDIRECTFR",130013246,130013246,"oui","SELEURL PHARMACIE CANINO",15,"Chemin","DE CHATEAU GOMBERT","13013 MARSEILLE",13013,"Marseille 13e  Arrondissement","Pharmacie d'officine","A"]
[{"$f":"VLOOKUP(B1747,Régions!A:C,3,FALSE)","v":"Provence-Alpes-Côte d'Azur"},13,"PHARMDIRECTFR",130013261,130013261,"oui","SELAS PHARMACIE DU VIGUEIRAT",44,"Rue","ALAIN GUIGUE","13200 ARLES",13200,"Arles","Pharmacie d'officine","A"]
[{"$f":"VLOOKUP(B1748,Régions!A:C,3,FALSE)","v":"Provence-Alpes-Côte d'Azur"},13,"CNOP",130013295,130013295,"oui","PHARMACIE CARA-SOUNEIJE",59,"Rue","MAHBOULI TIR","13014 MARSEILLE",13014,"Marseille 14e  Arrondissement","Pharmacie d'officine","A"]
[{"$f":"VLOOKUP(B1749,Régions!A:C,3,FALSE)","v":"Provence-Alpes-Côte d'Azur"},13,{"$error":"#N/A"},130013311,{"$error":"#N/A"},{"$error":"#N/A"},"SELARL PHARMACIE SAINTE ANNE",424,"Avenue","DE MAZARGUES","13008 MARSEILLE",13008,"Marseille 8e  Arrondissement","Pharmacie d'officine","A"]
[{"$f":"VLOOKUP(B1750,Régions!A:C,3,FALSE)","v":"Provence-Alpes-Côte d'Azur"},13,{"$error":"#N/A"},130013345,{"$error":"#N/A"},{"$error":"#N/A"},"SELARL PHARMACIE DE LA POINTE ROUGE",55,"Avenue","DE MONTREDON","13008 MARSEILLE",13008,"Marseille 8e  Arrondissement","Pharmacie d'officine","A"]
[{"$f":"VLOOKUP(B1751,Régions!A:C,3,FALSE)","v":"Provence-Alpes-Côte d'Azur"},13,{"$error":"#N/A"},130013360,{"$error":"#N/A"},{"$error":"#N/A"},"SNC CARBONNIERES",150,"Avenue","DU PERE SYLVAIN GIRAUD","13510 ÉGUILLES",13510,"Éguilles","Pharmacie d'officine","A"]
[{"$f":"VLOOKUP(B1752,Régions!A:C,3,FALSE)","v":"Provence-Alpes-Côte d'Azur"},13,{"$error":"#N/A"},130013394,{"$error":"#N/A"},{"$error":"#N/A"},"SELARL PHARMACIE METZ",8,"Rue","DES CATALANS","13007 MARSEILLE",13007,"Marseille 7e  Arrondissement","Pharmacie d'officine","A"]
[{"$f":"VLOOKUP(B1753,Régions!A:C,3,FALSE)","v":"Provence-Alpes-Côte d'Azur"},13,{"$error":"#N/A"},130013410,{"$error":"#N/A"},{"$error":"#N/A"},"SELAS PHARMACIE DE LA ROTONDE","NULL","Avenue","DU GAL DE GAULLE","13380 PLAN-DE-CUQUES",13380,"Plan-de-Cuques","Pharmacie d'officine","A"]
[{"$f":"VLOOKUP(B1754,Régions!A:C,3,FALSE)","v":"Provence-Alpes-Côte d'Azur"},13,{"$error":"#N/A"},130013444,{"$error":"#N/A"},{"$error":"#N/A"},"SELARL LA NOUVELLE PHARMACIE DU COURS",5,"Cours","ARISTIDE BRIAND","13150 TARASCON",13150,"Tarascon","Pharmacie d'officine","A"]
[{"$f":"VLOOKUP(B1755,Régions!A:C,3,FALSE)","v":"Provence-Alpes-Côte d'Azur"},13,{"$error":"#N/A"},130013477,{"$error":"#N/A"},{"$error":"#N/A"},"SELARL PHARMACIE CALYPSO",14,"Avenue","Léo Lagrange","13410 LAMBESC",13410,"Lambesc","Pharmacie d'officine","A"]
[{"$f":"VLOOKUP(B1756,Régions!A:C,3,FALSE)","v":"Provence-Alpes-Côte d'Azur"},13,{"$error":"#N/A"},130013493,{"$error":"#N/A"},{"$error":"#N/A"},"SELARL PHARMACIE DES CANOURGUES",4,"Avenue","DE PROVENCE","13300 SALON-DE-PROVENCE",13300,"Salon-de-Provence","Pharmacie d'officine","A"]
[{"$f":"VLOOKUP(B1757,Régions!A:C,3,FALSE)","v":"Provence-Alpes-Côte d'Azur"},13,{"$error":"#N/A"},130013527,{"$error":"#N/A"},{"$error":"#N/A"},"SELARL PHIE DE LA GAVOTTE PEYRET",38,"Chemin","DE LA BEDOULE","13240 SEPTÈMES-LES-VALLONS",13240,"Septèmes-les-Vallons","Pharmacie d'officine","A"]
[{"$f":"VLOOKUP(B1758,Régions!A:C,3,FALSE)","v":"Provence-Alpes-Côte d'Azur"},13,{"$error":"#N/A"},130013543,{"$error":"#N/A"},{"$error":"#N/A"},"SELARL PHARMACIE DU MARCHE",5,"Cours","DE LA REPUBLIQUE","13120 GARDANNE",13120,"Gardanne","Pharmacie d'officine","A"]
[{"$f":"VLOOKUP(B1759,Régions!A:C,3,FALSE)","v":"Provence-Alpes-Côte d'Azur"},13,"PHARMDIRECTFR",130013576,130013576,"oui","SELARL PHARMACIE DE SORMIOU","NULL","Rue","DU CAPITAINE CROISA","13009 MARSEILLE",13009,"Marseille 9e  Arrondissement","Pharmacie d'officine","A"]
[{"$f":"VLOOKUP(B1760,Régions!A:C,3,FALSE)","v":"Provence-Alpes-Côte d'Azur"},13,{"$error":"#N/A"},130013592,{"$error":"#N/A"},{"$error":"#N/A"},"SELEURL PHARMACIE DE LA GRANDE ARMEE",6,"Rue","DE LA GRANDE ARMEE","13001 MARSEILLE",13001,"Marseille 1er Arrondissement","Pharmacie d'officine","A"]
[{"$f":"VLOOKUP(B1761,Régions!A:C,3,FALSE)","v":"Provence-Alpes-Côte d'Azur"},13,{"$error":"#N/A"},130013626,{"$error":"#N/A"},{"$error":"#N/A"},"SELARL PHARMACIE POURCIN - ARNAL",84,"Avenue","DE LA ROSE","13013 MARSEILLE",13013,"Marseille 13e  Arrondissement","Pharmacie d'officine","A"]
[{"$f":"VLOOKUP(B1762,Régions!A:C,3,FALSE)","v":"Provence-Alpes-Côte d'Azur"},13,"CNOP",130013642,130013642,"oui","SELARL PHARMACIE DAVAL",69,"Avenue","DE LA CORSE","13007 MARSEILLE",13007,"Marseille 7e  Arrondissement","Pharmacie d'officine","A"]
[{"$f":"VLOOKUP(B1763,Régions!A:C,3,FALSE)","v":"Provence-Alpes-Côte d'Azur"},13,{"$error":"#N/A"},130013675,{"$error":"#N/A"},{"$error":"#N/A"},"SELARL PHARMACIE CAYOL",1,"Rue","DES CAMELIAS  CROIX SAINTE","13500 MARTIGUES",13500,"Martigues","Pharmacie d'officine","A"]
[{"$f":"VLOOKUP(B1764,Régions!A:C,3,FALSE)","v":"Provence-Alpes-Côte d'Azur"},13,"CNOP",130013691,130013691,"oui","SELARL PHARMACIE DE L'ESTAQUE GARE",2,"Avenue","de la Gare","13016 MARSEILLE 16",13016,"Marseille 16e  Arrondissement","Pharmacie d'officine","A"]
[{"$f":"VLOOKUP(B1765,Régions!A:C,3,FALSE)","v":"Provence-Alpes-Côte d'Azur"},13,"CNOP",130013725,130013725,"oui","PHARMACIE CERMOLACCE - CUVILLIER",10,"Square","STALINGRAD","13001 MARSEILLE",13001,"Marseille 1er Arrondissement","Pharmacie d'officine","A"]
[{"$f":"VLOOKUP(B1766,Régions!A:C,3,FALSE)","v":"Provence-Alpes-Côte d'Azur"},13,{"$error":"#N/A"},130013741,{"$error":"#N/A"},{"$error":"#N/A"},"SELARL PHARMACIE GOMBERT","NULL","Avenue","de Markgroningen","13310 SAINT-MARTIN-DE-CRAU",13310,"Saint-Martin-de-Crau","Pharmacie d'officine","A"]
[{"$f":"VLOOKUP(B1767,Régions!A:C,3,FALSE)","v":"Provence-Alpes-Côte d'Azur"},13,{"$error":"#N/A"},130013774,{"$error":"#N/A"},{"$error":"#N/A"},"SELARL PHARMACIE URBAINE","NULL","Rue","DE LA REPUBLIQUE","13810 EYGALIERES",13810,"Eygalières","Pharmacie d'officine","A"]
[{"$f":"VLOOKUP(B1768,Régions!A:C,3,FALSE)","v":"Provence-Alpes-Côte d'Azur"},13,"CNOP",130013790,130013790,"oui","SELARL PHARMACIE FRANCHI",192,"Rue","DU ROUET","13008 MARSEILLE",13008,"Marseille","Pharmacie d'officine","A"]
[{"$f":"VLOOKUP(B1769,Régions!A:C,3,FALSE)","v":"Provence-Alpes-Côte d'Azur"},13,{"$error":"#N/A"},130013824,{"$error":"#N/A"},{"$error":"#N/A"},"SELAS  PHARMACIE DE LA ROTONDE",3,"Cours","MIRABEAU","13100 AIX-EN-PROVENCE",13100,"Aix-en-Provence","Pharmacie d'officine","A"]
[{"$f":"VLOOKUP(B1770,Régions!A:C,3,FALSE)","v":"Provence-Alpes-Côte d'Azur"},13,{"$error":"#N/A"},130013840,{"$error":"#N/A"},{"$error":"#N/A"},"SELARL  PHARMACIE DU PLANET",11,"Place","SEXTIUS MICHEL","13560 SÉNAS",13560,"Sénas","Pharmacie d'officine","A"]
[{"$f":"VLOOKUP(B1771,Régions!A:C,3,FALSE)","v":"Provence-Alpes-Côte d'Azur"},13,{"$error":"#N/A"},130013865,{"$error":"#N/A"},{"$error":"#N/A"},"SELAS PHARMACIE DAHOUNE",38,"Avenue","DU MERLAN","13014 MARSEILLE",13014,"Marseille 14e  Arrondissement","Pharmacie d'officine","A"]
[{"$f":"VLOOKUP(B1772,Régions!A:C,3,FALSE)","v":"Provence-Alpes-Côte d'Azur"},13,"PHARMDIRECTFR",130013881,130013881,"oui","SELARL PHARMACIE HOTEL DU DEPARTEMENT",7,"Rue","ALPHONSE DAUDET","13013 MARSEILLE",13013,"Marseille 13e  Arrondissement","Pharmacie d'officine","A"]
[{"$f":"VLOOKUP(B1773,Régions!A:C,3,FALSE)","v":"Provence-Alpes-Côte d'Azur"},13,{"$error":"#N/A"},130013915,{"$error":"#N/A"},{"$error":"#N/A"},"SELARL PHARMACIE DES SALINS","NULL","Place","Carle Naudot","13129 ARLES",13129,"Arles","Pharmacie d'officine","A"]
[{"$f":"VLOOKUP(B1774,Régions!A:C,3,FALSE)","v":"Provence-Alpes-Côte d'Azur"},13,"CNOP",130013931,130013931,"oui","SELARL PHARMACIE S. DENCAUSSE",14,"Rue","DU COLONEL DENFERT","13500 MARTIGUES",13500,"Martigues","Pharmacie d'officine","A"]
[{"$f":"VLOOKUP(B1775,Régions!A:C,3,FALSE)","v":"Provence-Alpes-Côte d'Azur"},13,{"$error":"#N/A"},130013964,{"$error":"#N/A"},{"$error":"#N/A"},"PHARMACIE PSAILA",67,"Cours","GAMBETTA","13100 AIX-EN-PROVENCE",13100,"Aix-en-Provence","Pharmacie d'officine","A"]
[{"$f":"VLOOKUP(B1776,Régions!A:C,3,FALSE)","v":"Provence-Alpes-Côte d'Azur"},13,{"$error":"#N/A"},130013980,{"$error":"#N/A"},{"$error":"#N/A"},"SELEURL PHARMACIE DE PONT DE CRAU",18,"Route","NATIONALE","13200 ARLES",13200,"Arles","Pharmacie d'officine","A"]
[{"$f":"VLOOKUP(B1777,Régions!A:C,3,FALSE)","v":"Provence-Alpes-Côte d'Azur"},13,"PHARMDIRECTFR",130014012,130014012,"oui","SELARL PHIE ROCCA PARADIS PRADO",574,"Rue","PARADIS","13008 MARSEILLE",13008,"Marseille 8e  Arrondissement","Pharmacie d'officine","A"]
[{"$f":"VLOOKUP(B1778,Régions!A:C,3,FALSE)","v":"Provence-Alpes-Côte d'Azur"},13,{"$error":"#N/A"},130014046,{"$error":"#N/A"},{"$error":"#N/A"},"SELARL PHARMACIE COUSTILLAC",108,"Boulevard","DE LA VALBARELLE","13011 MARSEILLE",13011,"Marseille 11e  Arrondissement","Pharmacie d'officine","A"]
[{"$f":"VLOOKUP(B1779,Régions!A:C,3,FALSE)","v":"Provence-Alpes-Côte d'Azur"},13,{"$error":"#N/A"},130014061,{"$error":"#N/A"},{"$error":"#N/A"},"SELARL PHARMACIE DE LA TOURTELLE","NULL","Route","NATIONALE 8","13400 AUBAGNE",13400,"Aubagne","Pharmacie d'officine","A"]
[{"$f":"VLOOKUP(B1780,Régions!A:C,3,FALSE)","v":"Provence-Alpes-Côte d'Azur"},13,"PHARMDIRECTFR",130014111,130014111,"oui","SELAS GRANDE PHARMACIE DU PARC",102,"Avenue","FREDERIC CHEVILLON","13380 PLAN-DE-CUQUES",13380,"Plan-de-Cuques","Pharmacie d'officine","A"]
[{"$f":"VLOOKUP(B1781,Régions!A:C,3,FALSE)","v":"Provence-Alpes-Côte d'Azur"},13,{"$error":"#N/A"},130014145,{"$error":"#N/A"},{"$error":"#N/A"},"PHARMACIE CHAU",759,"Avenue","DU GENERAL DE MONTSABERT","13190 ALLAUCH",13190,"Allauch","Pharmacie d'officine","A"]
[{"$f":"VLOOKUP(B1782,Régions!A:C,3,FALSE)","v":"Provence-Alpes-Côte d'Azur"},13,"PHARMDIRECTFR",130014160,130014160,"oui","SELEURL PHARMACIE DES ECOLES",25,"Rue","DE LA REPUBLIQUE","13550 NOVES",13550,"Noves","Pharmacie d'officine","A"]
[{"$f":"VLOOKUP(B1783,Régions!A:C,3,FALSE)","v":"Provence-Alpes-Côte d'Azur"},13,"CNOP",130014194,130014194,"oui","SELAS GRANDE PHIE DE LA VALENTINE","NULL","NULL","NULL","13011 MARSEILLE",13011,"Marseille 11e  Arrondissement","Pharmacie d'officine","A"]
[{"$f":"VLOOKUP(B1784,Régions!A:C,3,FALSE)","v":"Provence-Alpes-Côte d'Azur"},13,{"$error":"#N/A"},130014210,{"$error":"#N/A"},{"$error":"#N/A"},"SELEURL PHARMACIE PARENT",75,"Avenue","DES POILUS","13013 MARSEILLE",13013,"Marseille 13e  Arrondissement","Pharmacie d'officine","A"]
[{"$f":"VLOOKUP(B1785,Régions!A:C,3,FALSE)","v":"Provence-Alpes-Côte d'Azur"},13,{"$error":"#N/A"},130014244,{"$error":"#N/A"},{"$error":"#N/A"},"SELARL PHARMACIE DU PALAIS",25,"Cours","PIERRE PUGET","13006 MARSEILLE",13006,"Marseille 6e  Arrondissement","Pharmacie d'officine","A"]
[{"$f":"VLOOKUP(B1786,Régions!A:C,3,FALSE)","v":"Provence-Alpes-Côte d'Azur"},13,"PHARMDIRECTFR",130014277,130014277,"oui","SELARL PHARMA TNT",33,"Avenue","ROGER SALENGRO","13400 AUBAGNE",13400,"Aubagne","Pharmacie d'officine","A"]
[{"$f":"VLOOKUP(B1787,Régions!A:C,3,FALSE)","v":"Provence-Alpes-Côte d'Azur"},13,{"$error":"#N/A"},130014293,{"$error":"#N/A"},{"$error":"#N/A"},"SELARL PHARMA2C",23,"Avenue","FRANCOIS MIGNET","13013 MARSEILLE",13013,"Marseille 13e  Arrondissement","Pharmacie d'officine","A"]
[{"$f":"VLOOKUP(B1788,Régions!A:C,3,FALSE)","v":"Provence-Alpes-Côte d'Azur"},13,{"$error":"#N/A"},130014327,{"$error":"#N/A"},{"$error":"#N/A"},"PHARMACIE CLOSON",207,"Avenue","DES CHARTREUX","13004 MARSEILLE",13004,"Marseille 4e  Arrondissement","Pharmacie d'officine","A"]
[{"$f":"VLOOKUP(B1789,Régions!A:C,3,FALSE)","v":"Provence-Alpes-Côte d'Azur"},13,{"$error":"#N/A"},130014343,{"$error":"#N/A"},{"$error":"#N/A"},"PHARMACIE CODACCIONI",133,"Avenue","FRANCOIS MITTERRAND","13170 LES-PENNES-MIRABEAU",13170,"Les Pennes-Mirabeau","Pharmacie d'officine","A"]
[{"$f":"VLOOKUP(B1790,Régions!A:C,3,FALSE)","v":"Provence-Alpes-Côte d'Azur"},13,{"$error":"#N/A"},130014376,{"$error":"#N/A"},{"$error":"#N/A"},"PHARMACIE HENRY","NULL","Chemin","DE SAINT LOUIS","13015 MARSEILLE",13015,"Marseille 15e  Arrondissement","Pharmacie d'officine","A"]
[{"$f":"VLOOKUP(B1791,Régions!A:C,3,FALSE)","v":"Provence-Alpes-Côte d'Azur"},13,{"$error":"#N/A"},130014392,{"$error":"#N/A"},{"$error":"#N/A"},"SARL PHARMACIE DE LA REPUBLIQUE",7,"Rue","DE LA REPUBLIQUE","13002 MARSEILLE",13002,"Marseille 2e  Arrondissement","Pharmacie d'officine","A"]
[{"$f":"VLOOKUP(B1792,Régions!A:C,3,FALSE)","v":"Provence-Alpes-Côte d'Azur"},13,"CNOP",130014426,130014426,"oui","SELAS PHARMACIE RPI",18,"Rue","Albert Einstein","13013 MARSEILLE 13E  ARRONDISSEMENT",13013,"Marseille 13e  Arrondissement","Pharmacie d'officine","A"]
[{"$f":"VLOOKUP(B1793,Régions!A:C,3,FALSE)","v":"Provence-Alpes-Côte d'Azur"},13,"PHARMDIRECTFR",130014442,130014442,"oui","PHARMACIE COLLIN-ARNAUD",606,"Avenue","DU GENERAL DE GAULLE","13109 SIMIANE-COLLONGUE",13109,"Simiane-Collongue","Pharmacie d'officine","A"]
[{"$f":"VLOOKUP(B1794,Régions!A:C,3,FALSE)","v":"Provence-Alpes-Côte d'Azur"},13,{"$error":"#N/A"},130014475,{"$error":"#N/A"},{"$error":"#N/A"},"SELAS DUMATE",34,"Rue","DE L'ARENE","13260 CASSIS",13260,"Cassis","Pharmacie d'officine","A"]
[{"$f":"VLOOKUP(B1795,Régions!A:C,3,FALSE)","v":"Provence-Alpes-Côte d'Azur"},13,{"$error":"#N/A"},130014491,{"$error":"#N/A"},{"$error":"#N/A"},"SARL PHARMACIE DE PLOMBIERES",93,"Boulevard","BUREL","13014 MARSEILLE",13014,"Marseille 14e  Arrondissement","Pharmacie d'officine","A"]
[{"$f":"VLOOKUP(B1796,Régions!A:C,3,FALSE)","v":"Provence-Alpes-Côte d'Azur"},13,{"$error":"#N/A"},130014525,{"$error":"#N/A"},{"$error":"#N/A"},"SELAS  PHARMACIE DES OLIVES",52,"Avenue","FRÉDÉRIC MISTRAL","13013 MARSEILLE 13E  ARRONDISSEMENT",13013,"Marseille 13e  Arrondissement","Pharmacie d'officine","A"]
[{"$f":"VLOOKUP(B1797,Régions!A:C,3,FALSE)","v":"Provence-Alpes-Côte d'Azur"},13,{"$error":"#N/A"},130014541,{"$error":"#N/A"},{"$error":"#N/A"},"SELARL PHARMACIE CONCIATORI",100,"Boulevard","CAMILLE FLAMMARION","13004 MARSEILLE",13004,"Marseille 4e  Arrondissement","Pharmacie d'officine","A"]
[{"$f":"VLOOKUP(B1798,Régions!A:C,3,FALSE)","v":"Provence-Alpes-Côte d'Azur"},13,{"$error":"#N/A"},130014574,{"$error":"#N/A"},{"$error":"#N/A"},"EURL PHARMACIE ROUL",89,"Route","NATIONALE DE ST LOUIS","13015 MARSEILLE",13015,"Marseille 15e  Arrondissement","Pharmacie d'officine","A"]
[{"$f":"VLOOKUP(B1799,Régions!A:C,3,FALSE)","v":"Provence-Alpes-Côte d'Azur"},13,"CNOP",130014590,130014590,"oui","PHARMACIE BORRELY-MARTIN",27,"Cours","FOCH","13640 ROQUE-D'ANTHÉRON (LA)",13640,"La Roque-d'Anthéron","Pharmacie d'officine","A"]
[{"$f":"VLOOKUP(B1800,Régions!A:C,3,FALSE)","v":"Provence-Alpes-Côte d'Azur"},13,"PHARMDIRECTFR",130014624,130014624,"oui","PHARMACIE CONTAT",63,"Rue","BELLEFONT","13920 SAINT-MITRE-LES-REMPARTS",13920,"Saint-Mitre-les-Remparts","Pharmacie d'officine","A"]
[{"$f":"VLOOKUP(B1801,Régions!A:C,3,FALSE)","v":"Provence-Alpes-Côte d'Azur"},13,"CNOP",130014640,130014640,"oui","SELARL  PHARMACIE DES FONTAINES",172,"Avenue","de la Première Division Blindée","13420 GEMENOS",13420,"Gémenos","Pharmacie d'officine","A"]
[{"$f":"VLOOKUP(B1802,Régions!A:C,3,FALSE)","v":"Provence-Alpes-Côte d'Azur"},13,"PHARMDIRECTFR",130014665,130014665,"oui","SELARL DES OLIVIERS",17,"Place","THIERS","13430 EYGUIÈRES",13430,"Eyguières","Pharmacie d'officine","A"]
[{"$f":"VLOOKUP(B1803,Régions!A:C,3,FALSE)","v":"Provence-Alpes-Côte d'Azur"},13,{"$error":"#N/A"},130014681,{"$error":"#N/A"},{"$error":"#N/A"},"SELARL PHARMACIE DU STADE VELODROME",16,"Rue","Negresko","13008 MARSEILLE 08",13008,"Marseille 8e  Arrondissement","Pharmacie d'officine","A"]
[{"$f":"VLOOKUP(B1804,Régions!A:C,3,FALSE)","v":"Provence-Alpes-Côte d'Azur"},13,{"$error":"#N/A"},130014715,{"$error":"#N/A"},{"$error":"#N/A"},"SELARL PHARMACIE  PFLIEGER",116,"Boulevard","DE LA MILLIERE","13011 MARSEILLE",13011,"Marseille 11e  Arrondissement","Pharmacie d'officine","A"]
[{"$f":"VLOOKUP(B1805,Régions!A:C,3,FALSE)","v":"Provence-Alpes-Côte d'Azur"},13,{"$error":"#N/A"},130014731,{"$error":"#N/A"},{"$error":"#N/A"},"SELARL LEV",27,"Rue","POIDS DE LA FARINE","13001 MARSEILLE",13001,"Marseille 1er Arrondissement","Pharmacie d'officine","A"]
[{"$f":"VLOOKUP(B1806,Régions!A:C,3,FALSE)","v":"Provence-Alpes-Côte d'Azur"},13,{"$error":"#N/A"},130014764,{"$error":"#N/A"},{"$error":"#N/A"},"PHARMACIE MAILHES",12,"Boulevard","Jean Marie l'Huillier","13800 ISTRES",13800,"Istres","Pharmacie d'officine","A"]
[{"$f":"VLOOKUP(B1807,Régions!A:C,3,FALSE)","v":"Provence-Alpes-Côte d'Azur"},13,{"$error":"#N/A"},130014780,{"$error":"#N/A"},{"$error":"#N/A"},"SELARL PHARMACIE CAMILLE PELLETAN",78,"Avenue","CAMILLE PELLETAN","13003 MARSEILLE",13003,"Marseille 3e  Arrondissement","Pharmacie d'officine","A"]
[{"$f":"VLOOKUP(B1808,Régions!A:C,3,FALSE)","v":"Provence-Alpes-Côte d'Azur"},13,"CNOP",130014814,130014814,"oui","SELARL PHARMACIE CENTRALE",13,"Avenue","ROBERT MARIGNAN","13160 CHÂTEAURENARD",13160,"Châteaurenard","Pharmacie d'officine","A"]
[{"$f":"VLOOKUP(B1809,Régions!A:C,3,FALSE)","v":"Provence-Alpes-Côte d'Azur"},13,{"$error":"#N/A"},130014830,{"$error":"#N/A"},{"$error":"#N/A"},"SARL PHARMACIE DE FONTSAINTE",39,"Avenue","DE FONTSAINTE","13600 CIOTAT (LA)",13600,"La Ciotat","Pharmacie d'officine","A"]
[{"$f":"VLOOKUP(B1810,Régions!A:C,3,FALSE)","v":"Provence-Alpes-Côte d'Azur"},13,"CNOP",130014863,130014863,"oui","SELARL PHARMACIE CHARBIT",171,"Boulevard","CHAVE","13005 MARSEILLE",13005,"Marseille 5e  Arrondissement","Pharmacie d'officine","A"]
[{"$f":"VLOOKUP(B1811,Régions!A:C,3,FALSE)","v":"Provence-Alpes-Côte d'Azur"},13,"CNOP",130014897,130014897,"oui","SELEURL PHARMACIE RIPOLL-CASSARINO",64,"Route","NATIONALE 568","13740 ROVE (LE)",13740,"Le Rove","Pharmacie d'officine","A"]
[{"$f":"VLOOKUP(B1812,Régions!A:C,3,FALSE)","v":"Provence-Alpes-Côte d'Azur"},13,{"$error":"#N/A"},130014913,{"$error":"#N/A"},{"$error":"#N/A"},"SELARL PHARMACIE PHARMINIMO",8,"Place","DE STRASBOURG","13003 MARSEILLE",13003,"Marseille 3e  Arrondissement","Pharmacie d'officine","A"]
[{"$f":"VLOOKUP(B1813,Régions!A:C,3,FALSE)","v":"Provence-Alpes-Côte d'Azur"},13,{"$error":"#N/A"},130014962,{"$error":"#N/A"},{"$error":"#N/A"},"SELARL PHARMACIE MATHIOT",10,"Avenue","DAUGEY","13080 AIX-EN-PROVENCE",13080,"Aix-en-Provence","Pharmacie d'officine","A"]
[{"$f":"VLOOKUP(B1814,Régions!A:C,3,FALSE)","v":"Provence-Alpes-Côte d'Azur"},13,{"$error":"#N/A"},130015043,{"$error":"#N/A"},{"$error":"#N/A"},"SARL PHARMACIE DU GRAND JARDIN","NULL","Chemin","DE L'ADRECH","13119 SAINT-SAVOURNIN",13119,"Saint-Savournin","Pharmacie d'officine","A"]
[{"$f":"VLOOKUP(B1815,Régions!A:C,3,FALSE)","v":"Provence-Alpes-Côte d'Azur"},13,{"$error":"#N/A"},130015076,{"$error":"#N/A"},{"$error":"#N/A"},"SELAS PHARMACIE DU PROGRES",72,"Cours","CARNOT","13300 SALON-DE-PROVENCE",13300,"Salon-de-Provence","Pharmacie d'officine","A"]
[{"$f":"VLOOKUP(B1816,Régions!A:C,3,FALSE)","v":"Provence-Alpes-Côte d'Azur"},13,{"$error":"#N/A"},130015092,{"$error":"#N/A"},{"$error":"#N/A"},"SELAS  PHARMACIE DU GOLFE",87,"Chemin","DE LA PEPINIERE","13600 CIOTAT (LA)",13600,"La Ciotat","Pharmacie d'officine","A"]
[{"$f":"VLOOKUP(B1817,Régions!A:C,3,FALSE)","v":"Provence-Alpes-Côte d'Azur"},13,"CNOP",130015126,130015126,"oui","SELAS PHARMACIE MASSILIA",11,"Avenue","ROGER SALENGRO","13003 MARSEILLE",13003,"Marseille 3e  Arrondissement","Pharmacie d'officine","A"]
[{"$f":"VLOOKUP(B1818,Régions!A:C,3,FALSE)","v":"Provence-Alpes-Côte d'Azur"},13,{"$error":"#N/A"},130015142,{"$error":"#N/A"},{"$error":"#N/A"},"SELARL PHARMACIE DES DEUX PLACES",117,"Rue","BELLE DE MAI","13003 MARSEILLE",13003,"Marseille 3e  Arrondissement","Pharmacie d'officine","A"]
[{"$f":"VLOOKUP(B1819,Régions!A:C,3,FALSE)","v":"Provence-Alpes-Côte d'Azur"},13,"PHARMDIRECTFR",130015175,130015175,"oui","SELARL PHARMACIE DIAI",76,"NULL","LA CANEBIERE","13001 MARSEILLE",13001,"Marseille 1er Arrondissement","Pharmacie d'officine","A"]
[{"$f":"VLOOKUP(B1820,Régions!A:C,3,FALSE)","v":"Provence-Alpes-Côte d'Azur"},13,{"$error":"#N/A"},130015191,{"$error":"#N/A"},{"$error":"#N/A"},"SARL CISMONTE",98,"Boulevard","VOLTAIRE","13821 LA-PENNE-SUR-HUVEAUNE",13821,"La Penne-sur-Huveaune","Pharmacie d'officine","A"]
[{"$f":"VLOOKUP(B1821,Régions!A:C,3,FALSE)","v":"Provence-Alpes-Côte d'Azur"},13,{"$error":"#N/A"},130015225,{"$error":"#N/A"},{"$error":"#N/A"},"SELARL PHARMACIE HARDY","NULL","Rue","Pythagore","13290 AIX-EN-PROVENCE",13290,"Aix-en-Provence","Pharmacie d'officine","A"]
[{"$f":"VLOOKUP(B1822,Régions!A:C,3,FALSE)","v":"Provence-Alpes-Côte d'Azur"},13,{"$error":"#N/A"},130015241,{"$error":"#N/A"},{"$error":"#N/A"},"SELARL PHARMACIE PONS",10,"Avenue","DES ALPILLES","13310 SAINT-MARTIN-DE-CRAU",13310,"Saint-Martin-de-Crau","Pharmacie d'officine","A"]
[{"$f":"VLOOKUP(B1823,Régions!A:C,3,FALSE)","v":"Provence-Alpes-Côte d'Azur"},13,{"$error":"#N/A"},130021702,{"$error":"#N/A"},{"$error":"#N/A"},"SELARL PHARMACIE GAILLARD",613,"Avenue","Victor Hugo","13122 VENTABREN",13122,"Ventabren","Pharmacie d'officine","A"]
[{"$f":"VLOOKUP(B1824,Régions!A:C,3,FALSE)","v":"Provence-Alpes-Côte d'Azur"},13,"CNOP",130021736,130021736,"oui","SELARL PHARMACIE 65 PRADO",65,"Avenue","DU PRADO","13006 MARSEILLE",13006,"Marseille 6e  Arrondissement","Pharmacie d'officine","A"]
[{"$f":"VLOOKUP(B1825,Régions!A:C,3,FALSE)","v":"Provence-Alpes-Côte d'Azur"},13,"PHARMDIRECTFR",130021751,130021751,"oui","SELAS PHARMACIE JOUVE",16,"Rue","DES POILUS","13600 CIOTAT (LA)",13600,"La Ciotat","Pharmacie d'officine","A"]
[{"$f":"VLOOKUP(B1826,Régions!A:C,3,FALSE)","v":"Provence-Alpes-Côte d'Azur"},13,{"$error":"#N/A"},130021785,{"$error":"#N/A"},{"$error":"#N/A"},"SELEURL PHARMACIE DE MAZARGUES",78,"Boulevard","DE LA CONCORDE","13009 MARSEILLE",13009,"Marseille 9e  Arrondissement","Pharmacie d'officine","A"]
[{"$f":"VLOOKUP(B1827,Régions!A:C,3,FALSE)","v":"Provence-Alpes-Côte d'Azur"},13,"PHARMDIRECTFR",130021801,130021801,"oui","SELARL PHARMACIE DECAROLI-STE MARTHE",234,"Chemin","DE STE MARTHE","13014 MARSEILLE 14E  ARRONDISSEMENT",13014,"Marseille 14e  Arrondissement","Pharmacie d'officine","A"]
[{"$f":"VLOOKUP(B1828,Régions!A:C,3,FALSE)","v":"Provence-Alpes-Côte d'Azur"},13,{"$error":"#N/A"},130021835,{"$error":"#N/A"},{"$error":"#N/A"},"PHARMACIE DECOOL",1,"Cours","SEXTIUS","13100 AIX-EN-PROVENCE",13100,"Aix-en-Provence","Pharmacie d'officine","A"]
[{"$f":"VLOOKUP(B1829,Régions!A:C,3,FALSE)","v":"Provence-Alpes-Côte d'Azur"},13,"PHARMDIRECTFR",130021850,130021850,"oui","SELARL PHARMACIE GONNET",129,"Boulevard","DE SAINT LOUP","13010 MARSEILLE 10E  ARRONDISSEMENT",13010,"Marseille 10e  Arrondissement","Pharmacie d'officine","A"]
[{"$f":"VLOOKUP(B1830,Régions!A:C,3,FALSE)","v":"Provence-Alpes-Côte d'Azur"},13,{"$error":"#N/A"},130021884,{"$error":"#N/A"},{"$error":"#N/A"},"SELARL PHARMACIE BASTIA BARES",57,"Boulevard","ROMAIN-ROLLAND","13010 MARSEILLE 10",13010,"Marseille 10e  Arrondissement","Pharmacie d'officine","A"]
[{"$f":"VLOOKUP(B1831,Régions!A:C,3,FALSE)","v":"Provence-Alpes-Côte d'Azur"},13,{"$error":"#N/A"},130021900,{"$error":"#N/A"},{"$error":"#N/A"},"SELARL PHARMACIE DELAPIERRE",2405,"Quartier","DU PUITS VIEUX","13480 CABRIÈS",13480,"Cabriès","Pharmacie d'officine","A"]
[{"$f":"VLOOKUP(B1832,Régions!A:C,3,FALSE)","v":"Provence-Alpes-Côte d'Azur"},13,{"$error":"#N/A"},130021934,{"$error":"#N/A"},{"$error":"#N/A"},"SELARL PHARMACIE SCHMIDT VERDELHAN",75,"Avenue","MAURICE THOREZ","13110 PORT-DE-BOUC",13110,"Port-de-Bouc","Pharmacie d'officine","A"]
[{"$f":"VLOOKUP(B1833,Régions!A:C,3,FALSE)","v":"Provence-Alpes-Côte d'Azur"},13,{"$error":"#N/A"},130021967,{"$error":"#N/A"},{"$error":"#N/A"},"SELAS PHARMACIE DES 5 AVENUES",6,"Avenue","DES CHARTREUX","13004 MARSEILLE",13004,"Marseille 4e  Arrondissement","Pharmacie d'officine","A"]
[{"$f":"VLOOKUP(B1834,Régions!A:C,3,FALSE)","v":"Provence-Alpes-Côte d'Azur"},13,"CNOP",130021983,130021983,"oui","SELARL PHARMACIE SAINT VICTOR",48,"Rue","D'ENDOUME","13007 MARSEILLE",13007,"Marseille 7e  Arrondissement","Pharmacie d'officine","A"]
[{"$f":"VLOOKUP(B1835,Régions!A:C,3,FALSE)","v":"Provence-Alpes-Côte d'Azur"},13,"PHARMDIRECTFR",130022007,130022007,"oui","SELARL DEBONO DELPIN",118,"Boulevard","Chave","13005 MARSEILLE 5E  ARRONDISSEMENT",13005,"Marseille 5e  Arrondissement","Pharmacie d'officine","A"]
[{"$f":"VLOOKUP(B1836,Régions!A:C,3,FALSE)","v":"Provence-Alpes-Côte d'Azur"},13,"PHARMDIRECTFR",130022023,130022023,"oui","SARL PHARMACIE AYOUB GABBRIELLI",94,"Avenue","ANDRE ZENATTI","13008 MARSEILLE",13008,"Marseille 8e  Arrondissement","Pharmacie d'officine","A"]
[{"$f":"VLOOKUP(B1837,Régions!A:C,3,FALSE)","v":"Provence-Alpes-Côte d'Azur"},13,{"$error":"#N/A"},130022056,{"$error":"#N/A"},{"$error":"#N/A"},"SELARL B2P",49,"Route","de Crau","13200 ARLES",13200,"Arles","Pharmacie d'officine","A"]
[{"$f":"VLOOKUP(B1838,Régions!A:C,3,FALSE)","v":"Provence-Alpes-Côte d'Azur"},13,{"$error":"#N/A"},130022072,{"$error":"#N/A"},{"$error":"#N/A"},"EURL PHARMACIE DERVAUX COLOMB","NULL","Zone activite","SAINT ESTEVE","13360 ROQUEVAIRE",13360,"Roquevaire","Pharmacie d'officine","A"]
[{"$f":"VLOOKUP(B1839,Régions!A:C,3,FALSE)","v":"Provence-Alpes-Côte d'Azur"},13,{"$error":"#N/A"},130022106,{"$error":"#N/A"},{"$error":"#N/A"},"SELARL PHARMACIE DU STADE",120,"Boulevard","ROMAIN ROLLAND","13010 MARSEILLE",13010,"Marseille 10e  Arrondissement","Pharmacie d'officine","A"]
[{"$f":"VLOOKUP(B1840,Régions!A:C,3,FALSE)","v":"Provence-Alpes-Côte d'Azur"},13,{"$error":"#N/A"},130022122,{"$error":"#N/A"},{"$error":"#N/A"},"SELAS PHARMACIE DESMOULINS DEPIEDS","NULL","Boulevard","MARCEL DELPRAT","13013 MARSEILLE",13013,"Marseille 13e  Arrondissement","Pharmacie d'officine","A"]
[{"$f":"VLOOKUP(B1841,Régions!A:C,3,FALSE)","v":"Provence-Alpes-Côte d'Azur"},13,{"$error":"#N/A"},130022155,{"$error":"#N/A"},{"$error":"#N/A"},"SELARL PHARMACIE THIERRY DESRUELLES",106,"Avenue","DE LA CAPELETTE","13010 MARSEILLE",13010,"Marseille 10e  Arrondissement","Pharmacie d'officine","A"]
[{"$f":"VLOOKUP(B1842,Régions!A:C,3,FALSE)","v":"Provence-Alpes-Côte d'Azur"},13,{"$error":"#N/A"},130022205,{"$error":"#N/A"},{"$error":"#N/A"},"SELAS PHARMACIE BOULAABA",10,"Rue","DE FORBIN","13003 MARSEILLE 03",13003,"Marseille 3e  Arrondissement","Pharmacie d'officine","A"]
[{"$f":"VLOOKUP(B1843,Régions!A:C,3,FALSE)","v":"Provence-Alpes-Côte d'Azur"},13,{"$error":"#N/A"},130022221,{"$error":"#N/A"},{"$error":"#N/A"},"PHARMACIE DJAOUI",5,"Rue","CRILLON","13005 MARSEILLE",13005,"Marseille 5e  Arrondissement","Pharmacie d'officine","A"]
[{"$f":"VLOOKUP(B1844,Régions!A:C,3,FALSE)","v":"Provence-Alpes-Côte d'Azur"},13,{"$error":"#N/A"},130022254,{"$error":"#N/A"},{"$error":"#N/A"},"SELAS PHARMACIE TONDA","NULL","Quartier","LES CADENEAUX LE CLOS IDEAL","13170 LES-PENNES-MIRABEAU",13170,"Les Pennes-Mirabeau","Pharmacie d'officine","A"]
[{"$f":"VLOOKUP(B1845,Régions!A:C,3,FALSE)","v":"Provence-Alpes-Côte d'Azur"},13,{"$error":"#N/A"},130022270,{"$error":"#N/A"},{"$error":"#N/A"},"SELAS PHARMACIE REVERDY",2,"Avenue","MIRABEAU","13530 TRETS",13530,"Trets","Pharmacie d'officine","A"]
[{"$f":"VLOOKUP(B1846,Régions!A:C,3,FALSE)","v":"Provence-Alpes-Côte d'Azur"},13,"PHARMDIRECTFR",130022304,130022304,"oui","SELARL PHARMACIE LEMAITRE - MALCOTTI",2,"Rue","ETIENNE LOUIS","13190 ALLAUCH",13190,"Allauch","Pharmacie d'officine","A"]
[{"$f":"VLOOKUP(B1847,Régions!A:C,3,FALSE)","v":"Provence-Alpes-Côte d'Azur"},13,{"$error":"#N/A"},130022320,{"$error":"#N/A"},{"$error":"#N/A"},"SELEURL PHARMACIE MOSTEFAOUI",358,"Chemin","DU LITTORAL","13015 MARSEILLE",13015,"Marseille 15e  Arrondissement","Pharmacie d'officine","A"]
[{"$f":"VLOOKUP(B1848,Régions!A:C,3,FALSE)","v":"Provence-Alpes-Côte d'Azur"},13,{"$error":"#N/A"},130022353,{"$error":"#N/A"},{"$error":"#N/A"},"SELARL  PHARMACIE DE BAGATELLE",645,"Route","DE BERRE","13090 AIX-EN-PROVENCE",13090,"Aix-en-Provence","Pharmacie d'officine","A"]
[{"$f":"VLOOKUP(B1849,Régions!A:C,3,FALSE)","v":"Provence-Alpes-Côte d'Azur"},13,"PHARMDIRECTFR",130022387,130022387,"non","SELARL PHARMACIE DE LA NATIONALE",44,"Route","NATIONALE 7","13670 SAINT-ANDIOL",13670,"Saint-Andiol","Pharmacie d'officine","A"]
[{"$f":"VLOOKUP(B1850,Régions!A:C,3,FALSE)","v":"Provence-Alpes-Côte d'Azur"},13,"CNOP",130022403,130022403,"oui","SELARL PHARMACIE DE BOIS LUZY",1,"Place","DE BOIS LUZY","13012 MARSEILLE",13012,"Marseille 12e  Arrondissement","Pharmacie d'officine","A"]
[{"$f":"VLOOKUP(B1851,Régions!A:C,3,FALSE)","v":"Provence-Alpes-Côte d'Azur"},13,"PHARMDIRECTFR",130022437,130022437,"oui","SARL NOLINE",21,"Boulevard","ITAM","13150 TARASCON",13150,"Tarascon","Pharmacie d'officine","A"]
[{"$f":"VLOOKUP(B1852,Régions!A:C,3,FALSE)","v":"Provence-Alpes-Côte d'Azur"},13,"CNOP",130022452,130022452,"oui","SELARL PHARMACIE BURESI",126,"Rue","D'ENDOUME","13007 MARSEILLE",13007,"Marseille 7e  Arrondissement","Pharmacie d'officine","A"]
[{"$f":"VLOOKUP(B1853,Régions!A:C,3,FALSE)","v":"Provence-Alpes-Côte d'Azur"},13,{"$error":"#N/A"},130022486,{"$error":"#N/A"},{"$error":"#N/A"},"SELARL PHARMACIE DE LA POSTE",4,"Quai","BONNARDEL","13230 PORT-SAINT-LOUIS-DU-RHÔNE",13230,"Port-Saint-Louis-du-Rhône","Pharmacie d'officine","A"]
[{"$f":"VLOOKUP(B1854,Régions!A:C,3,FALSE)","v":"Provence-Alpes-Côte d'Azur"},13,{"$error":"#N/A"},130022502,{"$error":"#N/A"},{"$error":"#N/A"},"SELARL PHARMACIE DUBOIS",37,"Boulevard","EMILE COMBES & 1 RUE CAMILLE PELLETAN","13200 ARLES",13200,"Arles","Pharmacie d'officine","A"]
[{"$f":"VLOOKUP(B1855,Régions!A:C,3,FALSE)","v":"Provence-Alpes-Côte d'Azur"},13,"PHARMDIRECTFR",130022536,130022536,"oui","SELARL IRIS",109,"Avenue","DES CHARTREUX","13004 MARSEILLE",13004,"Marseille 4e  Arrondissement","Pharmacie d'officine","A"]
[{"$f":"VLOOKUP(B1856,Régions!A:C,3,FALSE)","v":"Provence-Alpes-Côte d'Azur"},13,"PHARMDIRECTFR",130022551,130022551,"oui","SELARL PHARMACIE LE PILON DU ROI",20,"Avenue","de la République","13124 PEYPIN",13124,"Peypin","Pharmacie d'officine","A"]
[{"$f":"VLOOKUP(B1857,Régions!A:C,3,FALSE)","v":"Provence-Alpes-Côte d'Azur"},13,{"$error":"#N/A"},130022585,{"$error":"#N/A"},{"$error":"#N/A"},"SARL PHARMACIE SCALETTA",26,"Rue","Pierre Roche","13004 MARSEILLE 4E  ARRONDISSEMENT",13004,"Marseille 4e  Arrondissement","Pharmacie d'officine","A"]
[{"$f":"VLOOKUP(B1858,Régions!A:C,3,FALSE)","v":"Provence-Alpes-Côte d'Azur"},13,{"$error":"#N/A"},130022601,{"$error":"#N/A"},{"$error":"#N/A"},"PHARMACIE DUGAS","NULL","Centre","CAL LE PREPAOU","13800 ISTRES",13800,"Istres","Pharmacie d'officine","A"]
[{"$f":"VLOOKUP(B1859,Régions!A:C,3,FALSE)","v":"Provence-Alpes-Côte d'Azur"},13,"PHARMDIRECTFR",130022635,130022635,"oui","SELARL PHIE DES NOUVEAUX CHARTREUX",44,"Boulevard","DE LA FEDERATION","13004 MARSEILLE",13004,"Marseille 4e  Arrondissement","Pharmacie d'officine","A"]
[{"$f":"VLOOKUP(B1860,Régions!A:C,3,FALSE)","v":"Provence-Alpes-Côte d'Azur"},13,{"$error":"#N/A"},130022650,{"$error":"#N/A"},{"$error":"#N/A"},"SELARL PHARMACIE DUMAINE",201,"Boulevard","MICHELET","13009 MARSEILLE",13009,"Marseille 9e  Arrondissement","Pharmacie d'officine","A"]
[{"$f":"VLOOKUP(B1861,Régions!A:C,3,FALSE)","v":"Provence-Alpes-Côte d'Azur"},13,{"$error":"#N/A"},130022684,{"$error":"#N/A"},{"$error":"#N/A"},"SELARL PHARMACIE CENDRES",2,"Chemin","de Saint-bernard","13210 SAINT-REMY-DE-PROVENCE",13210,"Saint-Rémy-de-Provence","Pharmacie d'officine","A"]
[{"$f":"VLOOKUP(B1862,Régions!A:C,3,FALSE)","v":"Provence-Alpes-Côte d'Azur"},13,"PHARMDIRECTFR",130022700,130022700,"oui","SELURL ROUFFIAC BERGOUNHON",1,"Place","HENRI BARBUSSE","13140 MIRAMAS",13140,"Miramas","Pharmacie d'officine","A"]
[{"$f":"VLOOKUP(B1863,Régions!A:C,3,FALSE)","v":"Provence-Alpes-Côte d'Azur"},13,{"$error":"#N/A"},130022734,{"$error":"#N/A"},{"$error":"#N/A"},"SELARL ST JEROME","NULL","Avenue","DES INFIRMERIES","13100 AIX-EN-PROVENCE",13100,"Aix-en-Provence","Pharmacie d'officine","A"]
[{"$f":"VLOOKUP(B1864,Régions!A:C,3,FALSE)","v":"Provence-Alpes-Côte d'Azur"},13,{"$error":"#N/A"},130022767,{"$error":"#N/A"},{"$error":"#N/A"},"SELARL PHARMACIE ZABOTTO",13,"Rue","RAYMONDE MARTIN","13013 MARSEILLE 13E  ARRONDISSEMENT",13013,"Marseille 13e  Arrondissement","Pharmacie d'officine","A"]
[{"$f":"VLOOKUP(B1865,Régions!A:C,3,FALSE)","v":"Provence-Alpes-Côte d'Azur"},13,{"$error":"#N/A"},130022783,{"$error":"#N/A"},{"$error":"#N/A"},"PHARMACIE TEDJIRIAN","NULL","NULL","LE CHARREL","13400 AUBAGNE",13400,"Aubagne","Pharmacie d'officine","A"]
[{"$f":"VLOOKUP(B1866,Régions!A:C,3,FALSE)","v":"Provence-Alpes-Côte d'Azur"},13,"CNOP",130022817,130022817,"oui","SARL PHARMACIE DURAND DONNAREL",3,"Rue","SIMIOT","13920 SAINT-MITRE-LES-REMPARTS",13920,"Saint-Mitre-les-Remparts","Pharmacie d'officine","A"]
[{"$f":"VLOOKUP(B1867,Régions!A:C,3,FALSE)","v":"Provence-Alpes-Côte d'Azur"},13,{"$error":"#N/A"},130022833,{"$error":"#N/A"},{"$error":"#N/A"},"SELARL PHARMACIE MURA","NULL","Lieu dit","Zone Les Barrales","13580 LA FARE-LES-OLIVIERS",13580,"La Fare-les-Oliviers","Pharmacie d'officine","A"]
[{"$f":"VLOOKUP(B1868,Régions!A:C,3,FALSE)","v":"Provence-Alpes-Côte d'Azur"},13,"CNOP",130022866,130022866,"oui","SELARL PHARMACIE DE LA MADELEINE II",200,"Boulevard","DE LA LIBERATION","13004 MARSEILLE 4E  ARRONDISSEMENT",13004,"Marseille 4e  Arrondissement","Pharmacie d'officine","A"]
[{"$f":"VLOOKUP(B1869,Régions!A:C,3,FALSE)","v":"Provence-Alpes-Côte d'Azur"},13,"CNOP",130022882,130022882,"oui","SELAS PHARMACIE ODDO 2",79,"Boulevard","ODDO","13015 MARSEILLE",13015,"Marseille 15e  Arrondissement","Pharmacie d'officine","A"]
[{"$f":"VLOOKUP(B1870,Régions!A:C,3,FALSE)","v":"Provence-Alpes-Côte d'Azur"},13,{"$error":"#N/A"},130022916,{"$error":"#N/A"},{"$error":"#N/A"},"SELARL PHARMACIE ST PAUL","NULL","Traverse","ST PAUL","13013 MARSEILLE",13013,"Marseille 13e  Arrondissement","Pharmacie d'officine","A"]
[{"$f":"VLOOKUP(B1871,Régions!A:C,3,FALSE)","v":"Provence-Alpes-Côte d'Azur"},13,{"$error":"#N/A"},130022932,{"$error":"#N/A"},{"$error":"#N/A"},"SELARL  PHARMACIE DE MONTOLIVET",2,"Boulevard","DIE","13012 MARSEILLE",13012,"Marseille 12e  Arrondissement","Pharmacie d'officine","A"]
[{"$f":"VLOOKUP(B1872,Régions!A:C,3,FALSE)","v":"Provence-Alpes-Côte d'Azur"},13,"PHARMDIRECTFR",130022957,130022957,"oui","SELARL PHARMACIE LOVISI",4,"Avenue","ADOLPHE FOUQUE","13960 SAUSSET-LES-PINS",13960,"Sausset-les-Pins","Pharmacie d'officine","A"]
[{"$f":"VLOOKUP(B1873,Régions!A:C,3,FALSE)","v":"Provence-Alpes-Côte d'Azur"},13,{"$error":"#N/A"},130022973,{"$error":"#N/A"},{"$error":"#N/A"},"SELARL PHARMACIE LACANAU",26,"Avenue","LACANAU","13700 MARIGNANE",13700,"Marignane","Pharmacie d'officine","A"]
[{"$f":"VLOOKUP(B1874,Régions!A:C,3,FALSE)","v":"Provence-Alpes-Côte d'Azur"},13,"CNOP",130023005,130023005,"oui","PHARMACIE EGERLAND",514,"Avenue","DU PRESIDENT KENNEDY","13600 CIOTAT (LA)",13600,"La Ciotat","Pharmacie d'officine","A"]
[{"$f":"VLOOKUP(B1875,Régions!A:C,3,FALSE)","v":"Provence-Alpes-Côte d'Azur"},13,{"$error":"#N/A"},130023021,{"$error":"#N/A"},{"$error":"#N/A"},"PHARMACIE ELKAIM",70,"Boulevard","DE LA CORDERIE","13007 MARSEILLE",13007,"Marseille 7e  Arrondissement","Pharmacie d'officine","A"]
[{"$f":"VLOOKUP(B1876,Régions!A:C,3,FALSE)","v":"Provence-Alpes-Côte d'Azur"},13,{"$error":"#N/A"},130023054,{"$error":"#N/A"},{"$error":"#N/A"},"SELARL PHARMACIE RODOSSIO-GUYON",132,"Corniche","KENNEDY","13007 MARSEILLE",13007,"Marseille 7e  Arrondissement","Pharmacie d'officine","A"]
[{"$f":"VLOOKUP(B1877,Régions!A:C,3,FALSE)","v":"Provence-Alpes-Côte d'Azur"},13,"CNOP",130023070,130023070,"non","SELAS PHARMACIE DU CENTRE",1,"Boulevard","DE LA LIBERATION","13001 MARSEILLE",13001,"Marseille 1er Arrondissement","Pharmacie d'officine","A"]
[{"$f":"VLOOKUP(B1878,Régions!A:C,3,FALSE)","v":"Provence-Alpes-Côte d'Azur"},13,"CNOP",130023104,130023104,"oui","PHARMACIE DES MOLIERES SELAS","NULL","Rue","de Wagram","13140 MIRAMAS",13140,"Miramas","Pharmacie d'officine","A"]
[{"$f":"VLOOKUP(B1879,Régions!A:C,3,FALSE)","v":"Provence-Alpes-Côte d'Azur"},13,{"$error":"#N/A"},130023120,{"$error":"#N/A"},{"$error":"#N/A"},"SELAS PHARMACIE DES ROSIERS GALLICE",106,"Boulevard","CHARLES MORETTI","13014 MARSEILLE",13014,"Marseille 14e  Arrondissement","Pharmacie d'officine","A"]
[{"$f":"VLOOKUP(B1880,Régions!A:C,3,FALSE)","v":"Provence-Alpes-Côte d'Azur"},13,{"$error":"#N/A"},130023153,{"$error":"#N/A"},{"$error":"#N/A"},"SELARL PHARMACIE TALEB","NULL","Avenue","du 8 Mai 1945",13140,13140,"Miramas","Pharmacie d'officine","A"]
[{"$f":"VLOOKUP(B1881,Régions!A:C,3,FALSE)","v":"Provence-Alpes-Côte d'Azur"},13,{"$error":"#N/A"},130023187,{"$error":"#N/A"},{"$error":"#N/A"},"SELASU PHARMACIE TEFFAHI",24,"Rue","DE LYON","13015 MARSEILLE",13015,"Marseille 15e  Arrondissement","Pharmacie d'officine","A"]
[{"$f":"VLOOKUP(B1882,Régions!A:C,3,FALSE)","v":"Provence-Alpes-Côte d'Azur"},13,"PHARMDIRECTFR",130023203,130023203,"oui","SELARL PHARMACIE BRETEUIL SAINTE",10,"Rue","BRETEUIL","13001 MARSEILLE",13001,"Marseille 1er Arrondissement","Pharmacie d'officine","A"]
[{"$f":"VLOOKUP(B1883,Régions!A:C,3,FALSE)","v":"Provence-Alpes-Côte d'Azur"},13,"CNOP",130023237,130023237,"oui","SELARL  PHARMACIE LYAUTEY",18,"Boulevard","MARECHAL JUIN","13470 CARNOUX-EN-PROVENCE",13470,"Carnoux-en-Provence","Pharmacie d'officine","A"]
[{"$f":"VLOOKUP(B1884,Régions!A:C,3,FALSE)","v":"Provence-Alpes-Côte d'Azur"},13,{"$error":"#N/A"},130023252,{"$error":"#N/A"},{"$error":"#N/A"},"SELAS  PHARMACIE DU GRAND VITROLLES","NULL","Quartier","DU GRIFFON RN 113","13127 VITROLLES",13127,"Vitrolles","Pharmacie d'officine","A"]
[{"$f":"VLOOKUP(B1885,Régions!A:C,3,FALSE)","v":"Provence-Alpes-Côte d'Azur"},13,{"$error":"#N/A"},130023286,{"$error":"#N/A"},{"$error":"#N/A"},"SELARL PHARMACIE DE SAINT ANDRE",500,"Chemin","du Littoral",13016,13016,"Marseille 16e  Arrondissement","Pharmacie d'officine","A"]
[{"$f":"VLOOKUP(B1886,Régions!A:C,3,FALSE)","v":"Provence-Alpes-Côte d'Azur"},13,"PHARMDIRECTFR",130023302,130023302,"oui","SELAS  FRANCE PREP",180,"Rue","RABELAIS","13016 MARSEILLE",13016,"Marseille 16e  Arrondissement","Pharmacie d'officine","A"]
[{"$f":"VLOOKUP(B1887,Régions!A:C,3,FALSE)","v":"Provence-Alpes-Côte d'Azur"},13,{"$error":"#N/A"},130023336,{"$error":"#N/A"},{"$error":"#N/A"},"SELARL PHARMACIE DE LA PORTE D'AIX",10,"Place","JULES GUESDE","13001 MARSEILLE",13001,"Marseille 1er Arrondissement","Pharmacie d'officine","A"]
[{"$f":"VLOOKUP(B1888,Régions!A:C,3,FALSE)","v":"Provence-Alpes-Côte d'Azur"},13,{"$error":"#N/A"},130023351,{"$error":"#N/A"},{"$error":"#N/A"},"SELAS PHARMACIE PAUL CEZANNE",6,"Avenue","POINCARE","13090 AIX-EN-PROVENCE",13090,"Aix-en-Provence","Pharmacie d'officine","A"]
[{"$f":"VLOOKUP(B1889,Régions!A:C,3,FALSE)","v":"Provence-Alpes-Côte d'Azur"},13,"PHARMDIRECTFR",130023385,130023385,"oui","PHARMACIE FALCONETTI - TOULOUSE",509,"Route","DE CAVAILLON","13750 PLAN-D'ORGON",13750,"Plan-d'Orgon","Pharmacie d'officine","A"]
[{"$f":"VLOOKUP(B1890,Régions!A:C,3,FALSE)","v":"Provence-Alpes-Côte d'Azur"},13,"CNOP",130023401,130023401,"oui","SELARL PHARMACIE DE LA GROTTE ROLLAND",82,"Avenue","DE LA MADRAGUE DE MONTREDON","13008 MARSEILLE",13008,"Marseille 8e  Arrondissement","Pharmacie d'officine","A"]
[{"$f":"VLOOKUP(B1891,Régions!A:C,3,FALSE)","v":"Provence-Alpes-Côte d'Azur"},13,{"$error":"#N/A"},130023435,{"$error":"#N/A"},{"$error":"#N/A"},"SELURL PHARMACIE ZERROUKI","NULL","Place","DE LA TARTANE","13016 MARSEILLE",13016,"Marseille 16e  Arrondissement","Pharmacie d'officine","A"]
[{"$f":"VLOOKUP(B1892,Régions!A:C,3,FALSE)","v":"Provence-Alpes-Côte d'Azur"},13,{"$error":"#N/A"},130023450,{"$error":"#N/A"},{"$error":"#N/A"},"SELARL  PHARMACIE CAMARO","NULL","Domaine","DE LA SALLE","13320 BOUC-BEL-AIR",13320,"Bouc-Bel-Air","Pharmacie d'officine","A"]
[{"$f":"VLOOKUP(B1893,Régions!A:C,3,FALSE)","v":"Provence-Alpes-Côte d'Azur"},13,"PHARMDIRECTFR",130023484,130023484,"oui","SELAS PHARMACIE BELLEVUE",37,"Avenue","PHILIPPE SOLARI","13090 AIX-EN-PROVENCE",13090,"Aix-en-Provence","Pharmacie d'officine","A"]
[{"$f":"VLOOKUP(B1894,Régions!A:C,3,FALSE)","v":"Provence-Alpes-Côte d'Azur"},13,{"$error":"#N/A"},130023500,{"$error":"#N/A"},{"$error":"#N/A"},"SELAS PHARMACIE LA MAZARINE","NULL","Residence","LA MAZARINE","13290 LES-MILLES",13290,"Aix-en-Provence","Pharmacie d'officine","A"]
[{"$f":"VLOOKUP(B1895,Régions!A:C,3,FALSE)","v":"Provence-Alpes-Côte d'Azur"},13,{"$error":"#N/A"},130023534,{"$error":"#N/A"},{"$error":"#N/A"},"SELARL PHARMACIE DE LA GARE",38,"Rue","JEAN JAURES","13530 TRETS",13530,"Trets","Pharmacie d'officine","A"]
[{"$f":"VLOOKUP(B1896,Régions!A:C,3,FALSE)","v":"Provence-Alpes-Côte d'Azur"},13,{"$error":"#N/A"},130023583,{"$error":"#N/A"},{"$error":"#N/A"},"SELARL PHARMACIE TAWITIAN",90,"Boulevard","DE LA COMTESSE","13012 MARSEILLE",13012,"Marseille 12e  Arrondissement","Pharmacie d'officine","A"]
[{"$f":"VLOOKUP(B1897,Régions!A:C,3,FALSE)","v":"Provence-Alpes-Côte d'Azur"},13,"CNOP",130023617,130023617,"oui","EURL PHARMACIE BRUNY","NULL","Zone industrielle","LES PALUDS","13430 EYGUIÈRES",13430,"Eyguières","Pharmacie d'officine","A"]
[{"$f":"VLOOKUP(B1898,Régions!A:C,3,FALSE)","v":"Provence-Alpes-Côte d'Azur"},13,{"$error":"#N/A"},130023666,{"$error":"#N/A"},{"$error":"#N/A"},"SELAS PHARMACIE SALENGRO",168,"Avenue","ROGER SALENGRO","13015 MARSEILLE",13015,"Marseille 15e  Arrondissement","Pharmacie d'officine","A"]
[{"$f":"VLOOKUP(B1899,Régions!A:C,3,FALSE)","v":"Provence-Alpes-Côte d'Azur"},13,"PHARMDIRECTFR",130023682,130023682,"oui","SELARL PHARMACIE ABCJ","NULL","Avenue","WILLIAM BOOTH","13012 MARSEILLE",13012,"Marseille 12e  Arrondissement","Pharmacie d'officine","A"]
[{"$f":"VLOOKUP(B1900,Régions!A:C,3,FALSE)","v":"Provence-Alpes-Côte d'Azur"},13,{"$error":"#N/A"},130023716,{"$error":"#N/A"},{"$error":"#N/A"},"SELAS PHARMACIE DES ARCADES","NULL","Avenue","DES SALYENS","13127 VITROLLES",13127,"Vitrolles","Pharmacie d'officine","A"]
[{"$f":"VLOOKUP(B1901,Régions!A:C,3,FALSE)","v":"Provence-Alpes-Côte d'Azur"},13,{"$error":"#N/A"},130023732,{"$error":"#N/A"},{"$error":"#N/A"},"SELARL PHARMACIE VEISSEL-NASSER",118,"Chemin","ST JEAN DU DESERT","13005 MARSEILLE",13005,"Marseille 5e  Arrondissement","Pharmacie d'officine","A"]
[{"$f":"VLOOKUP(B1902,Régions!A:C,3,FALSE)","v":"Provence-Alpes-Côte d'Azur"},13,{"$error":"#N/A"},130023757,{"$error":"#N/A"},{"$error":"#N/A"},"SELARL PHARMACIE GHIMOUZ",61,"Boulevard","DE STRASBOURG","13003 MARSEILLE",13003,"Marseille 3e  Arrondissement","Pharmacie d'officine","A"]
[{"$f":"VLOOKUP(B1903,Régions!A:C,3,FALSE)","v":"Provence-Alpes-Côte d'Azur"},13,{"$error":"#N/A"},130023773,{"$error":"#N/A"},{"$error":"#N/A"},"SELARL PHARMACIE DU CLOS",18,"Rue","JULES FERRY","13220 CHÂTEAUNEUF-LES-MARTIGUES",13220,"Châteauneuf-les-Martigues","Pharmacie d'officine","A"]
[{"$f":"VLOOKUP(B1904,Régions!A:C,3,FALSE)","v":"Provence-Alpes-Côte d'Azur"},13,"CNOP",130023799,130023799,"oui","SELARL PHARMACIE DU MOULIN DE REDON",1,"Avenue","BAPTISTIN MEISSEL","13390 AURIOL",13390,"Auriol","Pharmacie d'officine","A"]
[{"$f":"VLOOKUP(B1905,Régions!A:C,3,FALSE)","v":"Provence-Alpes-Côte d'Azur"},13,"CNOP",130023807,130023807,"oui","SELARL PHARMACIE SIMONI-JALON -PIETRI","NULL","Centre","NULL","13100 AIX-EN-PROVENCE",13100,"Aix-en-Provence","Pharmacie d'officine","A"]
[{"$f":"VLOOKUP(B1906,Régions!A:C,3,FALSE)","v":"Provence-Alpes-Côte d'Azur"},13,{"$error":"#N/A"},130023823,{"$error":"#N/A"},{"$error":"#N/A"},"SELARL PHARMACIE DU LAVANDIN",35,"Avenue","HELENE BOUCHER","13800 ISTRES",13800,"Istres","Pharmacie d'officine","A"]
[{"$f":"VLOOKUP(B1907,Régions!A:C,3,FALSE)","v":"Provence-Alpes-Côte d'Azur"},13,{"$error":"#N/A"},130023856,{"$error":"#N/A"},{"$error":"#N/A"},"SELARL PHARMACIE DU PARC DROMEL","NULL","Boulevard","DE STE MARGUERITE","13009 MARSEILLE",13009,"Marseille 9e  Arrondissement","Pharmacie d'officine","A"]
[{"$f":"VLOOKUP(B1908,Régions!A:C,3,FALSE)","v":"Provence-Alpes-Côte d'Azur"},13,"CNOP",130023872,130023872,"oui","PHARMACIE AUSSEL",40,"Rue","DU RUISSEAU MIRABEAU","13016 MARSEILLE",13016,"Marseille 16e  Arrondissement","Pharmacie d'officine","A"]
[{"$f":"VLOOKUP(B1909,Régions!A:C,3,FALSE)","v":"Provence-Alpes-Côte d'Azur"},13,{"$error":"#N/A"},130023906,{"$error":"#N/A"},{"$error":"#N/A"},"SELAS  PHARMACIE GRAND LITTORAL","NULL","Zone d amenagement concerte","DE ST ANDRE","13016 MARSEILLE",13016,"Marseille 16e  Arrondissement","Pharmacie d'officine","A"]
[{"$f":"VLOOKUP(B1910,Régions!A:C,3,FALSE)","v":"Provence-Alpes-Côte d'Azur"},13,{"$error":"#N/A"},130023922,{"$error":"#N/A"},{"$error":"#N/A"},"SELARL PHARMACIE DE SAINT-MENET","NULL","Traverse","DES ECOLES","13011 MARSEILLE 11E  ARRONDISSEMENT",13011,"Marseille 11e  Arrondissement","Pharmacie d'officine","A"]
[{"$f":"VLOOKUP(B1911,Régions!A:C,3,FALSE)","v":"Provence-Alpes-Côte d'Azur"},13,"PHARMDIRECTFR",130023955,130023955,"oui","EURL PHARMACIE HAC CHENG",8,"Avenue","DU 8 MAI 1945","13240 SEPTÈMES-LES-VALLONS",13240,"Septèmes-les-Vallons","Pharmacie d'officine","A"]
[{"$f":"VLOOKUP(B1912,Régions!A:C,3,FALSE)","v":"Provence-Alpes-Côte d'Azur"},13,"PHARMDIRECTFR",130023971,130023971,"oui","SELARL PHARMACIE AUTARD",2,"Boulevard","DE LA LIBERATION","13130 BERRE-L'ÉTANG",13130,"Berre-l'Étang","Pharmacie d'officine","A"]
[{"$f":"VLOOKUP(B1913,Régions!A:C,3,FALSE)","v":"Provence-Alpes-Côte d'Azur"},13,{"$error":"#N/A"},130024003,{"$error":"#N/A"},{"$error":"#N/A"},"EURL PHARMACIE DU REDON",288,"Boulevard","REDON","13009 MARSEILLE",13009,"Marseille 9e  Arrondissement","Pharmacie d'officine","A"]
[{"$f":"VLOOKUP(B1914,Régions!A:C,3,FALSE)","v":"Provence-Alpes-Côte d'Azur"},13,{"$error":"#N/A"},130024037,{"$error":"#N/A"},{"$error":"#N/A"},"SELAS PHARMACIE DE LA CADIERE",15,"Avenue","DE LATTRE DE TASSIGNY","13700 MARIGNANE",13700,"Marignane","Pharmacie d'officine","A"]
[{"$f":"VLOOKUP(B1915,Régions!A:C,3,FALSE)","v":"Provence-Alpes-Côte d'Azur"},13,"CNOP",130024052,130024052,"oui","SELARL  PHARMACIE DE LA ROQUETTE",30,"Place","PAUL DOUMER","13200 ARLES",13200,"Arles","Pharmacie d'officine","A"]
[{"$f":"VLOOKUP(B1916,Régions!A:C,3,FALSE)","v":"Provence-Alpes-Côte d'Azur"},13,{"$error":"#N/A"},130024086,{"$error":"#N/A"},{"$error":"#N/A"},"PHARMACIE BOURDETTE-TERLE",75,"Route","NATIONALE DE ST ANTOINE","13015 MARSEILLE",13015,"Marseille 15e  Arrondissement","Pharmacie d'officine","A"]
[{"$f":"VLOOKUP(B1917,Régions!A:C,3,FALSE)","v":"Provence-Alpes-Côte d'Azur"},13,"CNOP",130024102,130024102,"oui","SELAS PHARMACIE NOUVELLE DE LA CRAU","NULL","Boulevard","JACQUES MINET","13140 MIRAMAS",13140,"Miramas","Pharmacie d'officine","A"]
[{"$f":"VLOOKUP(B1918,Régions!A:C,3,FALSE)","v":"Provence-Alpes-Côte d'Azur"},13,"PHARMDIRECTFR",130024151,130024151,"oui","PHARMACIE VIDAL","NULL","Place","LAZARINO","13110 PORT-DE-BOUC",13110,"Port-de-Bouc","Pharmacie d'officine","A"]
[{"$f":"VLOOKUP(B1919,Régions!A:C,3,FALSE)","v":"Provence-Alpes-Côte d'Azur"},13,{"$error":"#N/A"},130024185,{"$error":"#N/A"},{"$error":"#N/A"},"SELARL PHARMACIE AUGE LEONI","NULL","Centre","CAL DU DOMAINE DE CALAS","13480 CABRIÈS",13480,"Cabriès","Pharmacie d'officine","A"]
[{"$f":"VLOOKUP(B1920,Régions!A:C,3,FALSE)","v":"Provence-Alpes-Côte d'Azur"},13,"CNOP",130024201,130024201,"oui","SELAS PHARMACIE BELLINASO - FABRE","NULL","Avenue","JACQUES PREVERT","13730 SAINT-VICTORET",13730,"Saint-Victoret","Pharmacie d'officine","A"]
[{"$f":"VLOOKUP(B1921,Régions!A:C,3,FALSE)","v":"Provence-Alpes-Côte d'Azur"},13,"PHARMDIRECTFR",130024235,130024235,"oui","SELARL  PHARMACIE DES ECOLES",8,"Route","NATIONALE 8","13080 AIX-EN-PROVENCE",13080,"Aix-en-Provence","Pharmacie d'officine","A"]
[{"$f":"VLOOKUP(B1922,Régions!A:C,3,FALSE)","v":"Provence-Alpes-Côte d'Azur"},13,"CNOP",130024284,130024284,"oui","SELARL PHARMACIE SERRI",335,"Rue","PARADIS","13008 MARSEILLE",13008,"Marseille 8e  Arrondissement","Pharmacie d'officine","A"]
[{"$f":"VLOOKUP(B1923,Régions!A:C,3,FALSE)","v":"Provence-Alpes-Côte d'Azur"},13,{"$error":"#N/A"},130024300,{"$error":"#N/A"},{"$error":"#N/A"},"PHARMACIE FURNION",4,"Avenue","WINSTON CHURCHILL","13090 AIX-EN-PROVENCE",13090,"Aix-en-Provence","Pharmacie d'officine","A"]
[{"$f":"VLOOKUP(B1924,Régions!A:C,3,FALSE)","v":"Provence-Alpes-Côte d'Azur"},13,{"$error":"#N/A"},130024334,{"$error":"#N/A"},{"$error":"#N/A"},"SELARL PHARMACIE NAHABEDIAN",63,"Avenue","DE ST JEROME","13013 MARSEILLE",13013,"Marseille 13e  Arrondissement","Pharmacie d'officine","A"]
[{"$f":"VLOOKUP(B1925,Régions!A:C,3,FALSE)","v":"Provence-Alpes-Côte d'Azur"},13,"PHARMDIRECTFR",130024367,130024367,"oui","PHARMACIE LAYET",10,"Traverse","DE LA GAYE","13009 MARSEILLE",13009,"Marseille 9e  Arrondissement","Pharmacie d'officine","A"]
[{"$f":"VLOOKUP(B1926,Régions!A:C,3,FALSE)","v":"Provence-Alpes-Côte d'Azur"},13,"PHARMDIRECTFR",130024383,130024383,"oui","PHARMACIE  BACCHIANI",224,"Chemin","DE LA MADRAGUE VILLE","13015 MARSEILLE 15E  ARRONDISSEMENT",13015,"Marseille 15e  Arrondissement","Pharmacie d'officine","A"]
[{"$f":"VLOOKUP(B1927,Régions!A:C,3,FALSE)","v":"Provence-Alpes-Côte d'Azur"},13,{"$error":"#N/A"},130024433,{"$error":"#N/A"},{"$error":"#N/A"},"SELARL PHARMACIE KADDOURI",21,"Avenue","DES SALYENS","13747 VITROLLES CEDEX",13747,"Vitrolles","Pharmacie d'officine","A"]
[{"$f":"VLOOKUP(B1928,Régions!A:C,3,FALSE)","v":"Provence-Alpes-Côte d'Azur"},13,{"$error":"#N/A"},130024466,{"$error":"#N/A"},{"$error":"#N/A"},"SARL PHARMACIE GHERCI",4,"Place","ST EUGENE","13007 MARSEILLE",13007,"Marseille 7e  Arrondissement","Pharmacie d'officine","A"]
[{"$f":"VLOOKUP(B1929,Régions!A:C,3,FALSE)","v":"Provence-Alpes-Côte d'Azur"},13,"PHARMDIRECTFR",130024482,130024482,"oui","PHARMACIE GIAIME-GIOLITO",33,"Quai","FRANCOIS MITTERAND","13600 CIOTAT (LA)",13600,"La Ciotat","Pharmacie d'officine","A"]
[{"$f":"VLOOKUP(B1930,Régions!A:C,3,FALSE)","v":"Provence-Alpes-Côte d'Azur"},13,{"$error":"#N/A"},130024516,{"$error":"#N/A"},{"$error":"#N/A"},"SELARL PHARMACIE DES IRIS","NULL","Place","DE LA REPUBLIQUE","13680 LANÇON-PROVENCE",13680,"Lançon-Provence","Pharmacie d'officine","A"]
[{"$f":"VLOOKUP(B1931,Régions!A:C,3,FALSE)","v":"Provence-Alpes-Côte d'Azur"},13,{"$error":"#N/A"},130024532,{"$error":"#N/A"},{"$error":"#N/A"},"SELAS PHARMACIE DES PLATANES",27,"Boulevard","CHARLES MORETTI","13014 MARSEILLE 14E  ARRONDISSEMENT",13014,"Marseille 14e  Arrondissement","Pharmacie d'officine","A"]
[{"$f":"VLOOKUP(B1932,Régions!A:C,3,FALSE)","v":"Provence-Alpes-Côte d'Azur"},13,{"$error":"#N/A"},130024557,{"$error":"#N/A"},{"$error":"#N/A"},"SELARL PHIE DES HAUTS DE STE MARTHE","NULL","Rue","Gabriel Audisio","13014 MARSEILLE 14",13014,"Marseille 14e  Arrondissement","Pharmacie d'officine","A"]
[{"$f":"VLOOKUP(B1933,Régions!A:C,3,FALSE)","v":"Provence-Alpes-Côte d'Azur"},13,"PHARMDIRECTFR",130024573,130024573,"oui","SELARL PHARMACIE DU ROY D'ESPAGNE",6,"Boulevard","VELASQUEZ","13008 MARSEILLE",13008,"Marseille 8e  Arrondissement","Pharmacie d'officine","A"]
[{"$f":"VLOOKUP(B1934,Régions!A:C,3,FALSE)","v":"Provence-Alpes-Côte d'Azur"},13,"CNOP",130024599,130024599,"oui","SELAS  PHARMACIE SAINT ELOI",237,"Avenue","DE CHATEAU GOMBERT","13013 MARSEILLE 13E  ARRONDISSEMENT",13013,"Marseille 13e  Arrondissement","Pharmacie d'officine","A"]
[{"$f":"VLOOKUP(B1935,Régions!A:C,3,FALSE)","v":"Provence-Alpes-Côte d'Azur"},13,"PHARMDIRECTFR",130024607,130024607,"oui","EURL PHARMACIE PLEIN SUD","NULL","Zone d amenagement concerte","LE PLEIN SUD","13124 PEYPIN",13124,"Peypin","Pharmacie d'officine","A"]
[{"$f":"VLOOKUP(B1936,Régions!A:C,3,FALSE)","v":"Provence-Alpes-Côte d'Azur"},13,"CNOP",130024623,130024623,"oui","EURL PHARMACIE GILLES",9,"Place","DU MARCHE","13690 GRAVESON",13690,"Graveson","Pharmacie d'officine","A"]
[{"$f":"VLOOKUP(B1937,Régions!A:C,3,FALSE)","v":"Provence-Alpes-Côte d'Azur"},13,{"$error":"#N/A"},130024656,{"$error":"#N/A"},{"$error":"#N/A"},"PHARMACIE GILLET",2,"Avenue","GASTON ROUX","13350 CHARLEVAL",13350,"Charleval","Pharmacie d'officine","A"]
[{"$f":"VLOOKUP(B1938,Régions!A:C,3,FALSE)","v":"Provence-Alpes-Côte d'Azur"},13,{"$error":"#N/A"},130024672,{"$error":"#N/A"},{"$error":"#N/A"},"SELAS PHARMACIE GIORDANO - GIUSTI",5,"Rue","VICTOR HUGO","13260 CASSIS",13260,"Cassis","Pharmacie d'officine","A"]
[{"$f":"VLOOKUP(B1939,Régions!A:C,3,FALSE)","v":"Provence-Alpes-Côte d'Azur"},13,{"$error":"#N/A"},130024706,{"$error":"#N/A"},{"$error":"#N/A"},"SELEURL PHARMACIE SEVOLKER",24,"Rue","DE LA REPUBLIQUE","13400 AUBAGNE",13400,"Aubagne","Pharmacie d'officine","A"]
[{"$f":"VLOOKUP(B1940,Régions!A:C,3,FALSE)","v":"Provence-Alpes-Côte d'Azur"},13,{"$error":"#N/A"},130024722,{"$error":"#N/A"},{"$error":"#N/A"},"SARL PHARMACIE SARKISSIAN - MAIMOUN",9,"Boulevard","LUCIEN DEGUT","13500 MARTIGUES",13500,"Martigues","Pharmacie d'officine","A"]
[{"$f":"VLOOKUP(B1941,Régions!A:C,3,FALSE)","v":"Provence-Alpes-Côte d'Azur"},13,{"$error":"#N/A"},130024755,{"$error":"#N/A"},{"$error":"#N/A"},"SELARL PHARMACIE DU VALCROS","NULL","Rue","CHARLOUN RIEU","13090 AIX-EN-PROVENCE",13090,"Aix-en-Provence","Pharmacie d'officine","A"]
[{"$f":"VLOOKUP(B1942,Régions!A:C,3,FALSE)","v":"Provence-Alpes-Côte d'Azur"},13,{"$error":"#N/A"},130024771,{"$error":"#N/A"},{"$error":"#N/A"},"SELARL PHARMACIE DE TRINQUETAILLE",14,"Rue","DE LA VERRERIE","13200 ARLES",13200,"Arles","Pharmacie d'officine","A"]
[{"$f":"VLOOKUP(B1943,Régions!A:C,3,FALSE)","v":"Provence-Alpes-Côte d'Azur"},13,{"$error":"#N/A"},130024805,{"$error":"#N/A"},{"$error":"#N/A"},"PHARMACIE GIRAUD-LABONNE",160,"Boulevard","BARNIER","13015 MARSEILLE",13015,"Marseille 15e  Arrondissement","Pharmacie d'officine","A"]
[{"$f":"VLOOKUP(B1944,Régions!A:C,3,FALSE)","v":"Provence-Alpes-Côte d'Azur"},13,"PHARMDIRECTFR",130024821,130024821,"oui","SELARL PHARMACIE DRAGON PARADIS",135,"Rue","PARADIS","13006 MARSEILLE",13006,"Marseille 6e  Arrondissement","Pharmacie d'officine","A"]
[{"$f":"VLOOKUP(B1945,Régions!A:C,3,FALSE)","v":"Provence-Alpes-Côte d'Azur"},13,{"$error":"#N/A"},130024854,{"$error":"#N/A"},{"$error":"#N/A"},"SELASU PHARMACIE HADDAD",216,"Rue","Paradis","13006 MARSEILLE 06",13006,"Marseille 6e  Arrondissement","Pharmacie d'officine","A"]
[{"$f":"VLOOKUP(B1946,Régions!A:C,3,FALSE)","v":"Provence-Alpes-Côte d'Azur"},13,{"$error":"#N/A"},130024870,{"$error":"#N/A"},{"$error":"#N/A"},"SELAS  PHARMACIE DU PRINTEMPS",37,"Rue","GASTON DE FLOTTE","13012 MARSEILLE 12E  ARRONDISSEMENT",13012,"Marseille 12e  Arrondissement","Pharmacie d'officine","A"]
[{"$f":"VLOOKUP(B1947,Régions!A:C,3,FALSE)","v":"Provence-Alpes-Côte d'Azur"},13,"PHARMDIRECTFR",130024904,130024904,"oui","SELARL PHARMACIE DU COURS JULIEN",81,"Cours","Julien","13006 MARSEILLE 06",13006,"Marseille 6e  Arrondissement","Pharmacie d'officine","A"]
[{"$f":"VLOOKUP(B1948,Régions!A:C,3,FALSE)","v":"Provence-Alpes-Côte d'Azur"},13,{"$error":"#N/A"},130024920,{"$error":"#N/A"},{"$error":"#N/A"},"SELAS PHARMACIE DE SAINTE-MARTHE",3,"Boulevard","BASILE BARRELIER","13014 MARSEILLE",13014,"Marseille 14e  Arrondissement","Pharmacie d'officine","A"]
[{"$f":"VLOOKUP(B1949,Régions!A:C,3,FALSE)","v":"Provence-Alpes-Côte d'Azur"},13,{"$error":"#N/A"},130024953,{"$error":"#N/A"},{"$error":"#N/A"},"SELAS PHARMACIE DE LA CROIX VERTE",23,"Boulevard","MARCEAU","13210 SAINT-RÉMY-DE-PROVENCE",13210,"Saint-Rémy-de-Provence","Pharmacie d'officine","A"]
[{"$f":"VLOOKUP(B1950,Régions!A:C,3,FALSE)","v":"Provence-Alpes-Côte d'Azur"},13,{"$error":"#N/A"},130024987,{"$error":"#N/A"},{"$error":"#N/A"},"SARL PHARMACIE BRU - BERGET",94,"Rue","DE LA REPUBLIQUE","13400 AUBAGNE",13400,"Aubagne","Pharmacie d'officine","A"]
[{"$f":"VLOOKUP(B1951,Régions!A:C,3,FALSE)","v":"Provence-Alpes-Côte d'Azur"},13,{"$error":"#N/A"},130025000,{"$error":"#N/A"},{"$error":"#N/A"},"SELARL PHARMACIE D'EYRAGUES","NULL","Avenue","DU GENERAL DE GAULLE","13630 EYRAGUES",13630,"Eyragues","Pharmacie d'officine","A"]
[{"$f":"VLOOKUP(B1952,Régions!A:C,3,FALSE)","v":"Provence-Alpes-Côte d'Azur"},13,{"$error":"#N/A"},130025034,{"$error":"#N/A"},{"$error":"#N/A"},"SELEURL PHARMACIE DU GRAND ST-GINIEZ",123,"Avenue","DE MAZARGUES","13008 MARSEILLE",13008,"Marseille 8e  Arrondissement","Pharmacie d'officine","A"]
[{"$f":"VLOOKUP(B1953,Régions!A:C,3,FALSE)","v":"Provence-Alpes-Côte d'Azur"},13,{"$error":"#N/A"},130025067,{"$error":"#N/A"},{"$error":"#N/A"},"EURL PHARMACIE  DES ALLEES",1,"Allee","JEAN JAURES","13800 ISTRES",13800,"Istres","Pharmacie d'officine","A"]
[{"$f":"VLOOKUP(B1954,Régions!A:C,3,FALSE)","v":"Provence-Alpes-Côte d'Azur"},13,"CNOP",130025083,130025083,"oui","SELURL PHARMACIE LE BEL ORMEAU",511,"Avenue","JEAN-PAUL COSTE","13100 AIX-EN-PROVENCE",13100,"Aix-en-Provence","Pharmacie d'officine","A"]
[{"$f":"VLOOKUP(B1955,Régions!A:C,3,FALSE)","v":"Provence-Alpes-Côte d'Azur"},13,"PHARMDIRECTFR",130025117,130025117,"oui","SARL ALINDADO",20,"Rue","LAFAYETTE","13210 SAINT-RÉMY-DE-PROVENCE",13210,"Saint-Rémy-de-Provence","Pharmacie d'officine","A"]
[{"$f":"VLOOKUP(B1956,Régions!A:C,3,FALSE)","v":"Provence-Alpes-Côte d'Azur"},13,{"$error":"#N/A"},130025133,{"$error":"#N/A"},{"$error":"#N/A"},"SELARL PHARMACIE DE VIENNE",268,"Boulevard","DE ST-LOUP","13010 MARSEILLE",13010,"Marseille 10e  Arrondissement","Pharmacie d'officine","A"]
[{"$f":"VLOOKUP(B1957,Régions!A:C,3,FALSE)","v":"Provence-Alpes-Côte d'Azur"},13,{"$error":"#N/A"},130025166,{"$error":"#N/A"},{"$error":"#N/A"},"SELAS PHARMACIE DE LA REVOLUTION",61,"Boulevard","de Plombieres","13003 MARSEILLE 03",13003,"Marseille 3e  Arrondissement","Pharmacie d'officine","A"]
[{"$f":"VLOOKUP(B1958,Régions!A:C,3,FALSE)","v":"Provence-Alpes-Côte d'Azur"},13,{"$error":"#N/A"},130025182,{"$error":"#N/A"},{"$error":"#N/A"},"SELARL PHIE DE LA VIEILLE CHAPELLE",159,"Avenue","JOSEPH VIDAL","13008 MARSEILLE",13008,"Marseille 8e  Arrondissement","Pharmacie d'officine","A"]
[{"$f":"VLOOKUP(B1959,Régions!A:C,3,FALSE)","v":"Provence-Alpes-Côte d'Azur"},13,{"$error":"#N/A"},130025216,{"$error":"#N/A"},{"$error":"#N/A"},"PHARMACIE  CHATEAU",105,"Rue","de Rome","13006 MARSEILLE 06",13006,"Marseille 6e  Arrondissement","Pharmacie d'officine","A"]
[{"$f":"VLOOKUP(B1960,Régions!A:C,3,FALSE)","v":"Provence-Alpes-Côte d'Azur"},13,"CNOP",130025232,130025232,"oui","SELEURL PHARMACIE CARGOL",43,"Avenue","DU GENERAL DE GAULLE","13140 MIRAMAS",13140,"Miramas","Pharmacie d'officine","A"]
[{"$f":"VLOOKUP(B1961,Régions!A:C,3,FALSE)","v":"Provence-Alpes-Côte d'Azur"},13,"PHARMDIRECTFR",130025257,130025257,"oui","SELARL PHARMACIE LEMAITRE",47,"Avenue","FREDERIC CHEVILLON","13380 PLAN-DE-CUQUES",13380,"Plan-de-Cuques","Pharmacie d'officine","A"]
[{"$f":"VLOOKUP(B1962,Régions!A:C,3,FALSE)","v":"Provence-Alpes-Côte d'Azur"},13,"PHARMDIRECTFR",130025273,130025273,"oui","SELARL PHARMACIE DE LA POUNCHE",1,"Boulevard","JULES ET CLEMENT BARTHELEMY","13190 ALLAUCH",13190,"Allauch","Pharmacie d'officine","A"]
[{"$f":"VLOOKUP(B1963,Régions!A:C,3,FALSE)","v":"Provence-Alpes-Côte d'Azur"},13,{"$error":"#N/A"},130025307,{"$error":"#N/A"},{"$error":"#N/A"},"SELARL PHARMACIE ST LAMBERT",4,"Rue","DECAZES","13007 MARSEILLE",13007,"Marseille 7e  Arrondissement","Pharmacie d'officine","A"]
[{"$f":"VLOOKUP(B1964,Régions!A:C,3,FALSE)","v":"Provence-Alpes-Côte d'Azur"},13,{"$error":"#N/A"},130025323,{"$error":"#N/A"},{"$error":"#N/A"},"SELARL PHARMACIE DU COURS SAINT LOUIS",5,"Cours","ST LOUIS","13001 MARSEILLE",13001,"Marseille 1er Arrondissement","Pharmacie d'officine","A"]
[{"$f":"VLOOKUP(B1965,Régions!A:C,3,FALSE)","v":"Provence-Alpes-Côte d'Azur"},13,{"$error":"#N/A"},130025356,{"$error":"#N/A"},{"$error":"#N/A"},"SELARL PHARMACIE GUENANCIA",365,"Avenue","DE MAZARGUES","13008 MARSEILLE",13008,"Marseille 8e  Arrondissement","Pharmacie d'officine","A"]
[{"$f":"VLOOKUP(B1966,Régions!A:C,3,FALSE)","v":"Provence-Alpes-Côte d'Azur"},13,{"$error":"#N/A"},130025372,{"$error":"#N/A"},{"$error":"#N/A"},"PHARMACIE REBUFFAT - GUENANCIA",131,"Chemin","DE ST JOSEPH","13014 MARSEILLE",13014,"Marseille 14e  Arrondissement","Pharmacie d'officine","A"]
[{"$f":"VLOOKUP(B1967,Régions!A:C,3,FALSE)","v":"Provence-Alpes-Côte d'Azur"},13,{"$error":"#N/A"},130025455,{"$error":"#N/A"},{"$error":"#N/A"},"SNC GALEAZZI - COUSTILLAC",27,"Place","NOTRE DAME DU MONT","13006 MARSEILLE",13006,"Marseille 6e  Arrondissement","Pharmacie d'officine","A"]
[{"$f":"VLOOKUP(B1968,Régions!A:C,3,FALSE)","v":"Provence-Alpes-Côte d'Azur"},13,{"$error":"#N/A"},130025471,{"$error":"#N/A"},{"$error":"#N/A"},"EURL PHARMACIE GUYON",31,"Rue","DE L'HOTEL DE VILLE","13200 ARLES",13200,"Arles","Pharmacie d'officine","A"]
[{"$f":"VLOOKUP(B1969,Régions!A:C,3,FALSE)","v":"Provence-Alpes-Côte d'Azur"},13,{"$error":"#N/A"},130025554,{"$error":"#N/A"},{"$error":"#N/A"},"SELARL  LVMC","NULL","Route","DE FOS","13800 ISTRES",13800,"Istres","Pharmacie d'officine","A"]
[{"$f":"VLOOKUP(B1970,Régions!A:C,3,FALSE)","v":"Provence-Alpes-Côte d'Azur"},13,{"$error":"#N/A"},130025570,{"$error":"#N/A"},{"$error":"#N/A"},"SELARL PHARMACIE SAILLARD",44,"Boulevard","CAMILLE FLAMMARION","13001 MARSEILLE",13001,"Marseille 1er Arrondissement","Pharmacie d'officine","A"]
[{"$f":"VLOOKUP(B1971,Régions!A:C,3,FALSE)","v":"Provence-Alpes-Côte d'Azur"},13,{"$error":"#N/A"},130025604,{"$error":"#N/A"},{"$error":"#N/A"},"SELASU PHARMACIE CANTINI","NULL","Place","DES COMMERCES","13110 PORT-DE-BOUC",13110,"Port-de-Bouc","Pharmacie d'officine","A"]
[{"$f":"VLOOKUP(B1972,Régions!A:C,3,FALSE)","v":"Provence-Alpes-Côte d'Azur"},13,{"$error":"#N/A"},130025620,{"$error":"#N/A"},{"$error":"#N/A"},"SELARL PHARMACIE CHAUSSENDE",4,"Allee","des Ecoles","13113 LAMANON",13113,"Lamanon","Pharmacie d'officine","A"]
[{"$f":"VLOOKUP(B1973,Régions!A:C,3,FALSE)","v":"Provence-Alpes-Côte d'Azur"},13,{"$error":"#N/A"},130025653,{"$error":"#N/A"},{"$error":"#N/A"},"PHARMACIE HADJADJ",487,"Rue","JEAN QUEILLAU","13014 MARSEILLE 14E  ARRONDISSEMENT",13014,"Marseille 14e  Arrondissement","Pharmacie d'officine","A"]
[{"$f":"VLOOKUP(B1974,Régions!A:C,3,FALSE)","v":"Provence-Alpes-Côte d'Azur"},13,{"$error":"#N/A"},130025687,{"$error":"#N/A"},{"$error":"#N/A"},"PHARMACIE LAYET - HANCY",28,"Boulevard","DU CABOT","13009 MARSEILLE",13009,"Marseille 9e  Arrondissement","Pharmacie d'officine","A"]
[{"$f":"VLOOKUP(B1975,Régions!A:C,3,FALSE)","v":"Provence-Alpes-Côte d'Azur"},13,{"$error":"#N/A"},130025703,{"$error":"#N/A"},{"$error":"#N/A"},"SELARL PHARMACIE DE PEYNIER",19,"Avenue","DE LA LIBERATION","13790 PEYNIER",13790,"Peynier","Pharmacie d'officine","A"]
[{"$f":"VLOOKUP(B1976,Régions!A:C,3,FALSE)","v":"Provence-Alpes-Côte d'Azur"},13,{"$error":"#N/A"},130025737,{"$error":"#N/A"},{"$error":"#N/A"},"PHARMACIE TRAN",10,"Cours","BELSUNCE","13001 MARSEILLE",13001,"Marseille 1er Arrondissement","Pharmacie d'officine","A"]
[{"$f":"VLOOKUP(B1977,Régions!A:C,3,FALSE)","v":"Provence-Alpes-Côte d'Azur"},13,"CNOP",130025752,130025752,"oui","SELARL PHARMACIE PARANT",5,"Rue","DE LA VERDIERE","13090 AIX-EN-PROVENCE",13090,"Aix-en-Provence","Pharmacie d'officine","A"]
[{"$f":"VLOOKUP(B1978,Régions!A:C,3,FALSE)","v":"Provence-Alpes-Côte d'Azur"},13,"CNOP",130025786,130025786,"oui","SELEURL PHARMACIE DU MOULIN",185,"Rue","CORINDON","13510 ÉGUILLES",13510,"Éguilles","Pharmacie d'officine","A"]
[{"$f":"VLOOKUP(B1979,Régions!A:C,3,FALSE)","v":"Provence-Alpes-Côte d'Azur"},13,{"$error":"#N/A"},130025802,{"$error":"#N/A"},{"$error":"#N/A"},"SELARL POUPART LAVISSE","NULL","Place","DE L'EGLISE","13540 PUYRICARD",13540,"Aix-en-Provence","Pharmacie d'officine","A"]
[{"$f":"VLOOKUP(B1980,Régions!A:C,3,FALSE)","v":"Provence-Alpes-Côte d'Azur"},13,"PHARMDIRECTFR",130025836,130025836,"oui","PHARMACIE GUIRAGOSSIAN",122,"Avenue","DE ST ANTOINE","13015 MARSEILLE",13015,"Marseille 15e  Arrondissement","Pharmacie d'officine","A"]
[{"$f":"VLOOKUP(B1981,Régions!A:C,3,FALSE)","v":"Provence-Alpes-Côte d'Azur"},13,{"$error":"#N/A"},130025851,{"$error":"#N/A"},{"$error":"#N/A"},"PHARMACIE WILSON - HERAUD - SIGNORET","NULL","Quartier","DE LA MARTELLE","13400 AUBAGNE",13400,"Aubagne","Pharmacie d'officine","A"]
[{"$f":"VLOOKUP(B1982,Régions!A:C,3,FALSE)","v":"Provence-Alpes-Côte d'Azur"},13,"PHARMDIRECTFR",130025885,130025885,"oui","SELARL PHARMACIE DU BOSPHORE",44,"Boulevard","DU BOSPHORE","13015 MARSEILLE",13015,"Marseille 15e  Arrondissement","Pharmacie d'officine","A"]
[{"$f":"VLOOKUP(B1983,Régions!A:C,3,FALSE)","v":"Provence-Alpes-Côte d'Azur"},13,{"$error":"#N/A"},130025901,{"$error":"#N/A"},{"$error":"#N/A"},"SELAS GRDE PHARMACIE DU 8 MAI 1945",5,"Avenue","DU 8 MAI 1945","13700 MARIGNANE",13700,"Marignane","Pharmacie d'officine","A"]
[{"$f":"VLOOKUP(B1984,Régions!A:C,3,FALSE)","v":"Provence-Alpes-Côte d'Azur"},13,{"$error":"#N/A"},130025935,{"$error":"#N/A"},{"$error":"#N/A"},"PHARMACIE BAUX","NULL","Galerie","MARCHANDE LA RESPELIDO","13110 PORT-DE-BOUC",13110,"Port-de-Bouc","Pharmacie d'officine","A"]
[{"$f":"VLOOKUP(B1985,Régions!A:C,3,FALSE)","v":"Provence-Alpes-Côte d'Azur"},13,"PHARMDIRECTFR",130025950,130025950,"oui","SARL PHARMACIE DE TOULON",220,"Avenue","DE TOULON","13010 MARSEILLE",13010,"Marseille 10e  Arrondissement","Pharmacie d'officine","A"]
[{"$f":"VLOOKUP(B1986,Régions!A:C,3,FALSE)","v":"Provence-Alpes-Côte d'Azur"},13,"CNOP",130025984,130025984,"oui","SELAS PHARMACIE PICART",88,"Boulevard","DE LA BLANCARDE","13004 MARSEILLE",13004,"Marseille 4e  Arrondissement","Pharmacie d'officine","A"]
[{"$f":"VLOOKUP(B1987,Régions!A:C,3,FALSE)","v":"Provence-Alpes-Côte d'Azur"},13,{"$error":"#N/A"},130026016,{"$error":"#N/A"},{"$error":"#N/A"},"SARL PHARMACIE BANCHET",20,"Cours","BARTHELEMY","13400 AUBAGNE",13400,"Aubagne","Pharmacie d'officine","A"]
[{"$f":"VLOOKUP(B1988,Régions!A:C,3,FALSE)","v":"Provence-Alpes-Côte d'Azur"},13,"PHARMDIRECTFR",130026032,130026032,"oui","SELARL PHARMACIE CHAUVET",15,"Cours","GAMBETTA","13100 AIX-EN-PROVENCE",13100,"Aix-en-Provence","Pharmacie d'officine","A"]
[{"$f":"VLOOKUP(B1989,Régions!A:C,3,FALSE)","v":"Provence-Alpes-Côte d'Azur"},13,{"$error":"#N/A"},130026057,{"$error":"#N/A"},{"$error":"#N/A"},"SELAS  PHARMACIE JAUFFRET",18,"Route","de la Crau","13280 ARLES",13280,"Arles","Pharmacie d'officine","A"]
[{"$f":"VLOOKUP(B1990,Régions!A:C,3,FALSE)","v":"Provence-Alpes-Côte d'Azur"},13,{"$error":"#N/A"},130026073,{"$error":"#N/A"},{"$error":"#N/A"},"SELARL PHARMACIE DES ETANGS","NULL","Angle","RUE DE LA POUTRE  & BLD ALDERIC CHAVE","13800 ISTRES",13800,"Istres","Pharmacie d'officine","A"]
[{"$f":"VLOOKUP(B1991,Régions!A:C,3,FALSE)","v":"Provence-Alpes-Côte d'Azur"},13,"PHARMDIRECTFR",130026107,130026107,"oui","SELARL PHARMACIE JEAN CHARBONNIERE C.","NULL","NULL","LE COURS","13940 MOLLEGES",13940,"Mollégès","Pharmacie d'officine","A"]
[{"$f":"VLOOKUP(B1992,Régions!A:C,3,FALSE)","v":"Provence-Alpes-Côte d'Azur"},13,"PHARMDIRECTFR",130026123,130026123,"oui","SELARL PHARMACIE MALLIÉ - MEYNADIER","NULL","Avenue","d'Arménie",13120,13120,"Gardanne","Pharmacie d'officine","A"]
[{"$f":"VLOOKUP(B1993,Régions!A:C,3,FALSE)","v":"Provence-Alpes-Côte d'Azur"},13,"CNOP",130026172,130026172,"oui","SELARL PHARMACIE JOURDAN",46,"Rue","DE CHANZY","13300 SALON-DE-PROVENCE",13300,"Salon-de-Provence","Pharmacie d'officine","A"]
[{"$f":"VLOOKUP(B1994,Régions!A:C,3,FALSE)","v":"Provence-Alpes-Côte d'Azur"},13,"CNOP",130026222,130026222,"non","SELEURL PHARMACIE GINESY",22,"Rue","BEAUVAU","13001 MARSEILLE",13001,"Marseille 1er Arrondissement","Pharmacie d'officine","A"]
[{"$f":"VLOOKUP(B1995,Régions!A:C,3,FALSE)","v":"Provence-Alpes-Côte d'Azur"},13,{"$error":"#N/A"},130026255,{"$error":"#N/A"},{"$error":"#N/A"},"SELARL PHARMACIE AIN",101,"Boulevard","VAUBAN","13006 MARSEILLE",13006,"Marseille 6e  Arrondissement","Pharmacie d'officine","A"]
[{"$f":"VLOOKUP(B1996,Régions!A:C,3,FALSE)","v":"Provence-Alpes-Côte d'Azur"},13,{"$error":"#N/A"},130026271,{"$error":"#N/A"},{"$error":"#N/A"},"SELARL PHARMACIE DE LA JONQUIERE","NULL","Rue","DES LOTUS","13270 FOS-SUR-MER",13270,"Fos-sur-Mer","Pharmacie d'officine","A"]
[{"$f":"VLOOKUP(B1997,Régions!A:C,3,FALSE)","v":"Provence-Alpes-Côte d'Azur"},13,{"$error":"#N/A"},130026305,{"$error":"#N/A"},{"$error":"#N/A"},"SELARL DUPLAN",322,"Boulevard","VOLTAIRE","13821 LA-PENNE-SUR-HUVEAUNE",13821,"La Penne-sur-Huveaune","Pharmacie d'officine","A"]
[{"$f":"VLOOKUP(B1998,Régions!A:C,3,FALSE)","v":"Provence-Alpes-Côte d'Azur"},13,"CNOP",130026321,130026321,"oui","SELARL PHIENS D'OFF. MILIANI - B",5,"Avenue","DE SYLVANES","13130 BERRE-L-ETANG",13130,"Berre-l'Étang","Pharmacie d'officine","A"]
[{"$f":"VLOOKUP(B1999,Régions!A:C,3,FALSE)","v":"Provence-Alpes-Côte d'Azur"},13,"CNOP",130026354,130026354,"oui","SELARL PHARMACIE DE L'ETOILE",107,"Boulevard","Bara","13013 MARSEILLE 13",13013,"Marseille 13e  Arrondissement","Pharmacie d'officine","A"]
[{"$f":"VLOOKUP(B2000,Régions!A:C,3,FALSE)","v":"Provence-Alpes-Côte d'Azur"},13,{"$error":"#N/A"},130026404,{"$error":"#N/A"},{"$error":"#N/A"},"SELEURL NICOLAS COUPUT",40,"Avenue","DE LA VISTE","13015 MARSEILLE 15",13015,"Marseille 15e  Arrondissement","Pharmacie d'officine","A"]
[{"$f":"VLOOKUP(B2007,Régions!A:C,3,FALSE)","v":"Provence-Alpes-Côte d'Azur"},13,{"$error":"#N/A"},130026586,{"$error":"#N/A"},{"$error":"#N/A"},"EURL MARIE-HELENE DROUET",563,"Route","du Puy Sainte Reparade","13090 AIX-EN-PROVENCE",13090,"Aix-en-Provence","Pharmacie d'officine","A"]
[{"$f":"VLOOKUP(B2014,Régions!A:C,3,FALSE)","v":"Provence-Alpes-Côte d'Azur"},13,"PHARMDIRECTFR",130026750,130026750,"oui","SELARL PHARMACIE CHATEL",11,"Rue","GRAND RUE","13002 MARSEILLE 2E  ARRONDISSEMENT",13002,"Marseille 2e  Arrondissement","Pharmacie d'officine","A"]
[{"$f":"VLOOKUP(B2026,Régions!A:C,3,FALSE)","v":"Provence-Alpes-Côte d'Azur"},13,{"$error":"#N/A"},130027071,{"$error":"#N/A"},{"$error":"#N/A"},"SELARL PHARMACIE CASSAGNOU",3,"Rue"," D'ITALIE - 6 RUE MARECHAL JOFFRE","13100 AIX-EN-PROVENCE",13100,"Aix-en-Provence","Pharmacie d'officine","A"]
[{"$f":"VLOOKUP(B2033,Régions!A:C,3,FALSE)","v":"Provence-Alpes-Côte d'Azur"},13,"PHARMDIRECTFR",130027287,130027287,"oui","SELARL PHARMACIE ADAMI",4,"Chemin","DE POURRANQUE","13170 PENNES-MIRABEAU (LES)",13170,"Les Pennes-Mirabeau","Pharmacie d'officine","A"]
[{"$f":"VLOOKUP(B2045,Régions!A:C,3,FALSE)","v":"Provence-Alpes-Côte d'Azur"},13,"PHARMDIRECTFR",130027634,130027634,"oui","SELARL PHARMACIE EUGENE PIERRE",62,"Boulevard","EUGENE PIERRE","13005 MARSEILLE",13005,"Marseille 5e  Arrondissement","Pharmacie d'officine","A"]
[{"$f":"VLOOKUP(B2048,Régions!A:C,3,FALSE)","v":"Provence-Alpes-Côte d'Azur"},13,"PHARMDIRECTFR",130027717,130027717,"oui","SEL O SCEPI",15,"Avenue","EUGENE SUBILIA","13600 CIOTAT (LA)",13600,"La Ciotat","Pharmacie d'officine","A"]
[{"$f":"VLOOKUP(B2055,Régions!A:C,3,FALSE)","v":"Provence-Alpes-Côte d'Azur"},13,{"$error":"#N/A"},130027873,{"$error":"#N/A"},{"$error":"#N/A"},"SELARL PHARMACIE DU DOME",4,"Avenue","DE ST JUST","13004 MARSEILLE",13004,"Marseille 4e  Arrondissement","Pharmacie d'officine","A"]
[{"$f":"VLOOKUP(B2067,Régions!A:C,3,FALSE)","v":"Provence-Alpes-Côte d'Azur"},13,"CNOP",130028186,130028186,"oui","SELARL PHARMACIE CAMMELLINI",40,"Avenue","DE LA ROSE","13013 MARSEILLE",13013,"Marseille 13e  Arrondissement","Pharmacie d'officine","A"]
[{"$f":"VLOOKUP(B2082,Régions!A:C,3,FALSE)","v":"Provence-Alpes-Côte d'Azur"},13,"PHARMDIRECTFR",130028582,130028582,"oui","PHARMACIE MESDJIAN",122,"Avenue","JEAN MONET","13127 VITROLLES",13127,"Vitrolles","Pharmacie d'officine","A"]
[{"$f":"VLOOKUP(B2087,Régions!A:C,3,FALSE)","v":"Provence-Alpes-Côte d'Azur"},13,{"$error":"#N/A"},130028707,{"$error":"#N/A"},{"$error":"#N/A"},"PHARMACIE HERAUD-LE VAN",21,"Avenue","DU MARECHAL JUIN","13700 MARIGNANE",13700,"Marignane","Pharmacie d'officine","A"]
[{"$f":"VLOOKUP(B2099,Régions!A:C,3,FALSE)","v":"Provence-Alpes-Côte d'Azur"},13,{"$error":"#N/A"},130029002,{"$error":"#N/A"},{"$error":"#N/A"},"SNC PHARMACIE GUIGUE THUILLEUR",3,"Rue","DU CLOS","13390 AURIOL",13390,"Auriol","Pharmacie d'officine","A"]
[{"$f":"VLOOKUP(B2106,Régions!A:C,3,FALSE)","v":"Provence-Alpes-Côte d'Azur"},13,"CNOP",130029234,130029234,"oui","EURL PHARMACIE DE LA MARTHELINE","NULL","Avenue","DE LA MARTHELINE","13009 MARSEILLE",13009,"Marseille 9e  Arrondissement","Pharmacie d'officine","A"]
[{"$f":"VLOOKUP(B2118,Régions!A:C,3,FALSE)","v":"Provence-Alpes-Côte d'Azur"},13,"PHARMDIRECTFR",130029523,130029523,"oui","SELARL PHARMACIE KAMBOU",60,"Avenue","DE LA CROIX ROUGE","13013 MARSEILLE 13E  ARRONDISSEMENT",13013,"Marseille 13e  Arrondissement","Pharmacie d'officine","A"]
[{"$f":"VLOOKUP(B2121,Régions!A:C,3,FALSE)","v":"Provence-Alpes-Côte d'Azur"},13,"PHARMDIRECTFR",130029606,130029606,"oui","SELARL PHARMACIE DU PARC SAINT CYR",130,"Chemin","RURAL","13011 MARSEILLE",13011,"Marseille 11e  Arrondissement","Pharmacie d'officine","A"]
[{"$f":"VLOOKUP(B2128,Régions!A:C,3,FALSE)","v":"Provence-Alpes-Côte d'Azur"},13,{"$error":"#N/A"},130029770,{"$error":"#N/A"},{"$error":"#N/A"},"SELEURL PHARMACIE PHILIPPE GASSER","NULL","Quartier","ST LOUIS","13122 VENTABREN",13122,"Ventabren","Pharmacie d'officine","A"]
[{"$f":"VLOOKUP(B2140,Régions!A:C,3,FALSE)","v":"Provence-Alpes-Côte d'Azur"},13,"PHARMDIRECTFR",130030083,130030083,"oui","SARL PHARMACIE TRAILLOU - MABRIER",37,"Avenue","MAURICE THOREZ","13110 PORT-DE-BOUC",13110,"Port-de-Bouc","Pharmacie d'officine","A"]
[{"$f":"VLOOKUP(B2147,Régions!A:C,3,FALSE)","v":"Provence-Alpes-Côte d'Azur"},13,"PHARMDIRECTFR",130030257,130030257,"oui","PHARMACIE PICHON",67,"Avenue","DES CAILLOLS","13012 MARSEILLE 12",13012,"Marseille 12e  Arrondissement","Pharmacie d'officine","A"]
[{"$f":"VLOOKUP(B2157,Régions!A:C,3,FALSE)","v":"Provence-Alpes-Côte d'Azur"},13,"PHARMDIRECTFR",130030505,130030505,"oui","SELARL PHARMACIE PLACIDI",138,"Rue","DU DR CAUVIN","13012 MARSEILLE",13012,"Marseille 12e  Arrondissement","Pharmacie d'officine","A"]
[{"$f":"VLOOKUP(B2172,Régions!A:C,3,FALSE)","v":"Provence-Alpes-Côte d'Azur"},13,"CNOP",130030885,130030885,"oui","PHARMACIE MARIOTTO - SIBILLE",21,"Avenue","JEAN MOULIN","13127 VITROLLES",13127,"Vitrolles","Pharmacie d'officine","A"]
[{"$f":"VLOOKUP(B2179,Régions!A:C,3,FALSE)","v":"Provence-Alpes-Côte d'Azur"},13,{"$error":"#N/A"},130031073,{"$error":"#N/A"},{"$error":"#N/A"},"SELASU PHARMACIE STUPP","NULL","Chemin","Saint Michel","13400 AUBAGNE",13400,"Aubagne","Pharmacie d'officine","A"]
[{"$f":"VLOOKUP(B2191,Régions!A:C,3,FALSE)","v":"Provence-Alpes-Côte d'Azur"},13,{"$error":"#N/A"},130031370,{"$error":"#N/A"},{"$error":"#N/A"},"SELARL LA PRAIRIE",135,"Chemin","DE CHATEAU GOMBERT","13013 MARSEILLE",13013,"Marseille 13e  Arrondissement","Pharmacie d'officine","A"]
[{"$f":"VLOOKUP(B2198,Régions!A:C,3,FALSE)","v":"Provence-Alpes-Côte d'Azur"},13,"CNOP",130031552,130031552,"oui","SELARL PHARMACIE DE LA PAULINE",301,"Boulevard","ROMAIN ROLLAND","13009 MARSEILLE 09 #",13009,"Marseille 9e  Arrondissement","Pharmacie d'officine","A"]
[{"$f":"VLOOKUP(B2201,Régions!A:C,3,FALSE)","v":"Provence-Alpes-Côte d'Azur"},13,{"$error":"#N/A"},130031636,{"$error":"#N/A"},{"$error":"#N/A"},"SELARL  PHARMACIE LA DURANCE","NULL","Avenue","CRAPONNE","13370 MALLEMORT",13370,"Mallemort","Pharmacie d'officine","A"]
[{"$f":"VLOOKUP(B2213,Régions!A:C,3,FALSE)","v":"Provence-Alpes-Côte d'Azur"},13,{"$error":"#N/A"},130031933,{"$error":"#N/A"},{"$error":"#N/A"},"SELARL PHARMACIE LECAILLET",604,"Avenue","DE MAZARGUES","13008 MARSEILLE",13008,"Marseille 8e  Arrondissement","Pharmacie d'officine","A"]
[{"$f":"VLOOKUP(B2220,Régions!A:C,3,FALSE)","v":"Provence-Alpes-Côte d'Azur"},13,"CNOP",130032105,130032105,"oui","SELEURL PHARMACIE MICHEAU",27,"Rue","FERNAND RAMBERT","13190 ALLAUCH",13190,"Allauch","Pharmacie d'officine","A"]
[{"$f":"VLOOKUP(B2228,Régions!A:C,3,FALSE)","v":"Provence-Alpes-Côte d'Azur"},13,"PHARMDIRECTFR",130032303,130032303,"oui","SELARL PHARMACIE LAUGIER-MATTE",8,"Place","de Rome","13006 MARSEILLE 06",13006,"Marseille 6e  Arrondissement","Pharmacie d'officine","A"]
[{"$f":"VLOOKUP(B2245,Régions!A:C,3,FALSE)","v":"Provence-Alpes-Côte d'Azur"},13,"CNOP",130032766,130032766,"oui","SELARL  PHARMACIE CASANOVA",418,"Boulevard","NATIONAL","13003 MARSEILLE 3E  ARRONDISSEMENT",13003,"Marseille 3e  Arrondissement","Pharmacie d'officine","A"]
[{"$f":"VLOOKUP(B2252,Régions!A:C,3,FALSE)","v":"Provence-Alpes-Côte d'Azur"},13,{"$error":"#N/A"},130032923,{"$error":"#N/A"},{"$error":"#N/A"},"PHARMCIE CHAPUS",245,"Avenue","DE MAZARGUES","13008 MARSEILLE",13008,"Marseille 8e  Arrondissement","Pharmacie d'officine","A"]
[{"$f":"VLOOKUP(B2264,Régions!A:C,3,FALSE)","v":"Provence-Alpes-Côte d'Azur"},13,"PHARMDIRECTFR",130033251,130033251,"oui","SELAS PHARMACIE DE PROVENCE","NULL","Route","D'ISTRES","13500 MARTIGUES",13500,"Martigues","Pharmacie d'officine","A"]
[{"$f":"VLOOKUP(B2271,Régions!A:C,3,FALSE)","v":"Provence-Alpes-Côte d'Azur"},13,"PHARMDIRECTFR",130033434,130033434,"oui","SELARL PHARMACIE KOUHAILA",36,"Boulevard","RABATAU","13008 MARSEILLE",13008,"Marseille 8e  Arrondissement","Pharmacie d'officine","A"]
[{"$f":"VLOOKUP(B2274,Régions!A:C,3,FALSE)","v":"Provence-Alpes-Côte d'Azur"},13,"CNOP",130033517,130033517,"oui","SELEURL PHARMACIE MOUKARZEL",118,"Boulevard","BAILLE","13005 MARSEILLE",13005,"Marseille 5e  Arrondissement","Pharmacie d'officine","A"]
[{"$f":"VLOOKUP(B2286,Régions!A:C,3,FALSE)","v":"Provence-Alpes-Côte d'Azur"},13,{"$error":"#N/A"},130033806,{"$error":"#N/A"},{"$error":"#N/A"},"SELARL PHARMACIE PROVENCALE",42,"Boulevard","DE LA REPUBLIQUE","13200 ARLES",13200,"Arles","Pharmacie d'officine","A"]
[{"$f":"VLOOKUP(B2293,Régions!A:C,3,FALSE)","v":"Provence-Alpes-Côte d'Azur"},13,{"$error":"#N/A"},130034952,{"$error":"#N/A"},{"$error":"#N/A"},"SELARL PHARMACIE DES CARABINS","NULL","Avenue","G.POMPIDOU","13270 FOS-SUR-MER",13270,"Fos-sur-Mer","Pharmacie d'officine","A"]
[{"$f":"VLOOKUP(B2305,Régions!A:C,3,FALSE)","v":"Provence-Alpes-Côte d'Azur"},13,{"$error":"#N/A"},130037237,{"$error":"#N/A"},{"$error":"#N/A"},"SELARL PHARMACIE LE TREBUCHET",32,"Rue","GAUTHIER","13250 SAINT-CHAMAS",13250,"Saint-Chamas","Pharmacie d'officine","A"]
[{"$f":"VLOOKUP(B2313,Régions!A:C,3,FALSE)","v":"Provence-Alpes-Côte d'Azur"},13,{"$error":"#N/A"},130037765,{"$error":"#N/A"},{"$error":"#N/A"},"SELARL PHARMACIE BOUDRAA",13,"Avenue","JEAN MOULIN","13100 AIX-EN-PROVENCE",13100,"Aix-en-Provence","Pharmacie d'officine","A"]
[{"$f":"VLOOKUP(B2325,Régions!A:C,3,FALSE)","v":"Normandie"},14,"PHARMDIRECTFR",140009150,140009150,"oui","PHARMACIE DU BESSIN","NULL","Boulevard","D'EINDHOVEN","14400 BAYEUX",14400,"Bayeux","Pharmacie d'officine","A"]
[{"$f":"VLOOKUP(B2337,Régions!A:C,3,FALSE)","v":"Normandie"},14,"CNOP",140009291,140009291,"non","PHARMACIE DE L'EGLISE","NULL","Place","MARIN","14740 BRETTEVILLE L ORGUEILLEUSE",14740,"Thue et Mue","Pharmacie d'officine","A"]
[{"$f":"VLOOKUP(B2344,Régions!A:C,3,FALSE)","v":"Normandie"},14,"CNOP",140009382,140009382,"oui","PHARMACIE LEBLANC",6,"Rue","MONTOIR POISSONNERIE","14000 CAEN",14000,"Caen","Pharmacie d'officine","A"]
[{"$f":"VLOOKUP(B2347,Régions!A:C,3,FALSE)","v":"Normandie"},14,"PHARMDIRECTFR",140009416,140009416,"oui","SELAS GRANDE PHARMACIE DU PROGRES",2,"Boulevard","DES ALLIES","14000 CAEN",14000,"Caen","Pharmacie d'officine","A"]
[{"$f":"VLOOKUP(B2359,Régions!A:C,3,FALSE)","v":"Normandie"},14,{"$error":"#N/A"},140009564,{"$error":"#N/A"},{"$error":"#N/A"},"PHARMACIE VERGER  - PERROUAULT",49,"Rue","ST PIERRE","14000 CAEN",14000,"Caen","Pharmacie d'officine","A"]
[{"$f":"VLOOKUP(B2366,Régions!A:C,3,FALSE)","v":"Normandie"},14,"CNOP",140009630,140009630,"non","PHARMACIE DE LA REPUBLIQUE",13,"Place","DE LA REPUBLIQUE","14000 CAEN",14000,"Caen","Pharmacie d'officine","A"]
[{"$f":"VLOOKUP(B2378,Régions!A:C,3,FALSE)","v":"Normandie"},14,"CNOP",140009770,140009770,"oui","PHARMACIE DE CARPIQUET",51,"Route","de Caumont","14650 CARPIQUET",14650,"Carpiquet","Pharmacie d'officine","A"]
[{"$f":"VLOOKUP(B2385,Régions!A:C,3,FALSE)","v":"Normandie"},14,{"$error":"#N/A"},140009846,{"$error":"#N/A"},{"$error":"#N/A"},"PHARMACIE CHEMIN",2,"Rue","ST SAUVEUR","14110 CONDE EN NORMANDIE",14110,"Condé-en-Normandie","Pharmacie d'officine","A"]
[{"$f":"VLOOKUP(B2394,Régions!A:C,3,FALSE)","v":"Normandie"},14,"CNOP",140009945,140009945,"non","PHARMACIE DE L'HORLOGE",14,"Place","MORNY","14800 DEAUVILLE",14800,"Deauville","Pharmacie d'officine","A"]
[{"$f":"VLOOKUP(B2410,Régions!A:C,3,FALSE)","v":"Normandie"},14,"PHARMDIRECTFR",140010117,140010117,"oui","SELARL PHARMACIE DE LA GRONDE",25,"Rue","PASTEUR","14730 GIBERVILLE",14730,"Giberville","Pharmacie d'officine","A"]
[{"$f":"VLOOKUP(B2417,Régions!A:C,3,FALSE)","v":"Normandie"},14,"PHARMDIRECTFR",140010182,140010182,"oui","PHARMACIE TOPIEU - EDOUA KACOU","NULL","NULL","NULL","14200 HEROUVILLE ST CLAIR",14200,"Hérouville-Saint-Clair","Pharmacie d'officine","A"]
[{"$f":"VLOOKUP(B2420,Régions!A:C,3,FALSE)","v":"Normandie"},14,{"$error":"#N/A"},140010224,{"$error":"#N/A"},{"$error":"#N/A"},"PHARMACIE ALIAMUS",42,"Rue","DES BAINS","14510 HOULGATE",14510,"Houlgate","Pharmacie d'officine","A"]
[{"$f":"VLOOKUP(B2432,Régions!A:C,3,FALSE)","v":"Normandie"},14,{"$error":"#N/A"},140010356,{"$error":"#N/A"},{"$error":"#N/A"},"PHARMACIE VICTOR HUGO",8,"Avenue","VICTOR HUGO","14100 LISIEUX",14100,"Lisieux","Pharmacie d'officine","A"]
[{"$f":"VLOOKUP(B2439,Régions!A:C,3,FALSE)","v":"Normandie"},14,{"$error":"#N/A"},140010422,{"$error":"#N/A"},{"$error":"#N/A"},"PHARMACIE JOUET - CHOURAQUI",27,"Avenue","DU 6 JUIN","14100 LISIEUX",14100,"Lisieux","Pharmacie d'officine","A"]
[{"$f":"VLOOKUP(B2451,Régions!A:C,3,FALSE)","v":"Normandie"},14,"PHARMDIRECTFR",140010562,140010562,"oui","PHARMACIE FERRAN",48,"Rue","CHAPRON","14120 MONDEVILLE",14120,"Mondeville","Pharmacie d'officine","A"]
[{"$f":"VLOOKUP(B2458,Régions!A:C,3,FALSE)","v":"Normandie"},14,"CNOP",140010646,140010646,"oui","PHARMACIE CROUINAUX",49,"Rue","GRANDE","14290 ORBEC",14290,"Orbec","Pharmacie d'officine","A"]
[{"$f":"VLOOKUP(B2465,Régions!A:C,3,FALSE)","v":"Normandie"},14,"CNOP",140010729,140010729,"oui","PHARMACIE DERVIN",46,"Rue","DU GENERAL LECLERC","14420 POTIGNY",14420,"Potigny","Pharmacie d'officine","A"]
[{"$f":"VLOOKUP(B2483,Régions!A:C,3,FALSE)","v":"Normandie"},14,"CNOP",140010919,140010919,"non","PHARMACIE PINCEPOCHE","NULL","Route","DE CAEN","14670 TROARN",14670,"Saline","Pharmacie d'officine","A"]
[{"$f":"VLOOKUP(B2490,Régions!A:C,3,FALSE)","v":"Normandie"},14,"CNOP",140010992,140010992,"oui","SELAS PHARMACIE DE VILLERS SUR MER",5,"Rue","DES BELGES","14640 VILLERS-SUR-MER",14640,"Villers-sur-Mer","Pharmacie d'officine","A"]
[{"$f":"VLOOKUP(B2493,Régions!A:C,3,FALSE)","v":"Normandie"},14,"PHARMDIRECTFR",140011032,140011032,"oui","PHARMACIE TRAVOUILLON",1,"Rue","EMILE CHENEL","14500 VIRE NORMANDIE",14500,"Vire Normandie","Pharmacie d'officine","A"]
[{"$f":"VLOOKUP(B2509,Régions!A:C,3,FALSE)","v":"Normandie"},14,"CNOP",140013871,140013871,"oui","PHARMACIE DE SAINT LAURENT","NULL","Allee","de la Bichotte","14220 SAINT-LAURENT-DE-CONDEL",14220,"Saint-Laurent-de-Condel","Pharmacie d'officine","A"]
[{"$f":"VLOOKUP(B2512,Régions!A:C,3,FALSE)","v":"Normandie"},14,"PHARMDIRECTFR",140015223,140015223,"oui","SELARL PHARMACIE DE VAUDRY",24,"Route","de Condé","14500 VIRE NORMANDIE",14500,"Vire Normandie","Pharmacie d'officine","A"]
[{"$f":"VLOOKUP(B2524,Régions!A:C,3,FALSE)","v":"Normandie"},14,"CNOP",140019480,140019480,"oui","PHARMACIE BELKACEM - LEROUX",9,"Rue","GUILLAUME LE CONQUERANT","14790 FONTAINE-ETOUPEFOUR",14790,"Fontaine-Étoupefour","Pharmacie d'officine","A"]
[{"$f":"VLOOKUP(B2531,Régions!A:C,3,FALSE)","v":"Auvergne-Rhône-Alpes"},15,"CNOP",150000503,150000503,"oui","PHARMACIE VERDIER",23,"NULL","GRAND RUE ABBE DE PRADT","15160 ALLANCHE",15160,"Allanche","Pharmacie d'officine","A"]
[{"$f":"VLOOKUP(B2543,Régions!A:C,3,FALSE)","v":"Auvergne-Rhône-Alpes"},15,"PHARMDIRECTFR",150000800,150000800,"oui","PHARMACIE MOISSET",60,"Avenue","JEAN BAPTISTE VEYRE","15000 AURILLAC",15000,"Aurillac","Pharmacie d'officine","A"]
[{"$f":"VLOOKUP(B2550,Régions!A:C,3,FALSE)","v":"Auvergne-Rhône-Alpes"},15,{"$error":"#N/A"},150001022,{"$error":"#N/A"},{"$error":"#N/A"},"PHARMACIE PUECH","NULL","Rue","DE L EGLISE","15340 PUYCAPEL",15340,"Puycapel","Pharmacie d'officine","A"]
[{"$f":"VLOOKUP(B2563,Régions!A:C,3,FALSE)","v":"Auvergne-Rhône-Alpes"},15,{"$error":"#N/A"},150001402,{"$error":"#N/A"},{"$error":"#N/A"},"PHARMACIE MALBEC",4,"Rue","NOTRE DAME","15200 MAURIAC",15200,"Mauriac","Pharmacie d'officine","A"]
[{"$f":"VLOOKUP(B2566,Régions!A:C,3,FALSE)","v":"Auvergne-Rhône-Alpes"},15,{"$error":"#N/A"},150001501,{"$error":"#N/A"},{"$error":"#N/A"},"PHARMACIE RICHARD - DESSERTENNE","NULL","Place","DE L'EUROPE","15600 MAURS",15600,"Maurs","Pharmacie d'officine","A"]
[{"$f":"VLOOKUP(B2582,Régions!A:C,3,FALSE)","v":"Auvergne-Rhône-Alpes"},15,{"$error":"#N/A"},150001972,{"$error":"#N/A"},{"$error":"#N/A"},"PHARMACIE VALETTE",15,"Rue","DES  LACS","15100 SAINT-FLOUR",15100,"Saint-Flour","Pharmacie d'officine","A"]
[{"$f":"VLOOKUP(B2585,Régions!A:C,3,FALSE)","v":"Auvergne-Rhône-Alpes"},15,{"$error":"#N/A"},150002061,{"$error":"#N/A"},{"$error":"#N/A"},"PHARMACIE GAUTHIER","NULL","Route","DE MAURIAC","15140 SAINT-MARTIN-VALMEROUX",15140,"Saint-Martin-Valmeroux","Pharmacie d'officine","A"]
[{"$f":"VLOOKUP(B2597,Régions!A:C,3,FALSE)","v":"Nouvelle-Aquitaine"},16,"CNOP",160004495,160004495,"oui","PHARMACIE LECANTE",136,"Rue","DE  PERIGUEUX","16000 ANGOULÊME",16000,"Angoulême","Pharmacie d'officine","A"]
[{"$f":"VLOOKUP(B2604,Régions!A:C,3,FALSE)","v":"Nouvelle-Aquitaine"},16,"PHARMDIRECTFR",160005567,160005567,"oui","PHARMACIE  TESSON-RICHEZ","NULL","NULL","NULL","16430 CHAMPNIERS",16430,"Champniers","Pharmacie d'officine","A"]
[{"$f":"VLOOKUP(B2616,Régions!A:C,3,FALSE)","v":"Nouvelle-Aquitaine"},16,{"$error":"#N/A"},160010161,{"$error":"#N/A"},{"$error":"#N/A"},"PHARMACIE BERTHELOT",4,"Rue","ELISEE MOUSNIER","16100 COGNAC",16100,"Cognac","Pharmacie d'officine","A"]
[{"$f":"VLOOKUP(B2621,Régions!A:C,3,FALSE)","v":"Nouvelle-Aquitaine"},16,"CNOP",160010237,160010237,"oui","PHARMACIE DE PISANY",63,"Route","DE PARIS","16160 GOND-PONTOUVRE",16160,"Gond-Pontouvre","Pharmacie d'officine","A"]
[{"$f":"VLOOKUP(B2636,Régions!A:C,3,FALSE)","v":"Nouvelle-Aquitaine"},16,"CNOP",160010591,160010591,"oui","SELARL PHARMACIE  RANDAZZO","NULL","NULL","NULL","16000 ANGOULÊME",16000,"Angoulême","Pharmacie d'officine","A"]
[{"$f":"VLOOKUP(B2639,Régions!A:C,3,FALSE)","v":"Nouvelle-Aquitaine"},16,"CNOP",160010633,160010633,"non","PHARMACIE DETHOOR","NULL","Lieu dit","BOIS DES ROCHIERS","16430 BALZAC",16430,"Balzac","Pharmacie d'officine","A"]
[{"$f":"VLOOKUP(B2655,Régions!A:C,3,FALSE)","v":"Nouvelle-Aquitaine"},16,"CNOP",160010849,160010849,"non","PHARMACIE  SIMONNET-MAURIN",72,"Rue","ARISTIDE BRIAND","16100 COGNAC",16100,"Cognac","Pharmacie d'officine","A"]
[{"$f":"VLOOKUP(B2658,Régions!A:C,3,FALSE)","v":"Nouvelle-Aquitaine"},16,{"$error":"#N/A"},160010872,{"$error":"#N/A"},{"$error":"#N/A"},"PHARMACIE VANONI",57,"Rue","D'ANGOULEME","16100 COGNAC",16100,"Cognac","Pharmacie d'officine","A"]
[{"$f":"VLOOKUP(B2670,Régions!A:C,3,FALSE)","v":"Nouvelle-Aquitaine"},16,"CNOP",160011037,160011037,"oui","PHARMACIE FEUILLET",6,"Avenue","D'ECOSSE","16200 JARNAC",16200,"Jarnac","Pharmacie d'officine","A"]
[{"$f":"VLOOKUP(B2677,Régions!A:C,3,FALSE)","v":"Nouvelle-Aquitaine"},16,{"$error":"#N/A"},160011102,{"$error":"#N/A"},{"$error":"#N/A"},"PHARMACIE HAFIL",42,"Rue","JOLIOT CURIE","16600 MAGNAC-SUR-TOUVRE",16600,"Magnac-sur-Touvre","Pharmacie d'officine","A"]
[{"$f":"VLOOKUP(B2689,Régions!A:C,3,FALSE)","v":"Nouvelle-Aquitaine"},16,"CNOP",160011243,160011243,"oui","PHARMACIE LANDRY",274,"Route","DE COGNAC","16200 NERCILLAC",16200,"Nercillac","Pharmacie d'officine","A"]
[{"$f":"VLOOKUP(B2696,Régions!A:C,3,FALSE)","v":"Nouvelle-Aquitaine"},16,"CNOP",160011359,160011359,"oui","PHARMACIE TERRADE-ALLIAT",1905,"Route","DE GOND-PONTOUVRE","16600 RUELLE-SUR-TOUVRE",16600,"Ruelle-sur-Touvre","Pharmacie d'officine","A"]
[{"$f":"VLOOKUP(B2702,Régions!A:C,3,FALSE)","v":"Nouvelle-Aquitaine"},16,"CNOP",160011425,160011425,"oui","PHARMACIE NAVAUD","NULL","NULL","LE BOURG","16130 ST FORT SUR LE NE",16130,"Saint-Fort-sur-le-Né","Pharmacie d'officine","A"]
[{"$f":"VLOOKUP(B2712,Régions!A:C,3,FALSE)","v":"Nouvelle-Aquitaine"},16,"CNOP",160011557,160011557,"oui","PHARMACIE  BREGERE - PEYRET",1,"Place","JEAN-JACQUES ROUSSEAU","16800 SOYAUX",16800,"Soyaux","Pharmacie d'officine","A"]
[{"$f":"VLOOKUP(B2728,Régions!A:C,3,FALSE)","v":"Nouvelle-Aquitaine"},17,"PHARMDIRECTFR",170010441,170010441,"oui","PHARMACIE SCHNEIDER",2,"Rue","DES COQUELICOTS","17440 AYTRE",17440,"Aytré","Pharmacie d'officine","A"]
[{"$f":"VLOOKUP(B2731,Régions!A:C,3,FALSE)","v":"Nouvelle-Aquitaine"},17,"CNOP",170010524,170010524,"oui","PHARMACIE IMBERT-BELIN",14,"NULL","GRANDE PLACE","17490 BEAUVAIS-SUR-MATHA",17490,"Beauvais-sur-Matha","Pharmacie d'officine","A"]
[{"$f":"VLOOKUP(B2743,Régions!A:C,3,FALSE)","v":"Nouvelle-Aquitaine"},17,{"$error":"#N/A"},170010847,{"$error":"#N/A"},{"$error":"#N/A"},"PHARMACIE CAP ATLANTIQUE",7,"Avenue","de Strasbourg","17340 CHATELAILLON-PLAGE",17340,"Châtelaillon-Plage","Pharmacie d'officine","A"]
[{"$f":"VLOOKUP(B2750,Régions!A:C,3,FALSE)","v":"Nouvelle-Aquitaine"},17,{"$error":"#N/A"},170011043,{"$error":"#N/A"},{"$error":"#N/A"},"PHARMACIE D'ANTIOCHE",1,"Avenue","D'ANTIOCHE","17670 LA COUARDE SUR MER",17670,"La Couarde-sur-Mer","Pharmacie d'officine","A"]
[{"$f":"VLOOKUP(B2762,Régions!A:C,3,FALSE)","v":"Nouvelle-Aquitaine"},17,"CNOP",170011381,170011381,"non","PHARMACIE CROIX VERTE",18,"Place","SAINT PIERRE","17260 GEMOZAC",17260,"Gémozac","Pharmacie d'officine","A"]
[{"$f":"VLOOKUP(B2769,Régions!A:C,3,FALSE)","v":"Nouvelle-Aquitaine"},17,{"$error":"#N/A"},170011563,{"$error":"#N/A"},{"$error":"#N/A"},"EURL PHARMACIE LA JARRIE",4,"Rue","de la Providence","17220 LA JARRIE",17220,"La Jarrie","Pharmacie d'officine","A"]
[{"$f":"VLOOKUP(B2781,Régions!A:C,3,FALSE)","v":"Nouvelle-Aquitaine"},17,{"$error":"#N/A"},170011860,{"$error":"#N/A"},{"$error":"#N/A"},"PHARMACIE MARTIN",4,"Rue","DE LA ROCHELLE","17137 MARSILLY",17137,"Marsilly","Pharmacie d'officine","A"]
[{"$f":"VLOOKUP(B2787,Régions!A:C,3,FALSE)","v":"Nouvelle-Aquitaine"},17,{"$error":"#N/A"},170012025,{"$error":"#N/A"},{"$error":"#N/A"},"SARL PHARMACIE BARBOTIN",24,"Rue","PRINCIPALE","17120 MEURSAC",17120,"Meursac","Pharmacie d'officine","A"]
[{"$f":"VLOOKUP(B2801,Régions!A:C,3,FALSE)","v":"Nouvelle-Aquitaine"},17,{"$error":"#N/A"},170012447,{"$error":"#N/A"},{"$error":"#N/A"},"PHARMACIE  FABRE",32,"Rue","DES ECOLES","17183 PERIGNY CEDEX",17183,"Périgny","Pharmacie d'officine","A"]
[{"$f":"VLOOKUP(B2804,Régions!A:C,3,FALSE)","v":"Nouvelle-Aquitaine"},17,"PHARMDIRECTFR",170012512,170012512,"oui","PHARMACIE MESNARD",3,"Rue","EMILE COMBES","17800 PONS",17800,"Pons","Pharmacie d'officine","A"]
[{"$f":"VLOOKUP(B2816,Régions!A:C,3,FALSE)","v":"Nouvelle-Aquitaine"},17,{"$error":"#N/A"},170013031,{"$error":"#N/A"},{"$error":"#N/A"},"PHARMACIE DE FLEURIAN-BERGERAULT",102,"Rue","DU 14 JUILLET","17300 ROCHEFORT",17300,"Rochefort","Pharmacie d'officine","A"]
[{"$f":"VLOOKUP(B2823,Régions!A:C,3,FALSE)","v":"Nouvelle-Aquitaine"},17,"CNOP",170013213,170013213,"oui","PHARMACIE DES THERMES",16,"Avenue","MARCEL DASSAULT","17300 ROCHEFORT",17300,"Rochefort","Pharmacie d'officine","A"]
[{"$f":"VLOOKUP(B2835,Régions!A:C,3,FALSE)","v":"Nouvelle-Aquitaine"},17,{"$error":"#N/A"},170013577,{"$error":"#N/A"},{"$error":"#N/A"},"PHARMACIE  HERTZOG","NULL","NULL","NULL","17000 ROCHELLE (LA)",17000,"La Rochelle","Pharmacie d'officine","A"]
[{"$f":"VLOOKUP(B2842,Régions!A:C,3,FALSE)","v":"Nouvelle-Aquitaine"},17,{"$error":"#N/A"},170013775,{"$error":"#N/A"},{"$error":"#N/A"},"PHARMACIE CHAMPAGNE",190,"Avenue","du Lt Cnl Bernier","17000 LA ROCHELLE",17000,"La Rochelle","Pharmacie d'officine","A"]
[{"$f":"VLOOKUP(B2854,Régions!A:C,3,FALSE)","v":"Nouvelle-Aquitaine"},17,"CNOP",170014096,170014096,"oui","PHARMACIE GELES",8,"Rue","CHAUDRIER","17000 ROCHELLE (LA)",17000,"La Rochelle","Pharmacie d'officine","A"]
[{"$f":"VLOOKUP(B2858,Régions!A:C,3,FALSE)","v":"Nouvelle-Aquitaine"},17,{"$error":"#N/A"},170014211,{"$error":"#N/A"},{"$error":"#N/A"},"PHARMACIE TRAN",28,"Boulevard","DE LA REPUBLIQUE","17200 ROYAN",17200,"Royan","Pharmacie d'officine","A"]
[{"$f":"VLOOKUP(B2874,Régions!A:C,3,FALSE)","v":"Nouvelle-Aquitaine"},17,"PHARMDIRECTFR",170014641,170014641,"oui","SELARL PHARMACIE SAINT GENIS",19,"Avenue","DE BORDEAUX","17240 SAINT-GENIS-DE-SAINTONGE",17240,"Saint-Genis-de-Saintonge","Pharmacie d'officine","A"]
[{"$f":"VLOOKUP(B2877,Régions!A:C,3,FALSE)","v":"Nouvelle-Aquitaine"},17,{"$error":"#N/A"},170014690,{"$error":"#N/A"},{"$error":"#N/A"},"PHARMACIE MAZIN","NULL","Lieu dit","CHERAY","17190 SAINT-GEORGES-D'OLERON",17190,"Saint-Georges-d'Oléron","Pharmacie d'officine","A"]
[{"$f":"VLOOKUP(B2893,Régions!A:C,3,FALSE)","v":"Nouvelle-Aquitaine"},17,{"$error":"#N/A"},170015093,{"$error":"#N/A"},{"$error":"#N/A"},"PHARMACIE FAURÉ - PANIEGO",49,"Avenue","DES PINS","17310 ST PIERRE D OLERON",17310,"Saint-Pierre-d'Oléron","Pharmacie d'officine","A"]
[{"$f":"VLOOKUP(B2896,Régions!A:C,3,FALSE)","v":"Nouvelle-Aquitaine"},17,"PHARMDIRECTFR",170015176,170015176,"oui","COCOON PHARMA",62,"Rue","NATIONALE","17250 SAINT-PORCHAIRE",17250,"Saint-Porchaire","Pharmacie d'officine","A"]
[{"$f":"VLOOKUP(B2908,Régions!A:C,3,FALSE)","v":"Nouvelle-Aquitaine"},17,"CNOP",170015523,170015523,"oui","PHARMACIE TROUX",18,"Cours","NATIONAL","17100 SAINTES",17100,"Saintes","Pharmacie d'officine","A"]
[{"$f":"VLOOKUP(B2915,Régions!A:C,3,FALSE)","v":"Nouvelle-Aquitaine"},17,{"$error":"#N/A"},170015705,{"$error":"#N/A"},{"$error":"#N/A"},"PHARMACIE BARBE-SCHUHLER",85,"Rue","CARNOT","17600 SAUJON",17600,"Saujon","Pharmacie d'officine","A"]
[{"$f":"VLOOKUP(B2927,Régions!A:C,3,FALSE)","v":"Nouvelle-Aquitaine"},17,{"$error":"#N/A"},170016000,{"$error":"#N/A"},{"$error":"#N/A"},"PHARMACIE BLANCATO","NULL","Rue","LOUIS PASTEUR","17430 TONNAY-CHARENTE",17430,"Tonnay-Charente","Pharmacie d'officine","A"]
[{"$f":"VLOOKUP(B2930,Régions!A:C,3,FALSE)","v":"Nouvelle-Aquitaine"},17,{"$error":"#N/A"},170016083,{"$error":"#N/A"},{"$error":"#N/A"},"PHARMACIE  FERRAND",67,"Avenue","BEAUPREAU","17390 LA-TREMBLADE",17390,"La Tremblade","Pharmacie d'officine","A"]
[{"$f":"VLOOKUP(B2939,Régions!A:C,3,FALSE)","v":"Centre-Val de Loire"},18,"PHARMDIRECTFR",180001372,180001372,"oui"," SELARL PHARMACIE DU MARCHE",5,"Place","ADRIEN ARNOUX","18700 AUBIGNY-SUR-NÈRE",18700,"Aubigny-sur-Nère","Pharmacie d'officine","A"]
[{"$f":"VLOOKUP(B2950,Régions!A:C,3,FALSE)","v":"Centre-Val de Loire"},18,"CNOP",180001687,180001687,"oui","PHARMACIE BEDON",2,"Rue","BARBES","18000 BOURGES",18000,"Bourges","Pharmacie d'officine","A"]
[{"$f":"VLOOKUP(B2966,Régions!A:C,3,FALSE)","v":"Centre-Val de Loire"},18,{"$error":"#N/A"},180002180,{"$error":"#N/A"},{"$error":"#N/A"},"PHARMACIE SAINT-BONNET",1,"Place","ST BONNET","18000 BOURGES",18000,"Bourges","Pharmacie d'officine","A"]
[{"$f":"VLOOKUP(B2969,Régions!A:C,3,FALSE)","v":"Centre-Val de Loire"},18,"CNOP",180002347,180002347,"oui","PHARMACIE JACQUES",20,"NULL","GRANDE RUE","18410 BRINON-SUR-SAULDRE",18410,"Brinon-sur-Sauldre","Pharmacie d'officine","A"]
[{"$f":"VLOOKUP(B2981,Régions!A:C,3,FALSE)","v":"Centre-Val de Loire"},18,{"$error":"#N/A"},180002792,{"$error":"#N/A"},{"$error":"#N/A"},"S.E.L.A.R.L. VERDENPHARMA","NULL","Place","JEAN CHAUDRON","18310 GRACAY",18310,"Graçay","Pharmacie d'officine","A"]
[{"$f":"VLOOKUP(B2988,Régions!A:C,3,FALSE)","v":"Centre-Val de Loire"},18,"CNOP",180003014,180003014,"oui","PHARMACIE VERDURON-COMBEL",3,"Rue","DU DOCTEUR BONNET","18160 LIGNIÈRES",18160,"Lignières","Pharmacie d'officine","A"]
[{"$f":"VLOOKUP(B3000,Régions!A:C,3,FALSE)","v":"Centre-Val de Loire"},18,"CNOP",180003550,180003550,"oui","PHARMACIE JULLIEN",3,"Route","DE LA CHAPELLE","18330 NEUVY-SUR-BARANGEON",18330,"Neuvy-sur-Barangeon","Pharmacie d'officine","A"]
[{"$f":"VLOOKUP(B3007,Régions!A:C,3,FALSE)","v":"Centre-Val de Loire"},18,{"$error":"#N/A"},180004384,{"$error":"#N/A"},{"$error":"#N/A"},"SELARL PHARMACIE PORTE MUTIN",3,"Rue","PORTE MUTIN","18200 SAINT-AMAND-MONTROND",18200,"Saint-Amand-Montrond","Pharmacie d'officine","A"]
[{"$f":"VLOOKUP(B3019,Régions!A:C,3,FALSE)","v":"Centre-Val de Loire"},18,"CNOP",180006652,180006652,"oui","PHARMACIE MERLE - DAUNY",38,"Rue","DU COMMERCE","18300 SAINT-SATUR",18300,"Saint-Satur","Pharmacie d'officine","A"]
[{"$f":"VLOOKUP(B3024,Régions!A:C,3,FALSE)","v":"Centre-Val de Loire"},18,"CNOP",180007130,180007130,"oui","PHARMACIE CHAPELLE-RINGOT",29,"Rue","MAURICE LUCAS","18600 SANCOINS",18600,"Sancoins","Pharmacie d'officine","A"]
[{"$f":"VLOOKUP(B3039,Régions!A:C,3,FALSE)","v":"Centre-Val de Loire"},18,{"$error":"#N/A"},180007676,{"$error":"#N/A"},{"$error":"#N/A"},"PHARMACIE BULTEAU",13,"Rue","DE LA REPUBLIQUE","18500 VIGNOUX-SUR-BARANGEON",18500,"Vignoux-sur-Barangeon","Pharmacie d'officine","A"]
[{"$f":"VLOOKUP(B3042,Régions!A:C,3,FALSE)","v":"Nouvelle-Aquitaine"},19,{"$error":"#N/A"},190007054,{"$error":"#N/A"},{"$error":"#N/A"},"PHARMACIE PLANCHE",3,"Avenue","HENRI IV","19400 ARGENTAT",19400,"Argentat-sur-Dordogne","Pharmacie d'officine","A"]
[{"$f":"VLOOKUP(B3054,Régions!A:C,3,FALSE)","v":"Nouvelle-Aquitaine"},19,{"$error":"#N/A"},190007435,{"$error":"#N/A"},{"$error":"#N/A"},"PHARMACIE  DU CENTRE",51,"Rue","TOULZAC","19100 BRIVE LA GAILLARDE",19100,"Brive-la-Gaillarde","Pharmacie d'officine","A"]
[{"$f":"VLOOKUP(B3061,Régions!A:C,3,FALSE)","v":"Nouvelle-Aquitaine"},19,"CNOP",190007666,190007666,"oui","PHARMACIE TAURISSON",26,"Avenue","du 18 Juin","19100 BRIVE LA GAILLARDE",19100,"Brive-la-Gaillarde","Pharmacie d'officine","A"]
[{"$f":"VLOOKUP(B3073,Régions!A:C,3,FALSE)","v":"Nouvelle-Aquitaine"},19,"CNOP",190008003,190008003,"oui","PHARMACIE  CORREPHARM",35,"Rue","D'ARCHAMBAUD DE COMBORN","19370 CHAMBERET",19370,"Chamberet","Pharmacie d'officine","A"]
[{"$f":"VLOOKUP(B3080,Régions!A:C,3,FALSE)","v":"Nouvelle-Aquitaine"},19,"PHARMDIRECTFR",190008201,190008201,"oui","PHARMACIE MALAGNOUX - LAJUGIE",75,"Avenue","CHARLES DE GAULLE","19300 EGLETONS",19300,"Égletons","Pharmacie d'officine","A"]
[{"$f":"VLOOKUP(B3092,Régions!A:C,3,FALSE)","v":"Nouvelle-Aquitaine"},19,"CNOP",190008557,190008557,"oui","PHARMACIE DE  PUYMARET","NULL","Avenue","du capitaine Fernand Taurisson","19360 MALEMORT",19360,"Malemort","Pharmacie d'officine","A"]
[{"$f":"VLOOKUP(B3095,Régions!A:C,3,FALSE)","v":"Nouvelle-Aquitaine"},19,{"$error":"#N/A"},190008623,{"$error":"#N/A"},{"$error":"#N/A"},"PHARMACIE LECLERCQ",10,"Avenue","Jean Jaurès","19360 MALEMORT",19360,"Malemort","Pharmacie d'officine","A"]
[{"$f":"VLOOKUP(B3112,Régions!A:C,3,FALSE)","v":"Nouvelle-Aquitaine"},19,{"$error":"#N/A"},190009167,{"$error":"#N/A"},{"$error":"#N/A"},"PHARMACIE ATHLAN","NULL","NULL","NULL","19330 ST MEXANT",19330,"Saint-Mexant","Pharmacie d'officine","A"]
[{"$f":"VLOOKUP(B3115,Régions!A:C,3,FALSE)","v":"Nouvelle-Aquitaine"},19,"CNOP",190009233,190009233,"oui","PHARMACIE LAMICHE-QUEYREL","NULL","Gare","DE VIGNOLS","19130 SAINT-SOLVE",19130,"Saint-Solve","Pharmacie d'officine","A"]
[{"$f":"VLOOKUP(B3127,Régions!A:C,3,FALSE)","v":"Nouvelle-Aquitaine"},19,"CNOP",190009670,190009670,"oui","PHARMACIE FAUGERON",28,"Avenue","CARNOT","19200 USSEL",19200,"Ussel","Pharmacie d'officine","A"]
[{"$f":"VLOOKUP(B3134,Régions!A:C,3,FALSE)","v":"Nouvelle-Aquitaine"},19,"CNOP",190010140,190010140,"oui","PHARMACIE BOS","NULL","Avenue","DU SENATEUR LABROUSSE","19500 TURENNE",19500,"Turenne","Pharmacie d'officine","A"]
[{"$f":"VLOOKUP(B3146,Régions!A:C,3,FALSE)","v":"Bourgogne-Franche-Comté"},21,"PHARMDIRECTFR",210003232,210003232,"oui","PHARMACIE HUGUES LABBE",7,"Avenue","DE LA RESISTANCE","21200 BEAUNE",21200,"Beaune","Pharmacie d'officine","A"]
[{"$f":"VLOOKUP(B3153,Régions!A:C,3,FALSE)","v":"Bourgogne-Franche-Comté"},21,"CNOP",210003422,210003422,"oui","PHARMACIE BLANDIN - ARNOULT",36,"Rue","DES BLANCHES FLEURS","21200 BEAUNE",21200,"Beaune","Pharmacie d'officine","A"]
[{"$f":"VLOOKUP(B3165,Régions!A:C,3,FALSE)","v":"Bourgogne-Franche-Comté"},21,"CNOP",210003786,210003786,"oui","PHARMACIE ROYAL-PAVET",37,"Avenue","DU 14 JUILLET","21300 CHENOVE",21300,"Chenôve","Pharmacie d'officine","A"]
[{"$f":"VLOOKUP(B3168,Régions!A:C,3,FALSE)","v":"Bourgogne-Franche-Comté"},21,{"$error":"#N/A"},210003885,{"$error":"#N/A"},{"$error":"#N/A"},"PHARMACIE CENTRALE",14,"Place","DE LA LIBERTE","21800 CHEVIGNY-SAINT-SAUVEUR",21800,"Chevigny-Saint-Sauveur","Pharmacie d'officine","A"]
[{"$f":"VLOOKUP(B3176,Régions!A:C,3,FALSE)","v":"Bourgogne-Franche-Comté"},21,"CNOP",210004107,210004107,"oui","PHARMACIE GUICHOT-BOURGEON",7,"Rue","VAILLANT","21000 DIJON",21000,"Dijon","Pharmacie d'officine","A"]
[{"$f":"VLOOKUP(B3188,Régions!A:C,3,FALSE)","v":"Bourgogne-Franche-Comté"},21,{"$error":"#N/A"},210004404,{"$error":"#N/A"},{"$error":"#N/A"},"PHARMACIE DE LA  LIBERTÉ",42,"Rue","DE LA LIBERTE","21000 DIJON",21000,"Dijon","Pharmacie d'officine","A"]
[{"$f":"VLOOKUP(B3195,Régions!A:C,3,FALSE)","v":"Bourgogne-Franche-Comté"},21,"PHARMDIRECTFR",210004602,210004602,"oui","PHARMACIE  DU 1ER  MAI",2,"Quai","NICOLAS ROLIN","21000 DIJON",21000,"Dijon","Pharmacie d'officine","A"]
[{"$f":"VLOOKUP(B3207,Régions!A:C,3,FALSE)","v":"Bourgogne-Franche-Comté"},21,"CNOP",210004933,210004933,"oui","PHARMACIE HAMDOUNE",1,"Allee","DES LANDES","21000 DIJON",21000,"Dijon","Pharmacie d'officine","A"]
[{"$f":"VLOOKUP(B3219,Régions!A:C,3,FALSE)","v":"Bourgogne-Franche-Comté"},21,"PHARMDIRECTFR",210005252,210005252,"oui","PHARMACIE MARTINON",51,"Rue","DE LONGVIC","21000 DIJON",21000,"Dijon","Pharmacie d'officine","A"]
[{"$f":"VLOOKUP(B3226,Régions!A:C,3,FALSE)","v":"Bourgogne-Franche-Comté"},21,"PHARMDIRECTFR",210005450,210005450,"oui","PHARMACIE REICHENBACH",29,"Rue","DE LA MALADIERE","21610 FONTAINE-FRANCAISE",21610,"Fontaine-Française","Pharmacie d'officine","A"]
[{"$f":"VLOOKUP(B3238,Régions!A:C,3,FALSE)","v":"Bourgogne-Franche-Comté"},21,"CNOP",210005757,210005757,"oui","PHARMACIE VESSIE","NULL","Grand rue","PORTE DE LA CROIX","21330 LAIGNES",21330,"Laignes","Pharmacie d'officine","A"]
[{"$f":"VLOOKUP(B3241,Régions!A:C,3,FALSE)","v":"Bourgogne-Franche-Comté"},21,"PHARMDIRECTFR",210005856,210005856,"oui","PHARMACIE SAINTOT-ENGELMANN",9,"Rue","DU BIEF DU MOULIN","21600 LONGVIC",21600,"Longvic","Pharmacie d'officine","A"]
[{"$f":"VLOOKUP(B3257,Régions!A:C,3,FALSE)","v":"Bourgogne-Franche-Comté"},21,"PHARMDIRECTFR",210006284,210006284,"oui","PHARMACIE PELLEGRIN",5,"NULL","GRANDE RUE","21700 NUITS-SAINT-GEORGES",21700,"Nuits-Saint-Georges","Pharmacie d'officine","A"]
[{"$f":"VLOOKUP(B3261,Régions!A:C,3,FALSE)","v":"Bourgogne-Franche-Comté"},21,"PHARMDIRECTFR",210006383,210006383,"oui","PHARMACIE SEGUIN-TANGUY",245,"Rue","DE BOURGOGNE","21410 PONT-DE-PANY",21410,"Sainte-Marie-sur-Ouche","Pharmacie d'officine","A"]
[{"$f":"VLOOKUP(B3268,Régions!A:C,3,FALSE)","v":"Bourgogne-Franche-Comté"},21,"CNOP",210006573,210006573,"oui","PHARMACIE  DURAND","NULL","Avenue","DE BOURGOGNE","21800 QUETIGNY",21800,"Quetigny","Pharmacie d'officine","A"]
[{"$f":"VLOOKUP(B3280,Régions!A:C,3,FALSE)","v":"Bourgogne-Franche-Comté"},21,"CNOP",210006953,210006953,"oui","PHARMACIE MOUSSIN",7,"Rue","VAUCHEY VERY","21420 SAVIGNY LES BEAUNE",21420,"Savigny-lès-Beaune","Pharmacie d'officine","A"]
[{"$f":"VLOOKUP(B3292,Régions!A:C,3,FALSE)","v":"Bourgogne-Franche-Comté"},21,"CNOP",210007332,210007332,"oui","PHARMACIE AVIT","NULL","Route","DE FONTAINE FRANCAISE","21490 VAROIS-ET-CHAIGNOT",21490,"Varois-et-Chaignot","Pharmacie d'officine","A"]
[{"$f":"VLOOKUP(B3299,Régions!A:C,3,FALSE)","v":"Bourgogne-Franche-Comté"},21,{"$error":"#N/A"},210010583,{"$error":"#N/A"},{"$error":"#N/A"},"PHARMACIE CORROENNE","NULL","Route","DE LA 1ERE ARMEE","21110 LONGEAULT-PLUVAULT",21110,"Longeault-Pluvault","Pharmacie d'officine","A"]
[{"$f":"VLOOKUP(B3311,Régions!A:C,3,FALSE)","v":"Bretagne"},22,{"$error":"#N/A"},220010466,{"$error":"#N/A"},{"$error":"#N/A"},"PHARMACIE BAUDOUIN",6,"Rue","DE TROZOUL","22560 TREBEURDEN",22560,"Trébeurden","Pharmacie d'officine","A"]
[{"$f":"VLOOKUP(B3318,Régions!A:C,3,FALSE)","v":"Bretagne"},22,"CNOP",220010573,220010573,"oui","PHARMACIE MONNET",25,"Boulevard","DU ROUGERET","22750 ST JACUT DE LA MER",22750,"Saint-Jacut-de-la-Mer","Pharmacie d'officine","A"]
[{"$f":"VLOOKUP(B3330,Régions!A:C,3,FALSE)","v":"Bretagne"},22,"CNOP",220010706,220010706,"oui","PHARMACIE LEFEVRE-LE MAO",3,"Place","ST PIERRE","22170 PLELO",22170,"Plélo","Pharmacie d'officine","A"]
[{"$f":"VLOOKUP(B3332,Régions!A:C,3,FALSE)","v":"Bretagne"},22,{"$error":"#N/A"},220010722,{"$error":"#N/A"},{"$error":"#N/A"},"PHARMACIE VANDEN ABEELE","NULL","Rue","DU DOCTEUR MAHE","22290 PLEHEDEL",22290,"Pléhédel","Pharmacie d'officine","A"]
[{"$f":"VLOOKUP(B3341,Régions!A:C,3,FALSE)","v":"Bretagne"},22,"PHARMDIRECTFR",220010821,220010821,"oui","PHARMACIE CHABOT",10,"Place","DU CENTRE","22300 ROSPEZ",22300,"Rospez","Pharmacie d'officine","A"]
[{"$f":"VLOOKUP(B3353,Régions!A:C,3,FALSE)","v":"Bretagne"},22,{"$error":"#N/A"},220010953,{"$error":"#N/A"},{"$error":"#N/A"},"PHARMACIE TROADEC","NULL","Rond point","KENNEDY","22200 GRACES",22200,"Grâces","Pharmacie d'officine","A"]
[{"$f":"VLOOKUP(B3365,Régions!A:C,3,FALSE)","v":"Bretagne"},22,"CNOP",220011084,220011084,"non","PHARMACIE HERVE","NULL","NULL","NULL","22960 PLEDRAN",22960,"Plédran","Pharmacie d'officine","A"]
[{"$f":"VLOOKUP(B3372,Régions!A:C,3,FALSE)","v":"Bretagne"},22,"PHARMDIRECTFR",220011159,220011159,"oui","SELARL PHARMACIE DE LA BAIE",14,"Rue","JOLIOT CURIE","22620 PLOUBAZLANEC",22620,"Ploubazlanec","Pharmacie d'officine","A"]
[{"$f":"VLOOKUP(B3384,Régions!A:C,3,FALSE)","v":"Bretagne"},22,"CNOP",220011308,220011308,"oui","PHARMACIE TREBOIT - DELAHAYE",4,"Rue","DU GENERAL DE GAULLE","22490 PLESLIN-TRIGAVOU",22490,"Pleslin-Trigavou","Pharmacie d'officine","A"]
[{"$f":"VLOOKUP(B3391,Régions!A:C,3,FALSE)","v":"Bretagne"},22,"CNOP",220011381,220011381,"oui","PHARMACIE LE POULAIN-CORBEL",7,"Rue","BAGOT","22000 SAINT-BRIEUC",22000,"Saint-Brieuc","Pharmacie d'officine","A"]
[{"$f":"VLOOKUP(B3403,Régions!A:C,3,FALSE)","v":"Bretagne"},22,"CNOP",220011555,220011555,"non","PHARMACIE KERBOETHAU","NULL","Place","DU BOURG","22470 PLOUEZEC",22470,"Plouézec","Pharmacie d'officine","A"]
[{"$f":"VLOOKUP(B3406,Régions!A:C,3,FALSE)","v":"Bretagne"},22,"CNOP",220011597,220011597,"oui","PHARMACIE LE GUEDARD",37,"Rue","DE PENTHIEVRE","22120 YFFINIAC",22120,"Yffiniac","Pharmacie d'officine","A"]
[{"$f":"VLOOKUP(B3413,Régions!A:C,3,FALSE)","v":"Bretagne"},22,"CNOP",220011662,220011662,"oui","PHARMACIE MORIN - JANVIER","NULL","Rue","DE BREST","22440 TREMUSON",22440,"Trémuson","Pharmacie d'officine","A"]
[{"$f":"VLOOKUP(B3426,Régions!A:C,3,FALSE)","v":"Bretagne"},22,{"$error":"#N/A"},220011829,{"$error":"#N/A"},{"$error":"#N/A"},"PHARMACIE VILAIN","NULL","Zone activite","DES LANDES","22490 PLOUER-SUR-RANCE",22490,"Plouër-sur-Rance","Pharmacie d'officine","A"]
[{"$f":"VLOOKUP(B3438,Régions!A:C,3,FALSE)","v":"Bretagne"},22,"CNOP",220011977,220011977,"oui","PHARMACIE CHERET","NULL","Route","DE LANVOLLON","22200 ST AGATHON",22200,"Saint-Agathon","Pharmacie d'officine","A"]
[{"$f":"VLOOKUP(B3445,Régions!A:C,3,FALSE)","v":"Bretagne"},22,"PHARMDIRECTFR",220012041,220012041,"oui","PHARMACIE LE JEANE",6,"Place","DU GENERAL DE GAULLE","22220 TREGUIER",22220,"Tréguier","Pharmacie d'officine","A"]
[{"$f":"VLOOKUP(B3457,Régions!A:C,3,FALSE)","v":"Bretagne"},22,{"$error":"#N/A"},220012504,{"$error":"#N/A"},{"$error":"#N/A"},"PHARMACIE L'ELCHAT",59,"Rue","ANATOLE LE BRAZ","22700 PERROS-GUIREC",22700,"Perros-Guirec","Pharmacie d'officine","A"]
[{"$f":"VLOOKUP(B3464,Régions!A:C,3,FALSE)","v":"Bretagne"},22,{"$error":"#N/A"},220012579,{"$error":"#N/A"},{"$error":"#N/A"},"PHARMACIE LE MOUEL-CALVARIN",18,"NULL","GRANDE RUE","22110 GLOMEL",22110,"Glomel","Pharmacie d'officine","A"]
[{"$f":"VLOOKUP(B3476,Régions!A:C,3,FALSE)","v":"Bretagne"},22,"CNOP",220012728,220012728,"oui","PHARMACIE COLLET",26,"Route","DE L'ARGUENON","22130 CREHEN",22130,"Créhen","Pharmacie d'officine","A"]
[{"$f":"VLOOKUP(B3479,Régions!A:C,3,FALSE)","v":"Bretagne"},22,{"$error":"#N/A"},220015697,{"$error":"#N/A"},{"$error":"#N/A"},"PHARMACIE GOLDSTEIN","NULL","Zone d amenagement concerte","DES PRES CALANS","22520 BINIC ETABLES SUR MER",22520,"Binic-Étables-sur-Mer","Pharmacie d'officine","A"]
[{"$f":"VLOOKUP(B3494,Régions!A:C,3,FALSE)","v":"Nouvelle-Aquitaine"},23,"CNOP",230001562,230001562,"oui","PHARMACIE CHAZOT",3,"NULL","PLACE GENERAL ESPAGNE","23200 AUBUSSON",23200,"Aubusson","Pharmacie d'officine","A"]
[{"$f":"VLOOKUP(B3499,Régions!A:C,3,FALSE)","v":"Nouvelle-Aquitaine"},23,"CNOP",230001760,230001760,"oui","PHARMACIE JACQUES-DUMAS",37,"NULL","GRAND RUE","23190 BELLEGARDE-EN-MARCHE",23190,"Bellegarde-en-Marche","Pharmacie d'officine","A"]
[{"$f":"VLOOKUP(B3506,Régions!A:C,3,FALSE)","v":"Nouvelle-Aquitaine"},23,"CNOP",230002024,230002024,"oui","JAMS23",33,"Avenue","GEORGES CLEMENCEAU","23170 CHAMBON-SUR-VOUEIZE",23170,"Chambon-sur-Voueize","Pharmacie d'officine","A"]
[{"$f":"VLOOKUP(B3518,Régions!A:C,3,FALSE)","v":"Nouvelle-Aquitaine"},23,{"$error":"#N/A"},230002396,{"$error":"#N/A"},{"$error":"#N/A"},"PHARMACIE DE SAINT VAURY","NULL","Place","DE L'EGLISE","23230 GOUZON",23230,"Gouzon","Pharmacie d'officine","A"]
[{"$f":"VLOOKUP(B3530,Régions!A:C,3,FALSE)","v":"Nouvelle-Aquitaine"},23,{"$error":"#N/A"},230002776,{"$error":"#N/A"},{"$error":"#N/A"},"PHARMACIE BENQUET","NULL","Rue","DE LA SOURCE DU CHER","23420 MERINCHAL",23420,"Mérinchal","Pharmacie d'officine","A"]
[{"$f":"VLOOKUP(B3537,Régions!A:C,3,FALSE)","v":"Nouvelle-Aquitaine"},23,"CNOP",230002990,230002990,"oui","PHARMACIE CHARNAY",5,"Rue","DU CHENE","23400 SAINT-DIZIER-MASBARAUD",23400,"Saint-Dizier-Masbaraud","Pharmacie d'officine","A"]
[{"$f":"VLOOKUP(B3549,Régions!A:C,3,FALSE)","v":"Nouvelle-Aquitaine"},24,"CNOP",240003905,240003905,"oui","PHARMACIE DE VILLENEUVE DU BEZ","NULL","Rue","RENE JEAN LAFFARGE","24210 LA BACHELLERIE",24210,"La Bachellerie","Pharmacie d'officine","A"]
[{"$f":"VLOOKUP(B3552,Régions!A:C,3,FALSE)","v":"Nouvelle-Aquitaine"},24,{"$error":"#N/A"},240006361,{"$error":"#N/A"},{"$error":"#N/A"},"PHARMACIE AUDIBERT",16,"Place","d'Armes","24170 PAYS DE BELVES",24170,"Pays de Belvès","Pharmacie d'officine","A"]
[{"$f":"VLOOKUP(B3559,Régions!A:C,3,FALSE)","v":"Nouvelle-Aquitaine"},24,{"$error":"#N/A"},240007955,{"$error":"#N/A"},{"$error":"#N/A"},"PHARMACIE ASSIER - GEMELLI",52,"Rue","NEUVE D'ARGENSON","24100 BERGERAC",24100,"Bergerac","Pharmacie d'officine","A"]
[{"$f":"VLOOKUP(B3569,Régions!A:C,3,FALSE)","v":"Nouvelle-Aquitaine"},24,"CNOP",240008433,240008433,"oui","PHARMACIE  BARROSO - OLIVIER - CAMPET",4,"Avenue","DU DOCTEUR DEVILLARD","24310 BRANTOME EN PERIGORD",24310,"Brantôme en Périgord","Pharmacie d'officine","A"]
[{"$f":"VLOOKUP(B3579,Régions!A:C,3,FALSE)","v":"Nouvelle-Aquitaine"},24,{"$error":"#N/A"},240009522,{"$error":"#N/A"},{"$error":"#N/A"},"PHARMACIE TIXIER- BOUCHER- DESLANDES",26,"Rue","DE LA REPUBLIQUE","24450 LA COQUILLE",24450,"La Coquille","Pharmacie d'officine","A"]
[{"$f":"VLOOKUP(B3591,Régions!A:C,3,FALSE)","v":"Nouvelle-Aquitaine"},24,"CNOP",240010157,240010157,"oui","PHARMACIE ATTANÉ",871,"Rue","HENRI DE NAVARRE","24130 LE FLEIX",24130,"Le Fleix","Pharmacie d'officine","A"]
[{"$f":"VLOOKUP(B3603,Régions!A:C,3,FALSE)","v":"Nouvelle-Aquitaine"},24,"PHARMDIRECTFR",240010504,240010504,"oui","PHARMACIE CHATENET",3,"Carrefour","DARNET","24270 LANOUAILLE",24270,"Lanouaille","Pharmacie d'officine","A"]
[{"$f":"VLOOKUP(B3610,Régions!A:C,3,FALSE)","v":"Nouvelle-Aquitaine"},24,{"$error":"#N/A"},240010751,{"$error":"#N/A"},{"$error":"#N/A"},"PHARMACIE DE LA VEZERE","NULL","Lieu dit","La Pagesie","24290 MONTIGNAC-LASCAUX",24290,"Montignac","Pharmacie d'officine","A"]
[{"$f":"VLOOKUP(B3622,Régions!A:C,3,FALSE)","v":"Nouvelle-Aquitaine"},24,"CNOP",240011106,240011106,"oui","PHARMACIE LINGOIS",2,"Place","DE LA POSTE","24270 PAYZAC",24270,"Payzac","Pharmacie d'officine","A"]
[{"$f":"VLOOKUP(B3625,Régions!A:C,3,FALSE)","v":"Nouvelle-Aquitaine"},24,{"$error":"#N/A"},240011205,{"$error":"#N/A"},{"$error":"#N/A"},"PHARMACIE MIGOT",81,"Rue","CLAUDE BERNARD","24000 PERIGUEUX",24000,"Périgueux","Pharmacie d'officine","A"]
[{"$f":"VLOOKUP(B3632,Régions!A:C,3,FALSE)","v":"Nouvelle-Aquitaine"},24,"PHARMDIRECTFR",240011403,240011403,"oui","PHARMACIE LEMAIRE",21,"Cours","MONTAIGNE","24002 PÉRIGUEUX",24002,"Périgueux","Pharmacie d'officine","A"]
[{"$f":"VLOOKUP(B3644,Régions!A:C,3,FALSE)","v":"Nouvelle-Aquitaine"},24,"PHARMDIRECTFR",240011833,240011833,"oui","PHARMACIE BONICHON",2,"Avenue","D' AQUITAINE","24490 LA-ROCHE-CHALAIS",24490,"La Roche-Chalais","Pharmacie d'officine","A"]
[{"$f":"VLOOKUP(B3650,Régions!A:C,3,FALSE)","v":"Nouvelle-Aquitaine"},24,{"$error":"#N/A"},240012054,{"$error":"#N/A"},{"$error":"#N/A"},"PHARMACIE LEYSSALES","NULL","Voie","DE LA VALLEE","24220 SAINT-CYPRIEN",24220,"Saint-Cyprien","Pharmacie d'officine","A"]
[{"$f":"VLOOKUP(B3664,Régions!A:C,3,FALSE)","v":"Nouvelle-Aquitaine"},24,{"$error":"#N/A"},240012435,{"$error":"#N/A"},{"$error":"#N/A"},"PHARMACIE CHARPENTIER-RESSIT",17,"Avenue","THIERS","24200 SARLAT LA CANEDA",24200,"Sarlat-la-Canéda","Pharmacie d'officine","A"]
[{"$f":"VLOOKUP(B3676,Régions!A:C,3,FALSE)","v":"Nouvelle-Aquitaine"},24,{"$error":"#N/A"},240012773,{"$error":"#N/A"},{"$error":"#N/A"},"EURL SAINT MARTIN","NULL","Boulevard","Charles Roby","24350 TOCANE-SAINT-APRE",24350,"Tocane-Saint-Apre","Pharmacie d'officine","A"]
[{"$f":"VLOOKUP(B3683,Régions!A:C,3,FALSE)","v":"Nouvelle-Aquitaine"},24,"CNOP",240012971,240012971,"oui","PHARMACIE LOPEZ - LASCAUX",12,"Route","DE BERGERAC","24380 VERGT",24380,"Vergt","Pharmacie d'officine","A"]
[{"$f":"VLOOKUP(B3695,Régions!A:C,3,FALSE)","v":"Bourgogne-Franche-Comté"},25,"PHARMDIRECTFR",250002995,250002995,"oui","PHARMACIE ALHAMWI","NULL","Avenue","DU 8 MAI","25400 AUDINCOURT",25400,"Audincourt","Pharmacie d'officine","A"]
[{"$f":"VLOOKUP(B3702,Régions!A:C,3,FALSE)","v":"Bourgogne-Franche-Comté"},25,"PHARMDIRECTFR",250003225,250003225,"oui","PHARMACIE BERGEROT",48,"Rue","DU GENERAL DE GAULLE","25420 BART",25420,"Bart","Pharmacie d'officine","A"]
[{"$f":"VLOOKUP(B3705,Régions!A:C,3,FALSE)","v":"Bourgogne-Franche-Comté"},25,{"$error":"#N/A"},250003324,{"$error":"#N/A"},{"$error":"#N/A"},"PHARMACIE BENAIM",1,"Rue","DES CERISIERS","25550 BAVANS",25550,"Bavans","Pharmacie d'officine","A"]
[{"$f":"VLOOKUP(B3717,Régions!A:C,3,FALSE)","v":"Bourgogne-Franche-Comté"},25,"CNOP",250003654,250003654,"oui","PHARMACIE OUDOT",15,"Rue","DE LA MOUILLERE","25000 BESANCON",25000,"Besançon","Pharmacie d'officine","A"]
[{"$f":"VLOOKUP(B3731,Régions!A:C,3,FALSE)","v":"Bourgogne-Franche-Comté"},25,{"$error":"#N/A"},250004132,{"$error":"#N/A"},{"$error":"#N/A"},"PHARMACIE BOICHARD",47,"Rue","DE VESOUL","25000 BESANCON",25000,"Besançon","Pharmacie d'officine","A"]
[{"$f":"VLOOKUP(B3737,Régions!A:C,3,FALSE)","v":"Bourgogne-Franche-Comté"},25,"CNOP",250005071,250005071,"oui","PHARMACIE HUGUENIN-DURPOIX",58,"Rue","DANTON","25000 BESANCON",25000,"Besançon","Pharmacie d'officine","A"]
[{"$f":"VLOOKUP(B3749,Régions!A:C,3,FALSE)","v":"Bourgogne-Franche-Comté"},25,{"$error":"#N/A"},250007267,{"$error":"#N/A"},{"$error":"#N/A"},"PHARMACIE SAINT CHARMONT",3,"Avenue","GEORGES CLEMENCEAU","25000 BESANCON",25000,"Besançon","Pharmacie d'officine","A"]
[{"$f":"VLOOKUP(B3756,Régions!A:C,3,FALSE)","v":"Bourgogne-Franche-Comté"},25,{"$error":"#N/A"},250007721,{"$error":"#N/A"},{"$error":"#N/A"},"PHARMACIE RHOUZLANE","NULL","Place","CUVIER","25200 BETHONCOURT",25200,"Bethoncourt","Pharmacie d'officine","A"]
[{"$f":"VLOOKUP(B3768,Régions!A:C,3,FALSE)","v":"Bourgogne-Franche-Comté"},25,"CNOP",250008661,250008661,"oui","PHARMACIE BOUVIER",4,"Rue","DU GENERAL DE GAULLE","25450 DAMPRICHARD",25450,"Damprichard","Pharmacie d'officine","A"]
[{"$f":"VLOOKUP(B3775,Régions!A:C,3,FALSE)","v":"Bourgogne-Franche-Comté"},25,"CNOP",250009255,250009255,"non","PHARMACIE MARCHAND",29,"Avenue","DU GENERAL DE GAULLE","25460 ETUPES",25460,"Étupes","Pharmacie d'officine","A"]
[{"$f":"VLOOKUP(B3778,Régions!A:C,3,FALSE)","v":"Bourgogne-Franche-Comté"},25,{"$error":"#N/A"},250009362,{"$error":"#N/A"},{"$error":"#N/A"},"PHARMACIE CARETTI",8,"Rue","Philippe Goudey","25400 EXINCOURT",25400,"Exincourt","Pharmacie d'officine","A"]
[{"$f":"VLOOKUP(B3790,Régions!A:C,3,FALSE)","v":"Bourgogne-Franche-Comté"},25,"CNOP",250010592,250010592,"oui","PHARMACIE MARESCHAL - MAIRE -",19,"NULL","GRANDE RUE","25300 HOUTAUD",25300,"Houtaud","Pharmacie d'officine","A"]
[{"$f":"VLOOKUP(B3797,Régions!A:C,3,FALSE)","v":"Bourgogne-Franche-Comté"},25,"CNOP",250011152,250011152,"oui","PHARMACIE JACQUET",6,"Place","DE LA MAIRIE","25370 LES-HOPITAUX-NEUFS",25370,"Les Hôpitaux-Neufs","Pharmacie d'officine","A"]
[{"$f":"VLOOKUP(B3806,Régions!A:C,3,FALSE)","v":"Bourgogne-Franche-Comté"},25,{"$error":"#N/A"},250011855,{"$error":"#N/A"},{"$error":"#N/A"},"PHARMACIE COUTREAU",2,"Rue","MOUCHOTTE","25200 MONTBELIARD",25200,"Montbéliard","Pharmacie d'officine","A"]
[{"$f":"VLOOKUP(B3817,Régions!A:C,3,FALSE)","v":"Bourgogne-Franche-Comté"},25,"PHARMDIRECTFR",250012325,250012325,"oui","PHARMACIE VERNIER",5,"Chemin","DES PIERRES","25500 MORTEAU",25500,"Morteau","Pharmacie d'officine","A"]
[{"$f":"VLOOKUP(B3829,Régions!A:C,3,FALSE)","v":"Bourgogne-Franche-Comté"},25,{"$error":"#N/A"},250012630,{"$error":"#N/A"},{"$error":"#N/A"},"PHARMACIE ROUSSEAU",17,"NULL","Rocade GEORGES POMPIDOU","25300 PONTARLIER",25300,"Pontarlier","Pharmacie d'officine","A"]
[{"$f":"VLOOKUP(B3841,Régions!A:C,3,FALSE)","v":"Bourgogne-Franche-Comté"},25,{"$error":"#N/A"},250012945,{"$error":"#N/A"},{"$error":"#N/A"},"PHARMACIE DE ROUGEMONT",17,"Avenue","de la Gare","25680 ROUGEMONT",25680,"Rougemont","Pharmacie d'officine","A"]
[{"$f":"VLOOKUP(B3848,Régions!A:C,3,FALSE)","v":"Bourgogne-Franche-Comté"},25,"PHARMDIRECTFR",250013125,250013125,"oui","PHARMACIE DU MARAIS",28,"Rue","DE LA MAIRIE","25660 SAÔNE",25660,"Saône","Pharmacie d'officine","A"]
[{"$f":"VLOOKUP(B3851,Régions!A:C,3,FALSE)","v":"Bourgogne-Franche-Comté"},25,"CNOP",250013190,250013190,"oui","PHARMACIE CARLIN",7,"Rue","DE PONTARLIER","25600 SOCHAUX",25600,"Sochaux","Pharmacie d'officine","A"]
[{"$f":"VLOOKUP(B3863,Régions!A:C,3,FALSE)","v":"Bourgogne-Franche-Comté"},25,"PHARMDIRECTFR",250013547,250013547,"oui","PHARMACIE TOURNOUX",6,"Rue","PIERRE BERCOT","25130 VILLERS-LE-LAC",25130,"Villers-le-Lac","Pharmacie d'officine","A"]
[{"$f":"VLOOKUP(B3870,Régions!A:C,3,FALSE)","v":"Bourgogne-Franche-Comté"},25,{"$error":"#N/A"},250015286,{"$error":"#N/A"},{"$error":"#N/A"},"PHARMACIE MOSCA","NULL","Chemin","DES TILLES","25870 CHATILLON LE DUC",25870,"Châtillon-le-Duc","Pharmacie d'officine","A"]
[{"$f":"VLOOKUP(B3887,Régions!A:C,3,FALSE)","v":"Auvergne-Rhône-Alpes"},26,"CNOP",260003827,260003827,"oui","PHARMACIE ROCAS",2,"Boulevard","GENERAL DE GAULLE","26500 BOURG-LES-VALENCE",26500,"Bourg-lès-Valence","Pharmacie d'officine","A"]
[{"$f":"VLOOKUP(B3890,Régions!A:C,3,FALSE)","v":"Auvergne-Rhône-Alpes"},26,"CNOP",260003892,260003892,"oui","PHARMACIE SOULENS",5,"Avenue","de Lyon","26500 BOURG-LÈS-VALENCE",26500,"Bourg-lès-Valence","Pharmacie d'officine","A"]
[{"$f":"VLOOKUP(B3902,Régions!A:C,3,FALSE)","v":"Auvergne-Rhône-Alpes"},26,"CNOP",260004213,260004213,"oui","PHARMACIE TOMAS VACHAT",56,"Rue","des Monts du Matin","26300 CHATUZANGE-LE-GOUBET",26300,"Chatuzange-le-Goubet","Pharmacie d'officine","A"]
[{"$f":"VLOOKUP(B3914,Régions!A:C,3,FALSE)","v":"Auvergne-Rhône-Alpes"},26,"PHARMDIRECTFR",260005764,260005764,"oui","PHARMACIE LEICHER-LACOTTE","NULL","Place","DE LA REPUBLIQUE","26800 ETOILE SUR RHONE",26800,"Étoile-sur-Rhône","Pharmacie d'officine","A"]
[{"$f":"VLOOKUP(B3921,Régions!A:C,3,FALSE)","v":"Auvergne-Rhône-Alpes"},26,{"$error":"#N/A"},260005947,{"$error":"#N/A"},{"$error":"#N/A"},"PHARMACIE BLANCHARD",10,"Avenue","LEON AUBIN","26250 LIVRON-SUR-DRÔME",26250,"Livron-sur-Drôme","Pharmacie d'officine","A"]
[{"$f":"VLOOKUP(B3924,Régions!A:C,3,FALSE)","v":"Auvergne-Rhône-Alpes"},26,{"$error":"#N/A"},260006192,{"$error":"#N/A"},{"$error":"#N/A"},"PHARMACIE DES PORTES DU SOLEIL",410,"Allee","de la Serpentine","26270 LORIOL-SUR-DROME",26270,"Loriol-sur-Drôme","Pharmacie d'officine","A"]
[{"$f":"VLOOKUP(B3936,Régions!A:C,3,FALSE)","v":"Auvergne-Rhône-Alpes"},26,"PHARMDIRECTFR",260008115,260008115,"oui","GRANDE PHARMACIE MONTILIENNE","NULL","Angle","Ch. des Fourches et rte de Marseille","26200 MONTELIMAR",26200,"Montélimar","Pharmacie d'officine","A"]
[{"$f":"VLOOKUP(B3943,Régions!A:C,3,FALSE)","v":"Auvergne-Rhône-Alpes"},26,{"$error":"#N/A"},260008297,{"$error":"#N/A"},{"$error":"#N/A"},"PHARMACIE MOLLARET",7,"Avenue","DU TEIL","26200 MONTELIMAR",26200,"Montélimar","Pharmacie d'officine","A"]
[{"$f":"VLOOKUP(B3955,Régions!A:C,3,FALSE)","v":"Auvergne-Rhône-Alpes"},26,"CNOP",260008834,260008834,"oui","PHARMACIE LEYNIER",2,"Rue","DU CHATEAU D'EAU","26600 PONT DE L ISERE",26600,"Pont-de-l'Isère","Pharmacie d'officine","A"]
[{"$f":"VLOOKUP(B3968,Régions!A:C,3,FALSE)","v":"Auvergne-Rhône-Alpes"},26,"PHARMDIRECTFR",260010780,260010780,"oui","PHARMACIE DES RECOLLETS",64,"Avenue","BERTHELOT","26100 ROMANS SUR ISERE",26100,"Romans-sur-Isère","Pharmacie d'officine","A"]
[{"$f":"VLOOKUP(B3975,Régions!A:C,3,FALSE)","v":"Auvergne-Rhône-Alpes"},26,"CNOP",260012075,260012075,"oui","SELAS PHARMACIE POGGI",20,"Rue","JEAN JAURES","26190 SAINT-JEAN-EN-ROYANS",26190,"Saint-Jean-en-Royans","Pharmacie d'officine","A"]
[{"$f":"VLOOKUP(B3987,Régions!A:C,3,FALSE)","v":"Auvergne-Rhône-Alpes"},26,"PHARMDIRECTFR",260014295,260014295,"oui","PHARMACIE PROVENCE - DAUPHINE",81,"Avenue","DU DAUPHINE","26270 SAULCE SUR RHONE",26270,"Saulce-sur-Rhône","Pharmacie d'officine","A"]
[{"$f":"VLOOKUP(B3994,Régions!A:C,3,FALSE)","v":"Auvergne-Rhône-Alpes"},26,"CNOP",260014477,260014477,"oui","PHARMACIE INVERNIZZI",1,"Rue","DES ALPES","26000 VALENCE",26000,"Valence","Pharmacie d'officine","A"]
[{"$f":"VLOOKUP(B3997,Régions!A:C,3,FALSE)","v":"Auvergne-Rhône-Alpes"},26,{"$error":"#N/A"},260014543,{"$error":"#N/A"},{"$error":"#N/A"},"PHARMACIE SAFARIAN","NULL","Avenue","DE CHABEUIL","26000 VALENCE",26000,"Valence","Pharmacie d'officine","A"]
[{"$f":"VLOOKUP(B4013,Régions!A:C,3,FALSE)","v":"Auvergne-Rhône-Alpes"},26,{"$error":"#N/A"},260014964,{"$error":"#N/A"},{"$error":"#N/A"},"PHARMACIE BREMOND",4,"Place","DE LA PAIX","26000 VALENCE",26000,"Valence","Pharmacie d'officine","A"]
[{"$f":"VLOOKUP(B4016,Régions!A:C,3,FALSE)","v":"Auvergne-Rhône-Alpes"},26,{"$error":"#N/A"},260015045,{"$error":"#N/A"},{"$error":"#N/A"},"SELARL PHARMACIE ZEROUKIAN VALENCE II","NULL","Route","DE ROMANS","26000 VALENCE",26000,"Valence","Pharmacie d'officine","A"]
[{"$f":"VLOOKUP(B4028,Régions!A:C,3,FALSE)","v":"Normandie"},27,"PHARMDIRECTFR",270018641,270018641,"oui","PHARMACIE  CENTRALE",24,"Rue","CHARLES DE GAULLE","27940 LE VAL D HAZEY",27940,"Le Val d'Hazey","Pharmacie d'officine","A"]
[{"$f":"VLOOKUP(B4035,Régions!A:C,3,FALSE)","v":"Normandie"},27,"PHARMDIRECTFR",270018864,270018864,"oui","PHARMACIE TRAN-BA - HARDIVILLE",68,"Rue","Thiers, angle rue de l'Union","27300 BERNAY",27300,"Bernay","Pharmacie d'officine","A"]
[{"$f":"VLOOKUP(B4043,Régions!A:C,3,FALSE)","v":"Normandie"},27,"PHARMDIRECTFR",270019060,270019060,"oui","PHARMACIE DU BOURG",36,"NULL","GRANDE RUE","27520 GRAND BOURGTHEROULDE",27520,"Grand Bourgtheroulde","Pharmacie d'officine","A"]
[{"$f":"VLOOKUP(B4060,Régions!A:C,3,FALSE)","v":"Normandie"},27,"PHARMDIRECTFR",270019581,270019581,"oui"," PHARMACIE  THIEBAULT",46,"Rue","GEORGES CLEMENCEAU","27150 ETREPAGNY",27150,"Étrépagny","Pharmacie d'officine","A"]
[{"$f":"VLOOKUP(B4067,Régions!A:C,3,FALSE)","v":"Normandie"},27,{"$error":"#N/A"},270019862,{"$error":"#N/A"},{"$error":"#N/A"},"PHARMACIE LE GLOAN - LATOUR",15,"Rue","DE LA HARPE","27000 EVREUX",27000,"Évreux","Pharmacie d'officine","A"]
[{"$f":"VLOOKUP(B4070,Régions!A:C,3,FALSE)","v":"Normandie"},27,{"$error":"#N/A"},270019961,{"$error":"#N/A"},{"$error":"#N/A"},"PHARMACIE BRUNET - LE SACHE","NULL","Boulevard","DE NORMANDIE","27000 EVREUX",27000,"Évreux","Pharmacie d'officine","A"]
[{"$f":"VLOOKUP(B4086,Régions!A:C,3,FALSE)","v":"Normandie"},27,"PHARMDIRECTFR",270020415,270020415,"oui","PHARMACIE DU CHATEAU",16,"Rue","DE LA LIBERATION","27800 HARCOURT",27800,"Harcourt","Pharmacie d'officine","A"]
[{"$f":"VLOOKUP(B4089,Régions!A:C,3,FALSE)","v":"Normandie"},27,"PHARMDIRECTFR",270020480,270020480,"oui","PHARMACIE LABICHE-LEDOUX",27,"Rue","DU GENERAL DE GAULLE","27400 HONDOUVILLE",27400,"Hondouville","Pharmacie d'officine","A"]
[{"$f":"VLOOKUP(B4101,Régions!A:C,3,FALSE)","v":"Normandie"},27,"CNOP",270020795,270020795,"oui","PHARMACIE MAHIEU",106,"Rue","SAINT GERMAIN","27400 LOUVIERS",27400,"Louviers","Pharmacie d'officine","A"]
[{"$f":"VLOOKUP(B4108,Régions!A:C,3,FALSE)","v":"Normandie"},27,"PHARMDIRECTFR",270020993,270020993,"oui","PHARMACIE DESSON",65,"Rue","DUPONT DE L'EURE","27110 LE-NEUBOURG",27110,"Le Neubourg","Pharmacie d'officine","A"]
[{"$f":"VLOOKUP(B4124,Régions!A:C,3,FALSE)","v":"Normandie"},27,"CNOP",270021413,270021413,"oui","PHARMACIE HAIMET-LEROY",52,"NULL","GRANDE RUE","27360 PONT-SAINT-PIERRE",27360,"Pont-Saint-Pierre","Pharmacie d'officine","A"]
[{"$f":"VLOOKUP(B4133,Régions!A:C,3,FALSE)","v":"Normandie"},27,{"$error":"#N/A"},270021660,{"$error":"#N/A"},{"$error":"#N/A"},"PHARMACIE BAILLY-DUMORTIER",10,"Place","DE LA MAIRIE","27450 SAINT-GEORGES-DU-VIEVRE",27450,"Saint-Georges-du-Vièvre","Pharmacie d'officine","A"]
[{"$f":"VLOOKUP(B4140,Régions!A:C,3,FALSE)","v":"Normandie"},27,"CNOP",270021843,270021843,"oui","PHARMACIE LE GUILLOUX",20,"Rue","DU GENERAL DE GAULLE","27180 ST SEBASTIEN DE MORSENT",27180,"Saint-Sébastien-de-Morsent","Pharmacie d'officine","A"]
[{"$f":"VLOOKUP(B4143,Régions!A:C,3,FALSE)","v":"Normandie"},27,"CNOP",270021926,270021926,"oui","PHARMACIE TRIVINI",10,"Rue","D'ORBEC","27230 THIBERVILLE",27230,"Thiberville","Pharmacie d'officine","A"]
[{"$f":"VLOOKUP(B4159,Régions!A:C,3,FALSE)","v":"Normandie"},27,"CNOP",270022346,270022346,"oui","PHARMACIE PERIER","NULL","Rue","COURTINE","27100 VAL-DE-REUIL",27100,"Val-de-Reuil","Pharmacie d'officine","A"]
[{"$f":"VLOOKUP(B4162,Régions!A:C,3,FALSE)","v":"Normandie"},27,"PHARMDIRECTFR",270023641,270023641,"oui","PHARMACIE TURQUIER","NULL","Route","D'AVIRON","27000 EVREUX",27000,"Évreux","Pharmacie d'officine","A"]
[{"$f":"VLOOKUP(B4174,Régions!A:C,3,FALSE)","v":"Centre-Val de Loire"},28,{"$error":"#N/A"},280001660,{"$error":"#N/A"},{"$error":"#N/A"},"PHARMACIE SCHOM",1,"Rue","EMILE MILOCHAU","28700 BEVILLE-LE-COMTE",28700,"Béville-le-Comte","Pharmacie d'officine","A"]
[{"$f":"VLOOKUP(B4181,Régions!A:C,3,FALSE)","v":"Centre-Val de Loire"},28,{"$error":"#N/A"},280001876,{"$error":"#N/A"},{"$error":"#N/A"},"PHARMACIE MOREAU - ANDRE","NULL","Mail","DES PETITS CLOS","28000 CHARTRES",28000,"Chartres","Pharmacie d'officine","A"]
[{"$f":"VLOOKUP(B4193,Régions!A:C,3,FALSE)","v":"Centre-Val de Loire"},28,"CNOP",280002437,280002437,"oui","PHARMACIE CASSAGNES",39,"Place","DU 18 OCTOBRE","28200 CHÂTEAUDUN",28200,"Châteaudun","Pharmacie d'officine","A"]
[{"$f":"VLOOKUP(B4205,Régions!A:C,3,FALSE)","v":"Centre-Val de Loire"},28,"CNOP",280002882,280002882,"oui","PHARMACIE COSNUAU",1,"Place","DES FUSILLES","28100 DREUX",28100,"Dreux","Pharmacie d'officine","A"]
[{"$f":"VLOOKUP(B4213,Régions!A:C,3,FALSE)","v":"Centre-Val de Loire"},28,"CNOP",280003153,280003153,"oui","SELARL PHARMACIE GUEDE",11,"Place","ARISTIDE BRIAND","28230 EPERNON",28230,"Épernon","Pharmacie d'officine","A"]
[{"$f":"VLOOKUP(B4216,Régions!A:C,3,FALSE)","v":"Centre-Val de Loire"},28,"CNOP",280003237,280003237,"oui","PHARMACIE COLIN",9,"Rue","JULES FERRY","28190 FONTAINE LA GUYON",28190,"Fontaine-la-Guyon","Pharmacie d'officine","A"]
[{"$f":"VLOOKUP(B4232,Régions!A:C,3,FALSE)","v":"Centre-Val de Loire"},28,{"$error":"#N/A"},280003773,{"$error":"#N/A"},{"$error":"#N/A"},"PHARMACIE BRUNEL",10,"Rue","COLLIN D'HARLEVILLE","28130 MAINTENON",28130,"Maintenon","Pharmacie d'officine","A"]
[{"$f":"VLOOKUP(B4235,Régions!A:C,3,FALSE)","v":"Centre-Val de Loire"},28,{"$error":"#N/A"},280003906,{"$error":"#N/A"},{"$error":"#N/A"},"PHARMACIE DU POLE SANTÉ",2,"Rue","DE LA MARE PICOT","28630 NOGENT-LE-PHAYE",28630,"Nogent-le-Phaye","Pharmacie d'officine","A"]
[{"$f":"VLOOKUP(B4247,Régions!A:C,3,FALSE)","v":"Centre-Val de Loire"},28,"CNOP",280004250,280004250,"oui","PHARMACIE FORTIN","NULL","Rue","DE LA BARONNIE","28350 SAINT-LUBIN-DES-JONCHERETS",28350,"Saint-Lubin-des-Joncherets","Pharmacie d'officine","A"]
[{"$f":"VLOOKUP(B4254,Régions!A:C,3,FALSE)","v":"Centre-Val de Loire"},28,{"$error":"#N/A"},280004466,{"$error":"#N/A"},{"$error":"#N/A"},"PHARMACIE DES HALLES",3,"Place","DES HALLES","28250 SENONCHES",28250,"Senonches","Pharmacie d'officine","A"]
[{"$f":"VLOOKUP(B4266,Régions!A:C,3,FALSE)","v":"Centre-Val de Loire"},28,"PHARMDIRECTFR",280004821,280004821,"oui","PHARMACIE OZANNE",59,"Rue","EMILE DELAVALLEE","28160 YEVRES",28160,"Yèvres","Pharmacie d'officine","A"]
[{"$f":"VLOOKUP(B4276,Régions!A:C,3,FALSE)","v":"Bretagne"},29,"PHARMDIRECTFR",290010677,290010677,"oui","PHARMACIE DU GUILVINEC",7,"Rue","DE LA MARINE","29730 GUILVINEC",29730,"Guilvinec","Pharmacie d'officine","A"]
[{"$f":"VLOOKUP(B4286,Régions!A:C,3,FALSE)","v":"Bretagne"},29,{"$error":"#N/A"},290010792,{"$error":"#N/A"},{"$error":"#N/A"},"PHARMACIE DE POULLAN",2,"Place","Kreiz Ker","29100 POULLAN-SUR-MER",29100,"Poullan-sur-Mer","Pharmacie d'officine","A"]
[{"$f":"VLOOKUP(B4289,Régions!A:C,3,FALSE)","v":"Bretagne"},29,"PHARMDIRECTFR",290010842,290010842,"oui","PHARMACIE MUGNIER",50,"Rue","DU CAPITAINE GUYNEME","29200 BREST",29200,"Brest","Pharmacie d'officine","A"]
[{"$f":"VLOOKUP(B4305,Régions!A:C,3,FALSE)","v":"Bretagne"},29,{"$error":"#N/A"},290011063,{"$error":"#N/A"},{"$error":"#N/A"},"PHARMACIE BYDLON",69,"Rue","ANATOLE FRANCE","29200 BREST",29200,"Brest","Pharmacie d'officine","A"]
[{"$f":"VLOOKUP(B4308,Régions!A:C,3,FALSE)","v":"Bretagne"},29,{"$error":"#N/A"},290011097,{"$error":"#N/A"},{"$error":"#N/A"},"PHARMACIE AUDRAIN",2,"Place","DE L'EGLISE","29400 PLOUNEVENTER",29400,"Plounéventer","Pharmacie d'officine","A"]
[{"$f":"VLOOKUP(B4324,Régions!A:C,3,FALSE)","v":"Bretagne"},29,"PHARMDIRECTFR",290011329,290011329,"oui","SELARL PHARMACIE DE PLUGUFFAN","NULL","Rue","DU PENKER","29700 PLUGUFFAN",29700,"Pluguffan","Pharmacie d'officine","A"]
[{"$f":"VLOOKUP(B4327,Régions!A:C,3,FALSE)","v":"Bretagne"},29,"CNOP",290011352,290011352,"oui","PHARMACIE GORSE - LAVANANT",3,"Place","GUEVEL","29410 PLEYBER CHRIST",29410,"Pleyber-Christ","Pharmacie d'officine","A"]
[{"$f":"VLOOKUP(B4339,Régions!A:C,3,FALSE)","v":"Bretagne"},29,{"$error":"#N/A"},290011493,{"$error":"#N/A"},{"$error":"#N/A"},"PHARMACIE DENNER",172,"Rue","JEAN JAURES","29200 BREST",29200,"Brest","Pharmacie d'officine","A"]
[{"$f":"VLOOKUP(B4346,Régions!A:C,3,FALSE)","v":"Bretagne"},29,"CNOP",290011600,290011600,"oui","PHARMACIE DELANNOY-BECK",11,"Rue","DU GENERAL DE GAULLE","29540 SPEZET",29540,"Spézet","Pharmacie d'officine","A"]
[{"$f":"VLOOKUP(B4361,Régions!A:C,3,FALSE)","v":"Bretagne"},29,{"$error":"#N/A"},290011774,{"$error":"#N/A"},{"$error":"#N/A"},"PHARMACIE DU BOURG",16,"Rue","DE LA LAITERIE","29800 PLOUEDERN",29800,"Plouédern","Pharmacie d'officine","A"]
[{"$f":"VLOOKUP(B4362,Régions!A:C,3,FALSE)","v":"Bretagne"},29,"CNOP",290011808,290011808,"oui","PHARMACIE PENGLOAN",33,"Rue","DES MARTYRS","29270 CARHAIX-PLOUGUER",29270,"Carhaix-Plouguer","Pharmacie d'officine","A"]
[{"$f":"VLOOKUP(B4378,Régions!A:C,3,FALSE)","v":"Bretagne"},29,"CNOP",290012012,290012012,"oui","PHARMACIE LOUEDEC",12,"Place","EUGENE FOREST","29830 PLOUGUIN",29830,"Plouguin","Pharmacie d'officine","A"]
[{"$f":"VLOOKUP(B4381,Régions!A:C,3,FALSE)","v":"Bretagne"},29,"CNOP",290012046,290012046,"oui","PHARMACIE LEGUAY-BRIAND",41,"Rue","DE PONT-AVEN","29300 QUIMPERLE",29300,"Quimperlé","Pharmacie d'officine","A"]
[{"$f":"VLOOKUP(B4397,Régions!A:C,3,FALSE)","v":"Bretagne"},29,"PHARMDIRECTFR",290012202,290012202,"oui","PHARMACIE  CELIN",52,"Rue","JEAN JAURES","29390 SCAER",29390,"Scaër","Pharmacie d'officine","A"]
[{"$f":"VLOOKUP(B4400,Régions!A:C,3,FALSE)","v":"Bretagne"},29,"CNOP",290012244,290012244,"oui","PHARMACIE DIVANACH - LECOQ","NULL","NULL","KERGROES","29350 MOELAN-SUR-MER",29350,"Moëlan-sur-Mer","Pharmacie d'officine","A"]
[{"$f":"VLOOKUP(B4412,Régions!A:C,3,FALSE)","v":"Bretagne"},29,"PHARMDIRECTFR",290012376,290012376,"oui","PHARMACIE PETTON",35,"Rue","DE PLOZEVET","29710 POULDREUZIC",29710,"Pouldreuzic","Pharmacie d'officine","A"]
[{"$f":"VLOOKUP(B4419,Régions!A:C,3,FALSE)","v":"Bretagne"},29,"PHARMDIRECTFR",290012483,290012483,"oui","PHARMACIE BODÉNÈS",156,"Rue","Jean Jaurès","29200 BREST",29200,"Brest","Pharmacie d'officine","A"]
[{"$f":"VLOOKUP(B4431,Régions!A:C,3,FALSE)","v":"Bretagne"},29,"CNOP",290012616,290012616,"oui","PHARMACIE ACHILLE - MOUGIN",122,"Avenue","DE LA GARE","29900 CONCARNEAU",29900,"Concarneau","Pharmacie d'officine","A"]
[{"$f":"VLOOKUP(B4436,Régions!A:C,3,FALSE)","v":"Bretagne"},29,"CNOP",290012665,290012665,"oui","PHARMACIE JOLIVET",5,"Avenue","DE LA MER","29950 BENODET",29950,"Bénodet","Pharmacie d'officine","A"]
[{"$f":"VLOOKUP(B4451,Régions!A:C,3,FALSE)","v":"Bretagne"},29,"CNOP",290012897,290012897,"oui","PHARMACIE LE STRAT",10,"Rue","PIERRE CORNEILLE","29217 LE-CONQUET",29217,"Le Conquet","Pharmacie d'officine","A"]
[{"$f":"VLOOKUP(B4454,Régions!A:C,3,FALSE)","v":"Bretagne"},29,{"$error":"#N/A"},290012921,{"$error":"#N/A"},{"$error":"#N/A"},"PHARMACIE GRAVE - COZIEN","NULL","NULL","NULL","29180 PLOGONNEC",29180,"Plogonnec","Pharmacie d'officine","A"]
[{"$f":"VLOOKUP(B4470,Régions!A:C,3,FALSE)","v":"Bretagne"},29,"CNOP",290013135,290013135,"oui","PHARMACIE GUIVARCH",154,"Rue","PAUL MASSON","29200 BREST",29200,"Brest","Pharmacie d'officine","A"]
[{"$f":"VLOOKUP(B4473,Régions!A:C,3,FALSE)","v":"Bretagne"},29,{"$error":"#N/A"},290013176,{"$error":"#N/A"},{"$error":"#N/A"},"PHARMACIE LHOMELET-GAUTIER",50,"Rue","DE LOSQUEDIC","29250 PLOUGOULM",29250,"Plougoulm","Pharmacie d'officine","A"]
[{"$f":"VLOOKUP(B4485,Régions!A:C,3,FALSE)","v":"Bretagne"},29,{"$error":"#N/A"},290013325,{"$error":"#N/A"},{"$error":"#N/A"},"PHARMACIE DE LA BAIE",18,"Rue","Lucien Vidie","29900 CONCARNEAU",29900,"Concarneau","Pharmacie d'officine","A"]
[{"$f":"VLOOKUP(B4492,Régions!A:C,3,FALSE)","v":"Bretagne"},29,"CNOP",290013424,290013424,"oui","PHARMACIE PERROT","NULL","Place","DES ECOLES","29710 LANDUDEC",29710,"Landudec","Pharmacie d'officine","A"]
[{"$f":"VLOOKUP(B4504,Régions!A:C,3,FALSE)","v":"Bretagne"},29,"PHARMDIRECTFR",290013580,290013580,"oui","SELARL PHARMACIE BRUNEAU RONDEAU",163,"Route","DE BENODET","29000 QUIMPER",29000,"Quimper","Pharmacie d'officine","A"]
[{"$f":"VLOOKUP(B4513,Régions!A:C,3,FALSE)","v":"Bretagne"},29,"PHARMDIRECTFR",290013705,290013705,"oui","SELARL PHARMACIE DE KERNISY","NULL","Allee","DE KERNISY","29000 QUIMPER",29000,"Quimper","Pharmacie d'officine","A"]
[{"$f":"VLOOKUP(B4524,Régions!A:C,3,FALSE)","v":"Bretagne"},29,{"$error":"#N/A"},290013838,{"$error":"#N/A"},{"$error":"#N/A"},"PHARMACIE LOGEAIS",22,"Rue","DE SAINT POL","29233 CLEDER",29233,"Cléder","Pharmacie d'officine","A"]
[{"$f":"VLOOKUP(B4527,Régions!A:C,3,FALSE)","v":"Bretagne"},29,{"$error":"#N/A"},290013879,{"$error":"#N/A"},{"$error":"#N/A"},"PHARMACIE MORIN",3,"Route","DE PONT L'ABBE","29000 QUIMPER",29000,"Quimper","Pharmacie d'officine","A"]
[{"$f":"VLOOKUP(B4543,Régions!A:C,3,FALSE)","v":"Bretagne"},29,{"$error":"#N/A"},290014372,{"$error":"#N/A"},{"$error":"#N/A"},"PHARMACIE ANTOINE-COUTURIER",36,"Rue","DE SIAM","29200 BREST",29200,"Brest","Pharmacie d'officine","A"]
[{"$f":"VLOOKUP(B4546,Régions!A:C,3,FALSE)","v":"Bretagne"},29,"CNOP",290014414,290014414,"oui","PHARMACIE GONNORD",20,"Avenue","YVES THEPOT","29000 QUIMPER",29000,"Quimper","Pharmacie d'officine","A"]
[{"$f":"VLOOKUP(B4558,Régions!A:C,3,FALSE)","v":"Bretagne"},29,"CNOP",290032358,290032358,"oui","PHARMACIE VITRE","NULL","Rue","JEAN-MARIE BIRRIEN","29520 CHATEAUNEUF DU FAOU",29520,"Châteauneuf-du-Faou","Pharmacie d'officine","A"]
[{"$f":"VLOOKUP(B4565,Régions!A:C,3,FALSE)","v":"Occitanie"},30,"PHARMDIRECTFR",300004041,300004041,"oui","PHARMACIE DURAND-GIRON",4,"Rue","DU COURLIS","30470 AIMARGUES",30470,"Aimargues","Pharmacie d'officine","A"]
[{"$f":"VLOOKUP(B4577,Régions!A:C,3,FALSE)","v":"Occitanie"},30,"CNOP",300004363,300004363,"oui","PHARMACIE OUHDOUCH",7,"Quai","GENERAL DE GAULLE","30300 BEAUCAIRE",30300,"Beaucaire","Pharmacie d'officine","A"]
[{"$f":"VLOOKUP(B4584,Régions!A:C,3,FALSE)","v":"Occitanie"},30,{"$error":"#N/A"},300004595,{"$error":"#N/A"},{"$error":"#N/A"},"PHARMACIE PAGES",5,"Place","ROGER BASTIDE","30900 NÎMES",30900,"Nîmes","Pharmacie d'officine","A"]
[{"$f":"VLOOKUP(B4598,Régions!A:C,3,FALSE)","v":"Occitanie"},30,"PHARMDIRECTFR",300004975,300004975,"oui","PHARMACIE SOULIER","NULL","Zone d amenagement concerte","DU RIEU - ROCADE EST","30100 ALES",30100,"Alès","Pharmacie d'officine","A"]
[{"$f":"VLOOKUP(B4600,Régions!A:C,3,FALSE)","v":"Occitanie"},30,"PHARMDIRECTFR",300005014,300005014,"oui","PHARMACIE PRADEN",198,"Avenue","DES FRERES LUMIERE","30100 ALES",30100,"Alès","Pharmacie d'officine","A"]
[{"$f":"VLOOKUP(B4616,Régions!A:C,3,FALSE)","v":"Occitanie"},30,"PHARMDIRECTFR",300005493,300005493,"oui","PHARMACIE BARLE-BENICHOU","NULL","Avenue","JEAN TASSY","30430 BARJAC",30430,"Barjac","Pharmacie d'officine","A"]
[{"$f":"VLOOKUP(B4619,Régions!A:C,3,FALSE)","v":"Occitanie"},30,"CNOP",300005592,300005592,"non","PHARMACIE GENIEYS","NULL","Rue","DU 19 MARS 1962","30300 BEAUCAIRE",30300,"Beaucaire","Pharmacie d'officine","A"]
[{"$f":"VLOOKUP(B4626,Régions!A:C,3,FALSE)","v":"Occitanie"},30,"PHARMDIRECTFR",300005790,300005790,"oui","PHARMACIE CARRETON",21,"Route","NATIONALE","30320 BEZOUCE",30320,"Bezouce","Pharmacie d'officine","A"]
[{"$f":"VLOOKUP(B4638,Régions!A:C,3,FALSE)","v":"Occitanie"},30,{"$error":"#N/A"},300006095,{"$error":"#N/A"},{"$error":"#N/A"},"PHARMACIE MALAVIOLLE","NULL","Rue","DE LA REPUBLIQUE","30330 CONNAUX",30330,"Connaux","Pharmacie d'officine","A"]
[{"$f":"VLOOKUP(B4650,Régions!A:C,3,FALSE)","v":"Occitanie"},30,"PHARMDIRECTFR",300006426,300006426,"oui","PHARMACIE ASSENAT",10,"Rue","Abbé Mejean","30110 LA GRAND-COMBE",30110,"La Grand-Combe","Pharmacie d'officine","A"]
[{"$f":"VLOOKUP(B4657,Régions!A:C,3,FALSE)","v":"Occitanie"},30,{"$error":"#N/A"},300006590,{"$error":"#N/A"},{"$error":"#N/A"},"PHARMACIE ESCOJIDO-JANNEL","NULL","NULL","LE TRIMARAN","30240 PORT-CAMARGUE",30240,"Le Grau-du-Roi","Pharmacie d'officine","A"]
[{"$f":"VLOOKUP(B4669,Régions!A:C,3,FALSE)","v":"Occitanie"},30,"PHARMDIRECTFR",300006897,300006897,"oui","PHARMACIE APPRIOU - PRIGENT",6,"Rue","DU 8 MAI 1945","30350 LEZAN",30350,"Lézan","Pharmacie d'officine","A"]
[{"$f":"VLOOKUP(B4673,Régions!A:C,3,FALSE)","v":"Occitanie"},30,{"$error":"#N/A"},300006996,{"$error":"#N/A"},{"$error":"#N/A"},"PHARMACIE PIPUTTO - MALAVAL","NULL","Chemin","DE RODILHAN","30320 MARGUERITES",30320,"Marguerittes","Pharmacie d'officine","A"]
[{"$f":"VLOOKUP(B4689,Régions!A:C,3,FALSE)","v":"Occitanie"},30,"PHARMDIRECTFR",300007390,300007390,"oui","PHARMACIE TESCARI-BOCCANFUSO",2858,"Route","COURBESSAC","30000 NIMES",30000,"Nîmes","Pharmacie d'officine","A"]
[{"$f":"VLOOKUP(B4692,Régions!A:C,3,FALSE)","v":"Occitanie"},30,{"$error":"#N/A"},300007465,{"$error":"#N/A"},{"$error":"#N/A"},"PHARMACIE PAUL - MARTY",114,"Route","D'UZES","30000 NÎMES",30000,"Nîmes","Pharmacie d'officine","A"]
[{"$f":"VLOOKUP(B4699,Régions!A:C,3,FALSE)","v":"Occitanie"},30,"PHARMDIRECTFR",300007663,300007663,"oui","PHARMACIE  PELENC","NULL","Rue","DES LAURIERS","30900 NÎMES",30900,"Nîmes","Pharmacie d'officine","A"]
[{"$f":"VLOOKUP(B4711,Régions!A:C,3,FALSE)","v":"Occitanie"},30,{"$error":"#N/A"},300007960,{"$error":"#N/A"},{"$error":"#N/A"},"PHARMACIE VERDIER",186,"Route","D'AVIGNON","30000 NÎMES",30000,"Nîmes","Pharmacie d'officine","A"]
[{"$f":"VLOOKUP(B4723,Régions!A:C,3,FALSE)","v":"Occitanie"},30,"CNOP",300008265,300008265,"oui","PHARMACIE COLLAS - SAGNES",112,"Allee","du Mas de Ville","30000 NIMES",30000,"Nîmes","Pharmacie d'officine","A"]
[{"$f":"VLOOKUP(B4730,Régions!A:C,3,FALSE)","v":"Occitanie"},30,"CNOP",300008430,300008430,"oui","PHARMACIE GRANGETTE - BERNARD",9,"Boulevard","DE PRAGUE","30009 NÎMES CEDEX 4",30009,"Nîmes","Pharmacie d'officine","A"]
[{"$f":"VLOOKUP(B4742,Régions!A:C,3,FALSE)","v":"Occitanie"},30,"PHARMDIRECTFR",300008745,300008745,"oui","PHARMACIE REAUX-BAUMES","NULL","NULL","N 146","30160 ROBIAC-ROCHESSADOULE",30160,"Robiac-Rochessadoule","Pharmacie d'officine","A"]
[{"$f":"VLOOKUP(B4744,Régions!A:C,3,FALSE)","v":"Occitanie"},30,"PHARMDIRECTFR",300008794,300008794,"oui","PHARMACIE CARIAT - THOMAS",8,"Place","DE LA MAIRIE","30230 RODILHAN",30230,"Rodilhan","Pharmacie d'officine","A"]
[{"$f":"VLOOKUP(B4762,Régions!A:C,3,FALSE)","v":"Occitanie"},30,{"$error":"#N/A"},300009313,{"$error":"#N/A"},{"$error":"#N/A"},"PHARMACIE JOSE","NULL","Avenue","PIERRE CURIE","30800 ST GILLES",30800,"Saint-Gilles","Pharmacie d'officine","A"]
[{"$f":"VLOOKUP(B4765,Régions!A:C,3,FALSE)","v":"Occitanie"},30,"CNOP",300009396,300009396,"oui","PHARMACIE ROUAN","NULL","Route","de Nimes","30170 SAINT-HIPPOLYTE-DU-FORT",30170,"Saint-Hippolyte-du-Fort","Pharmacie d'officine","A"]
[{"$f":"VLOOKUP(B4772,Régions!A:C,3,FALSE)","v":"Occitanie"},30,"CNOP",300009586,300009586,"non","PHARMACIE BOMPARD",346,"Chemin","DE LA GARE","30730 ST MAMERT DU GARD",30730,"Saint-Mamert-du-Gard","Pharmacie d'officine","A"]
[{"$f":"VLOOKUP(B4784,Régions!A:C,3,FALSE)","v":"Occitanie"},30,{"$error":"#N/A"},300009883,{"$error":"#N/A"},{"$error":"#N/A"},"PHARMACIE GOULABERT",1013,"Route","DE NIMES","30700 UZÈS",30700,"Uzès","Pharmacie d'officine","A"]
[{"$f":"VLOOKUP(B4796,Régions!A:C,3,FALSE)","v":"Occitanie"},30,"CNOP",300010170,300010170,"oui","PHARMACIE BIRONNEAU","NULL","Place","DE LA CROIX","30400 VILLENEUVE LES AVIGNON",30400,"Villeneuve-lès-Avignon","Pharmacie d'officine","A"]
[{"$f":"VLOOKUP(B4803,Régions!A:C,3,FALSE)","v":"Occitanie"},31,{"$error":"#N/A"},310003348,{"$error":"#N/A"},{"$error":"#N/A"},"PHARMACIE JORRO","NULL","NULL","CCAL","31650 AUZIELLE",31650,"Auzielle","Pharmacie d'officine","A"]
[{"$f":"VLOOKUP(B4815,Régions!A:C,3,FALSE)","v":"Occitanie"},31,"CNOP",310006796,310006796,"oui","PHARMACIE HEMAIN",4,"Route","DE TOULOUSE","31190 AUTERIVE",31190,"Auterive","Pharmacie d'officine","A"]
[{"$f":"VLOOKUP(B4822,Régions!A:C,3,FALSE)","v":"Occitanie"},31,{"$error":"#N/A"},310006960,{"$error":"#N/A"},{"$error":"#N/A"},"SELARL PHARMACIE DU MIDI",24,"Avenue","DE TOULOUSE","31130 BALMA",31130,"Balma","Pharmacie d'officine","A"]
[{"$f":"VLOOKUP(B4835,Régions!A:C,3,FALSE)","v":"Occitanie"},31,"CNOP",310007315,310007315,"oui","PHARMACIE DARLES",6,"Route","DE GRENADE","31700 BLAGNAC",31700,"Blagnac","Pharmacie d'officine","A"]
[{"$f":"VLOOKUP(B4838,Régions!A:C,3,FALSE)","v":"Occitanie"},31,"PHARMDIRECTFR",310007380,310007380,"oui","PHARMACIE RAOUL - VICTORY",3,"Rue","DE LA PEGOU","31620 BOULOC",31620,"Bouloc","Pharmacie d'officine","A"]
[{"$f":"VLOOKUP(B4845,Régions!A:C,3,FALSE)","v":"Occitanie"},31,"CNOP",310007596,310007596,"oui","PHARMACIE RAMIO - CLAUDE",18,"Rue","VICTOR HUGO","31460 CARAMAN",31460,"Caraman","Pharmacie d'officine","A"]
[{"$f":"VLOOKUP(B4857,Régions!A:C,3,FALSE)","v":"Occitanie"},31,{"$error":"#N/A"},310007893,{"$error":"#N/A"},{"$error":"#N/A"},"PHARMACIE MIREILLE MARTIGNAC",14,"Place","DES MARTYRS DE LA RESISTANCE","31220 CAZERES",31220,"Cazères","Pharmacie d'officine","A"]
[{"$f":"VLOOKUP(B4869,Régions!A:C,3,FALSE)","v":"Occitanie"},31,"CNOP",310008214,310008214,"oui","PHARMACIE ALLEMAND",11,"Passage","DU PERIGORD","31770 COLOMIERS",31770,"Colomiers","Pharmacie d'officine","A"]
[{"$f":"VLOOKUP(B4876,Régions!A:C,3,FALSE)","v":"Occitanie"},31,{"$error":"#N/A"},310008412,{"$error":"#N/A"},{"$error":"#N/A"},"PHARMACIE CHIESA",14,"Rue","DU VIVIER","31270 CUGNAUX",31270,"Cugnaux","Pharmacie d'officine","A"]
[{"$f":"VLOOKUP(B4888,Régions!A:C,3,FALSE)","v":"Occitanie"},31,"CNOP",310008727,310008727,"oui","PHARMACIE FAUR",11,"Place","DE LA HALLE","31430 LE FOUSSERET",31430,"Le Fousseret","Pharmacie d'officine","A"]
[{"$f":"VLOOKUP(B4895,Régions!A:C,3,FALSE)","v":"Occitanie"},31,"CNOP",310008891,310008891,"oui","PHARMACIE GUMPELSON-ANGER",1,"Avenue","DE POLIGNAN","31210 GOURDAN-POLIGNAN",31210,"Gourdan-Polignan","Pharmacie d'officine","A"]
[{"$f":"VLOOKUP(B4906,Régions!A:C,3,FALSE)","v":"Occitanie"},31,{"$error":"#N/A"},310009212,{"$error":"#N/A"},{"$error":"#N/A"},"PHARMACIE ELOY-HURTEVENT","NULL","NULL","NULL","31120 LACROIX FALGARDE",31120,"Lacroix-Falgarde","Pharmacie d'officine","A"]
[{"$f":"VLOOKUP(B4911,Régions!A:C,3,FALSE)","v":"Occitanie"},31,"PHARMDIRECTFR",310009345,310009345,"oui","SELAS PHARMACIE H.L",1,"Avenue","DES PYRENEES","31410 LAVERNOSE-LACASSE",31410,"Lavernose-Lacasse","Pharmacie d'officine","A"]
[{"$f":"VLOOKUP(B4918,Régions!A:C,3,FALSE)","v":"Occitanie"},31,"CNOP",310009527,310009527,"oui","PHARMACIE DINTILHAC",17,"Rue","DU STADE","31260 MAZERES-SUR-SALAT",31260,"Mazères-sur-Salat","Pharmacie d'officine","A"]
[{"$f":"VLOOKUP(B4930,Régions!A:C,3,FALSE)","v":"Occitanie"},31,"PHARMDIRECTFR",310009865,310009865,"oui","PHARMACIE DES PYRENEES",5,"Rue","MOZART","31600 MURET",31600,"Muret","Pharmacie d'officine","A"]
[{"$f":"VLOOKUP(B4942,Régions!A:C,3,FALSE)","v":"Occitanie"},31,"PHARMDIRECTFR",310010160,310010160,"oui","MARIE ET MARIUS FOURCADE",88,"Rue","d'Andorre","31120 PINSAGUEL",31120,"Pinsaguel","Pharmacie d'officine","A"]
[{"$f":"VLOOKUP(B4949,Régions!A:C,3,FALSE)","v":"Occitanie"},31,"PHARMDIRECTFR",310010343,310010343,"oui","PHARMACIE BORIOS - CARTON",8,"Rue","DU COMMERCE","31120 PORTET-SUR-GARONNE",31120,"Portet-sur-Garonne","Pharmacie d'officine","A"]
[{"$f":"VLOOKUP(B4961,Régions!A:C,3,FALSE)","v":"Occitanie"},31,{"$error":"#N/A"},310010681,{"$error":"#N/A"},{"$error":"#N/A"},"PHARMACIE RIGAL",3,"Rue","DES ECOLES","31120 ROQUES",31120,"Roques","Pharmacie d'officine","A"]
[{"$f":"VLOOKUP(B4968,Régions!A:C,3,FALSE)","v":"Occitanie"},31,{"$error":"#N/A"},310010897,{"$error":"#N/A"},{"$error":"#N/A"},"PHARMACIE DES TROIS MARECHAUX",51,"Avenue","du Marechal Joffre","31800 SAINT-GAUDENS",31800,"Saint-Gaudens","Pharmacie d'officine","A"]
[{"$f":"VLOOKUP(B4980,Régions!A:C,3,FALSE)","v":"Occitanie"},31,{"$error":"#N/A"},310011192,{"$error":"#N/A"},{"$error":"#N/A"},"PHARMACIE BADOZ",15,"Place","NATIONALE","31470 SAINT-LYS",31470,"Saint-Lys","Pharmacie d'officine","A"]
[{"$f":"VLOOKUP(B4981,Régions!A:C,3,FALSE)","v":"Occitanie"},31,{"$error":"#N/A"},310011226,{"$error":"#N/A"},{"$error":"#N/A"},"PHARMACIE CAUJOLLE",82,"Avenue","Norbert Casteret","31360 SAINT-MARTORY",31360,"Saint-Martory","Pharmacie d'officine","A"]
[{"$f":"VLOOKUP(B4991,Régions!A:C,3,FALSE)","v":"Occitanie"},31,{"$error":"#N/A"},310011481,{"$error":"#N/A"},{"$error":"#N/A"},"PHARMACIE CAUMETTE",26,"Place","DE LA LIBERATION","31600 SEYSSES",31600,"Seysses","Pharmacie d'officine","A"]
[{"$f":"VLOOKUP(B5003,Régions!A:C,3,FALSE)","v":"Occitanie"},31,"CNOP",310011812,310011812,"oui","SELURL ADRIEN AGAUD",108,"Rue","DES FONTAINES","31300 TOULOUSE",31300,"Toulouse","Pharmacie d'officine","A"]
[{"$f":"VLOOKUP(B5010,Régions!A:C,3,FALSE)","v":"Occitanie"},31,"CNOP",310011994,310011994,"oui","PHARMACIE PAMPIRI",49,"Rue","DE LA COLOMBETTE","31000 TOULOUSE",31000,"Toulouse","Pharmacie d'officine","A"]
[{"$f":"VLOOKUP(B5022,Régions!A:C,3,FALSE)","v":"Occitanie"},31,"PHARMDIRECTFR",310012281,310012281,"oui","PHARMACIE SANTIER",64,"Rue","DE LA CONCORDE","31000 TOULOUSE",31000,"Toulouse","Pharmacie d'officine","A"]
[{"$f":"VLOOKUP(B5034,Régions!A:C,3,FALSE)","v":"Occitanie"},31,"CNOP",310012661,310012661,"oui","PHARMACIE MILLEFEUILLE",3,"Rue","J F KENNEDY","31000 TOULOUSE",31000,"Toulouse","Pharmacie d'officine","A"]
[{"$f":"VLOOKUP(B5041,Régions!A:C,3,FALSE)","v":"Occitanie"},31,{"$error":"#N/A"},310012844,{"$error":"#N/A"},{"$error":"#N/A"},"PHARMACIE GAUSSIN - COSSET",83,"Avenue","DE CASTRES","31500 TOULOUSE",31500,"Toulouse","Pharmacie d'officine","A"]
[{"$f":"VLOOKUP(B5053,Régions!A:C,3,FALSE)","v":"Occitanie"},31,"CNOP",310013164,310013164,"oui","PHARMACIE BENAZET - ENJALBERT",134,"Avenue","DE GRANDE BRETAGNE","31300 TOULOUSE",31300,"Toulouse","Pharmacie d'officine","A"]
[{"$f":"VLOOKUP(B5056,Régions!A:C,3,FALSE)","v":"Occitanie"},31,{"$error":"#N/A"},310013230,{"$error":"#N/A"},{"$error":"#N/A"},"PHARMACIE WARY - ANDRES",48,"Avenue","DE LOMBEZ","31300 TOULOUSE",31300,"Toulouse","Pharmacie d'officine","A"]
[{"$f":"VLOOKUP(B5072,Régions!A:C,3,FALSE)","v":"Occitanie"},31,{"$error":"#N/A"},310013693,{"$error":"#N/A"},{"$error":"#N/A"},"PHARMACIE SAINT GEORGES",5,"Place","SAINT GEORGES","31000 TOULOUSE",31000,"Toulouse","Pharmacie d'officine","A"]
[{"$f":"VLOOKUP(B5076,Régions!A:C,3,FALSE)","v":"Occitanie"},31,"PHARMDIRECTFR",310013792,310013792,"oui","PHARMACIE GENSANE",65,"Avenue","DE MURET","31300 TOULOUSE",31300,"Toulouse","Pharmacie d'officine","A"]
[{"$f":"VLOOKUP(B5083,Régions!A:C,3,FALSE)","v":"Occitanie"},31,"CNOP",310013974,310013974,"oui","PHARMACIE PLUSQUELLEC",9,"Rue","DE LA CHARBONNIERE - 2 R DES PALMIERS","31400 TOULOUSE",31400,"Toulouse","Pharmacie d'officine","A"]
[{"$f":"VLOOKUP(B5095,Régions!A:C,3,FALSE)","v":"Occitanie"},31,{"$error":"#N/A"},310014261,{"$error":"#N/A"},{"$error":"#N/A"},"PHARMACIE GAMANI - HABBOUBA",2,"Allee","CHARLES DE FITTE","31300 TOULOUSE",31300,"Toulouse","Pharmacie d'officine","A"]
[{"$f":"VLOOKUP(B5107,Régions!A:C,3,FALSE)","v":"Occitanie"},31,{"$error":"#N/A"},310014568,{"$error":"#N/A"},{"$error":"#N/A"},"PHARMA CR",18,"Route","DE TOULOUSE","31190 AUTERIVE",31190,"Auterive","Pharmacie d'officine","A"]
[{"$f":"VLOOKUP(B5114,Régions!A:C,3,FALSE)","v":"Occitanie"},31,"PHARMDIRECTFR",310014725,310014725,"oui","PHARMACIE DES GRANDS BOULEVARDS",71,"Boulevard","CARNOT","31000 TOULOUSE",31000,"Toulouse","Pharmacie d'officine","A"]
[{"$f":"VLOOKUP(B5126,Régions!A:C,3,FALSE)","v":"Occitanie"},31,"CNOP",310015060,310015060,"oui","PHARMACIE SANSEPEE - GUILLERMIN",11,"Place","DUPUY","31000 TOULOUSE",31000,"Toulouse","Pharmacie d'officine","A"]
[{"$f":"VLOOKUP(B5133,Régions!A:C,3,FALSE)","v":"Occitanie"},31,{"$error":"#N/A"},310015276,{"$error":"#N/A"},{"$error":"#N/A"},"PHARMACIE  FAURY",68,"Avenue","DES ETATS UNIS","31200 TOULOUSE",31200,"Toulouse","Pharmacie d'officine","A"]
[{"$f":"VLOOKUP(B5143,Régions!A:C,3,FALSE)","v":"Occitanie"},31,{"$error":"#N/A"},310015524,{"$error":"#N/A"},{"$error":"#N/A"},"PHARMACIE RICHARD - PEREIRA",60,"Boulevard","DE SUISSE","31200 TOULOUSE",31200,"Toulouse","Pharmacie d'officine","A"]
[{"$f":"VLOOKUP(B5149,Régions!A:C,3,FALSE)","v":"Occitanie"},31,"CNOP",310015664,310015664,"oui","PHARMACIE  CHAPTAL",36,"Route","DE BAYONNE","31300 TOULOUSE",31300,"Toulouse","Pharmacie d'officine","A"]
[{"$f":"VLOOKUP(B5156,Régions!A:C,3,FALSE)","v":"Occitanie"},31,"PHARMDIRECTFR",310015847,310015847,"oui","PHARMACIE PETEL",1,"Avenue","PIERRE DURAND","31470 FONSORBES",31470,"Fonsorbes","Pharmacie d'officine","A"]
[{"$f":"VLOOKUP(B5168,Régions!A:C,3,FALSE)","v":"Occitanie"},31,"CNOP",310016175,310016175,"oui","PHARMACIE LAFAYETTE SAINT CAPRAIS",2,"Rue","du Lac Bleu","31240 L'UNION",31240,"L'Union","Pharmacie d'officine","A"]
[{"$f":"VLOOKUP(B5180,Régions!A:C,3,FALSE)","v":"Occitanie"},31,"CNOP",310016464,310016464,"oui","PHARMACIE SAINT MICHEL",4,"Rue","ST MICHEL","31340 VILLEMUR-SUR-TARN",31340,"Villemur-sur-Tarn","Pharmacie d'officine","A"]
[{"$f":"VLOOKUP(B5187,Régions!A:C,3,FALSE)","v":"Occitanie"},31,"CNOP",310016993,310016993,"oui","PHARMACIE TEMEGHE","NULL","Route","DE TOULOUSE","31830 PLAISANCE DU TOUCH",31830,"Plaisance-du-Touch","Pharmacie d'officine","A"]
[{"$f":"VLOOKUP(B5199,Régions!A:C,3,FALSE)","v":"Occitanie"},31,{"$error":"#N/A"},310019161,{"$error":"#N/A"},{"$error":"#N/A"},"PHARMACIE LANDES - PEYROTAU",164,"Route","D'ALBI","31200 TOULOUSE",31200,"Toulouse","Pharmacie d'officine","A"]
[{"$f":"VLOOKUP(B5206,Régions!A:C,3,FALSE)","v":"Occitanie"},32,"PHARMDIRECTFR",320001167,320001167,"oui","PHARMACIE MEZIANI",9,"Rue","DU DUC DE BOUILLON","32290 AIGNAN",32290,"Aignan","Pharmacie d'officine","A"]
[{"$f":"VLOOKUP(B5209,Régions!A:C,3,FALSE)","v":"Occitanie"},32,"CNOP",320001233,320001233,"oui","PHARMACIE MAUROUX",223,"Route","D'AGEN","32000 AUCH",32000,"Auch","Pharmacie d'officine","A"]
[{"$f":"VLOOKUP(B5218,Régions!A:C,3,FALSE)","v":"Occitanie"},32,"PHARMDIRECTFR",320001472,320001472,"oui","PHARMACIE  ALBARET",23,"Avenue","DE LA TENAREZE","32410 CASTERA VERDUZAN",32410,"Castéra-Verduzan","Pharmacie d'officine","A"]
[{"$f":"VLOOKUP(B5229,Régions!A:C,3,FALSE)","v":"Occitanie"},32,"CNOP",320001837,320001837,"oui","PHARMACIE THORE",13,"Place","DE LA REPUBLIQUE","32500 FLEURANCE",32500,"Fleurance","Pharmacie d'officine","A"]
[{"$f":"VLOOKUP(B5241,Régions!A:C,3,FALSE)","v":"Occitanie"},32,{"$error":"#N/A"},320002173,{"$error":"#N/A"},{"$error":"#N/A"},"PHARMACIE VIDOTTO",190,"Rue","du SAVES","32220 LOMBEZ",32220,"Lombez","Pharmacie d'officine","A"]
[{"$f":"VLOOKUP(B5253,Régions!A:C,3,FALSE)","v":"Occitanie"},32,"PHARMDIRECTFR",320002587,320002587,"oui","PHARMACIE DES MOUSQUETAIRES",2,"Rue","DES CARMES","32550 PAVIE",32550,"Pavie","Pharmacie d'officine","A"]
[{"$f":"VLOOKUP(B5260,Régions!A:C,3,FALSE)","v":"Occitanie"},32,"CNOP",320002884,320002884,"oui","PHARMACIE FABRE",13,"Place","DES HALLES","32130 SAMATAN",32130,"Samatan","Pharmacie d'officine","A"]
[{"$f":"VLOOKUP(B5272,Régions!A:C,3,FALSE)","v":"Nouvelle-Aquitaine"},33,"PHARMDIRECTFR",330038761,330038761,"oui","PHARMACIE ROQUE-FAGETTE",85,"Avenue","DE LA LIBERTE","33440 AMBARÈS-ET-LAGRAVE",33440,"Ambarès-et-Lagrave","Pharmacie d'officine","A"]
[{"$f":"VLOOKUP(B5279,Régions!A:C,3,FALSE)","v":"Nouvelle-Aquitaine"},33,{"$error":"#N/A"},330038944,{"$error":"#N/A"},{"$error":"#N/A"},"PHCIE  DESALME - MASSALOUX-LAMONNERIE",2,"Place","GABRIEL MAYDIEU","33120 ARCACHON",33120,"Arcachon","Pharmacie d'officine","A"]
[{"$f":"VLOOKUP(B5282,Régions!A:C,3,FALSE)","v":"Nouvelle-Aquitaine"},33,{"$error":"#N/A"},330039025,{"$error":"#N/A"},{"$error":"#N/A"},"PHARMACIE  DUBO-ALVAREZ",20,"Avenue","DU MAL DE  LATTRE DE TASSIGNY","33120 ARCACHON",33120,"Arcachon","Pharmacie d'officine","A"]
[{"$f":"VLOOKUP(B5294,Régions!A:C,3,FALSE)","v":"Nouvelle-Aquitaine"},33,"CNOP",330039330,330039330,"oui","PHARMACIE LE QUERE",7,"Rue","DE LA CARREYRE","33114 LE-BARP",33114,"Le Barp","Pharmacie d'officine","A"]
[{"$f":"VLOOKUP(B5309,Régions!A:C,3,FALSE)","v":"Nouvelle-Aquitaine"},33,"PHARMDIRECTFR",330039744,330039744,"oui","PHARMACIE FONTAINE-VARLOT",3,"Place","DU GENERAL DE GAULLE","33130 BÈGLES",33130,"Bègles","Pharmacie d'officine","A"]
[{"$f":"VLOOKUP(B5314,Régions!A:C,3,FALSE)","v":"Nouvelle-Aquitaine"},33,"PHARMDIRECTFR",330039892,330039892,"oui","PHARMACIE MONTALBANO - LAVALLÉE",1,"Rue","DE L'ABBÉ GAILLARD","33830 BELIN-BÉLIET",33830,"Belin-Béliet","Pharmacie d'officine","A"]
[{"$f":"VLOOKUP(B5321,Régions!A:C,3,FALSE)","v":"Nouvelle-Aquitaine"},33,{"$error":"#N/A"},330040064,{"$error":"#N/A"},{"$error":"#N/A"},"PHARMACIE LARRAUX-PETIT",220,"Avenue","DU GENERAL DE GAULLE","33290 BLANQUEFORT",33290,"Blanquefort","Pharmacie d'officine","A"]
[{"$f":"VLOOKUP(B5333,Régions!A:C,3,FALSE)","v":"Nouvelle-Aquitaine"},33,{"$error":"#N/A"},330040460,{"$error":"#N/A"},{"$error":"#N/A"},"PHARMACIE DU COURS  DE L'ARGONNE",15,"Cours","DE L'ARGONNE","33000 BORDEAUX",33000,"Bordeaux","Pharmacie d'officine","A"]
[{"$f":"VLOOKUP(B5345,Régions!A:C,3,FALSE)","v":"Nouvelle-Aquitaine"},33,"PHARMDIRECTFR",330040924,330040924,"oui","PHARMACIE FLORNOY",22,"Rue","FLORNOY","33000 BORDEAUX",33000,"Bordeaux","Pharmacie d'officine","A"]
[{"$f":"VLOOKUP(B5352,Régions!A:C,3,FALSE)","v":"Nouvelle-Aquitaine"},33,"CNOP",330041161,330041161,"oui","PHARMACIE LAFARGUE",453,"Route","DU MEDOC","33520 BRUGES",33520,"Bruges","Pharmacie d'officine","A"]
[{"$f":"VLOOKUP(B5355,Régions!A:C,3,FALSE)","v":"Nouvelle-Aquitaine"},33,"CNOP",330041245,330041245,"oui","PHARMACIE LACAPE",34,"Cours","GEORGES CLEMENCEAU","33000 BORDEAUX",33000,"Bordeaux","Pharmacie d'officine","A"]
[{"$f":"VLOOKUP(B5367,Régions!A:C,3,FALSE)","v":"Nouvelle-Aquitaine"},33,{"$error":"#N/A"},330041625,{"$error":"#N/A"},{"$error":"#N/A"},"PHARMACIE BOUTAMI",90,"Cours","MARC NOUAUX","33000 BORDEAUX",33000,"Bordeaux","Pharmacie d'officine","A"]
[{"$f":"VLOOKUP(B5380,Régions!A:C,3,FALSE)","v":"Nouvelle-Aquitaine"},33,"PHARMDIRECTFR",330042011,330042011,"oui","PHARMACIE PASTEUR",40,"Cours","Pasteur","33000 BORDEAUX",33000,"Bordeaux","Pharmacie d'officine","A"]
[{"$f":"VLOOKUP(B5387,Régions!A:C,3,FALSE)","v":"Nouvelle-Aquitaine"},33,"CNOP",330042292,330042292,"oui","GRANDE PHARMACIE PRINCIPALE",10,"Rue","SAINTE CATHERINE","33000 BORDEAUX",33000,"Bordeaux","Pharmacie d'officine","A"]
[{"$f":"VLOOKUP(B5394,Régions!A:C,3,FALSE)","v":"Nouvelle-Aquitaine"},33,{"$error":"#N/A"},330042524,{"$error":"#N/A"},{"$error":"#N/A"},"PHARMACIE PORTE DE BOURGOGNE",9,"Cours","VICTOR HUGO","33000 BORDEAUX",33000,"Bordeaux","Pharmacie d'officine","A"]
[{"$f":"VLOOKUP(B5406,Régions!A:C,3,FALSE)","v":"Nouvelle-Aquitaine"},33,"PHARMDIRECTFR",330042862,330042862,"oui","PHARMACIE SALAVERT",216,"Avenue","D'EYSINES","33200 BORDEAUX-CAUDERAN",33200,"Bordeaux","Pharmacie d'officine","A"]
[{"$f":"VLOOKUP(B5418,Régions!A:C,3,FALSE)","v":"Nouvelle-Aquitaine"},33,"CNOP",330043225,330043225,"oui","PHARMACIE  JACOB",102,"Avenue","DE VERDUN","33200 BORDEAUX",33200,"Bordeaux","Pharmacie d'officine","A"]
[{"$f":"VLOOKUP(B5425,Régions!A:C,3,FALSE)","v":"Nouvelle-Aquitaine"},33,"PHARMDIRECTFR",330043431,330043431,"oui","PHARMACIE DE BACALAN",35,"Rue","JOSEPH BRUNET","33300 BORDEAUX",33300,"Bordeaux","Pharmacie d'officine","A"]
[{"$f":"VLOOKUP(B5428,Régions!A:C,3,FALSE)","v":"Nouvelle-Aquitaine"},33,"PHARMDIRECTFR",330043514,330043514,"oui","PHARMACIE SANGUE",159,"Rue","DE BEGLES","33800 BORDEAUX",33800,"Bordeaux","Pharmacie d'officine","A"]
[{"$f":"VLOOKUP(B5444,Régions!A:C,3,FALSE)","v":"Nouvelle-Aquitaine"},33,{"$error":"#N/A"},330044264,{"$error":"#N/A"},{"$error":"#N/A"},"PHARMACIE DU PARC BORDELAIS",245,"Avenue","D EYSINES","33110 LE BOUSCAT",33110,"Le Bouscat","Pharmacie d'officine","A"]
[{"$f":"VLOOKUP(B5447,Régions!A:C,3,FALSE)","v":"Nouvelle-Aquitaine"},33,{"$error":"#N/A"},330044330,{"$error":"#N/A"},{"$error":"#N/A"},"PHARMACIE DE LA CALYPSO",153,"Avenue","DE LA LIBERATION & 55 AV AUG. FERRET","33110 BOUSCAT (LE)",33110,"Le Bouscat","Pharmacie d'officine","A"]
[{"$f":"VLOOKUP(B5455,Régions!A:C,3,FALSE)","v":"Nouvelle-Aquitaine"},33,"PHARMDIRECTFR",330044546,330044546,"oui","PHARMACIE DESCHLER",10,"Avenue","de la Republique","33820 BRAUD-ET-SAINT-LOUIS",33820,"Braud-et-Saint-Louis","Pharmacie d'officine","A"]
[{"$f":"VLOOKUP(B5467,Régions!A:C,3,FALSE)","v":"Nouvelle-Aquitaine"},33,"PHARMDIRECTFR",330044843,330044843,"oui","SELARL PHARMACIE DE LA HOUSE",28,"Avenue","de la Libération","33610 CANÉJAN",33610,"Canéjan","Pharmacie d'officine","A"]
[{"$f":"VLOOKUP(B5479,Régions!A:C,3,FALSE)","v":"Nouvelle-Aquitaine"},33,{"$error":"#N/A"},330045147,{"$error":"#N/A"},{"$error":"#N/A"},"CASTIPHARMA",10,"Place","PIERRE ORUS","33350 CASTILLON-LA-BATAILLE",33350,"Castillon-la-Bataille","Pharmacie d'officine","A"]
[{"$f":"VLOOKUP(B5491,Régions!A:C,3,FALSE)","v":"Nouvelle-Aquitaine"},33,{"$error":"#N/A"},330045477,{"$error":"#N/A"},{"$error":"#N/A"},"PHARMACIE FOCH",44,"Rue","DU MAL FOCH","33150 CENON",33150,"Cenon","Pharmacie d'officine","A"]
[{"$f":"VLOOKUP(B5498,Régions!A:C,3,FALSE)","v":"Nouvelle-Aquitaine"},33,{"$error":"#N/A"},330045642,{"$error":"#N/A"},{"$error":"#N/A"},"PHARMACIE CERDAN",8,"Avenue","DE VERDUN","33610 CESTAS",33610,"Cestas","Pharmacie d'officine","A"]
[{"$f":"VLOOKUP(B5501,Régions!A:C,3,FALSE)","v":"Nouvelle-Aquitaine"},33,"CNOP",330045725,330045725,"oui","PHARMACIE ARMSTRONG",28,"Avenue","JEAN MOULIN","33610 CESTAS",33610,"Cestas","Pharmacie d'officine","A"]
[{"$f":"VLOOKUP(B5517,Régions!A:C,3,FALSE)","v":"Nouvelle-Aquitaine"},33,"CNOP",330046145,330046145,"oui","PHARMACIE LEGRAND",75,"Avenue","ET 77 DE ST MEDARD","33320 EYSINES",33320,"Eysines","Pharmacie d'officine","A"]
[{"$f":"VLOOKUP(B5520,Régions!A:C,3,FALSE)","v":"Nouvelle-Aquitaine"},33,"CNOP",330046210,330046210,"oui","SELAS PHARMACIE EDENE",1,"Rue","JULES GUESDE","33270 FLOIRAC",33270,"Floirac","Pharmacie d'officine","A"]
[{"$f":"VLOOKUP(B5536,Régions!A:C,3,FALSE)","v":"Nouvelle-Aquitaine"},33,"PHARMDIRECTFR",330046624,330046624,"oui","PHARMACIE  DE LANGE",81,"Cours","DU GENERAL DE GAULLE","33170 GRADIGNAN",33170,"Gradignan","Pharmacie d'officine","A"]
[{"$f":"VLOOKUP(B5540,Régions!A:C,3,FALSE)","v":"Nouvelle-Aquitaine"},33,{"$error":"#N/A"},330046715,{"$error":"#N/A"},{"$error":"#N/A"},"PHARMACIE SAINT GERY",23,"Rue","SAINT- FRANCOIS XAVIER","33170 GRADIGNAN",33170,"Gradignan","Pharmacie d'officine","A"]
[{"$f":"VLOOKUP(B5552,Régions!A:C,3,FALSE)","v":"Nouvelle-Aquitaine"},33,"PHARMDIRECTFR",330047010,330047010,"non","PHARMACIE COURBIN",14,"Route","DE BORDEAUX","33125 HOSTENS",33125,"Hostens","Pharmacie d'officine","A"]
[{"$f":"VLOOKUP(B5564,Régions!A:C,3,FALSE)","v":"Nouvelle-Aquitaine"},33,{"$error":"#N/A"},330047341,{"$error":"#N/A"},{"$error":"#N/A"},"PHARMACIE  CASTAY - GUIGNARD",12,"Boulevard","Pierre Lagorce","33210 LANGON",33210,"Langon","Pharmacie d'officine","A"]
[{"$f":"VLOOKUP(B5571,Régions!A:C,3,FALSE)","v":"Nouvelle-Aquitaine"},33,{"$error":"#N/A"},330047515,{"$error":"#N/A"},{"$error":"#N/A"},"PHARMACIE DE PETIT PIQUEY",45,"Route","DE BORDEAUX","33950 LÈGE-CAP-FERRET",33950,"Lège-Cap-Ferret","Pharmacie d'officine","A"]
[{"$f":"VLOOKUP(B5574,Régions!A:C,3,FALSE)","v":"Nouvelle-Aquitaine"},33,"PHARMDIRECTFR",330047580,330047580,"oui","PHARMACIE  QUÉRAUX",161,"Route","DU CAP FERRET","33950 LEGE CAP FERRET",33950,"Lège-Cap-Ferret","Pharmacie d'officine","A"]
[{"$f":"VLOOKUP(B5590,Régions!A:C,3,FALSE)","v":"Nouvelle-Aquitaine"},33,"PHARMDIRECTFR",330048075,330048075,"oui","PHARMACIE  LAYDIS",8,"Rue","MONTESQUIEU","33500 LIBOURNE",33500,"Libourne","Pharmacie d'officine","A"]
[{"$f":"VLOOKUP(B5593,Régions!A:C,3,FALSE)","v":"Nouvelle-Aquitaine"},33,{"$error":"#N/A"},330048190,{"$error":"#N/A"},{"$error":"#N/A"},"PHARMACIE  DU  PINTEY",23,"Avenue","DE LA ROUDET","33500 LIBOURNE",33500,"Libourne","Pharmacie d'officine","A"]
[{"$f":"VLOOKUP(B5605,Régions!A:C,3,FALSE)","v":"Nouvelle-Aquitaine"},33,"PHARMDIRECTFR",330048513,330048513,"oui","PHARMACIE  SERTOUT",1,"Place","DE LA REPUBLIQUE","33570 LUSSAC",33570,"Lussac","Pharmacie d'officine","A"]
[{"$f":"VLOOKUP(B5617,Régions!A:C,3,FALSE)","v":"Nouvelle-Aquitaine"},33,"PHARMDIRECTFR",330048844,330048844,"oui","PHARMACIE CABROL",8,"Rue","PIERRE GEORGES LATECOERE","33700 MÉRIGNAC",33700,"Mérignac","Pharmacie d'officine","A"]
[{"$f":"VLOOKUP(B5625,Régions!A:C,3,FALSE)","v":"Nouvelle-Aquitaine"},33,"PHARMDIRECTFR",330049040,330049040,"oui","PHARMACIE  DAGNAUD - LOTZ - DEGAIL",49,"Avenue","MONTESQUIEU","33700 MERIGNAC",33700,"Mérignac","Pharmacie d'officine","A"]
[{"$f":"VLOOKUP(B5632,Régions!A:C,3,FALSE)","v":"Nouvelle-Aquitaine"},33,"PHARMDIRECTFR",330049214,330049214,"oui","PHARMACIE ALBO",8,"Rue","LOUIS DAVID","33700 MÉRIGNAC",33700,"Mérignac","Pharmacie d'officine","A"]
[{"$f":"VLOOKUP(B5644,Régions!A:C,3,FALSE)","v":"Nouvelle-Aquitaine"},33,{"$error":"#N/A"},330049560,{"$error":"#N/A"},{"$error":"#N/A"},"SELARL DE PHARMACIENS - PHARMACIE",44,"Rue","de l'Horloge","33600 PESSAC",33600,"Pessac","Pharmacie d'officine","A"]
[{"$f":"VLOOKUP(B5647,Régions!A:C,3,FALSE)","v":"Nouvelle-Aquitaine"},33,"CNOP",330049644,330049644,"oui","PHARMACIE NEVEU",55,"Rue","DE COMPOSTELLE","33600 PESSAC",33600,"Pessac","Pharmacie d'officine","A"]
[{"$f":"VLOOKUP(B5663,Régions!A:C,3,FALSE)","v":"Nouvelle-Aquitaine"},33,{"$error":"#N/A"},330050063,{"$error":"#N/A"},{"$error":"#N/A"},"PHARMACIE BARES - AUFFRET",18,"Place","DU GENERAL DE GAULLE","33220 PINEUILH",33220,"Pineuilh","Pharmacie d'officine","A"]
[{"$f":"VLOOKUP(B5666,Régions!A:C,3,FALSE)","v":"Nouvelle-Aquitaine"},33,"PHARMDIRECTFR",330050147,330050147,"oui","PHARMACIE D'ALIENOR",12,"Place","SAINT SEURIN","33680 LE-PORGE",33680,"Le Porge","Pharmacie d'officine","A"]
[{"$f":"VLOOKUP(B5678,Régions!A:C,3,FALSE)","v":"Nouvelle-Aquitaine"},33,"PHARMDIRECTFR",330050527,330050527,"oui","PHARMACIE  TROUILLOT -MAURIN - FAURY VAZQUEZ",3,"Place","GEORGES  CHAIGNE","33190 RÉOLE (LA)",33190,"La Réole","Pharmacie d'officine","A"]
[{"$f":"VLOOKUP(B5685,Régions!A:C,3,FALSE)","v":"Nouvelle-Aquitaine"},33,{"$error":"#N/A"},330050725,{"$error":"#N/A"},{"$error":"#N/A"},"SELARL BERTHON CORTIJO",15,"Route","DE GERMIGNAN","33160 SAINT-AUBIN-DE-MÉDOC",33160,"Saint-Aubin-de-Médoc","Pharmacie d'officine","A"]
[{"$f":"VLOOKUP(B5692,Régions!A:C,3,FALSE)","v":"Nouvelle-Aquitaine"},33,"PHARMDIRECTFR",330050964,330050964,"oui","PHARMACIE REBOUL",11,"Rue","DU PROFESSEUR MOURE","33560 SAINTE-EULALIE",33560,"Sainte-Eulalie","Pharmacie d'officine","A"]
[{"$f":"VLOOKUP(B5705,Régions!A:C,3,FALSE)","v":"Nouvelle-Aquitaine"},33,{"$error":"#N/A"},330051392,{"$error":"#N/A"},{"$error":"#N/A"},"PHARMACIE REYNAUD-SAUNIER",5,"Allee","ALLEES DE TOURNY","33490 ST MACAIRE",33490,"Saint-Macaire","Pharmacie d'officine","A"]
[{"$f":"VLOOKUP(B5717,Régions!A:C,3,FALSE)","v":"Nouvelle-Aquitaine"},33,{"$error":"#N/A"},330051715,{"$error":"#N/A"},{"$error":"#N/A"},"PHARMACIE DUVILLE - LAMBERT",1,"Route","DE CASTRES","33650 SAINT-MORILLON",33650,"Saint-Morillon","Pharmacie d'officine","A"]
[{"$f":"VLOOKUP(B5720,Régions!A:C,3,FALSE)","v":"Nouvelle-Aquitaine"},33,"CNOP",330051830,330051830,"oui","PHARMACIE  DUMAS",41,"Rue","DE LA REPUBLIQUE","33660 SAINT-SEURIN-SUR-L'ISLE",33660,"Saint-Seurin-sur-l'Isle","Pharmacie d'officine","A"]
[{"$f":"VLOOKUP(B5736,Régions!A:C,3,FALSE)","v":"Nouvelle-Aquitaine"},33,"PHARMDIRECTFR",330052325,330052325,"oui","PHARMACIE LOVATO - LAPARADE",2,"Rue","CHAMBRELANT","33400 TALENCE",33400,"Talence","Pharmacie d'officine","A"]
[{"$f":"VLOOKUP(B5739,Régions!A:C,3,FALSE)","v":"Nouvelle-Aquitaine"},33,"PHARMDIRECTFR",330052424,330052424,"oui","PHARMACIE GILLES-DELPIERRE",1,"Cours","GAMBETTA","33400 TALENCE",33400,"Talence","Pharmacie d'officine","A"]
[{"$f":"VLOOKUP(B5751,Régions!A:C,3,FALSE)","v":"Nouvelle-Aquitaine"},33,"CNOP",330052747,330052747,"oui","PHARMACIE MESANGE - MANO","NULL","NULL","NULL","33260 LA TESTE DE BUCH",33260,"La Teste-de-Buch","Pharmacie d'officine","A"]
[{"$f":"VLOOKUP(B5758,Régions!A:C,3,FALSE)","v":"Nouvelle-Aquitaine"},33,"CNOP",330052911,330052911,"oui","PHARMACIE BABOULENE",59,"Boulevard","DE L'OCEAN","33260 TESTE-DE-BUCH (LA)",33260,"La Teste-de-Buch","Pharmacie d'officine","A"]
[{"$f":"VLOOKUP(B5773,Régions!A:C,3,FALSE)","v":"Nouvelle-Aquitaine"},33,"PHARMDIRECTFR",330053281,330053281,"oui","PHARMACIE BARTHOU - DARROUZES","NULL","NULL","NULL","33140 VILLENAVE D ORNON",33140,"Villenave-d'Ornon","Pharmacie d'officine","A"]
[{"$f":"VLOOKUP(B5778,Régions!A:C,3,FALSE)","v":"Nouvelle-Aquitaine"},33,{"$error":"#N/A"},330055575,{"$error":"#N/A"},{"$error":"#N/A"},"PHARMACIE BIREAU - BENTEJAC - LABAT",78,"Avenue","DE MAGUDAS","33700 MERIGNAC",33700,"Mérignac","Pharmacie d'officine","A"]
[{"$f":"VLOOKUP(B5790,Régions!A:C,3,FALSE)","v":"Occitanie"},34,"PHARMDIRECTFR",340007780,340007780,"oui","PHARMACIE CUBIZOLLE - GRAS",22,"Avenue","PAUL VIDAL","34410 SAUVIAN",34410,"Sauvian","Pharmacie d'officine","A"]
[{"$f":"VLOOKUP(B5793,Régions!A:C,3,FALSE)","v":"Occitanie"},34,"PHARMDIRECTFR",340007863,340007863,"oui","PHARMACIE BEN M'BAREK",9,"Rue","JEAN VACHET","34000 MONTPELLIER",34000,"Montpellier","Pharmacie d'officine","A"]
[{"$f":"VLOOKUP(B5809,Régions!A:C,3,FALSE)","v":"Occitanie"},34,{"$error":"#N/A"},340008895,{"$error":"#N/A"},{"$error":"#N/A"},"PHARMACIE GAL","NULL","NULL","NULL","34570 VAILHAUQUES",34570,"Vailhauquès","Pharmacie d'officine","A"]
[{"$f":"VLOOKUP(B5812,Régions!A:C,3,FALSE)","v":"Occitanie"},34,{"$error":"#N/A"},340008960,{"$error":"#N/A"},{"$error":"#N/A"},"PHARMACIE PAGES - HERVE",2,"Place","DE LISBONNE","34000 MONTPELLIER",34000,"Montpellier","Pharmacie d'officine","A"]
[{"$f":"VLOOKUP(B5828,Régions!A:C,3,FALSE)","v":"Occitanie"},34,{"$error":"#N/A"},340009406,{"$error":"#N/A"},{"$error":"#N/A"},"PHARMACIE ELORCH - SAUBENS FERRAND",500,"Route","de Nîmes","34170 CASTELNAU-LE-LEZ",34170,"Castelnau-le-Lez","Pharmacie d'officine","A"]
[{"$f":"VLOOKUP(B5831,Régions!A:C,3,FALSE)","v":"Occitanie"},34,{"$error":"#N/A"},340010065,{"$error":"#N/A"},{"$error":"#N/A"},"PHARMACIE DE GINESTET - CASTEL","NULL","Avenue","DE BEZIERS","34440 COLOMBIERS",34440,"Colombiers","Pharmacie d'officine","A"]
[{"$f":"VLOOKUP(B5843,Régions!A:C,3,FALSE)","v":"Occitanie"},34,"CNOP",340016567,340016567,"oui","PHARMACIE MICHEL-DELRIEU",37,"Route","DE MONTPELLIER","34110 FRONTIGNAN",34110,"Frontignan","Pharmacie d'officine","A"]
[{"$f":"VLOOKUP(B5854,Régions!A:C,3,FALSE)","v":"Occitanie"},34,{"$error":"#N/A"},340792423,{"$error":"#N/A"},{"$error":"#N/A"},"PHARMACIE BOISSIER","NULL","Avenue","DE LA JOLIETTE","34300 AGDE",34300,"Agde","Pharmacie d'officine","A"]
[{"$f":"VLOOKUP(B5863,Régions!A:C,3,FALSE)","v":"Occitanie"},34,"CNOP",340792522,340792522,"oui","PHARMACIE RICCIARDI-PALOMINO",38,"Rue","MAURICE CLAVEL","34540 BALARUC-LES-BAINS",34540,"Balaruc-les-Bains","Pharmacie d'officine","A"]
[{"$f":"VLOOKUP(B5866,Régions!A:C,3,FALSE)","v":"Occitanie"},34,{"$error":"#N/A"},340792571,{"$error":"#N/A"},{"$error":"#N/A"},"PHARMACIE PEYRAC",38,"Rue","DE LA REPUBLIQUE","34600 BEDARIEUX",34600,"Bédarieux","Pharmacie d'officine","A"]
[{"$f":"VLOOKUP(B5882,Régions!A:C,3,FALSE)","v":"Occitanie"},34,{"$error":"#N/A"},340792738,{"$error":"#N/A"},{"$error":"#N/A"},"PHARMACIE FAURE SELARL DE LA POSTE",120,"Avenue","GEORGES CLEMENCEAU","34500 BEZIERS",34500,"Béziers","Pharmacie d'officine","A"]
[{"$f":"VLOOKUP(B5885,Régions!A:C,3,FALSE)","v":"Occitanie"},34,{"$error":"#N/A"},340792761,{"$error":"#N/A"},{"$error":"#N/A"},"PHARMACIE CHAMPROUX",4,"Rue","DES ANCIENS COMBATTANTS","34500 BEZIERS",34500,"Béziers","Pharmacie d'officine","A"]
[{"$f":"VLOOKUP(B5901,Régions!A:C,3,FALSE)","v":"Occitanie"},34,{"$error":"#N/A"},340792969,{"$error":"#N/A"},{"$error":"#N/A"},"PHARMACIE SOUCHON",14,"Avenue","GEORGES CLEMENCEAU","34500 BEZIERS",34500,"Béziers","Pharmacie d'officine","A"]
[{"$f":"VLOOKUP(B5904,Régions!A:C,3,FALSE)","v":"Occitanie"},34,"CNOP",340793009,340793009,"non","PHARMACIE  CLARON",2,"Rue","JACQUES BREL","34760 BOUJAN-SUR-LIBRON",34760,"Boujan-sur-Libron","Pharmacie d'officine","A"]
[{"$f":"VLOOKUP(B5916,Régions!A:C,3,FALSE)","v":"Occitanie"},34,{"$error":"#N/A"},340793140,{"$error":"#N/A"},{"$error":"#N/A"},"PHARMACIE LOURO","NULL","Avenue","DE LA PROMENADE","34420 CERS",34420,"Cers","Pharmacie d'officine","A"]
[{"$f":"VLOOKUP(B5923,Régions!A:C,3,FALSE)","v":"Occitanie"},34,{"$error":"#N/A"},340793215,{"$error":"#N/A"},{"$error":"#N/A"},"PHARMACIE SOUYRIS - AYOT","NULL","Chemin","DE LA MADELEINE","34800 CLERMONT-L'HÉRAULT",34800,"Clermont-l'Hérault","Pharmacie d'officine","A"]
[{"$f":"VLOOKUP(B5929,Régions!A:C,3,FALSE)","v":"Occitanie"},34,"CNOP",340793280,340793280,"oui","PHARMACIE MOREL",183,"Rue","Gine","34690 FABREGUES",34690,"Fabrègues","Pharmacie d'officine","A"]
[{"$f":"VLOOKUP(B5943,Régions!A:C,3,FALSE)","v":"Occitanie"},34,"CNOP",340793421,340793421,"oui","PHARMACIE KARSENTY - REMY",1,"Place","DE LA MAIRIE ANNEXE","34770 GIGEAN",34770,"Gigean","Pharmacie d'officine","A"]
[{"$f":"VLOOKUP(B5955,Régions!A:C,3,FALSE)","v":"Occitanie"},34,"CNOP",340793546,340793546,"oui","PHARMACIE ROUANET",26,"Avenue","CHARCOT","34240 LAMALOU-LES-BAINS",34240,"Lamalou-les-Bains","Pharmacie d'officine","A"]
[{"$f":"VLOOKUP(B5958,Régions!A:C,3,FALSE)","v":"Occitanie"},34,"CNOP",340793579,340793579,"oui","PHARMACIE GABOURDES","NULL","Avenue","DES PLATANES","34970 LATTES",34970,"Lattes","Pharmacie d'officine","A"]
[{"$f":"VLOOKUP(B5974,Régions!A:C,3,FALSE)","v":"Occitanie"},34,{"$error":"#N/A"},340793736,{"$error":"#N/A"},{"$error":"#N/A"},"PHARMACIE DIDILLON",105,"Avenue","MARECHAL LECLERC","34400 LUNEL",34400,"Lunel","Pharmacie d'officine","A"]
[{"$f":"VLOOKUP(B5977,Régions!A:C,3,FALSE)","v":"Occitanie"},34,"CNOP",340793777,340793777,"oui","PHARMACIE CAPEL",248,"Boulevard","LAFAYETTE","34400 LUNEL",34400,"Lunel","Pharmacie d'officine","A"]
[{"$f":"VLOOKUP(B5989,Régions!A:C,3,FALSE)","v":"Occitanie"},34,"PHARMDIRECTFR",340793900,340793900,"oui","PHARMACIE DES MAGNOLIAS",17,"Avenue","DU GENERAL DE GAULLE","34140 MÈZE",34140,"Mèze","Pharmacie d'officine","A"]
[{"$f":"VLOOKUP(B5996,Régions!A:C,3,FALSE)","v":"Occitanie"},34,"PHARMDIRECTFR",340793983,340793983,"oui","PHARMACIE BILICKI - STEFFEN","NULL","Rue","GERMAINE TILLON","34570 MONTARNAUD",34570,"Montarnaud","Pharmacie d'officine","A"]
[{"$f":"VLOOKUP(B6010,Régions!A:C,3,FALSE)","v":"Occitanie"},34,{"$error":"#N/A"},340794122,{"$error":"#N/A"},{"$error":"#N/A"},"PHARMACIE BLANC",2600,"Avenue","DE L'EUROPE","34080 MONTPELLIER",34080,"Montpellier","Pharmacie d'officine","A"]
[{"$f":"VLOOKUP(B6016,Régions!A:C,3,FALSE)","v":"Occitanie"},34,"PHARMDIRECTFR",340794189,340794189,"oui","PHARMACIE PROVOST - GALONNIER",392,"Boulevard","PEDRO DE LUNA","34070 MONTPELLIER",34070,"Montpellier","Pharmacie d'officine","A"]
[{"$f":"VLOOKUP(B6028,Régions!A:C,3,FALSE)","v":"Occitanie"},34,{"$error":"#N/A"},340794304,{"$error":"#N/A"},{"$error":"#N/A"},"PHARMACIE CHAYRIGUES-BOURGI",7,"Place","CARNOT","34000 MONTPELLIER",34000,"Montpellier","Pharmacie d'officine","A"]
[{"$f":"VLOOKUP(B6031,Régions!A:C,3,FALSE)","v":"Occitanie"},34,{"$error":"#N/A"},340794338,{"$error":"#N/A"},{"$error":"#N/A"},"PHARMACIE GALET",49,"Route","DE LAVERUNE","34070 MONTPELLIER",34070,"Montpellier","Pharmacie d'officine","A"]
[{"$f":"VLOOKUP(B6047,Régions!A:C,3,FALSE)","v":"Occitanie"},34,{"$error":"#N/A"},340794528,{"$error":"#N/A"},{"$error":"#N/A"},"PHARMACIE POUZOLLES",2,"Rue","DU MAS DE MERLE","34070 MONTPELLIER",34070,"Montpellier","Pharmacie d'officine","A"]
[{"$f":"VLOOKUP(B6050,Régions!A:C,3,FALSE)","v":"Occitanie"},34,{"$error":"#N/A"},340794569,{"$error":"#N/A"},{"$error":"#N/A"},"PHARMACIE GIL-SINCHOLLE","NULL","Place","PABLO PICASSO","34000 MONTPELLIER",34000,"Montpellier","Pharmacie d'officine","A"]
[{"$f":"VLOOKUP(B6062,Régions!A:C,3,FALSE)","v":"Occitanie"},34,"PHARMDIRECTFR",340794718,340794718,"oui","PHARMACIE  FRANCES",20,"Avenue","Saint Clément","34070 MONTPELLIER",34070,"Montpellier","Pharmacie d'officine","A"]
[{"$f":"VLOOKUP(B6069,Régions!A:C,3,FALSE)","v":"Occitanie"},34,"PHARMDIRECTFR",340794783,340794783,"oui","PHARMACIE  PASTOR",335,"Avenue","PAUL RIMBAUD","34080 MONTPELLIER",34080,"Montpellier","Pharmacie d'officine","A"]
[{"$f":"VLOOKUP(B6081,Régions!A:C,3,FALSE)","v":"Occitanie"},34,"CNOP",340794916,340794916,"oui","PHARMACIE DARBOUSSET",1019,"Avenue","LOUIS RAVAS","34000 MONTPELLIER",34000,"Montpellier","Pharmacie d'officine","A"]
[{"$f":"VLOOKUP(B6091,Régions!A:C,3,FALSE)","v":"Occitanie"},34,{"$error":"#N/A"},340795020,{"$error":"#N/A"},{"$error":"#N/A"},"PHARMACIE BONUTTI - LAUNAY",28,"Quai","PAUL CUNQ","34250 PALAVAS-LES-FLOTS",34250,"Palavas-les-Flots","Pharmacie d'officine","A"]
[{"$f":"VLOOKUP(B6101,Régions!A:C,3,FALSE)","v":"Occitanie"},34,"CNOP",340795137,340795137,"oui","PHARMACIE NOEL","NULL","Avenue","du Général Grollier","34570 PIGNAN",34570,"Pignan","Pharmacie d'officine","A"]
[{"$f":"VLOOKUP(B6104,Régions!A:C,3,FALSE)","v":"Occitanie"},34,"CNOP",340795160,340795160,"oui","PHARMACIE RAYMOND-PIOCH",9,"Rue","SAINTE CATHERINE","34230 LE-POUGET",34230,"Le Pouget","Pharmacie d'officine","A"]
[{"$f":"VLOOKUP(B6120,Régions!A:C,3,FALSE)","v":"Occitanie"},34,"PHARMDIRECTFR",340795350,340795350,"oui","PHARMACIE ROLLAND-TRABUCCO",49,"Rue","DU CHATEAU","34160 SAINT-GENIES-DES-MOURGUES",34160,"Saint-Geniès-des-Mourgues","Pharmacie d'officine","A"]
[{"$f":"VLOOKUP(B6123,Régions!A:C,3,FALSE)","v":"Occitanie"},34,"CNOP",340795384,340795384,"oui","PHARMACIE COUGOUREUX-VABRE",56,"Impasse","DE COMBALS","34150 SAINT-JEAN-DE-FOS",34150,"Saint-Jean-de-Fos","Pharmacie d'officine","A"]
[{"$f":"VLOOKUP(B6130,Régions!A:C,3,FALSE)","v":"Occitanie"},34,{"$error":"#N/A"},340795459,{"$error":"#N/A"},{"$error":"#N/A"},"PHARMACIE SOULIGNAC - CERDAN - BELLES",32,"NULL","Grand'Rue","34220 SAINT-PONS-DE-THOMIERES",34220,"Saint-Pons-de-Thomières","Pharmacie d'officine","A"]
[{"$f":"VLOOKUP(B6142,Régions!A:C,3,FALSE)","v":"Occitanie"},34,{"$error":"#N/A"},340795590,{"$error":"#N/A"},{"$error":"#N/A"},"PHARMACIE DILME",74,"NULL","GRAND RUE MARIO ROUSTAN","34200 SETE",34200,"Sète","Pharmacie d'officine","A"]
[{"$f":"VLOOKUP(B6154,Régions!A:C,3,FALSE)","v":"Occitanie"},34,{"$error":"#N/A"},340795715,{"$error":"#N/A"},{"$error":"#N/A"},"PHARMACIE D'ACUNTO",30,"Quai","MAL DE LATTRE DE TASSIGNY","34200 SETE",34200,"Sète","Pharmacie d'officine","A"]
[{"$f":"VLOOKUP(B6162,Régions!A:C,3,FALSE)","v":"Occitanie"},34,"PHARMDIRECTFR",340795798,340795798,"oui","PHARMACIE SAUCEROTTE","NULL","Chemin","de Conas","34120 TOURBES",34120,"Tourbes","Pharmacie d'officine","A"]
[{"$f":"VLOOKUP(B6174,Régions!A:C,3,FALSE)","v":"Bretagne"},35,"CNOP",350018891,350018891,"oui","PHARMACIE DE BREQUIGNY",1,"Place","ALBERT BAYET & RUE FELIX EBOUE","35200 RENNES",35200,"Rennes","Pharmacie d'officine","A"]
[{"$f":"VLOOKUP(B6177,Régions!A:C,3,FALSE)","v":"Bretagne"},35,{"$error":"#N/A"},350018933,{"$error":"#N/A"},{"$error":"#N/A"},"PHARMACIE LENEN - BAUCHAT",50,"Rue","DU GENERAL LECLERC","35580 GUICHEN",35580,"Guichen","Pharmacie d'officine","A"]
[{"$f":"VLOOKUP(B6193,Régions!A:C,3,FALSE)","v":"Bretagne"},35,"CNOP",350019121,350019121,"oui","PHARMACIE DE BAZOUGES",23,"Rue","DE L'EGLISE","35560 BAZOUGES-LA-PEROUSE",35560,"Bazouges-la-Pérouse","Pharmacie d'officine","A"]
[{"$f":"VLOOKUP(B6196,Régions!A:C,3,FALSE)","v":"Bretagne"},35,"PHARMDIRECTFR",350019154,350019154,"oui","PHARMACIE DU BOURG JOLY",26,"Rue","des Frères Amyot d'Inville","35680 LOUVIGNE-DE-BAIS",35680,"Louvigné-de-Bais","Pharmacie d'officine","A"]
[{"$f":"VLOOKUP(B6203,Régions!A:C,3,FALSE)","v":"Bretagne"},35,"PHARMDIRECTFR",350019246,350019246,"oui","DENOYELLE - MARIE","NULL","Place","Monsifrot","35520 LA MEZIERE",35520,"La Mézière","Pharmacie d'officine","A"]
[{"$f":"VLOOKUP(B6215,Régions!A:C,3,FALSE)","v":"Bretagne"},35,{"$error":"#N/A"},350019386,{"$error":"#N/A"},{"$error":"#N/A"},"PHARMACIE ROLLIN",2,"Rue","DU GENERAL LECLERC","35260 CANCALE",35260,"Cancale","Pharmacie d'officine","A"]
[{"$f":"VLOOKUP(B6227,Régions!A:C,3,FALSE)","v":"Bretagne"},35,"CNOP",350019501,350019501,"oui","PHARMACIE DUFEU",14,"Avenue","ETIENNE ET MARIE PINAULT","35740 PACÉ",35740,"Pacé","Pharmacie d'officine","A"]
[{"$f":"VLOOKUP(B6234,Régions!A:C,3,FALSE)","v":"Bretagne"},35,"CNOP",350019626,350019626,"oui","PHARMACIE  DE  NEMOURS",7,"Rue","DE NEMOURS","35000 RENNES",35000,"Rennes","Pharmacie d'officine","A"]
[{"$f":"VLOOKUP(B6247,Régions!A:C,3,FALSE)","v":"Bretagne"},35,{"$error":"#N/A"},350019790,{"$error":"#N/A"},{"$error":"#N/A"},"PHARMACIE SERTIN","NULL","Rue","DU BEAU SOLEIL","35230 BOURGBARRE",35230,"Bourgbarré","Pharmacie d'officine","A"]
[{"$f":"VLOOKUP(B6250,Régions!A:C,3,FALSE)","v":"Bretagne"},35,"CNOP",350019824,350019824,"oui","PHARMACIE EVAIN-DELISLE","NULL","NULL","NULL","35400 ST MALO",35400,"Saint-Malo","Pharmacie d'officine","A"]
[{"$f":"VLOOKUP(B6266,Régions!A:C,3,FALSE)","v":"Bretagne"},35,"PHARMDIRECTFR",350020020,350020020,"oui","PHARMACIE MALARY",32,"Avenue","MARECHAL LECLERC","35310 MORDELLES",35310,"Mordelles","Pharmacie d'officine","A"]
[{"$f":"VLOOKUP(B6269,Régions!A:C,3,FALSE)","v":"Bretagne"},35,"PHARMDIRECTFR",350020087,350020087,"oui","PHARMACIE FOUCRET - MENET",2,"Place","de l'Europe","35390 GRAND-FOUGERAY",35390,"Grand-Fougeray","Pharmacie d'officine","A"]
[{"$f":"VLOOKUP(B6276,Régions!A:C,3,FALSE)","v":"Bretagne"},35,"PHARMDIRECTFR",350020194,350020194,"oui","PHARMACIE GUIDOUX",9,"Rue","CHARLES BRIZOU","35530 SERVON-SUR-VILAINE",35530,"Servon-sur-Vilaine","Pharmacie d'officine","A"]
[{"$f":"VLOOKUP(B6288,Régions!A:C,3,FALSE)","v":"Bretagne"},35,{"$error":"#N/A"},350020335,{"$error":"#N/A"},{"$error":"#N/A"},"PHARMACIE SALIOU","NULL","NULL","NULL","35235 THORIGNÉ-FOUILLARD",35235,"Thorigné-Fouillard","Pharmacie d'officine","A"]
[{"$f":"VLOOKUP(B6300,Régions!A:C,3,FALSE)","v":"Bretagne"},35,"CNOP",350020459,350020459,"oui","PHARMACIE BOURIEL - SALMON","NULL","Centre","NULL","35510 CESSON-SÉVIGNÉ",35510,"Cesson-Sévigné","Pharmacie d'officine","A"]
[{"$f":"VLOOKUP(B6307,Régions!A:C,3,FALSE)","v":"Bretagne"},35,"PHARMDIRECTFR",350020525,350020525,"oui"," PHARMACIE SAINT-CYR",25,"Rue","DE BREST - RUE VANNEAU","35000 RENNES",35000,"Rennes","Pharmacie d'officine","A"]
[{"$f":"VLOOKUP(B6319,Régions!A:C,3,FALSE)","v":"Bretagne"},35,"PHARMDIRECTFR",350020681,350020681,"oui","PHARMACIE GAULIER-BERMOND",195,"Rue","DE NANTES","35000 RENNES",35000,"Rennes","Pharmacie d'officine","A"]
[{"$f":"VLOOKUP(B6328,Régions!A:C,3,FALSE)","v":"Bretagne"},35,"PHARMDIRECTFR",350020772,350020772,"oui","PHARMACIE MAGUERO-COUSTAUT",47,"Rue","DE LA POTERIE","35131 CHARTRES-DE-BRETAGNE",35131,"Chartres-de-Bretagne","Pharmacie d'officine","A"]
[{"$f":"VLOOKUP(B6339,Régions!A:C,3,FALSE)","v":"Bretagne"},35,{"$error":"#N/A"},350020889,{"$error":"#N/A"},{"$error":"#N/A"},"PHARMACIE LEBRET-BADIGNON","NULL","Rue","DE LA BELLE EPINE","35510 CESSON-SEVIGNE",35510,"Cesson-Sévigné","Pharmacie d'officine","A"]
[{"$f":"VLOOKUP(B6342,Régions!A:C,3,FALSE)","v":"Bretagne"},35,"PHARMDIRECTFR",350020921,350020921,"oui","PHARMACIE ROUSSEL",1,"Rue","ST DENIS","35560 VAL-COUESNON",35560,"Val-Couesnon","Pharmacie d'officine","A"]
[{"$f":"VLOOKUP(B6349,Régions!A:C,3,FALSE)","v":"Bretagne"},35,"CNOP",350020996,350020996,"oui","PHARMACIE VIEL-BERTHOULOUX",41,"NULL","GRANDE RUE","35660 LANGON",35660,"Langon","Pharmacie d'officine","A"]
[{"$f":"VLOOKUP(B6361,Régions!A:C,3,FALSE)","v":"Bretagne"},35,"PHARMDIRECTFR",350021135,350021135,"oui","PHARMACIE SAINT-ALEXANDRE","NULL","Rue","ERNEST RENAN","35800 DINARD",35800,"Dinard","Pharmacie d'officine","A"]
[{"$f":"VLOOKUP(B6373,Régions!A:C,3,FALSE)","v":"Bretagne"},35,{"$error":"#N/A"},350021275,{"$error":"#N/A"},{"$error":"#N/A"},"PHARMACIE  BRETEAU",3,"Rue","DE FOUGERES","35460 ST BRICE EN COGLES",35460,"Maen Roch","Pharmacie d'officine","A"]
[{"$f":"VLOOKUP(B6380,Régions!A:C,3,FALSE)","v":"Bretagne"},35,{"$error":"#N/A"},350021366,{"$error":"#N/A"},{"$error":"#N/A"},"PHARMACIE BUREAU-GULDEMANN","NULL","Place","A. DUBOIS - 51 RUE JEAN JANVIE","35420 SAINT-GEORGES-DE-REINTEMBAULT",35420,"Saint-Georges-de-Reintembault","Pharmacie d'officine","A"]
[{"$f":"VLOOKUP(B6392,Régions!A:C,3,FALSE)","v":"Bretagne"},35,"PHARMDIRECTFR",350021499,350021499,"oui","PHARMACIE  DU  GAST",34,"Place","LUCIE ET RAYMOND AUBRAC","35700 RENNES",35700,"Rennes","Pharmacie d'officine","A"]
[{"$f":"VLOOKUP(B6399,Régions!A:C,3,FALSE)","v":"Bretagne"},35,{"$error":"#N/A"},350021580,{"$error":"#N/A"},{"$error":"#N/A"},"PHARMACIE LAUDRIN - ROBINE","NULL","Route","DE ST-MALO","35760 SAINT-GREGOIRE",35760,"Saint-Grégoire","Pharmacie d'officine","A"]
[{"$f":"VLOOKUP(B6412,Régions!A:C,3,FALSE)","v":"Bretagne"},35,{"$error":"#N/A"},350021739,{"$error":"#N/A"},{"$error":"#N/A"},"GRANDE PHARMACIE DE RENNES",10,"Place","du Colombier","35000 RENNES",35000,"Rennes","Pharmacie d'officine","A"]
[{"$f":"VLOOKUP(B6415,Régions!A:C,3,FALSE)","v":"Bretagne"},35,"CNOP",350021762,350021762,"oui","PHARMACIE SOMBAT-SAPHAY",28,"Rue","NATIONALE","35133 ROMAGNE",35133,"Romagné","Pharmacie d'officine","A"]
[{"$f":"VLOOKUP(B6422,Régions!A:C,3,FALSE)","v":"Bretagne"},35,{"$error":"#N/A"},350021838,{"$error":"#N/A"},{"$error":"#N/A"},"PHARMACIE DE LA GARE",37,"Avenue","JEAN JAURES","35400 SAINT-MALO",35400,"Saint-Malo","Pharmacie d'officine","A"]
[{"$f":"VLOOKUP(B6434,Régions!A:C,3,FALSE)","v":"Bretagne"},35,"PHARMDIRECTFR",350021994,350021994,"oui","PHARMACIE DELMASURE - TEMPLE","NULL","Place","ST MELAINE","35740 PACÉ",35740,"Pacé","Pharmacie d'officine","A"]
[{"$f":"VLOOKUP(B6441,Régions!A:C,3,FALSE)","v":"Bretagne"},35,{"$error":"#N/A"},350022083,{"$error":"#N/A"},{"$error":"#N/A"},"PHARMACIE DU CENTRE ALMA",7,"Rue","DE BOSPHORE","35200 RENNES",35200,"Rennes","Pharmacie d'officine","A"]
[{"$f":"VLOOKUP(B6453,Régions!A:C,3,FALSE)","v":"Bretagne"},35,{"$error":"#N/A"},350032215,{"$error":"#N/A"},{"$error":"#N/A"},"PHARMACIE DE LA POTERIE",2,"Place","DU RONCERAY","35200 RENNES",35200,"Rennes","Pharmacie d'officine","A"]
[{"$f":"VLOOKUP(B6465,Régions!A:C,3,FALSE)","v":"Bretagne"},35,"PHARMDIRECTFR",350046165,350046165,"oui","PHARMACIE RENOUX",2,"Rue","DE CHANTELOUP","35320 CREVIN",35320,"Crevin","Pharmacie d'officine","A"]
[{"$f":"VLOOKUP(B6472,Régions!A:C,3,FALSE)","v":"Centre-Val de Loire"},36,{"$error":"#N/A"},360001200,{"$error":"#N/A"},{"$error":"#N/A"},"PHARMACIE BENOIT","NULL","Place","DE LA REPUBLIQUE","36200 ARGENTON-SUR-CREUSE",36200,"Argenton-sur-Creuse","Pharmacie d'officine","A"]
[{"$f":"VLOOKUP(B6484,Régions!A:C,3,FALSE)","v":"Centre-Val de Loire"},36,"PHARMDIRECTFR",360001556,360001556,"oui","PHARMACIE GIRAULT","NULL","NULL","NULL","36000 CHÂTEAUROUX",36000,"Châteauroux","Pharmacie d'officine","A"]
[{"$f":"VLOOKUP(B6488,Régions!A:C,3,FALSE)","v":"Centre-Val de Loire"},36,"CNOP",360001655,360001655,"oui","PHARMACIE BOUGEON-COCHET",67,"Avenue","DE LA CHATRE","36000 CHÂTEAUROUX",36000,"Châteauroux","Pharmacie d'officine","A"]
[{"$f":"VLOOKUP(B6495,Régions!A:C,3,FALSE)","v":"Centre-Val de Loire"},36,"PHARMDIRECTFR",360001887,360001887,"oui","PHARMACIE DENIS",27,"Rue","DE LA REPUBLIQUE & 41 AV C. DE GAULLE","36000 CHÂTEAUROUX",36000,"Châteauroux","Pharmacie d'officine","A"]
[{"$f":"VLOOKUP(B6507,Régions!A:C,3,FALSE)","v":"Centre-Val de Loire"},36,"CNOP",360002364,360002364,"oui","PHARMACIE DE L'ABBAYE",4,"Route","D'ISSOUDUN","36130 DÉOLS",36130,"Déols","Pharmacie d'officine","A"]
[{"$f":"VLOOKUP(B6514,Régions!A:C,3,FALSE)","v":"Centre-Val de Loire"},36,"CNOP",360002547,360002547,"oui","PHARMACIE CENTRALE BLET FRADIN",37,"Place","DU 10 JUIN","36100 ISSOUDUN",36100,"Issoudun","Pharmacie d'officine","A"]
[{"$f":"VLOOKUP(B6526,Régions!A:C,3,FALSE)","v":"Centre-Val de Loire"},36,"CNOP",360002877,360002877,"oui","PHARMACIE LOUIS-TRIGAUD",1,"Place","DE L'EGLISE","36250 NIHERNE",36250,"Niherne","Pharmacie d'officine","A"]
[{"$f":"VLOOKUP(B6538,Régions!A:C,3,FALSE)","v":"Centre-Val de Loire"},36,"CNOP",360003230,360003230,"oui","PHARMACIE GIROUARD-MAUBANT","NULL","Rue","ST JOSEPH & RUE DE TOURAINE","36500 SAINT-GENOU",36500,"Saint-Genou","Pharmacie d'officine","A"]
[{"$f":"VLOOKUP(B6545,Régions!A:C,3,FALSE)","v":"Centre-Val de Loire"},36,"CNOP",360003776,360003776,"oui","PHARMACIE ANACLET",27,"Route","DE MOSNAY","36330 VELLES",36330,"Velles","Pharmacie d'officine","A"]
[{"$f":"VLOOKUP(B6555,Régions!A:C,3,FALSE)","v":"Centre-Val de Loire"},37,{"$error":"#N/A"},370002750,{"$error":"#N/A"},{"$error":"#N/A"},"PHARMACIE CONAN",51,"Rue","NATIONALE","37400 AMBOISE",37400,"Amboise","Pharmacie d'officine","A"]
[{"$f":"VLOOKUP(B6561,Régions!A:C,3,FALSE)","v":"Centre-Val de Loire"},37,"PHARMDIRECTFR",370002917,370002917,"oui","PHARMACIE BROSSET",3,"Rue","DE CORMERY","37270 AZAY-SUR-CHER",37270,"Azay-sur-Cher","Pharmacie d'officine","A"]
[{"$f":"VLOOKUP(B6568,Régions!A:C,3,FALSE)","v":"Centre-Val de Loire"},37,"CNOP",370003105,370003105,"oui","PHARMACIE LA GRANDE PRAIRIE",25,"Avenue","du Général de Gaulle","37140 BOURGUEIL",37140,"Bourgueil","Pharmacie d'officine","A"]
[{"$f":"VLOOKUP(B6580,Régions!A:C,3,FALSE)","v":"Centre-Val de Loire"},37,"PHARMDIRECTFR",370003451,370003451,"oui","PHARMACIE SAVATIER",2,"Rue","DU CHATEAU D'EAU","37500 CHINON",37500,"Chinon","Pharmacie d'officine","A"]
[{"$f":"VLOOKUP(B6587,Régions!A:C,3,FALSE)","v":"Centre-Val de Loire"},37,"CNOP",370003667,370003667,"oui","PHARMACIE OUDOT MOULINOU",4,"Place","DE L'EGLISE","37340 CLERE-LES-PINS",37340,"Cléré-les-Pins","Pharmacie d'officine","A"]
[{"$f":"VLOOKUP(B6599,Régions!A:C,3,FALSE)","v":"Centre-Val de Loire"},37,{"$error":"#N/A"},370003956,{"$error":"#N/A"},{"$error":"#N/A"}," SELAS PHARMACIE BOUTIN",10,"Rue","DU COMMERCE","37160 DESCARTES",37160,"Descartes","Pharmacie d'officine","A"]
[{"$f":"VLOOKUP(B6611,Régions!A:C,3,FALSE)","v":"Centre-Val de Loire"},37,"CNOP",370005910,370005910,"oui","PHARMACIE BERTOLINO",47,"Rue","DE LA ROTIERE","37300 JOUÉ-LÈS-TOURS",37300,"Joué-lès-Tours","Pharmacie d'officine","A"]
[{"$f":"VLOOKUP(B6618,Régions!A:C,3,FALSE)","v":"Centre-Val de Loire"},37,{"$error":"#N/A"},370006124,{"$error":"#N/A"},{"$error":"#N/A"},"PHARMACIE VEYSSIERE",8,"Rue","DESCARTES","37600 LOCHES",37600,"Loches","Pharmacie d'officine","A"]
[{"$f":"VLOOKUP(B6630,Régions!A:C,3,FALSE)","v":"Centre-Val de Loire"},37,"CNOP",370006447,370006447,"oui","PHARMACIE FAVREAU",31,"Rue","DU MARCHE","37460 MONTRESOR",37460,"Montrésor","Pharmacie d'officine","A"]
[{"$f":"VLOOKUP(B6636,Régions!A:C,3,FALSE)","v":"Centre-Val de Loire"},37,"CNOP",370006595,370006595,"oui","PHARMACIE PINEAU",8,"NULL","GRANDE RUE","37370 NEUVY-LE-ROI",37370,"Neuvy-le-Roi","Pharmacie d'officine","A"]
[{"$f":"VLOOKUP(B6641,Régions!A:C,3,FALSE)","v":"Centre-Val de Loire"},37,"PHARMDIRECTFR",370006710,370006710,"oui","PHARMACIE GERAY",60,"Avenue","de Pierruche","37600 PERRUSSON",37600,"Perrusson","Pharmacie d'officine","A"]
[{"$f":"VLOOKUP(B6653,Régions!A:C,3,FALSE)","v":"Centre-Val de Loire"},37,"CNOP",370007031,370007031,"oui","PHARMACIE TURMEAU",4,"Route","DE LOUDUN","37500 LA-ROCHE-CLERMAULT",37500,"La Roche-Clermault","Pharmacie d'officine","A"]
[{"$f":"VLOOKUP(B6660,Régions!A:C,3,FALSE)","v":"Centre-Val de Loire"},37,{"$error":"#N/A"},370007213,{"$error":"#N/A"},{"$error":"#N/A"},"PHARMACIE POIRIER",9,"Place","DU 11 NOVEMBRE","37320 SAINT-BRANCHS",37320,"Saint-Branchs","Pharmacie d'officine","A"]
[{"$f":"VLOOKUP(B6672,Régions!A:C,3,FALSE)","v":"Centre-Val de Loire"},37,{"$error":"#N/A"},370007544,{"$error":"#N/A"},{"$error":"#N/A"},"PHARMACIE ROUDIERE",6,"Rue","FRANÇOIS RABELAIS","37370 SAINT-PATERNE-RACAN",37370,"Saint-Paterne-Racan","Pharmacie d'officine","A"]
[{"$f":"VLOOKUP(B6684,Régions!A:C,3,FALSE)","v":"Centre-Val de Loire"},37,{"$error":"#N/A"},370007890,{"$error":"#N/A"},{"$error":"#N/A"},"PHARMACIE HALABI",3,"Place","NEUVE - BD DE LATTRE DE TASSIGNY","37000 TOURS",37000,"Tours","Pharmacie d'officine","A"]
[{"$f":"VLOOKUP(B6691,Régions!A:C,3,FALSE)","v":"Centre-Val de Loire"},37,{"$error":"#N/A"},370008112,{"$error":"#N/A"},{"$error":"#N/A"},"PHARMACIE PLANTET",108,"Rue","DE LA FUYE","37000 TOURS",37000,"Tours","Pharmacie d'officine","A"]
[{"$f":"VLOOKUP(B6703,Régions!A:C,3,FALSE)","v":"Centre-Val de Loire"},37,"CNOP",370008476,370008476,"oui","PHARMACIE DILLEMANN",41,"Allee","Ferdinand de Lesseps","37200 TOURS",37200,"Tours","Pharmacie d'officine","A"]
[{"$f":"VLOOKUP(B6710,Régions!A:C,3,FALSE)","v":"Centre-Val de Loire"},37,{"$error":"#N/A"},370008625,{"$error":"#N/A"},{"$error":"#N/A"},"PHARMACIE FLOC'H - RANKOWSKI",53,"Rue","NATIONALE","37000 TOURS",37000,"Tours","Pharmacie d'officine","A"]
[{"$f":"VLOOKUP(B6721,Régions!A:C,3,FALSE)","v":"Centre-Val de Loire"},37,"CNOP",370008997,370008997,"oui","PHARMACIE CUILLERIER",51,"Avenue","MAGINOT","37100 TOURS",37100,"Tours","Pharmacie d'officine","A"]
[{"$f":"VLOOKUP(B6726,Régions!A:C,3,FALSE)","v":"Centre-Val de Loire"},37,"CNOP",370009144,370009144,"oui","PHARMACIE DES FONTAINES",3,"Place","GOYA","37200 TOURS",37200,"Tours","Pharmacie d'officine","A"]
[{"$f":"VLOOKUP(B6733,Régions!A:C,3,FALSE)","v":"Centre-Val de Loire"},37,"PHARMDIRECTFR",370009391,370009391,"oui","PHARMACIE GUYOMARC'H - COLPIN HAY",3,"Rue","AGNES SOREL","37700 LA-VILLE-AUX-DAMES",37700,"La Ville-aux-Dames","Pharmacie d'officine","A"]
[{"$f":"VLOOKUP(B6745,Régions!A:C,3,FALSE)","v":"Auvergne-Rhône-Alpes"},38,"PHARMDIRECTFR",380003087,380003087,"oui","PHARMACIE BARRIER - VALLET",2,"Rue","du Flumet","38580 ALLEVARD",38580,"Allevard","Pharmacie d'officine","A"]
[{"$f":"VLOOKUP(B6752,Régions!A:C,3,FALSE)","v":"Auvergne-Rhône-Alpes"},38,"CNOP",380003251,380003251,"oui","PHARMACIE ESTERMANN",18,"NULL","GRANDE RUE DE CIERS","38630 LES AVENIERES VEYRINS THUELLIN",38630,"Les Avenières Veyrins-Thuellin","Pharmacie d'officine","A"]
[{"$f":"VLOOKUP(B6764,Régions!A:C,3,FALSE)","v":"Auvergne-Rhône-Alpes"},38,"CNOP",380003566,380003566,"oui","PHARMACIE DE L'HOTEL DE VILLE",93,"Avenue","FREDERIC DARD","38300 BOURGOIN JALLIEU",38300,"Bourgoin-Jallieu","Pharmacie d'officine","A"]
[{"$f":"VLOOKUP(B6776,Régions!A:C,3,FALSE)","v":"Auvergne-Rhône-Alpes"},38,{"$error":"#N/A"},380003871,{"$error":"#N/A"},{"$error":"#N/A"},"PHARMACIE DE CHANAS","NULL","NULL","5 A place de France","38150 CHANAS",38150,"Chanas","Pharmacie d'officine","A"]
[{"$f":"VLOOKUP(B6783,Régions!A:C,3,FALSE)","v":"Auvergne-Rhône-Alpes"},38,{"$error":"#N/A"},380004085,{"$error":"#N/A"},{"$error":"#N/A"},"PHARMACIE PAGLIARI-BELLANGEON","NULL","Rue","DE LA REPUBLIQUE","38670 CHASSE-SUR-RHONE",38670,"Chasse-sur-Rhône","Pharmacie d'officine","A"]
[{"$f":"VLOOKUP(B6792,Régions!A:C,3,FALSE)","v":"Auvergne-Rhône-Alpes"},38,"CNOP",380004317,380004317,"oui","PHARMACIE DE CORENC",50,"Avenue","DU GRESIVAUDAN","38700 CORENC",38700,"Corenc","Pharmacie d'officine","A"]
[{"$f":"VLOOKUP(B6799,Régions!A:C,3,FALSE)","v":"Auvergne-Rhône-Alpes"},38,"PHARMDIRECTFR",380004473,380004473,"oui","PHARMACIE JOUVE","NULL","Place","DE L'EGLISE","38460 CREMIEU",38460,"Crémieu","Pharmacie d'officine","A"]
[{"$f":"VLOOKUP(B6806,Régions!A:C,3,FALSE)","v":"Auvergne-Rhône-Alpes"},38,"CNOP",380004655,380004655,"oui","PHARMACIE DES CHARMETTES",2,"Rue","MARIUS CHARLES","38420 DOMENE",38420,"Domène","Pharmacie d'officine","A"]
[{"$f":"VLOOKUP(B6818,Régions!A:C,3,FALSE)","v":"Auvergne-Rhône-Alpes"},38,{"$error":"#N/A"},380004952,{"$error":"#N/A"},{"$error":"#N/A"},"LA GRANDE PHARMACIE D'ECHIROLLES","NULL","NULL","NULL","38130 ECHIROLLES",38130,"Échirolles","Pharmacie d'officine","A"]
[{"$f":"VLOOKUP(B6825,Régions!A:C,3,FALSE)","v":"Auvergne-Rhône-Alpes"},38,"PHARMDIRECTFR",380005157,380005157,"oui","JOLIET SOPHIE",13,"Place","DU 11 NOVEMBRE 1918","38320 EYBENS",38320,"Eybens","Pharmacie d'officine","A"]
[{"$f":"VLOOKUP(B6837,Régions!A:C,3,FALSE)","v":"Auvergne-Rhône-Alpes"},38,{"$error":"#N/A"},380005504,{"$error":"#N/A"},{"$error":"#N/A"},"PHARMACIE MOIROUD-ODRU",68,"Route","DE LYON","38260 LA-FRETTE",38260,"La Frette","Pharmacie d'officine","A"]
[{"$f":"VLOOKUP(B6849,Régions!A:C,3,FALSE)","v":"Auvergne-Rhône-Alpes"},38,{"$error":"#N/A"},380005850,{"$error":"#N/A"},{"$error":"#N/A"},"PHARMACIE  PISSAS",22,"Cours","BERRIAT","38000 GRENOBLE",38000,"Grenoble","Pharmacie d'officine","A"]
[{"$f":"VLOOKUP(B6856,Régions!A:C,3,FALSE)","v":"Auvergne-Rhône-Alpes"},38,{"$error":"#N/A"},380006056,{"$error":"#N/A"},{"$error":"#N/A"},"PHARMACIE TROUILLON - TRITTO",8,"Place","CHAMPIONNET","38000 GRENOBLE",38000,"Grenoble","Pharmacie d'officine","A"]
[{"$f":"VLOOKUP(B6859,Régions!A:C,3,FALSE)","v":"Auvergne-Rhône-Alpes"},38,"CNOP",380006122,380006122,"non","PHARMACIE GAMEAU",22,"Avenue","FELIX VIALLET","38000 GRENOBLE",38000,"Grenoble","Pharmacie d'officine","A"]
[{"$f":"VLOOKUP(B6877,Régions!A:C,3,FALSE)","v":"Auvergne-Rhône-Alpes"},38,{"$error":"#N/A"},380006635,{"$error":"#N/A"},{"$error":"#N/A"},"PHARMACIE DE L'AIGLE",44,"Rue","DE TURENNE","38000 GRENOBLE",38000,"Grenoble","Pharmacie d'officine","A"]
[{"$f":"VLOOKUP(B6879,Régions!A:C,3,FALSE)","v":"Auvergne-Rhône-Alpes"},38,"CNOP",380006684,380006684,"oui","PHARMACIE GIRAULT-RIGARD CERISON",2,"Quartier","MOUNIER","38000 GRENOBLE",38000,"Grenoble","Pharmacie d'officine","A"]
[{"$f":"VLOOKUP(B6891,Régions!A:C,3,FALSE)","v":"Auvergne-Rhône-Alpes"},38,{"$error":"#N/A"},380006973,{"$error":"#N/A"},{"$error":"#N/A"},"SELARL PHARMACIE SAINT-JEAN",8,"Boulevard","JOSEPH VALLIER","38000 GRENOBLE",38000,"Grenoble","Pharmacie d'officine","A"]
[{"$f":"VLOOKUP(B6898,Régions!A:C,3,FALSE)","v":"Auvergne-Rhône-Alpes"},38,"CNOP",380007187,380007187,"oui","PHARMACIE MANCEAU",33,"Boulevard","MARECHAL FOCH","38100 GRENOBLE",38100,"Grenoble","Pharmacie d'officine","A"]
[{"$f":"VLOOKUP(B6910,Régions!A:C,3,FALSE)","v":"Auvergne-Rhône-Alpes"},38,{"$error":"#N/A"},380007484,{"$error":"#N/A"},{"$error":"#N/A"},"PHARMACIE LETHUILLIER",10,"Place","DU TRIFORIUM","38080 ISLE-D'ABEAU (L')",38080,"L'Isle-d'Abeau","Pharmacie d'officine","A"]
[{"$f":"VLOOKUP(B6922,Régions!A:C,3,FALSE)","v":"Auvergne-Rhône-Alpes"},38,"PHARMDIRECTFR",380007807,380007807,"oui","PHARMACIE DE LA PLAINE FLEURIE JC",41,"Avenue","DE LA PLAINE FLEURIE","38240 MEYLAN",38240,"Meylan","Pharmacie d'officine","A"]
[{"$f":"VLOOKUP(B6929,Régions!A:C,3,FALSE)","v":"Auvergne-Rhône-Alpes"},38,{"$error":"#N/A"},380007971,{"$error":"#N/A"},{"$error":"#N/A"},"PHARMACIE DE MONESTIER",31,"NULL","GRANDE RUE","38650 MONESTIER DE CLERMONT",38650,"Monestier-de-Clermont","Pharmacie d'officine","A"]
[{"$f":"VLOOKUP(B6932,Régions!A:C,3,FALSE)","v":"Auvergne-Rhône-Alpes"},38,"CNOP",380008086,380008086,"oui"," PHARMACIE DU GLACIER",80,"Avenue","DE LA MUZELLE","38860 MONT DE LANS",38860,"Les Deux Alpes","Pharmacie d'officine","A"]
[{"$f":"VLOOKUP(B6948,Régions!A:C,3,FALSE)","v":"Auvergne-Rhône-Alpes"},38,"PHARMDIRECTFR",380008557,380008557,"oui","PHARMACIE BOIS - WINDEY",13,"Rue","DE LA REPUBLIQUE","38480 LE-PONT-DE-BEAUVOISIN",38480,"Le Pont-de-Beauvoisin","Pharmacie d'officine","A"]
[{"$f":"VLOOKUP(B6958,Régions!A:C,3,FALSE)","v":"Auvergne-Rhône-Alpes"},38,{"$error":"#N/A"},380008870,{"$error":"#N/A"},{"$error":"#N/A"},"PHARMACIE COMBAZ",85,"Rue","PAUL LANGEVIN","38140 RENAGE",38140,"Renage","Pharmacie d'officine","A"]
[{"$f":"VLOOKUP(B6964,Régions!A:C,3,FALSE)","v":"Auvergne-Rhône-Alpes"},38,"CNOP",380009035,380009035,"oui","PHARMACIE  ROYER",14,"Avenue","JEAN JAURES","38150 ROUSSILLON",38150,"Roussillon","Pharmacie d'officine","A"]
[{"$f":"VLOOKUP(B6971,Régions!A:C,3,FALSE)","v":"Auvergne-Rhône-Alpes"},38,{"$error":"#N/A"},380009217,{"$error":"#N/A"},{"$error":"#N/A"},"PHARMACIE COLASSE",25,"Route","DE FAVERGES","38110 SAINT-CLAIR-DE-LA-TOUR",38110,"Saint-Clair-de-la-Tour","Pharmacie d'officine","A"]
[{"$f":"VLOOKUP(B6983,Régions!A:C,3,FALSE)","v":"Auvergne-Rhône-Alpes"},38,"CNOP",380009506,380009506,"oui","PHARMACIE DE SAINT GEORGES","NULL","Place","EDMOND BUDILLON","38790 SAINT-GEORGES-D'ESPERANCHE",38790,"Saint-Georges-d'Espéranche","Pharmacie d'officine","A"]
[{"$f":"VLOOKUP(B6995,Régions!A:C,3,FALSE)","v":"Auvergne-Rhône-Alpes"},38,{"$error":"#N/A"},380009837,{"$error":"#N/A"},{"$error":"#N/A"},"PHARMACIE CROZET",2,"Avenue","DE PROVENCE","38160 SAINT-MARCELLIN",38160,"Saint-Marcellin","Pharmacie d'officine","A"]
[{"$f":"VLOOKUP(B7002,Régions!A:C,3,FALSE)","v":"Auvergne-Rhône-Alpes"},38,"PHARMDIRECTFR",380010033,380010033,"oui","PHARMACIE CHAPOT",17,"Rue","EDMOND ROSTAND","38400 ST MARTIN D HERES",38400,"Saint-Martin-d'Hères","Pharmacie d'officine","A"]
[{"$f":"VLOOKUP(B7005,Régions!A:C,3,FALSE)","v":"Auvergne-Rhône-Alpes"},38,{"$error":"#N/A"},380010116,{"$error":"#N/A"},{"$error":"#N/A"},"EURL PHARMACIE BENHAMANE",26,"Avenue","MARCEL CACHIN","38400 SAINT-MARTIN-D'HERES",38400,"Saint-Martin-d'Hères","Pharmacie d'officine","A"]
[{"$f":"VLOOKUP(B7021,Régions!A:C,3,FALSE)","v":"Auvergne-Rhône-Alpes"},38,"PHARMDIRECTFR",380010520,380010520,"oui","SELARL DES EGLANTINES",240,"Rue","des Auberges","38300 SAINT-SAVIN",38300,"Saint-Savin","Pharmacie d'officine","A"]
[{"$f":"VLOOKUP(B7029,Régions!A:C,3,FALSE)","v":"Auvergne-Rhône-Alpes"},38,{"$error":"#N/A"},380010736,{"$error":"#N/A"},{"$error":"#N/A"},"PHARMACIE ROUSSEAU - BARATTA",40,"Avenue","DE ROMANS","38360 SASSENAGE",38360,"Sassenage","Pharmacie d'officine","A"]
[{"$f":"VLOOKUP(B7037,Régions!A:C,3,FALSE)","v":"Auvergne-Rhône-Alpes"},38,"CNOP",380010934,380010934,"oui","AS2021",3,"Rue","Henri Dunant","38180 SEYSSINS",38180,"Seyssins","Pharmacie d'officine","A"]
[{"$f":"VLOOKUP(B7044,Régions!A:C,3,FALSE)","v":"Auvergne-Rhône-Alpes"},38,"PHARMDIRECTFR",380011106,380011106,"oui","PHARMACIE GUILLET",47,"Boulevard","VICTOR HUGO","38110 LA-TOUR-DU-PIN",38110,"La Tour-du-Pin","Pharmacie d'officine","A"]
[{"$f":"VLOOKUP(B7056,Régions!A:C,3,FALSE)","v":"Auvergne-Rhône-Alpes"},38,"CNOP",380011452,380011452,"oui","PHARMACIE CLAVEL","NULL","Place","DE LA REPUBLIQUE","38760 VARCES-ALLIERES-ET-RISSET",38760,"Varces-Allières-et-Risset","Pharmacie d'officine","A"]
[{"$f":"VLOOKUP(B7068,Régions!A:C,3,FALSE)","v":"Auvergne-Rhône-Alpes"},38,"CNOP",380011916,380011916,"oui","GRANDE PHARMACIE COUTURIER",65,"Avenue","GENERAL LECLERC","38200 VIENNE",38200,"Vienne","Pharmacie d'officine","A"]
[{"$f":"VLOOKUP(B7075,Régions!A:C,3,FALSE)","v":"Auvergne-Rhône-Alpes"},38,"PHARMDIRECTFR",380012120,380012120,"oui","PHARMACIE DU ROND POINT",2,"Rue","DU 8 MAI 1945","38450 VIF",38450,"Vif","Pharmacie d'officine","A"]
[{"$f":"VLOOKUP(B7078,Régions!A:C,3,FALSE)","v":"Auvergne-Rhône-Alpes"},38,{"$error":"#N/A"},380012237,{"$error":"#N/A"},{"$error":"#N/A"},"PHARMACIE DE BRIGNOUD",36,"Boulevard","DE LA LIBERATION","38190 BRIGNOUD",38190,"Villard-Bonnot","Pharmacie d'officine","A"]
[{"$f":"VLOOKUP(B7094,Régions!A:C,3,FALSE)","v":"Auvergne-Rhône-Alpes"},38,{"$error":"#N/A"},380012732,{"$error":"#N/A"},{"$error":"#N/A"},"PHARMACIE DE LA CITADELLE",1,"Rue","FAIGE BLANC","38500 VOIRON",38500,"Voiron","Pharmacie d'officine","A"]
[{"$f":"VLOOKUP(B7097,Régions!A:C,3,FALSE)","v":"Auvergne-Rhône-Alpes"},38,{"$error":"#N/A"},380012807,{"$error":"#N/A"},{"$error":"#N/A"},"PHARMACIE STEPIEN - TRICHON",14,"Cours","BECQUART CASTELBON","38500 VOIRON",38500,"Voiron","Pharmacie d'officine","A"]
[{"$f":"VLOOKUP(B7114,Régions!A:C,3,FALSE)","v":"Bourgogne-Franche-Comté"},39,"PHARMDIRECTFR",390002012,390002012,"oui","PHARMACIE VUILLEMEY",25,"Rue","DES ARCADES","39240 ARINTHOD",39240,"Arinthod","Pharmacie d'officine","A"]
[{"$f":"VLOOKUP(B7117,Régions!A:C,3,FALSE)","v":"Bourgogne-Franche-Comté"},39,"CNOP",390002095,390002095,"oui","PHARMACIE GIRARD",28,"Rue","LOUIS LEGRAND","39140 BLETTERANS",39140,"Bletterans","Pharmacie d'officine","A"]
[{"$f":"VLOOKUP(B7129,Régions!A:C,3,FALSE)","v":"Bourgogne-Franche-Comté"},39,"CNOP",390002426,390002426,"oui","PHARMACIE THEVENET",52,"Rue","Basse","39570 CONLIEGE",39570,"Conliège","Pharmacie d'officine","A"]
[{"$f":"VLOOKUP(B7136,Régions!A:C,3,FALSE)","v":"Bourgogne-Franche-Comté"},39,"CNOP",390002640,390002640,"oui","PHARMACIE RENARD-GONNET",30,"Avenue","LEON JOUHAUX","39100 DOLE",39100,"Dole","Pharmacie d'officine","A"]
[{"$f":"VLOOKUP(B7148,Régions!A:C,3,FALSE)","v":"Bourgogne-Franche-Comté"},39,"CNOP",390002962,390002962,"oui","PHARMACIE MAGNENET CATHERINE",21,"Rue","DU CRET DU BIEF","39170 LAVANS-LES-SAINT-CLAUDE",39170,"Lavans-lès-Saint-Claude","Pharmacie d'officine","A"]
[{"$f":"VLOOKUP(B7151,Régions!A:C,3,FALSE)","v":"Bourgogne-Franche-Comté"},39,"PHARMDIRECTFR",390003077,390003077,"oui","PHARMACIE VUILLEMIN",13,"Avenue","DU COMMANDANT DE VILLARD","39000 LONS-LE-SAUNIER",39000,"Lons-le-Saunier","Pharmacie d'officine","A"]
[{"$f":"VLOOKUP(B7167,Régions!A:C,3,FALSE)","v":"Bourgogne-Franche-Comté"},39,"PHARMDIRECTFR",390003481,390003481,"oui","PHARMACIE DOUCEY",38,"Route","BLANCHE","39400 MORBIER",39400,"Morbier","Pharmacie d'officine","A"]
[{"$f":"VLOOKUP(B7170,Régions!A:C,3,FALSE)","v":"Bourgogne-Franche-Comté"},39,"PHARMDIRECTFR",390003580,390003580,"oui","PHARMACIE RICHARD",25,"Rue","DE LA REPUBLIQUE","39330 MOUCHARD",39330,"Mouchard","Pharmacie d'officine","A"]
[{"$f":"VLOOKUP(B7185,Régions!A:C,3,FALSE)","v":"Bourgogne-Franche-Comté"},39,"PHARMDIRECTFR",390004091,390004091,"oui","PHARMACIE COLIN",6,"Avenue","DE BELFORT","39200 SAINT-CLAUDE",39200,"Saint-Claude","Pharmacie d'officine","A"]
[{"$f":"VLOOKUP(B7190,Régions!A:C,3,FALSE)","v":"Bourgogne-Franche-Comté"},39,"PHARMDIRECTFR",390004240,390004240,"oui","PHARMACIE DES BAINS",1,"Rue","DE LA LIBERTE","39110 SALINS-LES-BAINS",39110,"Salins-les-Bains","Pharmacie d'officine","A"]
[{"$f":"VLOOKUP(B7202,Régions!A:C,3,FALSE)","v":"Nouvelle-Aquitaine"},40,"PHARMDIRECTFR",400007456,400007456,"oui","PHARMACIE   DEMANGE",48,"Rue","DE L'EGLISE","40230 BÉNESSE-MAREMNE",40230,"Bénesse-Maremne","Pharmacie d'officine","A"]
[{"$f":"VLOOKUP(B7209,Régions!A:C,3,FALSE)","v":"Nouvelle-Aquitaine"},40,{"$error":"#N/A"},400007654,{"$error":"#N/A"},{"$error":"#N/A"},"PHARMACIE MERCERON",3,"Rue","DU GAL DE GAULLE","40130 CAPBRETON",40130,"Capbreton","Pharmacie d'officine","A"]
[{"$f":"VLOOKUP(B7221,Régions!A:C,3,FALSE)","v":"Nouvelle-Aquitaine"},40,"PHARMDIRECTFR",400007951,400007951,"oui","PHARMACIE MODICA-DE VOS",21,"Rue","SAINT VINCENT","40100 DAX",40100,"Dax","Pharmacie d'officine","A"]
[{"$f":"VLOOKUP(B7224,Régions!A:C,3,FALSE)","v":"Nouvelle-Aquitaine"},40,{"$error":"#N/A"},400008033,{"$error":"#N/A"},{"$error":"#N/A"},"PHARMACIE  LACAUSSE-PONASSIE",7,"Route","DE TERCIS","40100 DAX",40100,"Dax","Pharmacie d'officine","A"]
[{"$f":"VLOOKUP(B7240,Régions!A:C,3,FALSE)","v":"Nouvelle-Aquitaine"},40,"PHARMDIRECTFR",400008504,400008504,"oui","PHARMACIE  WATIER",67,"Avenue","DE LA COTE D'ARGENT","40170 LIT-ET-MIXE",40170,"Lit-et-Mixe","Pharmacie d'officine","A"]
[{"$f":"VLOOKUP(B7243,Régions!A:C,3,FALSE)","v":"Nouvelle-Aquitaine"},40,"CNOP",400008603,400008603,"oui","PHARMACIE DASSIE",8,"Rue","DE L'ABBAYE","40200 MIMIZAN",40200,"Mimizan","Pharmacie d'officine","A"]
[{"$f":"VLOOKUP(B7259,Régions!A:C,3,FALSE)","v":"Nouvelle-Aquitaine"},40,{"$error":"#N/A"},400009007,{"$error":"#N/A"},{"$error":"#N/A"},"PHARMACIE  THOUNY-WIEDENKELLER",22,"Avenue","DE SABRES","40000 MONT DE MARSAN",40000,"Mont-de-Marsan","Pharmacie d'officine","A"]
[{"$f":"VLOOKUP(B7266,Régions!A:C,3,FALSE)","v":"Nouvelle-Aquitaine"},40,"CNOP",400009205,400009205,"oui","PHARMACIE DE NARROSSE",2,"Rue","D ASPE","40180 NARROSSE",40180,"Narrosse","Pharmacie d'officine","A"]
[{"$f":"VLOOKUP(B7275,Régions!A:C,3,FALSE)","v":"Nouvelle-Aquitaine"},40,"CNOP",400009437,400009437,"non","PHARMACIE VASSEUR",34,"Route","DES LACS","40410 PISSOS",40410,"Pissos","Pharmacie d'officine","A"]
[{"$f":"VLOOKUP(B7282,Régions!A:C,3,FALSE)","v":"Nouvelle-Aquitaine"},40,{"$error":"#N/A"},400009601,{"$error":"#N/A"},{"$error":"#N/A"},"PHARMACIE GALIN",1,"Rue","DE LA GRANDE LANDE","40120 ROQUEFORT",40120,"Roquefort","Pharmacie d'officine","A"]
[{"$f":"VLOOKUP(B7294,Régions!A:C,3,FALSE)","v":"Nouvelle-Aquitaine"},40,"CNOP",400009916,400009916,"oui","PHARMACIE CRONIER-VINSONNEAU",72,"Rue","DU 14 JUILLET","40990 SAINT-PAUL-LÈS-DAX",40990,"Saint-Paul-lès-Dax","Pharmacie d'officine","A"]
[{"$f":"VLOOKUP(B7297,Régions!A:C,3,FALSE)","v":"Nouvelle-Aquitaine"},40,"PHARMDIRECTFR",400009973,400009973,"oui","PHARMACIE MARHEIN - PEGUY",871,"Avenue","DE SAINT SEVER","40280 ST PIERRE DU MONT",40280,"Saint-Pierre-du-Mont","Pharmacie d'officine","A"]
[{"$f":"VLOOKUP(B7313,Régions!A:C,3,FALSE)","v":"Nouvelle-Aquitaine"},40,{"$error":"#N/A"},400010401,{"$error":"#N/A"},{"$error":"#N/A"},"PHARMACIE BRIEST-FINET","NULL","Place","DE LA MAIRIE","40430 SORE",40430,"Sore","Pharmacie d'officine","A"]
[{"$f":"VLOOKUP(B7316,Régions!A:C,3,FALSE)","v":"Nouvelle-Aquitaine"},40,"PHARMDIRECTFR",400010484,400010484,"oui","PHARMACIE LALUQUE",27,"Rue","DASTE","40140 SOUSTONS",40140,"Soustons","Pharmacie d'officine","A"]
[{"$f":"VLOOKUP(B7332,Régions!A:C,3,FALSE)","v":"Centre-Val de Loire"},41,{"$error":"#N/A"},410001424,{"$error":"#N/A"},{"$error":"#N/A"},"PHARMACIE GASTALDI",25,"Avenue","GAMBETTA","41000 BLOIS",41000,"Blois","Pharmacie d'officine","A"]
[{"$f":"VLOOKUP(B7335,Régions!A:C,3,FALSE)","v":"Centre-Val de Loire"},41,"CNOP",410001531,410001531,"oui","PHARMACIE FOCH",26,"Avenue","DU MARECHAL FOCH","41000 BLOIS",41000,"Blois","Pharmacie d'officine","A"]
[{"$f":"VLOOKUP(B7351,Régions!A:C,3,FALSE)","v":"Centre-Val de Loire"},41,"PHARMDIRECTFR",410002067,410002067,"oui","PHARMACIE BARDON",7,"Place","ROBERT MOTTU","41600 CHAUMONT-SUR-THARONNE",41600,"Chaumont-sur-Tharonne","Pharmacie d'officine","A"]
[{"$f":"VLOOKUP(B7355,Régions!A:C,3,FALSE)","v":"Centre-Val de Loire"},41,{"$error":"#N/A"},410002406,{"$error":"#N/A"},{"$error":"#N/A"},"PHARMACIE  VEUX",69,"Route","DE CHEVERNY","41700 LE CONTROIS-EN-SOLOGNE",41700,"Le Controis-en-Sologne","Pharmacie d'officine","A"]
[{"$f":"VLOOKUP(B7367,Régions!A:C,3,FALSE)","v":"Centre-Val de Loire"},41,{"$error":"#N/A"},410002752,{"$error":"#N/A"},{"$error":"#N/A"},"SELARL PHARMACIE CENTRALE","NULL","Place","DE L'HOTEL DIEU","41500 MER",41500,"Mer","Pharmacie d'officine","A"]
[{"$f":"VLOOKUP(B7370,Régions!A:C,3,FALSE)","v":"Centre-Val de Loire"},41,{"$error":"#N/A"},410002851,{"$error":"#N/A"},{"$error":"#N/A"},"PHARMACIE CENTRALE",42,"Place","DU MARCHE","41170 MONDOUBLEAU",41170,"Mondoubleau","Pharmacie d'officine","A"]
[{"$f":"VLOOKUP(B7386,Régions!A:C,3,FALSE)","v":"Centre-Val de Loire"},41,{"$error":"#N/A"},410003305,{"$error":"#N/A"},{"$error":"#N/A"},"PHARMACIE HERMELIN-LAURENTIE",2,"Avenue","DE LA GARE","41100 PEZOU",41100,"Pezou","Pharmacie d'officine","A"]
[{"$f":"VLOOKUP(B7389,Régions!A:C,3,FALSE)","v":"Centre-Val de Loire"},41,{"$error":"#N/A"},410003370,{"$error":"#N/A"},{"$error":"#N/A"},"PHARMACIE CLOS DE L'ARCHE",81,"Avenue","DE PARIS","41200 ROMORANTIN-LANTHENAY",41200,"Romorantin-Lanthenay","Pharmacie d'officine","A"]
[{"$f":"VLOOKUP(B7405,Régions!A:C,3,FALSE)","v":"Centre-Val de Loire"},41,"PHARMDIRECTFR",410006282,410006282,"oui","PHARMACIE DESIRE - LEROY",10,"Rue","DE LA REPUBLIQUE","41360 SAVIGNY-SUR-BRAYE",41360,"Savigny-sur-Braye","Pharmacie d'officine","A"]
[{"$f":"VLOOKUP(B7408,Régions!A:C,3,FALSE)","v":"Centre-Val de Loire"},41,"PHARMDIRECTFR",410006670,410006670,"oui","PHARMACIE CORBANESE-REYNOUARD","NULL","NULL","PETITE RUE CHAPON","41130 SELLES SUR CHER",41130,"Selles-sur-Cher","Pharmacie d'officine","A"]
[{"$f":"VLOOKUP(B7422,Régions!A:C,3,FALSE)","v":"Centre-Val de Loire"},41,{"$error":"#N/A"},410007033,{"$error":"#N/A"},{"$error":"#N/A"},"PHARMACIE GERBIER",2,"Place","ST MARTIN","41100 VENDÔME",41100,"Vendôme","Pharmacie d'officine","A"]
[{"$f":"VLOOKUP(B7428,Régions!A:C,3,FALSE)","v":"Centre-Val de Loire"},41,{"$error":"#N/A"},410007173,{"$error":"#N/A"},{"$error":"#N/A"},"PHARMACIE GIMENO",36,"NULL","GRANDE RUE","41600 VOUZON",41600,"Vouzon","Pharmacie d'officine","A"]
[{"$f":"VLOOKUP(B7440,Régions!A:C,3,FALSE)","v":"Auvergne-Rhône-Alpes"},42,{"$error":"#N/A"},420003030,{"$error":"#N/A"},{"$error":"#N/A"},"PHARMACIE BERLIER BILE",3,"Place","D'ARMEVILLE","42220 BOURG ARGENTAL",42220,"Bourg-Argental","Pharmacie d'officine","A"]
[{"$f":"VLOOKUP(B7447,Régions!A:C,3,FALSE)","v":"Auvergne-Rhône-Alpes"},42,"CNOP",420003311,420003311,"oui","PHARMACIE CAVALLI",3,"Rue","DE LA REPUBLIQUE","42500 LE CHAMBON FEUGEROLLES",42500,"Le Chambon-Feugerolles","Pharmacie d'officine","A"]
[{"$f":"VLOOKUP(B7459,Régions!A:C,3,FALSE)","v":"Auvergne-Rhône-Alpes"},42,"CNOP",420003725,420003725,"oui","PHARMACIE DU FOREZ ARCAS",1,"Boulevard","de l'Europe","42110 FEURS",42110,"Feurs","Pharmacie d'officine","A"]
[{"$f":"VLOOKUP(B7462,Régions!A:C,3,FALSE)","v":"Auvergne-Rhône-Alpes"},42,{"$error":"#N/A"},420003790,{"$error":"#N/A"},{"$error":"#N/A"},"PHARMACIE DE LA PLAINE",13,"Rue","DE VERDUN","42110 FEURS",42110,"Feurs","Pharmacie d'officine","A"]
[{"$f":"VLOOKUP(B7478,Régions!A:C,3,FALSE)","v":"Auvergne-Rhône-Alpes"},42,"PHARMDIRECTFR",420004392,420004392,"oui","PHARMACIE DES SABLES",47,"Route","DE BRIENNON","42300 MABLY",42300,"Mably","Pharmacie d'officine","A"]
[{"$f":"VLOOKUP(B7481,Régions!A:C,3,FALSE)","v":"Auvergne-Rhône-Alpes"},42,"CNOP",420004491,420004491,"oui","PHARMACIE COTTE-ESCOFFIER",12,"Route","DE RIOTORD","42660 MARLHES",42660,"Marlhes","Pharmacie d'officine","A"]
[{"$f":"VLOOKUP(B7493,Régions!A:C,3,FALSE)","v":"Auvergne-Rhône-Alpes"},42,{"$error":"#N/A"},420004830,{"$error":"#N/A"},{"$error":"#N/A"},"SELARL PHARMACIE DE LA PACAUDIERE",202,"Route","DE PARIS","42310 LA PACAUDIERE",42310,"La Pacaudière","Pharmacie d'officine","A"]
[{"$f":"VLOOKUP(B7503,Régions!A:C,3,FALSE)","v":"Auvergne-Rhône-Alpes"},42,"CNOP",420005175,420005175,"oui","PHARMACIE DE LA RICAMARIE",1,"Place","RASPAIL","42150 LA-RICAMARIE",42150,"La Ricamarie","Pharmacie d'officine","A"]
[{"$f":"VLOOKUP(B7513,Régions!A:C,3,FALSE)","v":"Auvergne-Rhône-Alpes"},42,{"$error":"#N/A"},420005464,{"$error":"#N/A"},{"$error":"#N/A"},"PHARMACIE CHIANEA",3,"Rue","ROQUILLE","42800 RIVE-DE-GIER",42800,"Rive-de-Gier","Pharmacie d'officine","A"]
[{"$f":"VLOOKUP(B7520,Régions!A:C,3,FALSE)","v":"Auvergne-Rhône-Alpes"},42,"CNOP",420005746,420005746,"oui","PHARMACIE DE LA LOIRE",14,"Rue","Roger Salengro","42300 ROANNE",42300,"Roanne","Pharmacie d'officine","A"]
[{"$f":"VLOOKUP(B7532,Régions!A:C,3,FALSE)","v":"Auvergne-Rhône-Alpes"},42,{"$error":"#N/A"},420006165,{"$error":"#N/A"},{"$error":"#N/A"},"PHARMACIE GIRAUD",140,"Rue","ST PIERRE","42810 ROZIER-EN-DONZY",42810,"Rozier-en-Donzy","Pharmacie d'officine","A"]
[{"$f":"VLOOKUP(B7535,Régions!A:C,3,FALSE)","v":"Auvergne-Rhône-Alpes"},42,"PHARMDIRECTFR",420006231,420006231,"oui","PHARMACIE ROZAIRE",2,"Place","du Grand Faubourg","42380 SAINT-BONNET-LE-CHATEAU",42380,"Saint-Bonnet-le-Château","Pharmacie d'officine","A"]
[{"$f":"VLOOKUP(B7551,Régions!A:C,3,FALSE)","v":"Auvergne-Rhône-Alpes"},42,"CNOP",420007015,420007015,"oui","PHARMACIE ANGLARD",32,"Rue","CHARLES DE GAULLE","42000 SAINT-ÉTIENNE",42000,"Saint-Étienne","Pharmacie d'officine","A"]
[{"$f":"VLOOKUP(B7554,Régions!A:C,3,FALSE)","v":"Auvergne-Rhône-Alpes"},42,{"$error":"#N/A"},420007080,{"$error":"#N/A"},{"$error":"#N/A"},"PHARMACIE DE L'HOTEL DE VILLE",13,"Place","DE L'HOTEL DE VILLE","42000 SAINT-ÉTIENNE",42000,"Saint-Étienne","Pharmacie d'officine","A"]
[{"$f":"VLOOKUP(B7566,Régions!A:C,3,FALSE)","v":"Auvergne-Rhône-Alpes"},42,{"$error":"#N/A"},420007643,{"$error":"#N/A"},{"$error":"#N/A"},"PHARMACIE EL HAMIDI",80,"Boulevard","ANTONIO VIVALDI","42000 ST ETIENNE",42000,"Saint-Étienne","Pharmacie d'officine","A"]
[{"$f":"VLOOKUP(B7573,Régions!A:C,3,FALSE)","v":"Auvergne-Rhône-Alpes"},42,"PHARMDIRECTFR",420007825,420007825,"oui","FORAY-JAGER",48,"Boulevard","Alexandre de Fraissinette","42100 SAINT-ETIENNE",42100,"Saint-Étienne","Pharmacie d'officine","A"]
[{"$f":"VLOOKUP(B7588,Régions!A:C,3,FALSE)","v":"Auvergne-Rhône-Alpes"},42,"CNOP",420008260,420008260,"oui","PHARMACIE MONIER-SALVATORI",105,"Cours","FAURIEL","42100 SAINT-ETIENNE",42100,"Saint-Étienne","Pharmacie d'officine","A"]
[{"$f":"VLOOKUP(B7593,Régions!A:C,3,FALSE)","v":"Auvergne-Rhône-Alpes"},42,"PHARMDIRECTFR",420008443,420008443,"oui","PHARMACIE BAUMGARTNER",1,"Rue","MARCEL FEGUIDE","42100 SAINT-ÉTIENNE",42100,"Saint-Étienne","Pharmacie d'officine","A"]
[{"$f":"VLOOKUP(B7605,Régions!A:C,3,FALSE)","v":"Auvergne-Rhône-Alpes"},42,"CNOP",420008815,420008815,"oui","PHARMACIE BAYARD",85,"Allee","DES CERISIERS","42800 GENILAC",42800,"Genilac","Pharmacie d'officine","A"]
[{"$f":"VLOOKUP(B7608,Régions!A:C,3,FALSE)","v":"Auvergne-Rhône-Alpes"},42,{"$error":"#N/A"},420008880,{"$error":"#N/A"},{"$error":"#N/A"},"PHARMACIE DU CENTRE",4,"Rue","PIERRE ANGENIEUX","42570 SAINT-HEAND",42570,"Saint-Héand","Pharmacie d'officine","A"]
[{"$f":"VLOOKUP(B7624,Régions!A:C,3,FALSE)","v":"Auvergne-Rhône-Alpes"},42,{"$error":"#N/A"},420009326,{"$error":"#N/A"},{"$error":"#N/A"},"PHARMACIE DE SAINT PRIEST",10,"Place","MASSENET","42270 SAINT-PRIEST-EN-JAREZ",42270,"Saint-Priest-en-Jarez","Pharmacie d'officine","A"]
[{"$f":"VLOOKUP(B7627,Régions!A:C,3,FALSE)","v":"Auvergne-Rhône-Alpes"},42,"PHARMDIRECTFR",420009391,420009391,"oui","PHARMACIE GAUTHIER",53,"Avenue","MELLET MANDARD","42170 SAINT-JUST-SAINT-RAMBERT",42170,"Saint-Just-Saint-Rambert","Pharmacie d'officine","A"]
[{"$f":"VLOOKUP(B7634,Régions!A:C,3,FALSE)","v":"Auvergne-Rhône-Alpes"},42,"CNOP",420009565,420009565,"oui","PHARMACIE GINOT",41,"Avenue","ANTHONY BARRALON","42290 SORBIERS",42290,"Sorbiers","Pharmacie d'officine","A"]
[{"$f":"VLOOKUP(B7646,Régions!A:C,3,FALSE)","v":"Auvergne-Rhône-Alpes"},42,{"$error":"#N/A"},420009946,{"$error":"#N/A"},{"$error":"#N/A"},"PHARMACIE POYET",1100,"Rue","JEAN MOULIN","42300 VILLEREST",42300,"Villerest","Pharmacie d'officine","A"]
[{"$f":"VLOOKUP(B7659,Régions!A:C,3,FALSE)","v":"Auvergne-Rhône-Alpes"},43,{"$error":"#N/A"},430001370,{"$error":"#N/A"},{"$error":"#N/A"},"PHARMACIE MINAIRE",6,"Place","DU PRE CLOS","43590 BEAUZAC",43590,"Beauzac","Pharmacie d'officine","A"]
[{"$f":"VLOOKUP(B7666,Régions!A:C,3,FALSE)","v":"Auvergne-Rhône-Alpes"},43,{"$error":"#N/A"},430001552,{"$error":"#N/A"},{"$error":"#N/A"},"PHARMACIE AUDIGIER-LAFARGE",77,"Avenue","D'AUVERGNE","43100 BRIOUDE",43100,"Brioude","Pharmacie d'officine","A"]
[{"$f":"VLOOKUP(B7678,Régions!A:C,3,FALSE)","v":"Auvergne-Rhône-Alpes"},43,"CNOP",430001883,430001883,"oui","PHARMACIE ENJOLRAS",5,"Avenue","DE LA MAIRIE","43000 ESPALY-SAINT-MARCEL",43000,"Espaly-Saint-Marcel","Pharmacie d'officine","A"]
[{"$f":"VLOOKUP(B7681,Régions!A:C,3,FALSE)","v":"Auvergne-Rhône-Alpes"},43,"PHARMDIRECTFR",430001982,430001982,"oui","PHARMACIE BESSON-KUNTZMANN",20,"Avenue","DE L.EUROPE","43300 LANGEAC",43300,"Langeac","Pharmacie d'officine","A"]
[{"$f":"VLOOKUP(B7697,Régions!A:C,3,FALSE)","v":"Auvergne-Rhône-Alpes"},43,{"$error":"#N/A"},430002550,{"$error":"#N/A"},{"$error":"#N/A"},"PHARMACIE CHAMARD",4,"Rue","CHAUSSADE","43000 LE-PUY-EN-VELAY",43000,"Le Puy-en-Velay","Pharmacie d'officine","A"]
[{"$f":"VLOOKUP(B7700,Régions!A:C,3,FALSE)","v":"Auvergne-Rhône-Alpes"},43,{"$error":"#N/A"},430002634,{"$error":"#N/A"},{"$error":"#N/A"},"GRANDE PHARMACIE CENTRALE  DU PUY",2,"Boulevard","MARECHAL FAYOLLE","43000 LE-PUY-EN-VELAY",43000,"Le Puy-en-Velay","Pharmacie d'officine","A"]
[{"$f":"VLOOKUP(B7707,Régions!A:C,3,FALSE)","v":"Auvergne-Rhône-Alpes"},43,{"$error":"#N/A"},430002857,{"$error":"#N/A"},{"$error":"#N/A"},"PHARMACIE VERCHERE",8,"Boulevard","DE PELISSAC","43140 SAINT-DIDIER-EN-VELAY",43140,"Saint-Didier-en-Velay","Pharmacie d'officine","A"]
[{"$f":"VLOOKUP(B7719,Régions!A:C,3,FALSE)","v":"Auvergne-Rhône-Alpes"},43,"PHARMDIRECTFR",430003202,430003202,"oui","PHARMACIE DUCROT-REBATTU",4,"Square","COLCOMBET","43140 LA-SEAUVE-SUR-SEMENE",43140,"La Séauve-sur-Semène","Pharmacie d'officine","A"]
[{"$f":"VLOOKUP(B7731,Régions!A:C,3,FALSE)","v":"Auvergne-Rhône-Alpes"},43,"CNOP",430006692,430006692,"oui","PHARMACIE PAPPALEPORE","NULL","Route","D'AUVERGNE","43330 SAINT-FERREOL-D'AUROURE",43330,"Saint-Ferréol-d'Auroure","Pharmacie d'officine","A"]
[{"$f":"VLOOKUP(B7740,Régions!A:C,3,FALSE)","v":"Pays de la Loire"},44,{"$error":"#N/A"},440013761,{"$error":"#N/A"},{"$error":"#N/A"},"PHARMACIE VRECH",6,"Boulevard","SAINT AIGNAN","44100 NANTES",44100,"Nantes","Pharmacie d'officine","A"]
[{"$f":"VLOOKUP(B7751,Régions!A:C,3,FALSE)","v":"Pays de la Loire"},44,{"$error":"#N/A"},440013894,{"$error":"#N/A"},{"$error":"#N/A"},"PHARMACIE BURBAND",88,"Boulevard","JULES VERNE","44300 NANTES",44300,"Nantes","Pharmacie d'officine","A"]
[{"$f":"VLOOKUP(B7758,Régions!A:C,3,FALSE)","v":"Pays de la Loire"},44,"PHARMDIRECTFR",440013993,440013993,"oui","SELAS PHARMACIE DES CONGRES",7,"Rue","FOURE","44000 NANTES",44000,"Nantes","Pharmacie d'officine","A"]
[{"$f":"VLOOKUP(B7770,Régions!A:C,3,FALSE)","v":"Pays de la Loire"},44,{"$error":"#N/A"},440014157,{"$error":"#N/A"},{"$error":"#N/A"},"PHARMACIE FOUCAUD",2,"Rue","DU ROI ALBERT","44000 NANTES",44000,"Nantes","Pharmacie d'officine","A"]
[{"$f":"VLOOKUP(B7773,Régions!A:C,3,FALSE)","v":"Pays de la Loire"},44,"CNOP",440014181,440014181,"oui","PHARMACIE PERRAUD",197,"Boulevard","AUGUSTE PENEAU","44300 NANTES",44300,"Nantes","Pharmacie d'officine","A"]
[{"$f":"VLOOKUP(B7780,Régions!A:C,3,FALSE)","v":"Pays de la Loire"},44,"CNOP",440014298,440014298,"oui","PHARMACIE DE  L'ERDRE",28,"Rue","PITRE CHEVALIER","44000 NANTES",44000,"Nantes","Pharmacie d'officine","A"]
[{"$f":"VLOOKUP(B7792,Régions!A:C,3,FALSE)","v":"Pays de la Loire"},44,"CNOP",440014454,440014454,"oui","PHARMACIE GRINAND",143,"Route","DE VERTOU","44200 NANTES",44200,"Nantes","Pharmacie d'officine","A"]
[{"$f":"VLOOKUP(B7804,Régions!A:C,3,FALSE)","v":"Pays de la Loire"},44,{"$error":"#N/A"},440014595,{"$error":"#N/A"},{"$error":"#N/A"},"PHARMACIE  VERTE",2,"Place","DE LA DUCHESSE ANNE","44000 NANTES",44000,"Nantes","Pharmacie d'officine","A"]
[{"$f":"VLOOKUP(B7811,Régions!A:C,3,FALSE)","v":"Pays de la Loire"},44,"PHARMDIRECTFR",440014686,440014686,"oui","PHARMACIE BOINEAU - GRAIN",1,"Place","DE L'EGLISE","44170 ABBARETZ",44170,"Abbaretz","Pharmacie d'officine","A"]
[{"$f":"VLOOKUP(B7824,Régions!A:C,3,FALSE)","v":"Pays de la Loire"},44,{"$error":"#N/A"},440014835,{"$error":"#N/A"},{"$error":"#N/A"},"PHARMACIE   TREANTON",37,"Avenue","LOUIS LAJARRIGE","44500 LA-BAULE",44500,"La Baule-Escoublac","Pharmacie d'officine","A"]
[{"$f":"VLOOKUP(B7831,Régions!A:C,3,FALSE)","v":"Pays de la Loire"},44,"CNOP",440014918,440014918,"oui","PHARMACIE DROUIN","NULL","Place","DE L'EGLISE","44160 BESNE",44160,"Besné","Pharmacie d'officine","A"]
[{"$f":"VLOOKUP(B7843,Régions!A:C,3,FALSE)","v":"Pays de la Loire"},44,"CNOP",440015089,440015089,"oui","PHARMACIE SEILLER",8,"Cours","de l'Europe","44850 LE CELLIER",44850,"Le Cellier","Pharmacie d'officine","A"]
[{"$f":"VLOOKUP(B7846,Régions!A:C,3,FALSE)","v":"Pays de la Loire"},44,{"$error":"#N/A"},440015121,{"$error":"#N/A"},{"$error":"#N/A"},"PHARMACIE PELLOIS - JOUDON",15,"Rue","DE SUCE","44240 LA CHAPELLE SUR ERDRE",44240,"La Chapelle-sur-Erdre","Pharmacie d'officine","A"]
[{"$f":"VLOOKUP(B7853,Régions!A:C,3,FALSE)","v":"Pays de la Loire"},44,"PHARMDIRECTFR",440015204,440015204,"oui","PHARMACIE MERCERON",5,"Rue","D'ANGERS","44110 CHÂTEAUBRIANT",44110,"Châteaubriant","Pharmacie d'officine","A"]
[{"$f":"VLOOKUP(B7865,Régions!A:C,3,FALSE)","v":"Pays de la Loire"},44,{"$error":"#N/A"},440015345,{"$error":"#N/A"},{"$error":"#N/A"},"PHARMACIE OCÉANE",2,"Place","DE L'AIGUILLON","44490 LE-CROISIC",44490,"Le Croisic","Pharmacie d'officine","A"]
[{"$f":"VLOOKUP(B7877,Régions!A:C,3,FALSE)","v":"Pays de la Loire"},44,"CNOP",440015469,440015469,"oui","PHARMACIE MEZERETTE",51,"Rue","DU GENERAL DE GAULLE","44290 GUEMENE PENFAO",44290,"Guémené-Penfao","Pharmacie d'officine","A"]
[{"$f":"VLOOKUP(B7884,Régions!A:C,3,FALSE)","v":"Pays de la Loire"},44,"CNOP",440015543,440015543,"oui","PHARMACIE AUBRON",20,"Rue","DE LA GARE","44690 LA-HAIE-FOUASSIERE",44690,"La Haie-Fouassière","Pharmacie d'officine","A"]
[{"$f":"VLOOKUP(B7896,Régions!A:C,3,FALSE)","v":"Pays de la Loire"},44,"PHARMDIRECTFR",440015675,440015675,"oui","PHARMACIE DECOURTYE-LESCOP",12,"Rue","DU CARTERON","44470 MAUVES-SUR-LOIRE",44470,"Mauves-sur-Loire","Pharmacie d'officine","A"]
[{"$f":"VLOOKUP(B7904,Régions!A:C,3,FALSE)","v":"Pays de la Loire"},44,"CNOP",440015758,440015758,"oui","PHARMACIE TILLY",1,"Place","DU LAVOIR","44140 MONTBERT",44140,"Montbert","Pharmacie d'officine","A"]
[{"$f":"VLOOKUP(B7916,Régions!A:C,3,FALSE)","v":"Pays de la Loire"},44,"PHARMDIRECTFR",440015881,440015881,"oui","PHARMACIE JOSSEC",3,"Rue","DU PONT MARCHAND","44700 ORVAULT",44700,"Orvault","Pharmacie d'officine","A"]
[{"$f":"VLOOKUP(B7919,Régions!A:C,3,FALSE)","v":"Pays de la Loire"},44,{"$error":"#N/A"},440015923,{"$error":"#N/A"},{"$error":"#N/A"},"PHARMACIE GOUBIN-PEREZ","NULL","Rue","FERREOL PREZELIN","44560 PAIMBOEUF",44560,"Paimboeuf","Pharmacie d'officine","A"]
[{"$f":"VLOOKUP(B7926,Régions!A:C,3,FALSE)","v":"Pays de la Loire"},44,{"$error":"#N/A"},440015998,{"$error":"#N/A"},{"$error":"#N/A"},"PHARMACIE COTE DE JADE",4,"Avenue","DES SPORTS","44770 LA-PLAINE-SUR-MER",44770,"La Plaine-sur-Mer","Pharmacie d'officine","A"]
[{"$f":"VLOOKUP(B7938,Régions!A:C,3,FALSE)","v":"Pays de la Loire"},44,{"$error":"#N/A"},440016137,{"$error":"#N/A"},{"$error":"#N/A"},"PHARMACIE HOCDE",19,"Avenue","DU LITTORAL","44380 PORNICHET",44380,"Pornichet","Pharmacie d'officine","A"]
[{"$f":"VLOOKUP(B7945,Régions!A:C,3,FALSE)","v":"Pays de la Loire"},44,"CNOP",440016202,440016202,"oui","SELARL PHARMACIE DU SOLEIL",6,"Place","DE L'EGLISE","44260 PRINQUIAU",44260,"Prinquiau","Pharmacie d'officine","A"]
[{"$f":"VLOOKUP(B7957,Régions!A:C,3,FALSE)","v":"Pays de la Loire"},44,"CNOP",440016335,440016335,"oui","PHARMACIE DE LA VOIE VERTE",10,"Rue","DU HAUT BEAUVAIS","44660 ROUGE",44660,"Rougé","Pharmacie d'officine","A"]
[{"$f":"VLOOKUP(B7969,Régions!A:C,3,FALSE)","v":"Pays de la Loire"},44,"CNOP",440016467,440016467,"oui","PHARMACIE LUNEAU - PONS",47,"Rue","DE LA BRANCHOIRE","44800 SAINT-HERBLAIN",44800,"Saint-Herblain","Pharmacie d'officine","A"]
[{"$f":"VLOOKUP(B7977,Régions!A:C,3,FALSE)","v":"Pays de la Loire"},44,{"$error":"#N/A"},440016558,{"$error":"#N/A"},{"$error":"#N/A"},"PHARMACIE LHENAFF",8,"Avenue","DES THEBAUDIERES","44800 SAINT-HERBLAIN",44800,"Saint-Herblain","Pharmacie d'officine","A"]
[{"$f":"VLOOKUP(B7989,Régions!A:C,3,FALSE)","v":"Pays de la Loire"},44,"CNOP",440016681,440016681,"oui","PHARMACIE BOTHOREL",74,"Rue","LOUIS GAUDIN","44980 SAINTE-LUCE-SUR-LOIRE",44980,"Sainte-Luce-sur-Loire","Pharmacie d'officine","A"]
[{"$f":"VLOOKUP(B7992,Régions!A:C,3,FALSE)","v":"Pays de la Loire"},44,"CNOP",440016715,440016715,"oui","PHARMACIE HILY-BINETRUY",1,"Route","BEAUSOLEIL","44850 ST MARS DU DESERT",44850,"Saint-Mars-du-Désert","Pharmacie d'officine","A"]
[{"$f":"VLOOKUP(B7999,Régions!A:C,3,FALSE)","v":"Pays de la Loire"},44,"PHARMDIRECTFR",440016798,440016798,"oui","PHARMACIE LE CARDINAL",94,"Rue","GENERAL DE GAULLE","44600 SAINT-NAZAIRE",44600,"Saint-Nazaire","Pharmacie d'officine","A"]
[{"$f":"VLOOKUP(B8011,Régions!A:C,3,FALSE)","v":"Pays de la Loire"},44,{"$error":"#N/A"},440016921,{"$error":"#N/A"},{"$error":"#N/A"},"PHARMACIE MONNIER - MAURY",60,"Boulevard","VICTOR HUGO","44600 SAINT-NAZAIRE",44600,"Saint-Nazaire","Pharmacie d'officine","A"]
[{"$f":"VLOOKUP(B8018,Régions!A:C,3,FALSE)","v":"Pays de la Loire"},44,{"$error":"#N/A"},440016996,{"$error":"#N/A"},{"$error":"#N/A"},"PHARMACIE PRIN",30,"Avenue","JEAN BUREL","44460 SAINT-NICOLAS-DE-REDON",44460,"Saint-Nicolas-de-Redon","Pharmacie d'officine","A"]
[{"$f":"VLOOKUP(B8030,Régions!A:C,3,FALSE)","v":"Pays de la Loire"},44,{"$error":"#N/A"},440017150,{"$error":"#N/A"},{"$error":"#N/A"},"PHARMACIE GUILLEMET-JAFFRY",1,"Rond point","DU GOLFEUR-RD3","44260 SAVENAY",44260,"Savenay","Pharmacie d'officine","A"]
[{"$f":"VLOOKUP(B8042,Régions!A:C,3,FALSE)","v":"Pays de la Loire"},44,"PHARMDIRECTFR",440017275,440017275,"oui","PHARMACIE MOREAU",60,"Rue","DE LA MAIRIE","44119 TREILLIÈRES",44119,"Treillières","Pharmacie d'officine","A"]
[{"$f":"VLOOKUP(B8048,Régions!A:C,3,FALSE)","v":"Pays de la Loire"},44,{"$error":"#N/A"},440017341,{"$error":"#N/A"},{"$error":"#N/A"},"PHARMACIE HERVE",20,"Route","DE CLISSON","44330 VALLET",44330,"Vallet","Pharmacie d'officine","A"]
[{"$f":"VLOOKUP(B8062,Régions!A:C,3,FALSE)","v":"Pays de la Loire"},44,"PHARMDIRECTFR",440017556,440017556,"oui","SELARL  PHARMACIE DELHOMMEAU",3,"Place","de l'Église","44730 SAINT-MICHEL-CHEF-CHEF",44730,"Saint-Michel-Chef-Chef","Pharmacie d'officine","A"]
[{"$f":"VLOOKUP(B8069,Régions!A:C,3,FALSE)","v":"Pays de la Loire"},44,"PHARMDIRECTFR",440018216,440018216,"oui","PHARMACIE DES ARCADES",2,"Place","DE LA PAIX","44800 SAINT-HERBLAIN",44800,"Saint-Herblain","Pharmacie d'officine","A"]
[{"$f":"VLOOKUP(B8072,Régions!A:C,3,FALSE)","v":"Pays de la Loire"},44,{"$error":"#N/A"},440019164,{"$error":"#N/A"},{"$error":"#N/A"},"PHARMACIE TROGNON-JOUEO",1,"Rue","DE LA GAGNERIE","44530 SEVERAC",44530,"Sévérac","Pharmacie d'officine","A"]
[{"$f":"VLOOKUP(B8084,Régions!A:C,3,FALSE)","v":"Pays de la Loire"},44,"CNOP",440026185,440026185,"oui","PHARMACIE DE LA SABLIERE","NULL","NULL","LA SABLIERE","44260 LA-CHAPELLE-LAUNAY",44260,"La Chapelle-Launay","Pharmacie d'officine","A"]
[{"$f":"VLOOKUP(B8091,Régions!A:C,3,FALSE)","v":"Pays de la Loire"},44,"CNOP",440026797,440026797,"oui","PHARMACIE CARRE",25,"Boulevard","GEORGES POMPIDOU","44200 NANTES",44200,"Nantes","Pharmacie d'officine","A"]
[{"$f":"VLOOKUP(B8103,Régions!A:C,3,FALSE)","v":"Pays de la Loire"},44,{"$error":"#N/A"},440031664,{"$error":"#N/A"},{"$error":"#N/A"},"PHARMACIE ROY-BONEU",15,"Rue","DU CALVAIRE","44390 LES-TOUCHES",44390,"Les Touches","Pharmacie d'officine","A"]
[{"$f":"VLOOKUP(B8115,Régions!A:C,3,FALSE)","v":"Pays de la Loire"},44,"CNOP",440037430,440037430,"oui","PHARMACIE DU TILLAY",17,"Place","de la Révolution Française","44800 SAINT-HERBLAIN",44800,"Saint-Herblain","Pharmacie d'officine","A"]
[{"$f":"VLOOKUP(B8122,Régions!A:C,3,FALSE)","v":"Pays de la Loire"},44,"PHARMDIRECTFR",440043065,440043065,"oui","PHARMACIE RONDEAU-GUILLOT",80,"Boulevard","DES PAS ENCHANTES","44230 SAINT-SEBASTIEN-SUR-LOIRE",44230,"Saint-Sébastien-sur-Loire","Pharmacie d'officine","A"]
[{"$f":"VLOOKUP(B8133,Régions!A:C,3,FALSE)","v":"Centre-Val de Loire"},45,{"$error":"#N/A"},450004296,{"$error":"#N/A"},{"$error":"#N/A"},"PHARMACIE  DELANOUE-MERCIER",8,"Rue","de Pithiviers","45480 BAZOCHES-LES-GALLERANDES",45480,"Bazoches-les-Gallerandes","Pharmacie d'officine","A"]
[{"$f":"VLOOKUP(B8142,Régions!A:C,3,FALSE)","v":"Centre-Val de Loire"},45,"CNOP",450004544,450004544,"oui","SELARL PHARMACIE DE BONNY",9,"Place","BEAUPIN LAGIER","45420 BONNY-SUR-LOIRE",45420,"Bonny-sur-Loire","Pharmacie d'officine","A"]
[{"$f":"VLOOKUP(B8145,Régions!A:C,3,FALSE)","v":"Centre-Val de Loire"},45,"CNOP",450004627,450004627,"oui","PHARMACIE DES CHIMÈRES",3,"Boulevard","BUYSER","45250 BRIARE",45250,"Briare","Pharmacie d'officine","A"]
[{"$f":"VLOOKUP(B8157,Régions!A:C,3,FALSE)","v":"Centre-Val de Loire"},45,"PHARMDIRECTFR",450005012,450005012,"oui","SELARL PHARMACIE DU GABEREAU","NULL","Route","D ORLEANS","45110 CHATEAUNEUF SUR LOIRE",45110,"Châteauneuf-sur-Loire","Pharmacie d'officine","A"]
[{"$f":"VLOOKUP(B8164,Régions!A:C,3,FALSE)","v":"Centre-Val de Loire"},45,{"$error":"#N/A"},450005251,{"$error":"#N/A"},{"$error":"#N/A"},"PHARMACIE FOURNIER",25,"Rue","DU MARECHAL LECLERC","45430 CHÉCY",45430,"Chécy","Pharmacie d'officine","A"]
[{"$f":"VLOOKUP(B8176,Régions!A:C,3,FALSE)","v":"Centre-Val de Loire"},45,{"$error":"#N/A"},450005566,{"$error":"#N/A"},{"$error":"#N/A"},"PHARMACIE SPONTON",6,"Rue","DE BOURGOGNE","45220 DOUCHY MONTCORBON",45220,"Douchy-Montcorbon","Pharmacie d'officine","A"]
[{"$f":"VLOOKUP(B8188,Régions!A:C,3,FALSE)","v":"Centre-Val de Loire"},45,{"$error":"#N/A"},450005905,{"$error":"#N/A"},{"$error":"#N/A"},"PHARMACIE AMGHAR","NULL","Place","JEAN-PHILIPPE RAMEAU","45400 FLEURY-LES-AUBRAIS",45400,"Fleury-les-Aubrais","Pharmacie d'officine","A"]
[{"$f":"VLOOKUP(B8195,Régions!A:C,3,FALSE)","v":"Centre-Val de Loire"},45,"PHARMDIRECTFR",450006242,450006242,"oui","PHARMACIE LECLERC",10,"Avenue","DE LA GRENAUDIERE","45140 INGRÉ",45140,"Ingré","Pharmacie d'officine","A"]
[{"$f":"VLOOKUP(B8207,Régions!A:C,3,FALSE)","v":"Centre-Val de Loire"},45,"PHARMDIRECTFR",450007075,450007075,"oui","PHARMACIE DE MARCILLY",146,"Place","DE L'EGLISE","45240 MARCILLY-EN-VILLETTE",45240,"Marcilly-en-Villette","Pharmacie d'officine","A"]
[{"$f":"VLOOKUP(B8214,Régions!A:C,3,FALSE)","v":"Centre-Val de Loire"},45,"PHARMDIRECTFR",450007836,450007836,"oui","PHARMACIE DIAINE-PHILIZOT",4,"Avenue","DU GENERAL DE GAULLE","45200 MONTARGIS",45200,"Montargis","Pharmacie d'officine","A"]
[{"$f":"VLOOKUP(B8218,Régions!A:C,3,FALSE)","v":"Centre-Val de Loire"},45,"CNOP",450008420,450008420,"oui","PHARMACIE MENU",3,"Rue","D'ORLEANS","45170 NEUVILLE-AUX-BOIS",45170,"Neuville-aux-Bois","Pharmacie d'officine","A"]
[{"$f":"VLOOKUP(B8230,Régions!A:C,3,FALSE)","v":"Centre-Val de Loire"},45,"PHARMDIRECTFR",450009360,450009360,"oui","PHARMACIE HADDAD",9,"Boulevard","PIERRE SEGELLE","45000 ORLÉANS",45000,"Orléans","Pharmacie d'officine","A"]
[{"$f":"VLOOKUP(B8237,Régions!A:C,3,FALSE)","v":"Centre-Val de Loire"},45,{"$error":"#N/A"},450012596,{"$error":"#N/A"},{"$error":"#N/A"},"PHARMACIE MUNIER",103,"Faubourg","MADELEINE","45000 ORLÉANS",45000,"Orléans","Pharmacie d'officine","A"]
[{"$f":"VLOOKUP(B8249,Régions!A:C,3,FALSE)","v":"Centre-Val de Loire"},45,"PHARMDIRECTFR",450013990,450013990,"oui","PHARMACIE HELOUIS-GERARD",14,"Avenue","de la Boliere","45100 ORLEANS",45100,"Orléans","Pharmacie d'officine","A"]
[{"$f":"VLOOKUP(B8256,Régions!A:C,3,FALSE)","v":"Centre-Val de Loire"},45,"CNOP",450015441,450015441,"oui","PHARMACIE MESSEANT-MAJEWSKI",6,"Avenue","D'ARCONVILLE","45480 OUTARVILLE",45480,"Outarville","Pharmacie d'officine","A"]
[{"$f":"VLOOKUP(B8268,Régions!A:C,3,FALSE)","v":"Centre-Val de Loire"},45,{"$error":"#N/A"},450015862,{"$error":"#N/A"},{"$error":"#N/A"},"PHARMACIE OLLIER","NULL","Avenue","DES FONTAINES","45550 SAINT-DENIS-DE-L'HOTEL",45550,"Saint-Denis-de-l'Hôtel","Pharmacie d'officine","A"]
[{"$f":"VLOOKUP(B8280,Régions!A:C,3,FALSE)","v":"Centre-Val de Loire"},45,"CNOP",450016241,450016241,"oui","PHARMACIE POPRAWA-STAUBER",37,"Rue","DES 10 ARPENTS","45140 SAINT-JEAN-DE-LA-RUELLE",45140,"Saint-Jean-de-la-Ruelle","Pharmacie d'officine","A"]
[{"$f":"VLOOKUP(B8285,Régions!A:C,3,FALSE)","v":"Centre-Val de Loire"},45,{"$error":"#N/A"},450016365,{"$error":"#N/A"},{"$error":"#N/A"},"PHARMACIE VEUX","NULL","Centre commercial","DU CLOS DE L'ARCHE","45650 ST JEAN LE BLANC",45650,"Saint-Jean-le-Blanc","Pharmacie d'officine","A"]
[{"$f":"VLOOKUP(B8291,Régions!A:C,3,FALSE)","v":"Centre-Val de Loire"},45,{"$error":"#N/A"},450016514,{"$error":"#N/A"},{"$error":"#N/A"},"PHARMACIE MAZEAU-GUERROUDJ",675,"Avenue","DES CHAMPS GAREAUX","45770 SARAN",45770,"Saran","Pharmacie d'officine","A"]
[{"$f":"VLOOKUP(B8303,Régions!A:C,3,FALSE)","v":"Centre-Val de Loire"},45,"CNOP",450016894,450016894,"oui","PHARMACIE BONNICI - ROGER",10,"Avenue","DE LA LIBERATION","45700 VILLEMANDEUR",45700,"Villemandeur","Pharmacie d'officine","A"]
[{"$f":"VLOOKUP(B8310,Régions!A:C,3,FALSE)","v":"Occitanie"},46,"CNOP",460002900,460002900,"oui","PHARMACIE LESCURE","NULL","Route","DE LACAPELLE","46320 ASSIER",46320,"Assier","Pharmacie d'officine","A"]
[{"$f":"VLOOKUP(B8322,Régions!A:C,3,FALSE)","v":"Occitanie"},46,{"$error":"#N/A"},460003221,{"$error":"#N/A"},{"$error":"#N/A"},"PHARMACIE FABRE ET MAUREL",29,"Rue","Georges Clemenceau","46000 CAHORS",46000,"Cahors","Pharmacie d'officine","A"]
[{"$f":"VLOOKUP(B8329,Régions!A:C,3,FALSE)","v":"Occitanie"},46,"PHARMDIRECTFR",460003437,460003437,"oui","PHARMACIE DE CRESSENSAC","NULL","Route","NATIONALE","46600 CRESSENSAC-SARRAZAC",46600,"Cressensac-Sarrazac","Pharmacie d'officine","A"]
[{"$f":"VLOOKUP(B8341,Régions!A:C,3,FALSE)","v":"Occitanie"},46,"CNOP",460003767,460003767,"oui","PHARMACIE THEPAULT - CHOCHOIS",15,"Place","DE LA REPUBLIQUE","46500 GRAMAT",46500,"Gramat","Pharmacie d'officine","A"]
[{"$f":"VLOOKUP(B8353,Régions!A:C,3,FALSE)","v":"Occitanie"},46,"PHARMDIRECTFR",460004070,460004070,"oui","PHARMACIE NADAUD","NULL","Avenue","DE TOULOUSE","46350 PAYRAC",46350,"Payrac","Pharmacie d'officine","A"]
[{"$f":"VLOOKUP(B8360,Régions!A:C,3,FALSE)","v":"Occitanie"},46,{"$error":"#N/A"},460004286,{"$error":"#N/A"},{"$error":"#N/A"},"PHARMACIE DU CENTRE","NULL","Place","DE LA REPUBLIQUE","46400 SAINT-CERE",46400,"Saint-Céré","Pharmacie d'officine","A"]
[{"$f":"VLOOKUP(B8370,Régions!A:C,3,FALSE)","v":"Occitanie"},46,"PHARMDIRECTFR",460004567,460004567,"oui","PHARMACIE SOTE-AUBRIT","NULL","Place","DE LA MAIRIE","46300 LE VIGAN",46300,"Le Vigan","Pharmacie d'officine","A"]
[{"$f":"VLOOKUP(B8376,Régions!A:C,3,FALSE)","v":"Nouvelle-Aquitaine"},47,"PHARMDIRECTFR",470003237,470003237,"oui","PHARMACIE CAMBON",125,"Avenue","LEON BLUM","47000 AGEN",47000,"Agen","Pharmacie d'officine","A"]
[{"$f":"VLOOKUP(B8383,Régions!A:C,3,FALSE)","v":"Nouvelle-Aquitaine"},47,"CNOP",470003500,470003500,"oui","PHARMACIE MASSABEAU",15,"Boulevard","DE LA LIBERTE","47000 AGEN",47000,"Agen","Pharmacie d'officine","A"]
[{"$f":"VLOOKUP(B8395,Régions!A:C,3,FALSE)","v":"Nouvelle-Aquitaine"},47,"CNOP",470003856,470003856,"oui","PHARMACIE FLOURAC-BOYER",31,"Rue","DE LA REPUBLIQUE","47240 BON-ENCONTRE",47240,"Bon-Encontre","Pharmacie d'officine","A"]
[{"$f":"VLOOKUP(B8402,Régions!A:C,3,FALSE)","v":"Nouvelle-Aquitaine"},47,"PHARMDIRECTFR",470004037,470004037,"oui","PHARMACIE  LABARTHE - GOISSEN - UNGER",2,"Place","GAMBETTA","47700 CASTELJALOUX",47700,"Casteljaloux","Pharmacie d'officine","A"]
[{"$f":"VLOOKUP(B8414,Régions!A:C,3,FALSE)","v":"Nouvelle-Aquitaine"},47,"CNOP",470009465,470009465,"oui","F CHAIGNEAU",7,"NULL","PLACE DU CENTRE","47600 FRANCESCAS",47600,"Francescas","Pharmacie d'officine","A"]
[{"$f":"VLOOKUP(B8426,Régions!A:C,3,FALSE)","v":"Nouvelle-Aquitaine"},47,"CNOP",470009986,470009986,"oui","PHARMACIE  MASSE",26,"Rue","EUGENE MAZELIE","47410 LAUZUN",47410,"Lauzun","Pharmacie d'officine","A"]
[{"$f":"VLOOKUP(B8433,Régions!A:C,3,FALSE)","v":"Nouvelle-Aquitaine"},47,"CNOP",470010323,470010323,"oui"," PHARMACIE DU CENTRE",41,"Rue","CHARLES DE GAULLE","47200 MARMANDE",47200,"Marmande","Pharmacie d'officine","A"]
[{"$f":"VLOOKUP(B8441,Régions!A:C,3,FALSE)","v":"Nouvelle-Aquitaine"},47,{"$error":"#N/A"},470011156,{"$error":"#N/A"},{"$error":"#N/A"},"SELARL PHARMACIE DU MARCHE",31,"Place","MARTIGNAC","47800 MIRAMONT DE GUYENNE",47800,"Miramont-de-Guyenne","Pharmacie d'officine","A"]
[{"$f":"VLOOKUP(B8453,Régions!A:C,3,FALSE)","v":"Nouvelle-Aquitaine"},47,{"$error":"#N/A"},470011834,{"$error":"#N/A"},{"$error":"#N/A"},"PHARMACIE REMI  LACOSTE",14,"Avenue","Henri Barbusse","47130 PORT-SAINTE-MARIE",47130,"Port-Sainte-Marie","Pharmacie d'officine","A"]
[{"$f":"VLOOKUP(B8456,Régions!A:C,3,FALSE)","v":"Nouvelle-Aquitaine"},47,"CNOP",470011917,470011917,"oui","PHARMACIE MASA",1,"Rue","Bir-Hakeim","47300 PUJOLS",47300,"Pujols","Pharmacie d'officine","A"]
[{"$f":"VLOOKUP(B8468,Régions!A:C,3,FALSE)","v":"Nouvelle-Aquitaine"},47,"PHARMDIRECTFR",470012204,470012204,"oui","PHARMACIE ALAZET",10,"Place","Villeneuve Bargemont","47170 SOS",47170,"Sos","Pharmacie d'officine","A"]
[{"$f":"VLOOKUP(B8475,Régions!A:C,3,FALSE)","v":"Nouvelle-Aquitaine"},47,{"$error":"#N/A"},470012436,{"$error":"#N/A"},{"$error":"#N/A"},"PHARMACIE DE LA BASTIDE",23,"Boulevard","de la Gare","47230 VIANNE",47230,"Vianne","Pharmacie d'officine","A"]
[{"$f":"VLOOKUP(B8487,Régions!A:C,3,FALSE)","v":"Nouvelle-Aquitaine"},47,"PHARMDIRECTFR",470012816,470012816,"oui","PHARMACIE TEA",1023,"Route","de Miramont de Guyenne","47200 VIRAZEIL",47200,"Virazeil","Pharmacie d'officine","A"]
[{"$f":"VLOOKUP(B8499,Régions!A:C,3,FALSE)","v":"Occitanie"},48,"CNOP",480782754,480782754,"oui","PHARMACIE JAUZION","NULL","Place","DU PORTALOU","48500 LA CANOURGUE",48500,"La Canourgue","Pharmacie d'officine","A"]
[{"$f":"VLOOKUP(B8506,Régions!A:C,3,FALSE)","v":"Occitanie"},48,"CNOP",480782846,480782846,"oui","PHARMACIE MOLINES","NULL","Place","DU CAIRE","48150 MEYRUEIS",48150,"Meyrueis","Pharmacie d'officine","A"]
[{"$f":"VLOOKUP(B8509,Régions!A:C,3,FALSE)","v":"Occitanie"},48,"CNOP",480782887,480782887,"oui","PHARMACIE MALAVIEILLE","NULL","Rue","DU 19 MARS 1962","48260 NASBINALS",48260,"Nasbinals","Pharmacie d'officine","A"]
[{"$f":"VLOOKUP(B8522,Régions!A:C,3,FALSE)","v":"Occitanie"},48,{"$error":"#N/A"},480783307,{"$error":"#N/A"},{"$error":"#N/A"},"PHARMACIE VIDAL","NULL","NULL","VILLAGE","48700 MONTS-DE-RANDON",48700,"Monts-de-Randon","Pharmacie d'officine","A"]
[{"$f":"VLOOKUP(B8529,Régions!A:C,3,FALSE)","v":"Pays de la Loire"},49,{"$error":"#N/A"},490532223,{"$error":"#N/A"},{"$error":"#N/A"},"GRANDE PHARMACIE SAINT SERGE",3,"Boulevard","GASTON RAMON","49100 ANGERS",49100,"Angers","Pharmacie d'officine","A"]
[{"$f":"VLOOKUP(B8541,Régions!A:C,3,FALSE)","v":"Pays de la Loire"},49,{"$error":"#N/A"},490532371,{"$error":"#N/A"},{"$error":"#N/A"},"PHARMACIE GUERIN-BOBIN",1,"Place","DE LA LAITERIE","49100 ANGERS",49100,"Angers","Pharmacie d'officine","A"]
[{"$f":"VLOOKUP(B8548,Régions!A:C,3,FALSE)","v":"Pays de la Loire"},49,"CNOP",490532447,490532447,"oui","PHARMACIE  DES JUSTICES",40,"Place","des Justices","49000 ANGERS",49000,"Angers","Pharmacie d'officine","A"]
[{"$f":"VLOOKUP(B8560,Régions!A:C,3,FALSE)","v":"Pays de la Loire"},49,"CNOP",490532579,490532579,"oui","PHARMALLONNEAU",25,"Boulevard","ALLONNEAU","49100 ANGERS",49100,"Angers","Pharmacie d'officine","A"]
[{"$f":"VLOOKUP(B8567,Régions!A:C,3,FALSE)","v":"Pays de la Loire"},49,{"$error":"#N/A"},490532660,{"$error":"#N/A"},{"$error":"#N/A"},"PHARMACIE GIRARD",214,"Rue","ALBERT POTTIER","49650 ALLONNES",49650,"Allonnes","Pharmacie d'officine","A"]
[{"$f":"VLOOKUP(B8579,Régions!A:C,3,FALSE)","v":"Pays de la Loire"},49,"CNOP",490532793,490532793,"oui","PHARMACIE SAINTE-ANNE","NULL","Rue","Sainte Anne","49600 BEAUPREAU-EN-MAUGES",49600,"Beaupréau-en-Mauges","Pharmacie d'officine","A"]
[{"$f":"VLOOKUP(B8582,Régions!A:C,3,FALSE)","v":"Pays de la Loire"},49,"CNOP",490532835,490532835,"oui","PHARMACIE RITOUET-POIRIER","NULL","NULL","NULL","49080 BOUCHEMAINE",49080,"Bouchemaine","Pharmacie d'officine","A"]
[{"$f":"VLOOKUP(B8598,Régions!A:C,3,FALSE)","v":"Pays de la Loire"},49,{"$error":"#N/A"},490533007,{"$error":"#N/A"},{"$error":"#N/A"},"PHARMACIE MA  CAMPAGNE","NULL","Route","de Champigné","49330 LES HAUTS-D'ANJOU",49330,"Les Hauts-d'Anjou","Pharmacie d'officine","A"]
[{"$f":"VLOOKUP(B8607,Régions!A:C,3,FALSE)","v":"Pays de la Loire"},49,"CNOP",490533254,490533254,"oui","PHARMACIE ALLAIN - PERICHOU","NULL","Boulevard","DU DOCTEUR LIONET","49700 DOUE LA FONTAINE",49700,"Doué-en-Anjou","Pharmacie d'officine","A"]
[{"$f":"VLOOKUP(B8614,Régions!A:C,3,FALSE)","v":"Pays de la Loire"},49,"CNOP",490533338,490533338,"oui","PHARMACIE DUGUE-CORNIC",86,"Rue","D'ANJOU","49600 BEAUPREAU EN MAUGES",49600,"Beaupréau-en-Mauges","Pharmacie d'officine","A"]
[{"$f":"VLOOKUP(B8621,Régions!A:C,3,FALSE)","v":"Pays de la Loire"},49,{"$error":"#N/A"},490533411,{"$error":"#N/A"},{"$error":"#N/A"},"PHARMACIE TAILLEFAIT",12,"Rue","EUGENE BONNET","49710 SEVREMOINE",49710,"Sèvremoine","Pharmacie d'officine","A"]
[{"$f":"VLOOKUP(B8633,Régions!A:C,3,FALSE)","v":"Pays de la Loire"},49,"CNOP",490533544,490533544,"oui","PHIE DUCHEMIN DE VAUBERNIER-LEFEVRE",7,"Avenue","DU HAUT ANJOU","49330 MIRE",49330,"Miré","Pharmacie d'officine","A"]
[{"$f":"VLOOKUP(B8640,Régions!A:C,3,FALSE)","v":"Pays de la Loire"},49,{"$error":"#N/A"},490533635,{"$error":"#N/A"},{"$error":"#N/A"},"PHARMACIE TRITSCH",26,"Rue","VALENTIN DES ORMEAUX","49610 MÛRS-ERIGNÉ",49610,"Mûrs-Erigné","Pharmacie d'officine","A"]
[{"$f":"VLOOKUP(B8652,Régions!A:C,3,FALSE)","v":"Pays de la Loire"},49,{"$error":"#N/A"},490533767,{"$error":"#N/A"},{"$error":"#N/A"},"PHARMACIE RIVES","NULL","Place","DE LA REPUBLIQUE","49420 POUANCE",49420,"Ombrée d'Anjou","Pharmacie d'officine","A"]
[{"$f":"VLOOKUP(B8655,Régions!A:C,3,FALSE)","v":"Pays de la Loire"},49,{"$error":"#N/A"},490533809,{"$error":"#N/A"},{"$error":"#N/A"},"PHARMACIE CHAUVEL-LECOMTE",23,"Rue","DE LA CROIX","49350 LES ROSIERS SUR LOIRE",49350,"Gennes-Val-de-Loire","Pharmacie d'officine","A"]
[{"$f":"VLOOKUP(B8671,Régions!A:C,3,FALSE)","v":"Pays de la Loire"},49,{"$error":"#N/A"},490533981,{"$error":"#N/A"},{"$error":"#N/A"},"PHARMACIE PETIT-ROBBE",7,"Rue","DU ROI RENE","49250 LOIRE AUTHION",49250,"Loire-Authion","Pharmacie d'officine","A"]
[{"$f":"VLOOKUP(B8678,Régions!A:C,3,FALSE)","v":"Pays de la Loire"},49,"CNOP",490534054,490534054,"oui","PHARMACIE CHANZY-VERRIER","NULL","Place","NANTILLY","49400 SAUMUR",49400,"Saumur","Pharmacie d'officine","A"]
[{"$f":"VLOOKUP(B8687,Régions!A:C,3,FALSE)","v":"Pays de la Loire"},49,"PHARMDIRECTFR",490534161,490534161,"oui","PHARMACIE  LEMAGNEN - FEUILLET",10,"Place","DE LA REPUBLIQUE","49500 SEGRE",49500,"Segré-en-Anjou Bleu","Pharmacie d'officine","A"]
[{"$f":"VLOOKUP(B8694,Régions!A:C,3,FALSE)","v":"Pays de la Loire"},49,"CNOP",490534237,490534237,"oui","PHARMACIE HUET",3,"Place","CLEMENCEAU","49660 TORFOU",49660,"Torfou","Pharmacie d'officine","A"]
[{"$f":"VLOOKUP(B8706,Régions!A:C,3,FALSE)","v":"Pays de la Loire"},49,"PHARMDIRECTFR",490534377,490534377,"oui","PHARMACIE MURAIL",26,"Rue","DES CHEVALIERS DE MALTE","49450 BEAUPREAU EN MAUGES",49450,"Beaupréau-en-Mauges","Pharmacie d'officine","A"]
[{"$f":"VLOOKUP(B8713,Régions!A:C,3,FALSE)","v":"Pays de la Loire"},49,{"$error":"#N/A"},490534567,{"$error":"#N/A"},{"$error":"#N/A"},"PHARMACIE OLLIVIER DESBOIS",11,"Boulevard","GUY CHOUTEAU","49300 CHOLET",49300,"Cholet","Pharmacie d'officine","A"]
[{"$f":"VLOOKUP(B8725,Régions!A:C,3,FALSE)","v":"Pays de la Loire"},49,{"$error":"#N/A"},490536117,{"$error":"#N/A"},{"$error":"#N/A"},"PHARMACIE FAUQUEUR-MERRIEN",202,"Rue","JEAN JAURES","49800 TRÉLAZÉ",49800,"Trélazé","Pharmacie d'officine","A"]
[{"$f":"VLOOKUP(B8728,Régions!A:C,3,FALSE)","v":"Pays de la Loire"},49,"PHARMDIRECTFR",490536240,490536240,"oui","PHARMACIE BRAUD",2,"Place","DU CHANOINE COLONEL PANAGET",49110,49110,"Montrevault-sur-Èvre","Pharmacie d'officine","A"]
[{"$f":"VLOOKUP(B8744,Régions!A:C,3,FALSE)","v":"Pays de la Loire"},49,"CNOP",490537545,490537545,"oui","SELARL PHARMACIE DE LIRÉ","NULL","Centre commercial","DU CLOS BLANC",49530,49530,"Orée d'Anjou","Pharmacie d'officine","A"]
[{"$f":"VLOOKUP(B8747,Régions!A:C,3,FALSE)","v":"Pays de la Loire"},49,"CNOP",490537651,490537651,"oui","PHARMACIE  PATELLIS-CAILLEAU",1,"Rue","de la Libération","49280 SAINT-CHRISTOPHE-DU-BOIS",49280,"Saint-Christophe-du-Bois","Pharmacie d'officine","A"]
[{"$f":"VLOOKUP(B8759,Régions!A:C,3,FALSE)","v":"Normandie"},50,"PHARMDIRECTFR",500010467,500010467,"oui","PHARMACIE BONVOISIN - MARTIN LOSLIER",2,"Place","DE GOUVILLE","50180 AGNEAUX",50180,"Agneaux","Pharmacie d'officine","A"]
[{"$f":"VLOOKUP(B8767,Régions!A:C,3,FALSE)","v":"Normandie"},50,"CNOP",500010582,500010582,"oui","PHARMACIE DE LA SEE",10,"Rue","DES PELERINS","50370 BRECEY",50370,"Brécey","Pharmacie d'officine","A"]
[{"$f":"VLOOKUP(B8779,Régions!A:C,3,FALSE)","v":"Normandie"},50,"PHARMDIRECTFR",500010723,500010723,"oui","PHARMACIE QUONIAM",7,"Rue","EMMANUEL LIAIS","50100 CHERBOURG EN COTENTIN",50100,"Cherbourg-en-Cotentin","Pharmacie d'officine","A"]
[{"$f":"VLOOKUP(B8786,Régions!A:C,3,FALSE)","v":"Normandie"},50,"PHARMDIRECTFR",500010830,500010830,"oui","PHARMACIE PIGNOT-PEREZ",29,"Avenue","DELAVILLE","50100 CHERBOURG EN COTENTIN",50100,"Cherbourg-en-Cotentin","Pharmacie d'officine","A"]
[{"$f":"VLOOKUP(B8798,Régions!A:C,3,FALSE)","v":"Normandie"},50,{"$error":"#N/A"},500011002,{"$error":"#N/A"},{"$error":"#N/A"},"SELARL PHARMACIE DE GAVRAY",7,"Place","DU DOCTEUR BECK","50450 GAVRAY-SUR-SIENNE",50450,"Gavray-sur-Sienne","Pharmacie d'officine","A"]
[{"$f":"VLOOKUP(B8801,Régions!A:C,3,FALSE)","v":"Normandie"},50,"CNOP",500011036,500011036,"oui","PHARMACIE LE SAINT",84,"Avenue","DU GENERAL LECLERC","50400 GRANVILLE",50400,"Granville","Pharmacie d'officine","A"]
[{"$f":"VLOOKUP(B8817,Régions!A:C,3,FALSE)","v":"Normandie"},50,"CNOP",500011226,500011226,"oui","PHARMACIE SEGALA",5,"Place","DE WESPORT","50570 MARIGNY LE LOZON",50570,"Marigny-Le-Lozon","Pharmacie d'officine","A"]
[{"$f":"VLOOKUP(B8820,Régions!A:C,3,FALSE)","v":"Normandie"},50,"PHARMDIRECTFR",500011275,500011275,"oui","PHARMACIE BLANDAMOUR",39,"NULL","GRANDE RUE","50140 MORTAIN BOCAGE",50140,"Mortain-Bocage","Pharmacie d'officine","A"]
[{"$f":"VLOOKUP(B8830,Régions!A:C,3,FALSE)","v":"Normandie"},50,"CNOP",500011432,500011432,"oui","PHARMACIE DE QUERQUEVILLE",118,"Rue","ROGER GLINEL","50460 CHERBOURG EN COTENTIN",50460,"Cherbourg-en-Cotentin","Pharmacie d'officine","A"]
[{"$f":"VLOOKUP(B8840,Régions!A:C,3,FALSE)","v":"Normandie"},50,"CNOP",500011549,500011549,"oui","PHARMACIE TACHE - CHIABRERO",2,"Avenue","DU GENERAL DE GAULLE","50240 SAINT-JAMES",50240,"Saint-James","Pharmacie d'officine","A"]
[{"$f":"VLOOKUP(B8852,Régions!A:C,3,FALSE)","v":"Normandie"},50,"CNOP",500011671,500011671,"oui","PHARMACIE BELLIER DU BOISIERE",7,"Rue","DE CHOISY","50550 SAINT-VAAST-LA-HOUGUE",50550,"Saint-Vaast-la-Hougue","Pharmacie d'officine","A"]
[{"$f":"VLOOKUP(B8859,Régions!A:C,3,FALSE)","v":"Normandie"},50,{"$error":"#N/A"},500011770,{"$error":"#N/A"},{"$error":"#N/A"},"PHARMACIE DU BOULEVARD DE L'EST",550,"Rue","du Grand Pré","50110 CHERBOURG-EN-COTENTIN",50110,"Cherbourg-en-Cotentin","Pharmacie d'officine","A"]
[{"$f":"VLOOKUP(B8871,Régions!A:C,3,FALSE)","v":"Normandie"},50,{"$error":"#N/A"},500011895,{"$error":"#N/A"},{"$error":"#N/A"},"SELARL BOULOT-PIGAILLEM",47,"Rue","LECAMPION","50400 GRANVILLE",50400,"Granville","Pharmacie d'officine","A"]
[{"$f":"VLOOKUP(B8878,Régions!A:C,3,FALSE)","v":"Normandie"},50,"PHARMDIRECTFR",500012042,500012042,"oui","SELARL PHARMACIE DES COUPLETS",48,"Rue","DU RIDERET","50120 CHERBOURG EN COTENTIN",50120,"Cherbourg-en-Cotentin","Pharmacie d'officine","A"]
[{"$f":"VLOOKUP(B8890,Régions!A:C,3,FALSE)","v":"Normandie"},50,"PHARMDIRECTFR",500013941,500013941,"oui","PHARMACIE DU VAL DE SAIRE",2,"Rue","DU 8 MAI 1945","50330 ST PIERRE EGLISE",50330,"Saint-Pierre-Église","Pharmacie d'officine","A"]
[{"$f":"VLOOKUP(B8893,Régions!A:C,3,FALSE)","v":"Normandie"},50,"CNOP",500020789,500020789,"oui","PHARMACIE DES MANUSCRITS",41,"Rue","DE LA DIVISION LECLERC","50300 AVRANCHES",50300,"Avranches","Pharmacie d'officine","A"]
[{"$f":"VLOOKUP(B8909,Régions!A:C,3,FALSE)","v":"Grand Est"},51,"PHARMDIRECTFR",510018112,510018112,"oui","PHARMACIE GROULEZ",30,"Rue","EMILE SCHMIT","51000 CHALONS EN CHAMPAGNE",51000,"Châlons-en-Champagne","Pharmacie d'officine","A"]
[{"$f":"VLOOKUP(B8915,Régions!A:C,3,FALSE)","v":"Grand Est"},51,{"$error":"#N/A"},510018260,{"$error":"#N/A"},{"$error":"#N/A"},"PHARMACIE LANGINY",20,"Rue","LEON BOURGEOIS","51000 CHÂLONS-EN-CHAMPAGNE",51000,"Châlons-en-Champagne","Pharmacie d'officine","A"]
[{"$f":"VLOOKUP(B8925,Régions!A:C,3,FALSE)","v":"Grand Est"},51,"PHARMDIRECTFR",510018542,510018542,"oui","PHARMACIE DELIRE",13,"Rue","DE LA PORTE AU BOURG","51220 CORMICY",51220,"Cormicy","Pharmacie d'officine","A"]
[{"$f":"VLOOKUP(B8932,Régions!A:C,3,FALSE)","v":"Grand Est"},51,"CNOP",510018724,510018724,"oui","PHARMACIE DANSIN",17,"Rue","JEAN DE DORMANS","51700 DORMANS",51700,"Dormans","Pharmacie d'officine","A"]
[{"$f":"VLOOKUP(B8944,Régions!A:C,3,FALSE)","v":"Grand Est"},51,{"$error":"#N/A"},510019060,{"$error":"#N/A"},{"$error":"#N/A"},"PHARMACIE RISPAL",47,"Rue","SAINT THIBAULT","51200 EPERNAY",51200,"Épernay","Pharmacie d'officine","A"]
[{"$f":"VLOOKUP(B8951,Régions!A:C,3,FALSE)","v":"Grand Est"},51,"CNOP",510019243,510019243,"oui","PHARMACIE FISMOISE",14,"Rue","DE LA HUCHETTE","51170 FISMES",51170,"Fismes","Pharmacie d'officine","A"]
[{"$f":"VLOOKUP(B8963,Régions!A:C,3,FALSE)","v":"Grand Est"},51,"PHARMDIRECTFR",510019565,510019565,"oui","PHARMACIE  DU  CEDRE",2,"Rue","LAMARTINE","51140 MUIZON",51140,"Muizon","Pharmacie d'officine","A"]
[{"$f":"VLOOKUP(B8966,Régions!A:C,3,FALSE)","v":"Grand Est"},51,"PHARMDIRECTFR",510019631,510019631,"oui","PHARMACIE VACHER",9,"Route","DE DORMANS","51390 PARGNY-LES-REIMS",51390,"Pargny-lès-Reims","Pharmacie d'officine","A"]
[{"$f":"VLOOKUP(B8982,Régions!A:C,3,FALSE)","v":"Grand Est"},51,{"$error":"#N/A"},510020043,{"$error":"#N/A"},{"$error":"#N/A"},"PHARMACIE DEPAQUIT",91,"Rue","DU CHALET","51100 REIMS",51100,"Reims","Pharmacie d'officine","A"]
[{"$f":"VLOOKUP(B8985,Régions!A:C,3,FALSE)","v":"Grand Est"},51,{"$error":"#N/A"},510020126,{"$error":"#N/A"},{"$error":"#N/A"},"PHARMACIE GELARD",31,"Rue","DU COLONEL FABIEN","51100 REIMS",51100,"Reims","Pharmacie d'officine","A"]
[{"$f":"VLOOKUP(B9000,Régions!A:C,3,FALSE)","v":"Grand Est"},51,"CNOP",510020480,510020480,"oui","PHARMACIE BOURQUEL-JEGOU",94,"Avenue","JEAN-JAURES","51100 REIMS",51100,"Reims","Pharmacie d'officine","A"]
[{"$f":"VLOOKUP(B9005,Régions!A:C,3,FALSE)","v":"Grand Est"},51,{"$error":"#N/A"},510020613,{"$error":"#N/A"},{"$error":"#N/A"},"PHARMACIE MARCHAL",91,"Avenue","DE LAON","51100 REIMS",51100,"Reims","Pharmacie d'officine","A"]
[{"$f":"VLOOKUP(B9017,Régions!A:C,3,FALSE)","v":"Grand Est"},51,"CNOP",510020910,510020910,"oui","PHARMACIE TELLIER",84,"Rue","DE NEUFCHATEL","51100 REIMS",51100,"Reims","Pharmacie d'officine","A"]
[{"$f":"VLOOKUP(B9024,Régions!A:C,3,FALSE)","v":"Grand Est"},51,"PHARMDIRECTFR",510021124,510021124,"oui","PHARMACIE BOURIN-MONNIER",30,"Rue","DU DOCTEUR LEMOINE","51100 REIMS",51100,"Reims","Pharmacie d'officine","A"]
[{"$f":"VLOOKUP(B9036,Régions!A:C,3,FALSE)","v":"Grand Est"},51,"CNOP",510021462,510021462,"oui","PHARMACIE GILLARD",13,"Rue","DE HOUDAN","51370 SAINT-BRICE-COURCELLES",51370,"Saint-Brice-Courcelles","Pharmacie d'officine","A"]
[{"$f":"VLOOKUP(B9039,Régions!A:C,3,FALSE)","v":"Grand Est"},51,"PHARMDIRECTFR",510021546,510021546,"oui","PHARMACIE TIVOLLIER",34,"Rue","DE POIX","51470 ST MEMMIE",51470,"Saint-Memmie","Pharmacie d'officine","A"]
[{"$f":"VLOOKUP(B9055,Régions!A:C,3,FALSE)","v":"Grand Est"},51,{"$error":"#N/A"},510022015,{"$error":"#N/A"},{"$error":"#N/A"},"PHARMACIE FLOQUET",36,"Avenue","Paul Vaillant Couturier","51430 TINQUEUX",51430,"Tinqueux","Pharmacie d'officine","A"]
[{"$f":"VLOOKUP(B9058,Régions!A:C,3,FALSE)","v":"Grand Est"},51,{"$error":"#N/A"},510022080,{"$error":"#N/A"},{"$error":"#N/A"},"PHARMACIE KREIT",27,"NULL","GRANDE RUE","51340 VANAULT-LES-DAMES",51340,"Vanault-les-Dames","Pharmacie d'officine","A"]
[{"$f":"VLOOKUP(B9067,Régions!A:C,3,FALSE)","v":"Grand Est"},51,{"$error":"#N/A"},510022395,{"$error":"#N/A"},{"$error":"#N/A"},"PHARMACIE NDONG",1,"Faubourg","DE CHALONS","51300 VITRY-LE-FRANCOIS",51300,"Vitry-le-François","Pharmacie d'officine","A"]
[{"$f":"VLOOKUP(B9078,Régions!A:C,3,FALSE)","v":"Grand Est"},52,"CNOP",520000936,520000936,"oui","PHARMACIE CENTRALE",43,"Avenue","Lefroit Dupain","52400 BOURBONNE-LES-BAINS",52400,"Bourbonne-les-Bains","Pharmacie d'officine","A"]
[{"$f":"VLOOKUP(B9090,Régions!A:C,3,FALSE)","v":"Grand Est"},52,"CNOP",520001306,520001306,"oui","PHARMACIE TITA",3,"Avenue","DE LA REPUBLIQUE","52000 CHAUMONT",52000,"Chaumont","Pharmacie d'officine","A"]
[{"$f":"VLOOKUP(B9097,Régions!A:C,3,FALSE)","v":"Grand Est"},52,"CNOP",520001520,520001520,"oui","PHARMACIE MERCIER - REMONGIN",1,"Place","DE LA BARRE","52500 FAYL-BILLOT",52500,"Fayl-Billot","Pharmacie d'officine","A"]
[{"$f":"VLOOKUP(B9109,Régions!A:C,3,FALSE)","v":"Grand Est"},52,"CNOP",520001835,520001835,"oui","PHARMACIE GRUNDRICH",43,"Rue","DIDEROT","52200 LANGRES",52200,"Langres","Pharmacie d'officine","A"]
[{"$f":"VLOOKUP(B9112,Régions!A:C,3,FALSE)","v":"Grand Est"},52,{"$error":"#N/A"},520001900,{"$error":"#N/A"},{"$error":"#N/A"},"S.E.L.A.S. PHARMACIE NJAMEN","NULL","Place","de Verdun","52140 VAL-DE-MEUSE",52140,"Val-de-Meuse","Pharmacie d'officine","A"]
[{"$f":"VLOOKUP(B9128,Régions!A:C,3,FALSE)","v":"Grand Est"},52,"CNOP",520002486,520002486,"oui","PHARMACIE POUTRIEUX",68,"NULL","GRANDE RUE","52100 VILLIERS-EN-LIEU",52100,"Villiers-en-Lieu","Pharmacie d'officine","A"]
[{"$f":"VLOOKUP(B9131,Régions!A:C,3,FALSE)","v":"Grand Est"},52,{"$error":"#N/A"},520003302,{"$error":"#N/A"},{"$error":"#N/A"},"PHARMACIE BOUTHIER",4,"Rue","MARECHAL DE LATTRE DE TASSIGNY","52800 NOGENT",52800,"Nogent","Pharmacie d'officine","A"]
[{"$f":"VLOOKUP(B9138,Régions!A:C,3,FALSE)","v":"Pays de la Loire"},53,"CNOP",530030261,530030261,"oui","PHARMACIE THEVENET",7,"Rue","SAINT AVENTIN","53200 CHATEAU-GONTIER-SUR-MAYENNE",53200,"Château-Gontier-sur-Mayenne","Pharmacie d'officine","A"]
[{"$f":"VLOOKUP(B9152,Régions!A:C,3,FALSE)","v":"Pays de la Loire"},53,"CNOP",530030444,530030444,"oui","PHARMACIE HEUZE",32,"Rue","DU MAINE","53540 CUILLE",53540,"Cuillé","Pharmacie d'officine","A"]
[{"$f":"VLOOKUP(B9163,Régions!A:C,3,FALSE)","v":"Pays de la Loire"},53,{"$error":"#N/A"},530030584,{"$error":"#N/A"},{"$error":"#N/A"},"PHARMACIE RAULINE-MICHAUX",7,"NULL","GRANDE RUE","53110 LASSAY-LES-CHATEAUX",53110,"Lassay-les-Châteaux","Pharmacie d'officine","A"]
[{"$f":"VLOOKUP(B9170,Régions!A:C,3,FALSE)","v":"Pays de la Loire"},53,"PHARMDIRECTFR",530030675,530030675,"oui","PHARMACIE DU CENTRE",11,"Rue","du Général de Gaulle","53000 LAVAL",53000,"Laval","Pharmacie d'officine","A"]
[{"$f":"VLOOKUP(B9182,Régions!A:C,3,FALSE)","v":"Pays de la Loire"},53,"PHARMDIRECTFR",530030816,530030816,"oui","PHARMACIE DES ALIZÉS",2,"Place","Saint Martin","53950 LOUVERNE",53950,"Louverné","Pharmacie d'officine","A"]
[{"$f":"VLOOKUP(B9185,Régions!A:C,3,FALSE)","v":"Pays de la Loire"},53,{"$error":"#N/A"},530030840,{"$error":"#N/A"},{"$error":"#N/A"},"PHARMACIE LE BORGNE-BEUDIN",7,"Boulevard","DU GENERAL LECLERC","53100 MAYENNE",53100,"Mayenne","Pharmacie d'officine","A"]
[{"$f":"VLOOKUP(B9201,Régions!A:C,3,FALSE)","v":"Pays de la Loire"},53,"CNOP",530031061,530031061,"oui","PHARMACIE TURMINEL - ROUSSET",7,"Rue","DES AVALOIRS","53370 ST PIERRE DES NIDS",53370,"Saint-Pierre-des-Nids","Pharmacie d'officine","A"]
[{"$f":"VLOOKUP(B9204,Régions!A:C,3,FALSE)","v":"Pays de la Loire"},53,"PHARMDIRECTFR",530031095,530031095,"oui","PHARMACIE DE VAIGES",5,"Route","DU MANS","53480 VAIGES",53480,"Vaiges","Pharmacie d'officine","A"]
[{"$f":"VLOOKUP(B9211,Régions!A:C,3,FALSE)","v":"Pays de la Loire"},53,{"$error":"#N/A"},530032879,{"$error":"#N/A"},{"$error":"#N/A"},"PHARMACIE PAQUEREAU",62,"Route","DE LAVAL","53240 LA-BACONNIERE",53240,"La Baconnière","Pharmacie d'officine","A"]
[{"$f":"VLOOKUP(B9223,Régions!A:C,3,FALSE)","v":"Grand Est"},54,{"$error":"#N/A"},540007192,{"$error":"#N/A"},{"$error":"#N/A"},"PHARMACIE  MOREAU",14,"Avenue","DE LA GARE","54290 BAYON",54290,"Bayon","Pharmacie d'officine","A"]
[{"$f":"VLOOKUP(B9237,Régions!A:C,3,FALSE)","v":"Grand Est"},54,{"$error":"#N/A"},540009107,{"$error":"#N/A"},{"$error":"#N/A"},"PHARMACIE MIGET MENUT",849,"Rue","EDMOND PINTIER","54230 CHALIGNY",54230,"Chaligny","Pharmacie d'officine","A"]
[{"$f":"VLOOKUP(B9243,Régions!A:C,3,FALSE)","v":"Grand Est"},54,"PHARMDIRECTFR",540009255,540009255,"oui","PHARMACIE MAURICE-BASARAN",30,"Avenue","CARNOT","54170 COLOMBEY-LES-BELLES",54170,"Colombey-les-Belles","Pharmacie d'officine","A"]
[{"$f":"VLOOKUP(B9255,Régions!A:C,3,FALSE)","v":"Grand Est"},54,{"$error":"#N/A"},540010006,{"$error":"#N/A"},{"$error":"#N/A"},"PHARMACIE HOLLARD",104,"Avenue","DU GENERAL LECLERC","54110 DOMBASLE-SUR-MEURTHE",54110,"Dombasle-sur-Meurthe","Pharmacie d'officine","A"]
[{"$f":"VLOOKUP(B9262,Régions!A:C,3,FALSE)","v":"Grand Est"},54,"CNOP",540010204,540010204,"oui","PHARMACIE  MOUSSEAUX",12,"Rue","DES PRES","54270 ESSEY-LES-NANCY",54270,"Essey-lès-Nancy","Pharmacie d'officine","A"]
[{"$f":"VLOOKUP(B9274,Régions!A:C,3,FALSE)","v":"Grand Est"},54,"PHARMDIRECTFR",540010550,540010550,"oui","PHARMACIE HENRY",11,"Rue","MARECHAL DE BEAUVAU","54740 HAROUE",54740,"Haroué","Pharmacie d'officine","A"]
[{"$f":"VLOOKUP(B9277,Régions!A:C,3,FALSE)","v":"Grand Est"},54,{"$error":"#N/A"},540010725,{"$error":"#N/A"},{"$error":"#N/A"},"PHARMACIE HAMM",35,"NULL","GRANDE RUE","54180 HEILLECOURT",54180,"Heillecourt","Pharmacie d'officine","A"]
[{"$f":"VLOOKUP(B9284,Régions!A:C,3,FALSE)","v":"Grand Est"},54,"CNOP",540011327,540011327,"oui","PHARMACIE OGUZ",26,"Rue","GAMBETTA","54800 JARNY",54800,"Jarny","Pharmacie d'officine","A"]
[{"$f":"VLOOKUP(B9296,Régions!A:C,3,FALSE)","v":"Grand Est"},54,{"$error":"#N/A"},540012770,{"$error":"#N/A"},{"$error":"#N/A"},"PHARMACIE JACQUOT","NULL","Avenue","DE LA MINE","54490 JOUDREVILLE",54490,"Joudreville","Pharmacie d'officine","A"]
[{"$f":"VLOOKUP(B9308,Régions!A:C,3,FALSE)","v":"Grand Est"},54,"CNOP",540014164,540014164,"oui","PHARMACIE FESTOR",16,"Rue","DE LA GARE","54460 LIVERDUN",54460,"Liverdun","Pharmacie d'officine","A"]
[{"$f":"VLOOKUP(B9316,Régions!A:C,3,FALSE)","v":"Grand Est"},54,{"$error":"#N/A"},540014552,{"$error":"#N/A"},{"$error":"#N/A"},"PHARMACIE HAYANI KHALFAOUI","NULL","Angle","RUE THIERS ET RUE DE L'HOTEL D","54400 LONGWY",54400,"Longwy","Pharmacie d'officine","A"]
[{"$f":"VLOOKUP(B9328,Régions!A:C,3,FALSE)","v":"Grand Est"},54,"CNOP",540014867,540014867,"oui","PHARMACIE PHARMETHIC",1,"Place","LEOPOLD","54300 LUNEVILLE",54300,"Lunéville","Pharmacie d'officine","A"]
[{"$f":"VLOOKUP(B9335,Régions!A:C,3,FALSE)","v":"Grand Est"},54,{"$error":"#N/A"},540015021,{"$error":"#N/A"},{"$error":"#N/A"},"PHARMACIE  MOREAU",30,"Rue","SADI CARNOT","54220 MALZEVILLE",54220,"Malzéville","Pharmacie d'officine","A"]
[{"$f":"VLOOKUP(B9347,Régions!A:C,3,FALSE)","v":"Grand Est"},54,"CNOP",540015336,540015336,"oui","PHARMACIE BRAYER","NULL","Boulevard","DE L'EUROPE","54350 MONT-SAINT-MARTIN",54350,"Mont-Saint-Martin","Pharmacie d'officine","A"]
[{"$f":"VLOOKUP(B9350,Régions!A:C,3,FALSE)","v":"Grand Est"},54,{"$error":"#N/A"},540015401,{"$error":"#N/A"},{"$error":"#N/A"},"PHARMACIE RAD",1,"Place","DE LA LIBERATION","54660 MOUTIERS",54660,"Moutiers","Pharmacie d'officine","A"]
[{"$f":"VLOOKUP(B9357,Régions!A:C,3,FALSE)","v":"Grand Est"},54,{"$error":"#N/A"},540015591,{"$error":"#N/A"},{"$error":"#N/A"},"PHARMACIE BRABANT - DHIFAOUI",1,"Avenue","FOCH","54000 NANCY",54000,"Nancy","Pharmacie d'officine","A"]
[{"$f":"VLOOKUP(B9369,Régions!A:C,3,FALSE)","v":"Grand Est"},54,{"$error":"#N/A"},540015914,{"$error":"#N/A"},{"$error":"#N/A"},"PHARMACIE UHLRICH",1,"Rue","DE MALZEVILLE","54000 NANCY",54000,"Nancy","Pharmacie d'officine","A"]
[{"$f":"VLOOKUP(B9376,Régions!A:C,3,FALSE)","v":"Grand Est"},54,"PHARMDIRECTFR",540016094,540016094,"oui","PHARMACIE DE LA GARE CHRISTMANN",4,"Place","THIERS","54000 NANCY",54000,"Nancy","Pharmacie d'officine","A"]
[{"$f":"VLOOKUP(B9389,Régions!A:C,3,FALSE)","v":"Grand Est"},54,"PHARMDIRECTFR",540016490,540016490,"oui","PHARMACIE METCHE",632,"Avenue","Raymond PINCHARD","54100 NANCY",54100,"Nancy","Pharmacie d'officine","A"]
[{"$f":"VLOOKUP(B9401,Régions!A:C,3,FALSE)","v":"Grand Est"},54,"CNOP",540016847,540016847,"oui","PHARMACIE LIEGEOIS",20,"Rue","DU GENERAL DE GAULLE","54340 POMPEY",54340,"Pompey","Pharmacie d'officine","A"]
[{"$f":"VLOOKUP(B9408,Régions!A:C,3,FALSE)","v":"Grand Est"},54,{"$error":"#N/A"},540017027,{"$error":"#N/A"},{"$error":"#N/A"},"PHARMACIE  BONNEAUD",13,"Rue","JEAN JAURES","54550 PONT-SAINT-VINCENT",54550,"Pont-Saint-Vincent","Pharmacie d'officine","A"]
[{"$f":"VLOOKUP(B9420,Régions!A:C,3,FALSE)","v":"Grand Est"},54,{"$error":"#N/A"},540017365,{"$error":"#N/A"},{"$error":"#N/A"},"PHARMACIE KRUKOFF",17,"Rue","JEAN XXIII","54130 SAINT-MAX",54130,"Saint-Max","Pharmacie d'officine","A"]
[{"$f":"VLOOKUP(B9423,Régions!A:C,3,FALSE)","v":"Grand Est"},54,"CNOP",540017464,540017464,"oui","PHARMACIE BALLARINI",51,"Rue","DE LONGWY","54650 SAULNES",54650,"Saulnes","Pharmacie d'officine","A"]
[{"$f":"VLOOKUP(B9430,Régions!A:C,3,FALSE)","v":"Grand Est"},54,"CNOP",540017647,540017647,"oui","PHARMACIE PAULIN",77,"Boulevard","HENRI BARBUSSE","54510 TOMBLAINE",54510,"Tomblaine","Pharmacie d'officine","A"]
[{"$f":"VLOOKUP(B9442,Régions!A:C,3,FALSE)","v":"Grand Est"},54,"PHARMDIRECTFR",540017977,540017977,"oui","PHARMACIE  SAINTON",108,"Avenue","CHARLES DE GAULLE","54910 VALLEROY",54910,"Valleroy","Pharmacie d'officine","A"]
[{"$f":"VLOOKUP(B9449,Régions!A:C,3,FALSE)","v":"Grand Est"},54,{"$error":"#N/A"},540018181,{"$error":"#N/A"},{"$error":"#N/A"},"PHARMACIE HANEN",6,"Rue","D'ITALIE","54500 VANDOEUVRE LES NANCY",54500,"Vandoeuvre-lès-Nancy","Pharmacie d'officine","A"]
[{"$f":"VLOOKUP(B9460,Régions!A:C,3,FALSE)","v":"Grand Est"},54,"PHARMDIRECTFR",540018512,540018512,"oui","PHARMACIE VILMUS LAURENCE",60,"Avenue","DU GENERAL LECLERC","54600 VILLERS-LES-NANCY",54600,"Villers-lès-Nancy","Pharmacie d'officine","A"]
[{"$f":"VLOOKUP(B9474,Régions!A:C,3,FALSE)","v":"Grand Est"},55,"PHARMDIRECTFR",550001234,550001234,"oui","PHARMACIE MOUCHET",62,"Boulevard","DE LA ROCHELLE","55000 BAR-LE-DUC",55000,"Bar-le-Duc","Pharmacie d'officine","A"]
[{"$f":"VLOOKUP(B9481,Régions!A:C,3,FALSE)","v":"Grand Est"},55,"PHARMDIRECTFR",550001432,550001432,"oui","PHARMACIE COQUILLAUD",13,"Place","CHARLES DE GAULLE","55200 COMMERCY",55200,"Commercy","Pharmacie d'officine","A"]
[{"$f":"VLOOKUP(B9493,Régions!A:C,3,FALSE)","v":"Grand Est"},55,{"$error":"#N/A"},550001721,{"$error":"#N/A"},{"$error":"#N/A"},"PHARMACIE DE L'ORNAIN",8,"Place","DE L'HOTEL DE VILLE","55130 GONDRECOURT-LE-CHATEAU",55130,"Gondrecourt-le-Château","Pharmacie d'officine","A"]
[{"$f":"VLOOKUP(B9496,Régions!A:C,3,FALSE)","v":"Grand Est"},55,"CNOP",550001804,550001804,"oui","PHARMACIE  JEUNOT",10,"Rue","DU GENERAL DE GAULLE","55500 LIGNY EN BARROIS",55500,"Ligny-en-Barrois","Pharmacie d'officine","A"]
[{"$f":"VLOOKUP(B9503,Régions!A:C,3,FALSE)","v":"Grand Est"},55,"CNOP",550002042,550002042,"oui","PHARMACIE MATROT-BIGEARD",6,"Rue","ARISTIDE BRIAND","55800 REVIGNY-SUR-ORNAIN",55800,"Revigny-sur-Ornain","Pharmacie d'officine","A"]
[{"$f":"VLOOKUP(B9515,Régions!A:C,3,FALSE)","v":"Grand Est"},55,{"$error":"#N/A"},550002612,{"$error":"#N/A"},{"$error":"#N/A"},"PHARMACIE CIRET",6,"Avenue","GARIBALDI","55100 VERDUN",55100,"Verdun","Pharmacie d'officine","A"]
[{"$f":"VLOOKUP(B9522,Régions!A:C,3,FALSE)","v":"Grand Est"},55,"PHARMDIRECTFR",550002794,550002794,"oui","PHARMACIE MARTIN",72,"Rue","RAYMOND POINCARE","55210 VIGNEULLES-LÈS-HATTONCHÂTEL",55210,"Vigneulles-lès-Hattonchâtel","Pharmacie d'officine","A"]
[{"$f":"VLOOKUP(B9534,Régions!A:C,3,FALSE)","v":"Bretagne"},56,{"$error":"#N/A"},560015695,{"$error":"#N/A"},{"$error":"#N/A"},"PHARMACIE  PORTE  OCEANE",36,"Rue","DE L'OCEAN","56400 AURAY",56400,"Auray","Pharmacie d'officine","A"]
[{"$f":"VLOOKUP(B9545,Régions!A:C,3,FALSE)","v":"Bretagne"},56,{"$error":"#N/A"},560015976,{"$error":"#N/A"},{"$error":"#N/A"},"PHARMACIE BREDEKA - NIGNOL",21,"Rue","DES TILLEULS","56310 BUBRY",56310,"Bubry","Pharmacie d'officine","A"]
[{"$f":"VLOOKUP(B9554,Régions!A:C,3,FALSE)","v":"Bretagne"},56,{"$error":"#N/A"},560016214,{"$error":"#N/A"},{"$error":"#N/A"},"PHARMACIE DU LENN SEC'H","NULL","Avenue","Simone Veil","56850 CAUDAN",56850,"Caudan","Pharmacie d'officine","A"]
[{"$f":"VLOOKUP(B9566,Régions!A:C,3,FALSE)","v":"Bretagne"},56,"PHARMDIRECTFR",560016610,560016610,"oui","PHARMACIE DE GAVRES",40,"Avenue","des Sardiniers","56680 GAVRES",56680,"Gâvres","Pharmacie d'officine","A"]
[{"$f":"VLOOKUP(B9573,Régions!A:C,3,FALSE)","v":"Bretagne"},56,{"$error":"#N/A"},560016875,{"$error":"#N/A"},{"$error":"#N/A"},"PHARMACIE KERGARAVAT","NULL","Rue","JEAN LE GUENNEC","56160 GUEMENE SUR SCORFF",56160,"Guémené-sur-Scorff","Pharmacie d'officine","A"]
[{"$f":"VLOOKUP(B9576,Régions!A:C,3,FALSE)","v":"Bretagne"},56,{"$error":"#N/A"},560016974,{"$error":"#N/A"},{"$error":"#N/A"},"PHARMACIE MINY",22,"Rue","DE L'OCEAN","56520 GUIDEL",56520,"Guidel","Pharmacie d'officine","A"]
[{"$f":"VLOOKUP(B9588,Régions!A:C,3,FALSE)","v":"Bretagne"},56,{"$error":"#N/A"},560017345,{"$error":"#N/A"},{"$error":"#N/A"},"PHARMACIE HERVE-TROENES",15,"Rue","E. ZOLA","56650 INZINZAC-LOCHRIST",56650,"Inzinzac-Lochrist","Pharmacie d'officine","A"]
[{"$f":"VLOOKUP(B9595,Régions!A:C,3,FALSE)","v":"Bretagne"},56,"CNOP",560017543,560017543,"oui","PHARMACIE  ARNAUD",78,"Avenue","AMBROISE CROIZAT","56600 LANESTER",56600,"Lanester","Pharmacie d'officine","A"]
[{"$f":"VLOOKUP(B9607,Régions!A:C,3,FALSE)","v":"Bretagne"},56,{"$error":"#N/A"},560017881,{"$error":"#N/A"},{"$error":"#N/A"},"PHARMACIE BOILLOT-DURAND",1,"Rue","DE LA CHAPELLE","56260 LARMOR-PLAGE",56260,"Larmor-Plage","Pharmacie d'officine","A"]
[{"$f":"VLOOKUP(B9619,Régions!A:C,3,FALSE)","v":"Bretagne"},56,"PHARMDIRECTFR",560018210,560018210,"oui","PHARMACIE  BERGEUN",79,"Rue","DE BELGIQUE","56100 LORIENT",56100,"Lorient","Pharmacie d'officine","A"]
[{"$f":"VLOOKUP(B9626,Régions!A:C,3,FALSE)","v":"Bretagne"},56,{"$error":"#N/A"},560018426,{"$error":"#N/A"},{"$error":"#N/A"},"PHARMACIE VICTORIA",2,"Boulevard","EMMANUEL SVOB","56100 LORIENT",56100,"Lorient","Pharmacie d'officine","A"]
[{"$f":"VLOOKUP(B9639,Régions!A:C,3,FALSE)","v":"Bretagne"},56,"PHARMDIRECTFR",560018830,560018830,"oui","PHARMACIE CRUSSARD",17,"Place","DU DR QUEINNEC","56140 MALESTROIT",56140,"Malestroit","Pharmacie d'officine","A"]
[{"$f":"VLOOKUP(B9646,Régions!A:C,3,FALSE)","v":"Bretagne"},56,{"$error":"#N/A"},560019044,{"$error":"#N/A"},{"$error":"#N/A"},"PHARMACIE BILLANT","NULL","Route","DE VANNES","56890 MEUCON",56890,"Meucon","Pharmacie d'officine","A"]
[{"$f":"VLOOKUP(B9649,Régions!A:C,3,FALSE)","v":"Bretagne"},56,{"$error":"#N/A"},560019127,{"$error":"#N/A"},{"$error":"#N/A"},"PHARMACIE PATIN",20,"Place","DU MARCHE","56190 MUZILLAC",56190,"Muzillac","Pharmacie d'officine","A"]
[{"$f":"VLOOKUP(B9661,Régions!A:C,3,FALSE)","v":"Bretagne"},56,{"$error":"#N/A"},560019515,{"$error":"#N/A"},{"$error":"#N/A"},"PHARMACIE MAIRIE",19,"Place","DE L'EGLISE","56270 PLOEMEUR",56270,"Ploemeur","Pharmacie d'officine","A"]
[{"$f":"VLOOKUP(B9668,Régions!A:C,3,FALSE)","v":"Bretagne"},56,"CNOP",560019697,560019697,"oui","PHARMACIE BRABANT - LE CORRE",2,"Place","DE LA MAIRIE","56880 PLOEREN",56880,"Ploeren","Pharmacie d'officine","A"]
[{"$f":"VLOOKUP(B9680,Régions!A:C,3,FALSE)","v":"Bretagne"},56,"PHARMDIRECTFR",560020042,560020042,"oui","PHARMACIE DE BEAUNAY-CHATEL",16,"Rue","DES FRERES BULEON","56400 PLUMERGAT",56400,"Plumergat","Pharmacie d'officine","A"]
[{"$f":"VLOOKUP(B9692,Régions!A:C,3,FALSE)","v":"Bretagne"},56,{"$error":"#N/A"},560020380,{"$error":"#N/A"},{"$error":"#N/A"},"PHARMACIE SERANDOUR - BLANGONET","NULL","Route","DE LA GARE EN LENRUIT","56230 QUESTEMBERT",56230,"Questembert","Pharmacie d'officine","A"]
[{"$f":"VLOOKUP(B9697,Régions!A:C,3,FALSE)","v":"Bretagne"},56,{"$error":"#N/A"},560020497,{"$error":"#N/A"},{"$error":"#N/A"},"PHARMACIE SCHICK",30,"Rue","JEAN JAURES","56530 QUEVEN",56530,"Quéven","Pharmacie d'officine","A"]
[{"$f":"VLOOKUP(B9712,Régions!A:C,3,FALSE)","v":"Bretagne"},56,{"$error":"#N/A"},560020943,{"$error":"#N/A"},{"$error":"#N/A"},"PHARMACIE CHIQUET","NULL","Route","DE PONTIVY","56890 ST AVE",56890,"Saint-Avé","Pharmacie d'officine","A"]
[{"$f":"VLOOKUP(B9719,Régions!A:C,3,FALSE)","v":"Bretagne"},56,"CNOP",560021131,560021131,"oui","PHARMACIE BOULANT-DUVERNOIS",3,"Rue","DE PONTIVY","56300 SAINT-THURIAU",56300,"Saint-Thuriau","Pharmacie d'officine","A"]
[{"$f":"VLOOKUP(B9722,Régions!A:C,3,FALSE)","v":"Bretagne"},56,"PHARMDIRECTFR",560021214,560021214,"oui","PHARMACIE PETIT",24,"Avenue","DU GENERAL DE GAULLE","56370 SARZEAU",56370,"Sarzeau","Pharmacie d'officine","A"]
[{"$f":"VLOOKUP(B9734,Régions!A:C,3,FALSE)","v":"Bretagne"},56,"PHARMDIRECTFR",560021511,560021511,"oui","PHARMACIE GUENIN",20,"Cours","DES QUAIS","56470 TRINITÉ-SUR-MER (LA)",56470,"La Trinité-sur-Mer","Pharmacie d'officine","A"]
[{"$f":"VLOOKUP(B9741,Régions!A:C,3,FALSE)","v":"Bretagne"},56,"PHARMDIRECTFR",560021677,560021677,"oui","PHARMACIE   DE   ROHAN",4,"Avenue","GEORGES POMPIDOU","56000 VANNES",56000,"Vannes","Pharmacie d'officine","A"]
[{"$f":"VLOOKUP(B9753,Régions!A:C,3,FALSE)","v":"Bretagne"},56,{"$error":"#N/A"},560022014,{"$error":"#N/A"},{"$error":"#N/A"},"PHARMACIE  VANNES  PARC  LANN","NULL","Zone d amenagement concerte","DE PARC LANN","56000 VANNES",56000,"Vannes","Pharmacie d'officine","A"]
[{"$f":"VLOOKUP(B9760,Régions!A:C,3,FALSE)","v":"Grand Est"},57,"PHARMDIRECTFR",570004119,570004119,"oui","PHARMACIE JANUS",28,"Rue","DE L'EGLISE","57460 KERBACH",57460,"Kerbach","Pharmacie d'officine","A"]
[{"$f":"VLOOKUP(B9772,Régions!A:C,3,FALSE)","v":"Grand Est"},57,{"$error":"#N/A"},570012500,{"$error":"#N/A"},{"$error":"#N/A"},"PHARMACIE DE L'ALZETTE",637,"Allee","Lucien Schaefer","57390 AUDUN-LE-TICHE",57390,"Audun-le-Tiche","Pharmacie d'officine","A"]
[{"$f":"VLOOKUP(B9782,Régions!A:C,3,FALSE)","v":"Grand Est"},57,"CNOP",570013847,570013847,"oui","PHARMACIE POCECCO-FIORINA",52,"Rue","DE VERDUN","57655 BOULANGE",57655,"Boulange","Pharmacie d'officine","A"]
[{"$f":"VLOOKUP(B9792,Régions!A:C,3,FALSE)","v":"Grand Est"},57,{"$error":"#N/A"},570015164,{"$error":"#N/A"},{"$error":"#N/A"},"PHARMACIE  FLEURY",7,"Avenue","DE DITSCHVILLER","57800 COCHEREN",57800,"Cocheren","Pharmacie d'officine","A"]
[{"$f":"VLOOKUP(B9795,Régions!A:C,3,FALSE)","v":"Grand Est"},57,"PHARMDIRECTFR",570015495,570015495,"oui","PHARMACIE GEHL",5,"Rue","DE METZ","57690 CREHANGE",57690,"Créhange","Pharmacie d'officine","A"]
[{"$f":"VLOOKUP(B9807,Régions!A:C,3,FALSE)","v":"Grand Est"},57,"PHARMDIRECTFR",570016345,570016345,"oui","PHARMACIE BESCH",8,"Avenue","DE METZ","57290 FAMECK",57290,"Fameck","Pharmacie d'officine","A"]
[{"$f":"VLOOKUP(B9814,Régions!A:C,3,FALSE)","v":"Grand Est"},57,{"$error":"#N/A"},570016527,{"$error":"#N/A"},{"$error":"#N/A"},"PHARMACIE LOUIS",57,"Avenue","DE LORRAINE","57190 FLORANGE",57190,"Florange","Pharmacie d'officine","A"]
[{"$f":"VLOOKUP(B9826,Régions!A:C,3,FALSE)","v":"Grand Est"},57,"PHARMDIRECTFR",570016824,570016824,"oui","PHARMACIE JAMAIN",46,"Rue","EUGENE KLOSTER","57800 FREYMING-MERLEBACH",57800,"Freyming-Merlebach","Pharmacie d'officine","A"]
[{"$f":"VLOOKUP(B9833,Régions!A:C,3,FALSE)","v":"Grand Est"},57,{"$error":"#N/A"},570017012,{"$error":"#N/A"},{"$error":"#N/A"},"PHARMACIE CRANSAC","NULL","Place","ST BENOIT","57310 GUENANGE",57310,"Guénange","Pharmacie d'officine","A"]
[{"$f":"VLOOKUP(B9845,Régions!A:C,3,FALSE)","v":"Grand Est"},57,{"$error":"#N/A"},570017343,{"$error":"#N/A"},{"$error":"#N/A"},"PHARMACIE LAURENT",5,"Centre","COMMERCIAL","57470 HOMBOURG-HAUT",57470,"Hombourg-Haut","Pharmacie d'officine","A"]
[{"$f":"VLOOKUP(B9857,Régions!A:C,3,FALSE)","v":"Grand Est"},57,{"$error":"#N/A"},570017665,{"$error":"#N/A"},{"$error":"#N/A"},"PHARMACIE MICHAYEWICZ",19,"Rue","GENERAL DE GAULLE","57740 LONGEVILLE-LES-SAINT-AVOLD",57740,"Longeville-lès-Saint-Avold","Pharmacie d'officine","A"]
[{"$f":"VLOOKUP(B9863,Régions!A:C,3,FALSE)","v":"Grand Est"},57,"PHARMDIRECTFR",570017814,570017814,"oui","PHARMACIE DE JAILLY","NULL","Carrefour","DE JAILLY","57535 MARANGE-SILVANGE",57535,"Marange-Silvange","Pharmacie d'officine","A"]
[{"$f":"VLOOKUP(B9868,Régions!A:C,3,FALSE)","v":"Grand Est"},57,{"$error":"#N/A"},570017947,{"$error":"#N/A"},{"$error":"#N/A"},"PHARMACIE DE BISSCHOP - WEISSLINGER",63,"Avenue","MALRAUX","57000 METZ",57000,"Metz","Pharmacie d'officine","A"]
[{"$f":"VLOOKUP(B9884,Régions!A:C,3,FALSE)","v":"Grand Est"},57,"PHARMDIRECTFR",570018374,570018374,"oui","SELARL PHARMACIE DU LAURIER",14,"Place","ST JACQUES","57000 METZ",57000,"Metz","Pharmacie d'officine","A"]
[{"$f":"VLOOKUP(B9887,Régions!A:C,3,FALSE)","v":"Grand Est"},57,"PHARMDIRECTFR",570018440,570018440,"oui","SELARL HANSER CLEMENT",17,"Rue","DU XXEME CORPS AMERICAIN","57000 METZ",57000,"Metz","Pharmacie d'officine","A"]
[{"$f":"VLOOKUP(B9899,Régions!A:C,3,FALSE)","v":"Grand Est"},57,"PHARMDIRECTFR",570018747,570018747,"oui","PHARMACIE BIWER",21,"Boulevard","DE GUYENNE","57070 METZ",57070,"Metz","Pharmacie d'officine","A"]
[{"$f":"VLOOKUP(B9906,Régions!A:C,3,FALSE)","v":"Grand Est"},57,"CNOP",570018911,570018911,"oui","PHARMACIE LETZELTER - PORTNER",13,"NULL","GRANDE RUE","57940 METZERVISSE",57940,"Metzervisse","Pharmacie d'officine","A"]
[{"$f":"VLOOKUP(B9918,Régions!A:C,3,FALSE)","v":"Grand Est"},57,{"$error":"#N/A"},570019224,{"$error":"#N/A"},{"$error":"#N/A"},"PHARMACIE IDOUX",30,"Rue","DU PRESIDENT POINCARE","57340 MORHANGE",57340,"Morhange","Pharmacie d'officine","A"]
[{"$f":"VLOOKUP(B9930,Régions!A:C,3,FALSE)","v":"Grand Est"},57,{"$error":"#N/A"},570019562,{"$error":"#N/A"},{"$error":"#N/A"},"PHARMACIE BUHLER",2,"Place","D'ARMES","57370 PHALSBOURG",57370,"Phalsbourg","Pharmacie d'officine","A"]
[{"$f":"VLOOKUP(B9934,Régions!A:C,3,FALSE)","v":"Grand Est"},57,"PHARMDIRECTFR",570019661,570019661,"oui","PHARMACIE JACOPS - SCHILD",19,"Route","DE PHALSBOURG","57445 REDING",57445,"Réding","Pharmacie d'officine","A"]
[{"$f":"VLOOKUP(B9941,Régions!A:C,3,FALSE)","v":"Grand Est"},57,{"$error":"#N/A"},570019844,{"$error":"#N/A"},{"$error":"#N/A"},"PHARMACIE LEROUX-BOCCI","NULL","Avenue","DE BERLIOZ","57120 ROMBAS",57120,"Rombas","Pharmacie d'officine","A"]
[{"$f":"VLOOKUP(B9957,Régions!A:C,3,FALSE)","v":"Grand Est"},57,"CNOP",570020230,570020230,"oui","PHARMACIE CLAUSS",66,"NULL","GRANDE RUE","57400 SARREBOURG",57400,"Sarrebourg","Pharmacie d'officine","A"]
[{"$f":"VLOOKUP(B9960,Régions!A:C,3,FALSE)","v":"Grand Est"},57,{"$error":"#N/A"},570020313,{"$error":"#N/A"},{"$error":"#N/A"},"PHARMACIE  GANGLOFF",20,"Rue","DU MARECHAL FOCH","57200 SARREGUEMINES",57200,"Sarreguemines","Pharmacie d'officine","A"]
[{"$f":"VLOOKUP(B9972,Régions!A:C,3,FALSE)","v":"Grand Est"},57,{"$error":"#N/A"},570020610,{"$error":"#N/A"},{"$error":"#N/A"},"PHARMACIE HUMBERT",13,"Rue","D'ALSTING","57350 SPICHEREN",57350,"Spicheren","Pharmacie d'officine","A"]
[{"$f":"VLOOKUP(B9979,Régions!A:C,3,FALSE)","v":"Grand Est"},57,"CNOP",570020792,570020792,"oui","PHARMACIE  PASTEUR",83,"Rue","DE VERDUN","57180 TERVILLE",57180,"Terville","Pharmacie d'officine","A"]
[{"$f":"VLOOKUP(B9991,Régions!A:C,3,FALSE)","v":"Grand Est"},57,{"$error":"#N/A"},570021097,{"$error":"#N/A"},{"$error":"#N/A"},"PHARMACIE VENTURIN",1,"Rue","CHATEAU JEANNOT","57100 THIONVILLE",57100,"Thionville","Pharmacie d'officine","A"]
[{"$f":"VLOOKUP(B10003,Régions!A:C,3,FALSE)","v":"Grand Est"},57,{"$error":"#N/A"},570021394,{"$error":"#N/A"},{"$error":"#N/A"},"PHARMACIE DES DEUX FONTAINES",1,"Avenue","DES DEUX FONTAINES","57140 WOIPPY",57140,"Woippy","Pharmacie d'officine","A"]
[{"$f":"VLOOKUP(B10010,Régions!A:C,3,FALSE)","v":"Grand Est"},57,{"$error":"#N/A"},570021576,{"$error":"#N/A"},{"$error":"#N/A"},"PHARMACIE ARGAUD",115,"Avenue","des Nations","57970 YUTZ",57970,"Yutz","Pharmacie d'officine","A"]
[{"$f":"VLOOKUP(B10019,Régions!A:C,3,FALSE)","v":"Bourgogne-Franche-Comté"},58,"CNOP",580001113,580001113,"oui","PHARMACIE SAINT ANTOINE",107,"Route","DE LYON","58000 CHALLUY",58000,"Challuy","Pharmacie d'officine","A"]
[{"$f":"VLOOKUP(B10030,Régions!A:C,3,FALSE)","v":"Bourgogne-Franche-Comté"},58,"CNOP",580001493,580001493,"oui","PHARMACIE  DE L'ANGUISON","NULL","Place","DE L'EGLISE","58800 CORBIGNY",58800,"Corbigny","Pharmacie d'officine","A"]
[{"$f":"VLOOKUP(B10033,Régions!A:C,3,FALSE)","v":"Bourgogne-Franche-Comté"},58,{"$error":"#N/A"},580001592,{"$error":"#N/A"},{"$error":"#N/A"},"PHARMACIE  BOCQUET NATHALIE",17,"Rue","DU COMMERCE","58200 COSNE-COURS-SUR-LOIRE",58200,"Cosne-Cours-sur-Loire","Pharmacie d'officine","A"]
[{"$f":"VLOOKUP(B10045,Régions!A:C,3,FALSE)","v":"Bourgogne-Franche-Comté"},58,"CNOP",580001931,580001931,"oui","PHARMACIE SOUILLARD","NULL","Route","DE LUZY","58250 FOURS",58250,"Fours","Pharmacie d'officine","A"]
[{"$f":"VLOOKUP(B10052,Régions!A:C,3,FALSE)","v":"Bourgogne-Franche-Comté"},58,"CNOP",580002194,580002194,"oui","PHARMACIE TRUCHOT - BELLON","NULL","Place","DU 8 MAI 1945","58170 LUZY",58170,"Luzy","Pharmacie d'officine","A"]
[{"$f":"VLOOKUP(B10064,Régions!A:C,3,FALSE)","v":"Bourgogne-Franche-Comté"},58,{"$error":"#N/A"},580002541,{"$error":"#N/A"},{"$error":"#N/A"},"PHIE JOLY - PHARMACIE COLBERT",37,"Avenue","COLBERT","58000 NEVERS",58000,"Nevers","Pharmacie d'officine","A"]
[{"$f":"VLOOKUP(B10071,Régions!A:C,3,FALSE)","v":"Bourgogne-Franche-Comté"},58,"CNOP",580002764,580002764,"oui","PHARMACIE DEMAY",49,"Avenue","DU GENERAL DE GAULLE","58000 NEVERS",58000,"Nevers","Pharmacie d'officine","A"]
[{"$f":"VLOOKUP(B10083,Régions!A:C,3,FALSE)","v":"Bourgogne-Franche-Comté"},58,{"$error":"#N/A"},580003143,{"$error":"#N/A"},{"$error":"#N/A"},"PHARMACIE BATHO",2,"Place","DE LA REPUBLIQUE","58270 SAINT-BENIN-D'AZY",58270,"Saint-Benin-d'Azy","Pharmacie d'officine","A"]
[{"$f":"VLOOKUP(B10090,Régions!A:C,3,FALSE)","v":"Bourgogne-Franche-Comté"},58,"CNOP",580003325,580003325,"oui","PHARMACIE BOURDY DUBOIS CHANEL",5,"Place","DE LA REPUBLIQUE","58640 VARENNES-VAUZELLES",58640,"Varennes-Vauzelles","Pharmacie d'officine","A"]
[{"$f":"VLOOKUP(B10103,Régions!A:C,3,FALSE)","v":"Hauts-de-France"},59,"PHARMDIRECTFR",590009056,590009056,"oui","PHARMACIE DU BREUCQ",140,"Rue","Jean Jaurès","59491 VILLENEUVE-D'ASCQ",59491,"Villeneuve-d'Ascq","Pharmacie d'officine","A"]
[{"$f":"VLOOKUP(B10106,Régions!A:C,3,FALSE)","v":"Hauts-de-France"},59,{"$error":"#N/A"},590009155,{"$error":"#N/A"},{"$error":"#N/A"},"PHARMACIE DENOYELLE - LEFAIRE",18,"Rue","JULES GUESDE","59650 VILLENEUVE-D'ASCQ",59650,"Villeneuve-d'Ascq","Pharmacie d'officine","A"]
[{"$f":"VLOOKUP(B10118,Régions!A:C,3,FALSE)","v":"Hauts-de-France"},59,"PHARMDIRECTFR",590009486,590009486,"oui","SELARL PHARMACIE RANDOUX-WIERRE",74,"Rue","DU GENERAL LECLERC","59650 VILLENEUVE-D-ASCQ",59650,"Villeneuve-d'Ascq","Pharmacie d'officine","A"]
[{"$f":"VLOOKUP(B10125,Régions!A:C,3,FALSE)","v":"Hauts-de-France"},59,"CNOP",590009650,590009650,"oui","SELARL PHARMACIE DU MELANTOIS",24,"Route","Nationale","59152 ANSTAING",59152,"Anstaing","Pharmacie d'officine","A"]
[{"$f":"VLOOKUP(B10137,Régions!A:C,3,FALSE)","v":"Hauts-de-France"},59,{"$error":"#N/A"},590009957,{"$error":"#N/A"},{"$error":"#N/A"},"PHARMACIE NGOUBO-NGANGUE TETE MONTGOM",6,"Rue","DES RESISTANTS","59280 ARMENTIERES",59280,"Armentières","Pharmacie d'officine","A"]
[{"$f":"VLOOKUP(B10144,Régions!A:C,3,FALSE)","v":"Hauts-de-France"},59,{"$error":"#N/A"},590010187,{"$error":"#N/A"},{"$error":"#N/A"},"SELARL PHARMACIE SCHOUTEETEN",16,"Rue","BERNONVILLE","59165 AUBERCHICOURT",59165,"Auberchicourt","Pharmacie d'officine","A"]
[{"$f":"VLOOKUP(B10156,Régions!A:C,3,FALSE)","v":"Hauts-de-France"},59,"CNOP",590010500,590010500,"oui","PHARMACIE DU CENTRE",30,"Rue","PAUL VAILLANT COUTURIER","59620 AULNOYE-AYMERIES",59620,"Aulnoye-Aymeries","Pharmacie d'officine","A"]
[{"$f":"VLOOKUP(B10159,Régions!A:C,3,FALSE)","v":"Hauts-de-France"},59,"CNOP",590010617,590010617,"oui"," PHARMACIE SAINT LOUIS",4,"Place","DU GENERAL LECLERC","59440 AVESNES-SUR-HELPE",59440,"Avesnes-sur-Helpe","Pharmacie d'officine","A"]
[{"$f":"VLOOKUP(B10171,Régions!A:C,3,FALSE)","v":"Hauts-de-France"},59,"PHARMDIRECTFR",590010906,590010906,"oui","PHARMACIE NIGAULT",80,"Rue","DE TOURNAI","59780 BAISIEUX",59780,"Baisieux","Pharmacie d'officine","A"]
[{"$f":"VLOOKUP(B10179,Régions!A:C,3,FALSE)","v":"Hauts-de-France"},59,{"$error":"#N/A"},590011102,{"$error":"#N/A"},{"$error":"#N/A"},"PHARMACIE DILLIES-CAULLIEZ",13,"Place","CHARLES DE GAULLE","59570 BAVAY",59570,"Bavay","Pharmacie d'officine","A"]
[{"$f":"VLOOKUP(B10195,Régions!A:C,3,FALSE)","v":"Hauts-de-France"},59,"CNOP",590011557,590011557,"oui","PHARMACIE LEPERS - MAURICE",1515,"Avenue","DU GENERAL DE GAULLE","59910 BONDUES",59910,"Bondues","Pharmacie d'officine","A"]
[{"$f":"VLOOKUP(B10198,Régions!A:C,3,FALSE)","v":"Hauts-de-France"},59,"CNOP",590011623,590011623,"oui","PHARMACIE HAQUETTE",23,"Rue","RENE D'HESPEL","59910 BONDUES",59910,"Bondues","Pharmacie d'officine","A"]
[{"$f":"VLOOKUP(B10210,Régions!A:C,3,FALSE)","v":"Hauts-de-France"},59,"CNOP",590011920,590011920,"oui","PHARMACIE JULIE BIREMBAUX",3,"Rue","ROGER SALENGRO","59123 BRAY-DUNES",59123,"Bray-Dunes","Pharmacie d'officine","A"]
[{"$f":"VLOOKUP(B10217,Régions!A:C,3,FALSE)","v":"Hauts-de-France"},59,"PHARMDIRECTFR",590012134,590012134,"oui","PHARMACIE DE LA PORTE  NOTRE-DAME",30,"Rue","SADI CARNOT","59400 CAMBRAI",59400,"Cambrai","Pharmacie d'officine","A"]
[{"$f":"VLOOKUP(B10229,Régions!A:C,3,FALSE)","v":"Hauts-de-France"},59,"CNOP",590012456,590012456,"oui","PHARMACIE DE LA GRAND PLACE",34,"Place","ARISTIDE BRIAND","59400 CAMBRAI",59400,"Cambrai","Pharmacie d'officine","A"]
[{"$f":"VLOOKUP(B10232,Régions!A:C,3,FALSE)","v":"Hauts-de-France"},59,"PHARMDIRECTFR",590012522,590012522,"oui","PHARMACIE DEPREZ",41,"Rue","NATIONALE","59133 CAMPHIN EN CAREMBAULT",59133,"Camphin-en-Carembault","Pharmacie d'officine","A"]
[{"$f":"VLOOKUP(B10248,Régions!A:C,3,FALSE)","v":"Hauts-de-France"},59,"PHARMDIRECTFR",590012951,590012951,"oui","PHARMACIE DU CENTRE COMMERCIAL","NULL","Boulevard","du 8 Mai 1945","59540 CAUDRY",59540,"Caudry","Pharmacie d'officine","A"]
[{"$f":"VLOOKUP(B10256,Régions!A:C,3,FALSE)","v":"Hauts-de-France"},59,"CNOP",590013173,590013173,"oui","PHARMACIE LAUWERIE",2,"NULL","GRAND'PLACE","59560 COMINES",59560,"Comines","Pharmacie d'officine","A"]
[{"$f":"VLOOKUP(B10268,Régions!A:C,3,FALSE)","v":"Hauts-de-France"},59,"CNOP",590013504,590013504,"oui","PHARMACIE DES PROVINCES",29,"Rue","DE PICARDIE","59210 COUDEKERQUE BRANCHE",59210,"Coudekerque-Branche","Pharmacie d'officine","A"]
[{"$f":"VLOOKUP(B10271,Régions!A:C,3,FALSE)","v":"Hauts-de-France"},59,{"$error":"#N/A"},590013587,{"$error":"#N/A"},{"$error":"#N/A"},"PHARMACIE EL HAJJIOUI","NULL","Rue","Jacquard","59210 COUDEKERQUE-BRANCHE",59210,"Coudekerque-Branche","Pharmacie d'officine","A"]
[{"$f":"VLOOKUP(B10283,Régions!A:C,3,FALSE)","v":"Hauts-de-France"},59,"CNOP",590013900,590013900,"oui","PHARMACIE DELARUE",115,"Rue","Jean Jaurès",59170,59170,"Croix","Pharmacie d'officine","A"]
[{"$f":"VLOOKUP(B10290,Régions!A:C,3,FALSE)","v":"Hauts-de-France"},59,"CNOP",590014072,590014072,"oui","PHARMACIE DANTOING",35,"Rue","de la Chanteraine","59830 CYSOING",59830,"Cysoing","Pharmacie d'officine","A"]
[{"$f":"VLOOKUP(B10302,Régions!A:C,3,FALSE)","v":"Hauts-de-France"},59,{"$error":"#N/A"},590014403,{"$error":"#N/A"},{"$error":"#N/A"},"PHARMACIE WARTEL & ASSOCIES",351,"Rue","DE PARIS & 8 RUE MONGAT","59500 DOUAI",59500,"Douai","Pharmacie d'officine","A"]
[{"$f":"VLOOKUP(B10305,Régions!A:C,3,FALSE)","v":"Hauts-de-France"},59,"CNOP",590014536,590014536,"oui","PHARMACIE MONFROY",76,"Rue","DE BELLAIN","59500 DOUAI",59500,"Douai","Pharmacie d'officine","A"]
[{"$f":"VLOOKUP(B10321,Régions!A:C,3,FALSE)","v":"Hauts-de-France"},59,"CNOP",590015103,590015103,"oui","PHARMACIE BONTE",474,"Avenue","DE  ROSENDAEL","59240 DUNKERQUE",59240,"Dunkerque","Pharmacie d'officine","A"]
[{"$f":"VLOOKUP(B10327,Régions!A:C,3,FALSE)","v":"Hauts-de-France"},59,"CNOP",590015301,590015301,"oui","PHARMACIE VROYLANDT",597,"Boulevard","DE LA REPUBLIQUE","59240 DUNKERQUE",59240,"Dunkerque","Pharmacie d'officine","A"]
[{"$f":"VLOOKUP(B10341,Régions!A:C,3,FALSE)","v":"Hauts-de-France"},59,"CNOP",590015657,590015657,"oui","PHARMACIE XAVIER WILLEM",47,"Boulevard","SAINTE BARBE","59140 DUNKERQUE",59140,"Dunkerque","Pharmacie d'officine","A"]
[{"$f":"VLOOKUP(B10344,Régions!A:C,3,FALSE)","v":"Hauts-de-France"},59,{"$error":"#N/A"},590015723,{"$error":"#N/A"},{"$error":"#N/A"},"PHARMACIE MELLADO-ANZALONE",40,"Route","NATIONALE 45","59176 ECAILLON",59176,"Écaillon","Pharmacie d'officine","A"]
[{"$f":"VLOOKUP(B10356,Régions!A:C,3,FALSE)","v":"Hauts-de-France"},59,{"$error":"#N/A"},590016051,{"$error":"#N/A"},{"$error":"#N/A"},"PHARMACIE VALOIS",23,"Place","ALPHONSE BERGEROT","59470 ESQUELBECQ",59470,"Esquelbecq","Pharmacie d'officine","A"]
[{"$f":"VLOOKUP(B10363,Régions!A:C,3,FALSE)","v":"Hauts-de-France"},59,"PHARMDIRECTFR",590016234,590016234,"oui","PHARMACIE COURTOIS",7,"Avenue","de Bordeaux",59155,59155,"Faches-Thumesnil","Pharmacie d'officine","A"]
[{"$f":"VLOOKUP(B10375,Régions!A:C,3,FALSE)","v":"Hauts-de-France"},59,{"$error":"#N/A"},590016523,{"$error":"#N/A"},{"$error":"#N/A"},"PHARMACIE BISIAUX",27,"Place","DE LA REPUBLIQUE","59680 FERRIERE-LA-GRANDE",59680,"Ferrière-la-Grande","Pharmacie d'officine","A"]
[{"$f":"VLOOKUP(B10382,Régions!A:C,3,FALSE)","v":"Hauts-de-France"},59,"CNOP",590016705,590016705,"oui","PHARMACIE CATHERINE JOLY",1710,"Route","NATIONALE","59400 FONTAINE-NOTRE-DAME",59400,"Fontaine-Notre-Dame","Pharmacie d'officine","A"]
[{"$f":"VLOOKUP(B10394,Régions!A:C,3,FALSE)","v":"Hauts-de-France"},59,"PHARMDIRECTFR",590017166,590017166,"oui","PHARMACIE DE GLAGEON",18,"Rue","ROLAND ROULEAU","59132 GLAGEON",59132,"Glageon","Pharmacie d'officine","A"]
[{"$f":"VLOOKUP(B10397,Régions!A:C,3,FALSE)","v":"Hauts-de-France"},59,{"$error":"#N/A"},590017232,{"$error":"#N/A"},{"$error":"#N/A"},"PHARMACIE RITTER",2,"Rue","CHARLES DUPRETZ","59147 GONDECOURT",59147,"Gondecourt","Pharmacie d'officine","A"]
[{"$f":"VLOOKUP(B10408,Régions!A:C,3,FALSE)","v":"Hauts-de-France"},59,"PHARMDIRECTFR",590017521,590017521,"oui","PHARMACIE JOURDAIN",8,"Place","DU MARCHE","59760 GRANDE-SYNTHE",59760,"Grande-Synthe","Pharmacie d'officine","A"]
[{"$f":"VLOOKUP(B10417,Régions!A:C,3,FALSE)","v":"Hauts-de-France"},59,{"$error":"#N/A"},590017786,{"$error":"#N/A"},{"$error":"#N/A"},"PHARMACIE ZMUDA",231,"Rue","DE BEAUMONT","59287 GUESNAIN",59287,"Guesnain","Pharmacie d'officine","A"]
[{"$f":"VLOOKUP(B10429,Régions!A:C,3,FALSE)","v":"Hauts-de-France"},59,"CNOP",590018107,590018107,"non","GRANDE PHARMACIE DE L'HEURTEBISE",195,"Rue","SADI CARNOT","59320 HAUBOURDIN",59320,"Haubourdin","Pharmacie d'officine","A"]
[{"$f":"VLOOKUP(B10436,Régions!A:C,3,FALSE)","v":"Hauts-de-France"},59,"PHARMDIRECTFR",590018321,590018321,"oui","PHARMACIE CARLIER-LAUDE",40,"Rue","SAINTE ANNE","59330 HAUTMONT",59330,"Hautmont","Pharmacie d'officine","A"]
[{"$f":"VLOOKUP(B10448,Régions!A:C,3,FALSE)","v":"Hauts-de-France"},59,{"$error":"#N/A"},590018651,{"$error":"#N/A"},{"$error":"#N/A"},"PHARMACIE BOLLIER",54,"Place","DU GENERAL DE GAULLE","59190 HAZEBROUCK",59190,"Hazebrouck","Pharmacie d'officine","A"]
[{"$f":"VLOOKUP(B10455,Régions!A:C,3,FALSE)","v":"Hauts-de-France"},59,{"$error":"#N/A"},590018867,{"$error":"#N/A"},{"$error":"#N/A"},"PHARMACIE REMY",5,"Place","DE VERDUN","59510 HEM",59510,"Hem","Pharmacie d'officine","A"]
[{"$f":"VLOOKUP(B10467,Régions!A:C,3,FALSE)","v":"Hauts-de-France"},59,"CNOP",590019170,590019170,"oui","PHARMACIE DELOS-LENOIR",24,"Rue","FAIDHERBE","59116 HOUPLINES",59116,"Houplines","Pharmacie d'officine","A"]
[{"$f":"VLOOKUP(B10470,Régions!A:C,3,FALSE)","v":"Hauts-de-France"},59,{"$error":"#N/A"},590019253,{"$error":"#N/A"},{"$error":"#N/A"},"PHARMACIE BACKELANDT",30,"Route","D'HONDSCHOOTE","59492 HOYMILLE",59492,"Hoymille","Pharmacie d'officine","A"]
[{"$f":"VLOOKUP(B10486,Régions!A:C,3,FALSE)","v":"Hauts-de-France"},59,{"$error":"#N/A"},590019766,{"$error":"#N/A"},{"$error":"#N/A"},"PHARMACIE PICRON",45,"Rue","GABRIELLE BOUVEUR","59130 LAMBERSART",59130,"Lambersart","Pharmacie d'officine","A"]
[{"$f":"VLOOKUP(B10493,Régions!A:C,3,FALSE)","v":"Hauts-de-France"},59,"CNOP",590019923,590019923,"oui","PHARMACIE  QUIN",14,"Place","CARNOT","59390 LANNOY",59390,"Lannoy","Pharmacie d'officine","A"]
[{"$f":"VLOOKUP(B10502,Régions!A:C,3,FALSE)","v":"Hauts-de-France"},59,{"$error":"#N/A"},590020152,{"$error":"#N/A"},{"$error":"#N/A"},"PHARMACIE DE LA MER",42,"Place","JEAN DELVALLEZ","59240 LEFFRINCKOUCKE",59240,"Leffrinckoucke","Pharmacie d'officine","A"]
[{"$f":"VLOOKUP(B10509,Régions!A:C,3,FALSE)","v":"Hauts-de-France"},59,"PHARMDIRECTFR",590020335,590020335,"oui","PHARMACIE GALLER",192,"Rue","Géneviève Anthonioz de Gaulle","59000 LILLE",59000,"Lille","Pharmacie d'officine","A"]
[{"$f":"VLOOKUP(B10521,Régions!A:C,3,FALSE)","v":"Hauts-de-France"},59,"PHARMDIRECTFR",590020707,590020707,"oui","PHARMACIE DUFOUR",68,"Rue","D'ARRAS","59000 LILLE",59000,"Lille","Pharmacie d'officine","A"]
[{"$f":"VLOOKUP(B10528,Régions!A:C,3,FALSE)","v":"Hauts-de-France"},59,"CNOP",590020954,590020954,"oui","PHARMACIE SQUALLI",173,"Rue","DU FAUBOURG DE ROUBAIX","59800 LILLE",59800,"Lille","Pharmacie d'officine","A"]
[{"$f":"VLOOKUP(B10540,Régions!A:C,3,FALSE)","v":"Hauts-de-France"},59,{"$error":"#N/A"},590021267,{"$error":"#N/A"},{"$error":"#N/A"},"PHARMACIE PERILLAUD",32,"Rue","SEC AREMBAULT","59800 LILLE",59800,"Lille","Pharmacie d'officine","A"]
[{"$f":"VLOOKUP(B10543,Régions!A:C,3,FALSE)","v":"Hauts-de-France"},59,{"$error":"#N/A"},590021333,{"$error":"#N/A"},{"$error":"#N/A"},"PHARMACIE POTTIER",141,"Boulevard","DE LA LIBERTE","59800 LILLE",59800,"Lille","Pharmacie d'officine","A"]
[{"$f":"VLOOKUP(B10559,Régions!A:C,3,FALSE)","v":"Hauts-de-France"},59,"PHARMDIRECTFR",590021804,590021804,"oui","PHARMACIE D'IENA",2,"Place","DE LA SOLIDARITE","59000 LILLE",59000,"Lille","Pharmacie d'officine","A"]
[{"$f":"VLOOKUP(B10564,Régions!A:C,3,FALSE)","v":"Hauts-de-France"},59,"PHARMDIRECTFR",590021937,590021937,"oui","PHARMACIE DU VIEUX LILLE","NULL","Angle","RUE ST SEBASTIEN & QU DE CHEVI","59800 LILLE",59800,"Lille","Pharmacie d'officine","A"]
[{"$f":"VLOOKUP(B10570,Régions!A:C,3,FALSE)","v":"Hauts-de-France"},59,"PHARMDIRECTFR",590022083,590022083,"oui","PHARMACIE DE LA NOUVELLE AVENTURE",22,"Rue","DES SARRAZINS","59000 LILLE",59000,"Lille","Pharmacie d'officine","A"]
[{"$f":"VLOOKUP(B10582,Régions!A:C,3,FALSE)","v":"Hauts-de-France"},59,"CNOP",590022406,590022406,"oui","PHARMACIE AUDREY MENET",1042,"Avenue","DE DUNKERQUE","59160 LOMME",59160,"Lille","Pharmacie d'officine","A"]
[{"$f":"VLOOKUP(B10594,Régions!A:C,3,FALSE)","v":"Hauts-de-France"},59,"CNOP",590022703,590022703,"oui","PHARMACIE DELHAYE-DELANNOY",32,"Rue","GEORGES POMPIDOU","59279 LOON-PLAGE",59279,"Loon-Plage","Pharmacie d'officine","A"]
[{"$f":"VLOOKUP(B10601,Régions!A:C,3,FALSE)","v":"Hauts-de-France"},59,"PHARMDIRECTFR",590022885,590022885,"oui","PHARMACIE CORNETTE",92,"Rue","GEORGES POTIE","59120 LOOS",59120,"Loos","Pharmacie d'officine","A"]
[{"$f":"VLOOKUP(B10613,Régions!A:C,3,FALSE)","v":"Hauts-de-France"},59,{"$error":"#N/A"},590023206,{"$error":"#N/A"},{"$error":"#N/A"},"PHARMACIE DE LA MADELEINE",226,"Rue","DU GENERAL DE GAULLE","59110 MADELEINE (LA)",59110,"La Madeleine","Pharmacie d'officine","A"]
[{"$f":"VLOOKUP(B10616,Régions!A:C,3,FALSE)","v":"Hauts-de-France"},59,"PHARMDIRECTFR",590023271,590023271,"oui","PHARMACIE WATTEL-SAUNIER",100,"Rue","JEANNE MAILLOTTE","59110 MADELEINE (LA)",59110,"La Madeleine","Pharmacie d'officine","A"]
[{"$f":"VLOOKUP(B10632,Régions!A:C,3,FALSE)","v":"Hauts-de-France"},59,"PHARMDIRECTFR",590023735,590023735,"oui","PHARMACIE LEBRUN",3,"Rue","ST CHRISTOPHE","59700 MARCQ-EN-BAROEUL",59700,"Marcq-en-Baroeul","Pharmacie d'officine","A"]
[{"$f":"VLOOKUP(B10635,Régions!A:C,3,FALSE)","v":"Hauts-de-France"},59,"PHARMDIRECTFR",590023800,590023800,"oui","PHARMACIE DE L'HIPPODROME",125,"Boulevard","GEORGES CLEMENCEAU","59700 MARCQ-EN-BAROEUL",59700,"Marcq-en-Baroeul","Pharmacie d'officine","A"]
[{"$f":"VLOOKUP(B10645,Régions!A:C,3,FALSE)","v":"Hauts-de-France"},59,"PHARMDIRECTFR",590024055,590024055,"oui","SELARL PHARMACIE DU CENTRE",10,"Place","DU GENERAL DE GAULLE","59520 MARQUETTE-LEZ-LILLE",59520,"Marquette-lez-Lille","Pharmacie d'officine","A"]
[{"$f":"VLOOKUP(B10655,Régions!A:C,3,FALSE)","v":"Hauts-de-France"},59,{"$error":"#N/A"},590024303,{"$error":"#N/A"},{"$error":"#N/A"},"PHARMACIE  LEVECQ - VILLETTE","NULL","NULL","NULL","59600 MAUBEUGE",59600,"Maubeuge","Pharmacie d'officine","A"]
[{"$f":"VLOOKUP(B10667,Régions!A:C,3,FALSE)","v":"Hauts-de-France"},59,"CNOP",590024600,590024600,"oui","PHARMACIE FLAMENT",39,"Rue","NATIONALE","59270 METEREN",59270,"Méteren","Pharmacie d'officine","A"]
[{"$f":"VLOOKUP(B10674,Régions!A:C,3,FALSE)","v":"Hauts-de-France"},59,"CNOP",590024782,590024782,"oui","PHARMACIE TJOLLYN","NULL","Place","VAUBAN","59370 MONS-EN-BAROËUL",59370,"Mons-en-Baroeul","Pharmacie d'officine","A"]
[{"$f":"VLOOKUP(B10686,Régions!A:C,3,FALSE)","v":"Hauts-de-France"},59,{"$error":"#N/A"},590025136,{"$error":"#N/A"},{"$error":"#N/A"},"PHARMACIE  DU HAUTMONT",79,"Rue","DE LILLE","59420 MOUVAUX",59420,"Mouvaux","Pharmacie d'officine","A"]
[{"$f":"VLOOKUP(B10693,Régions!A:C,3,FALSE)","v":"Hauts-de-France"},59,"CNOP",590025334,590025334,"oui","PHARMACIE LECOQ-CURCIO",17,"Rue","DE LILLE","59554 NEUVILLE-SAINT-REMY",59554,"Neuville-Saint-Rémy","Pharmacie d'officine","A"]
[{"$f":"VLOOKUP(B10705,Régions!A:C,3,FALSE)","v":"Hauts-de-France"},59,{"$error":"#N/A"},590025656,{"$error":"#N/A"},{"$error":"#N/A"},"PHARMACIE BOYER ALAIN",86,"Place","DE LA REPUBLIQUE","59162 OSTRICOURT",59162,"Ostricourt","Pharmacie d'officine","A"]
[{"$f":"VLOOKUP(B10708,Régions!A:C,3,FALSE)","v":"Hauts-de-France"},59,"CNOP",590025755,590025755,"oui","PHARMACIE DELSART",19,"Rue","DU BEFFROI","59146 PECQUENCOURT",59146,"Pecquencourt","Pharmacie d'officine","A"]
[{"$f":"VLOOKUP(B10716,Régions!A:C,3,FALSE)","v":"Hauts-de-France"},59,"CNOP",590025987,590025987,"oui","PHARMACIE DE PONT-A-MARCQ",122,"Route","Nationale","59710 PONT-A-MARCQ",59710,"Pont-à-Marcq","Pharmacie d'officine","A"]
[{"$f":"VLOOKUP(B10728,Régions!A:C,3,FALSE)","v":"Hauts-de-France"},59,"CNOP",590026282,590026282,"oui","PHARMACIE DES REMPARTS",2,"Rue","GAMBETTA","59530 LE QUESNOY",59530,"Le Quesnoy","Pharmacie d'officine","A"]
[{"$f":"VLOOKUP(B10740,Régions!A:C,3,FALSE)","v":"Hauts-de-France"},59,"CNOP",590026621,590026621,"oui","PHARMACIE HENAUT-DUSSEAUX",139,"Rue","HENRI DURRE","59590 RAISMES",59590,"Raismes","Pharmacie d'officine","A"]
[{"$f":"VLOOKUP(B10747,Régions!A:C,3,FALSE)","v":"Hauts-de-France"},59,"CNOP",590026803,590026803,"oui","PHARMACIE SMIGIELSKI",2,"Rue","JEAN JAURES","59172 ROEULX",59172,"Roeulx","Pharmacie d'officine","A"]
[{"$f":"VLOOKUP(B10759,Régions!A:C,3,FALSE)","v":"Hauts-de-France"},59,{"$error":"#N/A"},590027157,{"$error":"#N/A"},{"$error":"#N/A"},"ROOST PHARMA",421,"Rue","PIERRE BROSSOLETTE","59286 ROOST-WARENDIN",59286,"Roost-Warendin","Pharmacie d'officine","A"]
[{"$f":"VLOOKUP(B10766,Régions!A:C,3,FALSE)","v":"Hauts-de-France"},59,{"$error":"#N/A"},590027405,{"$error":"#N/A"},{"$error":"#N/A"},"PHARMACIE  LAURENT VANDOORNE",15,"Avenue","GUSTAVE DELORY","59100 ROUBAIX",59100,"Roubaix","Pharmacie d'officine","A"]
[{"$f":"VLOOKUP(B10778,Régions!A:C,3,FALSE)","v":"Hauts-de-France"},59,"CNOP",590027801,590027801,"oui","PHARMACIE DE LA REPUBLIQUE",2,"Boulevard","DE LA REPUBLIQUE","59100 ROUBAIX",59100,"Roubaix","Pharmacie d'officine","A"]
[{"$f":"VLOOKUP(B10781,Régions!A:C,3,FALSE)","v":"Hauts-de-France"},59,{"$error":"#N/A"},590027900,{"$error":"#N/A"},{"$error":"#N/A"},"PHARMACIE V. VANHOVE",172,"Rue","DE LILLE","59100 ROUBAIX",59100,"Roubaix","Pharmacie d'officine","A"]
[{"$f":"VLOOKUP(B10788,Régions!A:C,3,FALSE)","v":"Hauts-de-France"},59,"PHARMDIRECTFR",590028072,590028072,"oui","PHARMACIE DE L'AVENIR",338,"Avenue","LINNE","59100 ROUBAIX",59100,"Roubaix","Pharmacie d'officine","A"]
[{"$f":"VLOOKUP(B10801,Régions!A:C,3,FALSE)","v":"Hauts-de-France"},59,"CNOP",590028437,590028437,"oui","PHARMACIE DAZIN-DINDELEUX",13,"Place","DU 11 NOVEMBRE","59230 SAINT-AMAND-LES-EAUX",59230,"Saint-Amand-les-Eaux","Pharmacie d'officine","A"]
[{"$f":"VLOOKUP(B10813,Régions!A:C,3,FALSE)","v":"Hauts-de-France"},59,{"$error":"#N/A"},590028734,{"$error":"#N/A"},{"$error":"#N/A"},"PHARMACIE THEVELIN-DE LYLLE",249,"Rue","DE LA REPUBLIQUE","59430 ST POL SUR MER",59430,"Dunkerque","Pharmacie d'officine","A"]
[{"$f":"VLOOKUP(B10820,Régions!A:C,3,FALSE)","v":"Hauts-de-France"},59,"CNOP",590028932,590028932,"oui","PHARMACIE DE LA REPUBLIQUE","NULL","Rue","DE LA REPUBLIQUE","59430 ST POL SUR MER",59430,"Dunkerque","Pharmacie d'officine","A"]
[{"$f":"VLOOKUP(B10832,Régions!A:C,3,FALSE)","v":"Hauts-de-France"},59,"CNOP",590029252,590029252,"oui","PHARMACIE DELLISE-DECRET",7,"Rue","JEAN JAURES","59227 SAULZOIR",59227,"Saulzoir","Pharmacie d'officine","A"]
[{"$f":"VLOOKUP(B10839,Régions!A:C,3,FALSE)","v":"Hauts-de-France"},59,"CNOP",590029435,590029435,"oui","PHARMACIE PLATTEAU",372,"Rue","JEAN JAURES","59174 LA-SENTINELLE",59174,"La Sentinelle","Pharmacie d'officine","A"]
[{"$f":"VLOOKUP(B10851,Régions!A:C,3,FALSE)","v":"Hauts-de-France"},59,{"$error":"#N/A"},590029807,{"$error":"#N/A"},{"$error":"#N/A"},"PHARMACIE SUARDINI - VINCENT",1,"Rue","SUZANNE LANNOY","59490 SOMAIN",59490,"Somain","Pharmacie d'officine","A"]
[{"$f":"VLOOKUP(B10854,Régions!A:C,3,FALSE)","v":"Hauts-de-France"},59,"CNOP",590029872,590029872,"oui","PHARMACIE INGELAERE",19,"Rue","DE VERDUN","59189 STEENBECQUE",59189,"Steenbecque","Pharmacie d'officine","A"]
[{"$f":"VLOOKUP(B10861,Régions!A:C,3,FALSE)","v":"Hauts-de-France"},59,"CNOP",590030052,590030052,"oui","PHARMACIE  MAERTEN",51,"Route","DE FURNES","59229 TETEGHEM COUDEKERQUE VILLAGE",59229,"Téteghem-Coudekerque-Village","Pharmacie d'officine","A"]
[{"$f":"VLOOKUP(B10873,Régions!A:C,3,FALSE)","v":"Hauts-de-France"},59,{"$error":"#N/A"},590030367,{"$error":"#N/A"},{"$error":"#N/A"},"PHARMACIE PHOUNSAVATH",51,"Rue","FIDELE LEHOUCQ","59200 TOURCOING",59200,"Tourcoing","Pharmacie d'officine","A"]
[{"$f":"VLOOKUP(B10882,Régions!A:C,3,FALSE)","v":"Hauts-de-France"},59,"PHARMDIRECTFR",590030607,590030607,"oui","PHARMACIE BELENCONTRE",89,"Chaussee","DENIS PAPIN","59200 TOURCOING",59200,"Tourcoing","Pharmacie d'officine","A"]
[{"$f":"VLOOKUP(B10893,Régions!A:C,3,FALSE)","v":"Hauts-de-France"},59,{"$error":"#N/A"},590030904,{"$error":"#N/A"},{"$error":"#N/A"},"PHARMACIE MARMUSE-SOUPLY",153,"Rue","DE MOUVAUX","59200 TOURCOING",59200,"Tourcoing","Pharmacie d'officine","A"]
[{"$f":"VLOOKUP(B10905,Régions!A:C,3,FALSE)","v":"Hauts-de-France"},59,{"$error":"#N/A"},590031266,{"$error":"#N/A"},{"$error":"#N/A"},"PHARMACIE OFFROY","NULL","Avenue","DU GENERAL HORNE","59300 VALENCIENNES",59300,"Valenciennes","Pharmacie d'officine","A"]
[{"$f":"VLOOKUP(B10912,Régions!A:C,3,FALSE)","v":"Hauts-de-France"},59,{"$error":"#N/A"},590031506,{"$error":"#N/A"},{"$error":"#N/A"},"PHARMACIE HIVES-JORION",69,"Rue","DE FAMARS","59300 VALENCIENNES",59300,"Valenciennes","Pharmacie d'officine","A"]
[{"$f":"VLOOKUP(B10924,Régions!A:C,3,FALSE)","v":"Hauts-de-France"},59,{"$error":"#N/A"},590031852,{"$error":"#N/A"},{"$error":"#N/A"},"PHARMACIE SAMBRE ACTIV",41,"Route","DE MONS","59600 MAIRIEUX",59600,"Mairieux","Pharmacie d'officine","A"]
[{"$f":"VLOOKUP(B10927,Régions!A:C,3,FALSE)","v":"Hauts-de-France"},59,"CNOP",590031936,590031936,"oui","PHARMACIE DES 4 RUES",24,"Rue","MARCEL DANNA","59135 WALLERS",59135,"Wallers","Pharmacie d'officine","A"]
[{"$f":"VLOOKUP(B10934,Régions!A:C,3,FALSE)","v":"Hauts-de-France"},59,"CNOP",590032116,590032116,"oui","PHARMACIE  DU CENTRE",20,"Rue","JEAN MACE","59290 WASQUEHAL",59290,"Wasquehal","Pharmacie d'officine","A"]
[{"$f":"VLOOKUP(B10946,Régions!A:C,3,FALSE)","v":"Hauts-de-France"},59,"CNOP",590032405,590032405,"oui","PHARMACIE DHAISNE ET LEBRUN",102,"Rue","LEON BLUM","59150 WATTRELOS",59150,"Wattrelos","Pharmacie d'officine","A"]
[{"$f":"VLOOKUP(B10953,Régions!A:C,3,FALSE)","v":"Hauts-de-France"},59,"PHARMDIRECTFR",590032603,590032603,"oui","PHARMACIE DRIEUX",21,"Rue","DE L'UNION","59150 WATTRELOS",59150,"Wattrelos","Pharmacie d'officine","A"]
[{"$f":"VLOOKUP(B10966,Régions!A:C,3,FALSE)","v":"Hauts-de-France"},59,"CNOP",590032967,590032967,"oui","PHARMACIE CORBISE SOPHIE",70,"Rue","DE L'INDUSTRIE","59117 WERVICQ SUD",59117,"Wervicq-Sud","Pharmacie d'officine","A"]
[{"$f":"VLOOKUP(B10978,Régions!A:C,3,FALSE)","v":"Hauts-de-France"},59,"CNOP",590062857,590062857,"oui","PHARMACIE DE LA MARQUE",173,"Rue","de la Mairie","59710 MERIGNIES",59710,"Mérignies","Pharmacie d'officine","A"]
[{"$f":"VLOOKUP(B10985,Régions!A:C,3,FALSE)","v":"Hauts-de-France"},60,"CNOP",600002273,600002273,"oui","SELAS PHARMACIE SAINTE GENEVIEVE","NULL","Route","NATIONALE 1","60730 STE GENEVIEVE",60730,"Sainte-Geneviève","Pharmacie d'officine","A"]
[{"$f":"VLOOKUP(B10997,Régions!A:C,3,FALSE)","v":"Hauts-de-France"},60,"CNOP",600002604,600002604,"oui","PHARMACIE RAMIER",3,"Passage","TROESNE","60240 CHAUMONT-EN-VEXIN",60240,"Chaumont-en-Vexin","Pharmacie d'officine","A"]
[{"$f":"VLOOKUP(B11004,Régions!A:C,3,FALSE)","v":"Hauts-de-France"},60,"CNOP",600002836,600002836,"oui","SELARL PHARMACIE PARMENTIER",31,"Rue","ST CORNEILLE","60200 COMPIEGNE",60200,"Compiègne","Pharmacie d'officine","A"]
[{"$f":"VLOOKUP(B11007,Régions!A:C,3,FALSE)","v":"Hauts-de-France"},60,"PHARMDIRECTFR",600002901,600002901,"oui","PHARMACIE DELPLANCQ",1,"Route","DE CREVECOEUR","60210 GRANDVILLIERS",60210,"Grandvilliers","Pharmacie d'officine","A"]
[{"$f":"VLOOKUP(B11019,Régions!A:C,3,FALSE)","v":"Hauts-de-France"},60,"CNOP",600003206,600003206,"oui","PHARMACIE DES PRES",14,"Rue","DES PRES","60680 GRANDFRESNOY",60680,"Grandfresnoy","Pharmacie d'officine","A"]
[{"$f":"VLOOKUP(B11026,Régions!A:C,3,FALSE)","v":"Hauts-de-France"},60,{"$error":"#N/A"},600003453,{"$error":"#N/A"},{"$error":"#N/A"},"PHARMACIE SELLIER",25,"Rue","de l'Hôtel de Ville","60190 ESTREES-SAINT-DENIS",60190,"Estrées-Saint-Denis","Pharmacie d'officine","A"]
[{"$f":"VLOOKUP(B11038,Régions!A:C,3,FALSE)","v":"Hauts-de-France"},60,"CNOP",600003750,600003750,"oui","PHARMACIE BREUILLARD",37,"NULL","GRANDE RUE","60580 COYE-LA-FORET",60580,"Coye-la-Forêt","Pharmacie d'officine","A"]
[{"$f":"VLOOKUP(B11051,Régions!A:C,3,FALSE)","v":"Hauts-de-France"},60,{"$error":"#N/A"},600004204,{"$error":"#N/A"},{"$error":"#N/A"},"SELURL PHARMACIE CORDIER",11,"Rue","DU GENERAL DE GAULLE","60510 BRESLES",60510,"Bresles","Pharmacie d'officine","A"]
[{"$f":"VLOOKUP(B11058,Régions!A:C,3,FALSE)","v":"Hauts-de-France"},60,"PHARMDIRECTFR",600004402,600004402,"oui","PHARMACIE JEANNIN - MEUNIER",4,"Place","OMER VALLON","60500 CHANTILLY",60500,"Chantilly","Pharmacie d'officine","A"]
[{"$f":"VLOOKUP(B11070,Régions!A:C,3,FALSE)","v":"Hauts-de-France"},60,"PHARMDIRECTFR",600004733,600004733,"oui","PHARMACIE LEPERE-BANACH",73,"Rue","DU FAUBOURG SAINT JACQUES","60000 BEAUVAIS",60000,"Beauvais","Pharmacie d'officine","A"]
[{"$f":"VLOOKUP(B11077,Régions!A:C,3,FALSE)","v":"Hauts-de-France"},60,"CNOP",600004923,600004923,"oui","PHARMACIE BOUQUET-BOXOEN",9,"Rue","DE NESLE","60310 BEAULIEU-LES-FONTAINES",60310,"Beaulieu-les-Fontaines","Pharmacie d'officine","A"]
[{"$f":"VLOOKUP(B11080,Régions!A:C,3,FALSE)","v":"Hauts-de-France"},60,{"$error":"#N/A"},600005003,{"$error":"#N/A"},{"$error":"#N/A"},"PHARMACIE BAKHTAOUI",84,"Rue","GAMBETTA","60100 CREIL",60100,"Creil","Pharmacie d'officine","A"]
[{"$f":"VLOOKUP(B11092,Régions!A:C,3,FALSE)","v":"Hauts-de-France"},60,"PHARMDIRECTFR",600005367,600005367,"oui","SELARLU PHARMACIE DE L'EGLISE",9,"Place","DE L'EGLISE","60100 CREIL",60100,"Creil","Pharmacie d'officine","A"]
[{"$f":"VLOOKUP(B11099,Régions!A:C,3,FALSE)","v":"Hauts-de-France"},60,"CNOP",600005557,600005557,"oui","PHARMACIE BREHON",52,"Rue","DE PARIS","60400 NOYON",60400,"Noyon","Pharmacie d'officine","A"]
[{"$f":"VLOOKUP(B11109,Régions!A:C,3,FALSE)","v":"Hauts-de-France"},60,{"$error":"#N/A"},600005821,{"$error":"#N/A"},{"$error":"#N/A"},"PHARMACIE YOUNES","NULL","Rue","PHILEAS LEBESGUE","60200 COMPIEGNE",60200,"Compiègne","Pharmacie d'officine","A"]
[{"$f":"VLOOKUP(B11124,Régions!A:C,3,FALSE)","v":"Hauts-de-France"},60,"CNOP",600006217,600006217,"oui","PHARMACIE LEFEBVRE",415,"Rue","DE NOYON","60190 ESTRÉES-SAINT-DENIS",60190,"Remy","Pharmacie d'officine","A"]
[{"$f":"VLOOKUP(B11131,Régions!A:C,3,FALSE)","v":"Hauts-de-France"},60,"CNOP",600006373,600006373,"oui","PHARMACIE PARAGE",4,"Rue","JEAN JAURES","60000 GOINCOURT",60000,"Goincourt","Pharmacie d'officine","A"]
[{"$f":"VLOOKUP(B11143,Régions!A:C,3,FALSE)","v":"Hauts-de-France"},60,{"$error":"#N/A"},600006670,{"$error":"#N/A"},{"$error":"#N/A"},"PHARMACIE QUENU",1096,"Rue","NATIONALE","60170 CAMBRONNE-LES-RIBECOURT",60170,"Cambronne-lès-Ribécourt","Pharmacie d'officine","A"]
[{"$f":"VLOOKUP(B11150,Régions!A:C,3,FALSE)","v":"Hauts-de-France"},60,"CNOP",600006886,600006886,"oui","PHARMACIE VASSEUR",30,"Route","Nationale 1","60430 WARLUIS",60430,"Warluis","Pharmacie d'officine","A"]
[{"$f":"VLOOKUP(B11153,Régions!A:C,3,FALSE)","v":"Hauts-de-France"},60,"CNOP",600006951,600006951,"oui","PHARMACIE VATEL-GIBOULET",4,"Rue","de Pont-Sainte-Maxence","60940 CINQUEUX",60940,"Cinqueux","Pharmacie d'officine","A"]
[{"$f":"VLOOKUP(B11165,Régions!A:C,3,FALSE)","v":"Hauts-de-France"},60,"CNOP",600007256,600007256,"oui","PHARMACIE BASSERIE",126,"Rue","DU GENERAL DE GAULLE","60510 LA NEUVILLE EN HEZ",60510,"La Neuville-en-Hez","Pharmacie d'officine","A"]
[{"$f":"VLOOKUP(B11172,Régions!A:C,3,FALSE)","v":"Hauts-de-France"},60,"CNOP",600007421,600007421,"oui","PHARMACIE DENANCY-PINEAU",11,"Rue","JEAN JAURES","60130 SAINT-JUST-EN-CHAUSSEE",60130,"Saint-Just-en-Chaussée","Pharmacie d'officine","A"]
[{"$f":"VLOOKUP(B11184,Régions!A:C,3,FALSE)","v":"Hauts-de-France"},60,"PHARMDIRECTFR",600007751,600007751,"oui","PHARMACIE VASSOUT",38,"Rue","DE L EUROPE","60149 SAINT-CRÉPIN-IBOUVILLERS",60149,"Saint-Crépin-Ibouvillers","Pharmacie d'officine","A"]
[{"$f":"VLOOKUP(B11190,Régions!A:C,3,FALSE)","v":"Hauts-de-France"},60,"PHARMDIRECTFR",600008577,600008577,"oui","PHARMACIE BOUDOURESQUE-LOUVETY","NULL","Rue","LOUIS VAUTHIER","60290 MONCHY-SAINT-ELOI",60290,"Monchy-Saint-Éloi","Pharmacie d'officine","A"]
[{"$f":"VLOOKUP(B11204,Régions!A:C,3,FALSE)","v":"Normandie"},61,{"$error":"#N/A"},610786006,{"$error":"#N/A"},{"$error":"#N/A"},"PHARMACIE CAZENAVE",13,"Rue","DU PONT NEUF","61000 ALENCON",61000,"Alençon","Pharmacie d'officine","A"]
[{"$f":"VLOOKUP(B11216,Régions!A:C,3,FALSE)","v":"Normandie"},61,{"$error":"#N/A"},610786121,{"$error":"#N/A"},{"$error":"#N/A"},"PHARMACIE LEVY",25,"Rue","DES DEPORTES","61430 ATHIS VAL DE ROUVRE",61430,"Athis-Val de Rouvre","Pharmacie d'officine","A"]
[{"$f":"VLOOKUP(B11223,Régions!A:C,3,FALSE)","v":"Normandie"},61,"PHARMDIRECTFR",610786204,610786204,"oui","SARL PHARMACIE HEDOUIN",1,"Rue","JULES LEMAITRE","61110 BRETONCELLES",61110,"Bretoncelles","Pharmacie d'officine","A"]
[{"$f":"VLOOKUP(B11226,Régions!A:C,3,FALSE)","v":"Normandie"},61,"CNOP",610786253,610786253,"oui","PHARMACIE GUEZENNEC-PATRY",3,"Rue","D'AMBRIERE","61330 CEAUCE",61330,"Ceaucé","Pharmacie d'officine","A"]
[{"$f":"VLOOKUP(B11238,Régions!A:C,3,FALSE)","v":"Normandie"},61,{"$error":"#N/A"},610786394,{"$error":"#N/A"},{"$error":"#N/A"},"PHARMACIE BLANCHETIERE",93,"Rue","DE LA CHAUSSEE","61100 FLERS",61100,"Flers","Pharmacie d'officine","A"]
[{"$f":"VLOOKUP(B11245,Régions!A:C,3,FALSE)","v":"Normandie"},61,"CNOP",610786477,610786477,"oui","PHARMACIE DE LA FERTÉ",16,"NULL","GRANDE RUE","61550 LA FERTE EN OUCHE",61550,"La Ferté-en-Ouche","Pharmacie d'officine","A"]
[{"$f":"VLOOKUP(B11257,Régions!A:C,3,FALSE)","v":"Normandie"},61,"CNOP",610786642,610786642,"oui","PHARMACIE GLORIA",31,"Rue","Jean Gabin","61380 MOULINS-LA-MARCHE",61380,"Moulins-la-Marche","Pharmacie d'officine","A"]
[{"$f":"VLOOKUP(B11264,Régions!A:C,3,FALSE)","v":"Normandie"},61,"CNOP",610786725,610786725,"oui","PHARMACIE MORRUZZI",27,"NULL","GRANDE RUE","61370 SAINTE-GAUBURGE - SAINTE COLOMBE",61370,"Sainte-Gauburge-Sainte-Colombe","Pharmacie d'officine","A"]
[{"$f":"VLOOKUP(B11275,Régions!A:C,3,FALSE)","v":"Normandie"},61,"CNOP",610786865,610786865,"oui","PHARMACIE PHARMAVENIR",21,"Rue","Pierre Beregovoy","61200 ARGENTAN",61200,"Argentan","Pharmacie d'officine","A"]
[{"$f":"VLOOKUP(B11289,Régions!A:C,3,FALSE)","v":"Normandie"},61,{"$error":"#N/A"},610788739,{"$error":"#N/A"},{"$error":"#N/A"},"PHARMACIE DISSON","NULL","NULL","LE BOURG","61800 ST PIERRE D ENTREMONT",61800,"Saint-Pierre-d'Entremont","Pharmacie d'officine","A"]
[{"$f":"VLOOKUP(B11296,Régions!A:C,3,FALSE)","v":"Hauts-de-France"},62,"PHARMDIRECTFR",620004960,620004960,"oui","PHARMACIE LEFRERE CLAIRE",7,"Rue","DE BAPAUME","62121 ACHIET-LE-GRAND",62121,"Achiet-le-Grand","Pharmacie d'officine","A"]
[{"$f":"VLOOKUP(B11299,Régions!A:C,3,FALSE)","v":"Hauts-de-France"},62,"PHARMDIRECTFR",620005041,620005041,"non","PHARMACIE DU VAL DE LYS","NULL","Rue","DU BOIS PROLONGE","62120 AIRE-SUR-LA-LYS",62120,"Aire-sur-la-Lys","Pharmacie d'officine","A"]
[{"$f":"VLOOKUP(B11311,Régions!A:C,3,FALSE)","v":"Hauts-de-France"},62,"CNOP",620005363,620005363,"non","PHARMACIE TROLLE",102,"Rue","D'HESDIN","62134 ANVIN",62134,"Anvin","Pharmacie d'officine","A"]
[{"$f":"VLOOKUP(B11318,Régions!A:C,3,FALSE)","v":"Hauts-de-France"},62,"CNOP",620005561,620005561,"oui","SELARL PHARMACIE VERCRUYSSE",12,"Rue","MISS CAVEL","62510 ARQUES",62510,"Arques","Pharmacie d'officine","A"]
[{"$f":"VLOOKUP(B11330,Régions!A:C,3,FALSE)","v":"Hauts-de-France"},62,{"$error":"#N/A"},620005892,{"$error":"#N/A"},{"$error":"#N/A"},"PHARMACIE COUSSEMACQ",225,"Avenue","Winston Churchill","62000 ARRAS",62000,"Arras","Pharmacie d'officine","A"]
[{"$f":"VLOOKUP(B11337,Régions!A:C,3,FALSE)","v":"Hauts-de-France"},62,"CNOP",620006031,620006031,"oui","PHARMACIE EVRARD-BOUIN",1179,"Route","NATIONALE 43","62730 LES ATTAQUES",62730,"Les Attaques","Pharmacie d'officine","A"]
[{"$f":"VLOOKUP(B11346,Régions!A:C,3,FALSE)","v":"Hauts-de-France"},62,"CNOP",620006296,620006296,"oui","PHARMACIE OBERT",188,"Place","DU GENERAL DE GAULLE","62370 AUDRUICQ",62370,"Audruicq","Pharmacie d'officine","A"]
[{"$f":"VLOOKUP(B11362,Régions!A:C,3,FALSE)","v":"Hauts-de-France"},62,{"$error":"#N/A"},620006742,{"$error":"#N/A"},{"$error":"#N/A"},"PHARMACIE VANBREMEERSCH-VERMERSCH",62,"Rue","FERRER","62620 BARLIN",62620,"Barlin","Pharmacie d'officine","A"]
[{"$f":"VLOOKUP(B11369,Régions!A:C,3,FALSE)","v":"Hauts-de-France"},62,"PHARMDIRECTFR",620006924,620006924,"oui","PHARMACIE COHEN - CHEVALON",439,"Rue","DE L'IMPERATRICE","62600 BERCK",62600,"Berck","Pharmacie d'officine","A"]
[{"$f":"VLOOKUP(B11372,Régions!A:C,3,FALSE)","v":"Hauts-de-France"},62,{"$error":"#N/A"},620006981,{"$error":"#N/A"},{"$error":"#N/A"},"PHARMACIE COURTOT",23,"Rue","CARNOT","62600 BERCK",62600,"Berck","Pharmacie d'officine","A"]
[{"$f":"VLOOKUP(B11388,Régions!A:C,3,FALSE)","v":"Hauts-de-France"},62,{"$error":"#N/A"},620007443,{"$error":"#N/A"},{"$error":"#N/A"},"PHARMACIE  DELALANDE",36,"Route","NATIONALE","62660 BEUVRY",62660,"Beuvry","Pharmacie d'officine","A"]
[{"$f":"VLOOKUP(B11391,Régions!A:C,3,FALSE)","v":"Hauts-de-France"},62,"CNOP",620007526,620007526,"oui","PHARMACIE CHOQUET",5,"Rue","DE MONCHY","62111 BIENVILLERS-AU-BOIS",62111,"Bienvillers-au-Bois","Pharmacie d'officine","A"]
[{"$f":"VLOOKUP(B11403,Régions!A:C,3,FALSE)","v":"Hauts-de-France"},62,"PHARMDIRECTFR",620007864,620007864,"oui","PHARMACIE DUFLOT",62,"Rue","NATIONALE","62200 BOULOGNE SUR MER",62200,"Boulogne-sur-Mer","Pharmacie d'officine","A"]
[{"$f":"VLOOKUP(B11410,Régions!A:C,3,FALSE)","v":"Hauts-de-France"},62,"CNOP",620008144,620008144,"oui","PHARMACIE JONQUOIS",175,"Rue","du Chemin Vert","62200 BOULOGNE-SUR-MER",62200,"Boulogne-sur-Mer","Pharmacie d'officine","A"]
[{"$f":"VLOOKUP(B11422,Régions!A:C,3,FALSE)","v":"Hauts-de-France"},62,"CNOP",620008490,620008490,"oui","PHARMACIE ANATOLE FRANCE",224,"Rue","ANATOLE FRANCE","62700 BRUAY-LA-BUISSIERE",62700,"Bruay-la-Buissière","Pharmacie d'officine","A"]
[{"$f":"VLOOKUP(B11431,Régions!A:C,3,FALSE)","v":"Hauts-de-France"},62,"PHARMDIRECTFR",620008714,620008714,"oui","PHARMACIE NOWAK-CHWASTYNIAK",75,"Rue","ROGER SALENGRO","62160 BULLY-LES-MINES",62160,"Bully-les-Mines","Pharmacie d'officine","A"]
[{"$f":"VLOOKUP(B11442,Régions!A:C,3,FALSE)","v":"Hauts-de-France"},62,"PHARMDIRECTFR",620009043,620009043,"oui","PHARMACIE MATHILDE SOWINSKI",19,"Rue","MATISSE - ANGLE 247 AV ST EXEPURY","62100 CALAIS",62100,"Calais","Pharmacie d'officine","A"]
[{"$f":"VLOOKUP(B11445,Régions!A:C,3,FALSE)","v":"Hauts-de-France"},62,"CNOP",620009126,620009126,"oui","PHARMACIE CALAIS COTE D OPALE",46,"Rue","DELATTRE DE TASSIGNY","62100 CALAIS",62100,"Calais","Pharmacie d'officine","A"]
[{"$f":"VLOOKUP(B11461,Régions!A:C,3,FALSE)","v":"Hauts-de-France"},62,{"$error":"#N/A"},620009530,{"$error":"#N/A"},{"$error":"#N/A"},"PHARMACIE MONTIGNY",115,"Avenue","ANTOINE DE SAINT EXUPERY","62100 CALAIS",62100,"Calais","Pharmacie d'officine","A"]
[{"$f":"VLOOKUP(B11464,Régions!A:C,3,FALSE)","v":"Hauts-de-France"},62,"CNOP",620009613,620009613,"oui","PHARMACIE PRUVOST",192,"Rue","DE ANDRE MANCEY","62470 CALONNE-RICOUART",62470,"Calonne-Ricouart","Pharmacie d'officine","A"]
[{"$f":"VLOOKUP(B11476,Régions!A:C,3,FALSE)","v":"Hauts-de-France"},62,"CNOP",620009910,620009910,"oui","PHARMACIE BAURAIN-WATINE",5,"Rue","DE LA PAIX","62360 CONDETTE",62360,"Condette","Pharmacie d'officine","A"]
[{"$f":"VLOOKUP(B11483,Régions!A:C,3,FALSE)","v":"Hauts-de-France"},62,{"$error":"#N/A"},620010090,{"$error":"#N/A"},{"$error":"#N/A"},"PHARMACIE DU BOULEVARD LEPOIVRE",26,"Boulevard","ANDRE LEPOIVRE","62710 COURRIERES",62710,"Courrières","Pharmacie d'officine","A"]
[{"$f":"VLOOKUP(B11495,Régions!A:C,3,FALSE)","v":"Hauts-de-France"},62,"CNOP",620010413,620010413,"oui","PHARMACIE BAYARD - BULTEL",34,"Rue","DE L'EGLISE","62240 DESVRES",62240,"Desvres","Pharmacie d'officine","A"]
[{"$f":"VLOOKUP(B11502,Régions!A:C,3,FALSE)","v":"Hauts-de-France"},62,{"$error":"#N/A"},620010611,{"$error":"#N/A"},{"$error":"#N/A"},"PHARMACIE COCKENPOT-DEAN",16,"Rue","JEAN JAURES","62138 DOUVRIN",62138,"Douvrin","Pharmacie d'officine","A"]
[{"$f":"VLOOKUP(B11512,Régions!A:C,3,FALSE)","v":"Hauts-de-France"},62,{"$error":"#N/A"},620010876,{"$error":"#N/A"},{"$error":"#N/A"},"PHARMACIE SATTLER","NULL","Avenue","FRANCOIS MITTERAND","62630 ETAPLES",62630,"Étaples","Pharmacie d'officine","A"]
[{"$f":"VLOOKUP(B11518,Régions!A:C,3,FALSE)","v":"Hauts-de-France"},62,"CNOP",620011031,620011031,"oui","PHARMACIE GUILBAUT",33,"Rue","ELISEE CLAIS","62250 FERQUES",62250,"Ferques","Pharmacie d'officine","A"]
[{"$f":"VLOOKUP(B11534,Régions!A:C,3,FALSE)","v":"Hauts-de-France"},62,{"$error":"#N/A"},620011510,{"$error":"#N/A"},{"$error":"#N/A"},"PHARMACIE TALARCZYK",70,"Rue","CASIMIR BEUGNET","62160 GRENAY",62160,"Grenay","Pharmacie d'officine","A"]
[{"$f":"VLOOKUP(B11537,Régions!A:C,3,FALSE)","v":"Hauts-de-France"},62,{"$error":"#N/A"},620011593,{"$error":"#N/A"},{"$error":"#N/A"},"PHARMACIE DE GUINES",27,"Avenue","AUGUSTE BOULANGER","62340 GUINES",62340,"Guînes","Pharmacie d'officine","A"]
[{"$f":"VLOOKUP(B11549,Régions!A:C,3,FALSE)","v":"Hauts-de-France"},62,"PHARMDIRECTFR",620011940,620011940,"oui","PHARMACIE DEMARQUET","NULL","Boulevard","JEAN MOULIN","62110 HENIN BEAUMONT",62110,"Hénin-Beaumont","Pharmacie d'officine","A"]
[{"$f":"VLOOKUP(B11556,Régions!A:C,3,FALSE)","v":"Hauts-de-France"},62,"PHARMDIRECTFR",620012161,620012161,"oui","PHARMACIE CORBIER SYLVIE",11,"NULL","GRAND'PLACE","62147 HERMIES",62147,"Hermies","Pharmacie d'officine","A"]
[{"$f":"VLOOKUP(B11568,Régions!A:C,3,FALSE)","v":"Hauts-de-France"},62,"CNOP",620012492,620012492,"oui","PHARMACIE DESLIERS",8,"Rue","DU GENERAL LECLERC","62410 HULLUCH",62410,"Hulluch","Pharmacie d'officine","A"]
[{"$f":"VLOOKUP(B11575,Régions!A:C,3,FALSE)","v":"Hauts-de-France"},62,"CNOP",620012690,620012690,"oui","pharmacie leroy",52,"Rue","PRESSENCE","62790 LEFOREST",62790,"Leforest","Pharmacie d'officine","A"]
[{"$f":"VLOOKUP(B11583,Régions!A:C,3,FALSE)","v":"Hauts-de-France"},62,"CNOP",620012963,620012963,"oui","PHARMACIE BOURGOIS",45,"Rue","RENE LANOY","62300 LENS",62300,"Lens","Pharmacie d'officine","A"]
[{"$f":"VLOOKUP(B11591,Régions!A:C,3,FALSE)","v":"Hauts-de-France"},62,"PHARMDIRECTFR",620013177,620013177,"oui","PHARMACIE DE LORETTE",97,"Rue","JEAN BAPTISTE DEFERNEZ","62800 LIEVIN",62800,"Liévin","Pharmacie d'officine","A"]
[{"$f":"VLOOKUP(B11607,Régions!A:C,3,FALSE)","v":"Hauts-de-France"},62,"CNOP",620013565,620013565,"oui","PHARMACIE HANSAN-FRERE",2,"Rue","DEVOUGES","62218 LOISON-SOUS-LENS",62218,"Loison-sous-Lens","Pharmacie d'officine","A"]
[{"$f":"VLOOKUP(B11610,Régions!A:C,3,FALSE)","v":"Hauts-de-France"},62,"CNOP",620013631,620013631,"oui","PHARMACIE DEBROUWER",3,"Avenue","CLEMENCEAU","62219 LONGUENESSE",62219,"Longuenesse","Pharmacie d'officine","A"]
[{"$f":"VLOOKUP(B11622,Régions!A:C,3,FALSE)","v":"Hauts-de-France"},62,{"$error":"#N/A"},620013946,{"$error":"#N/A"},{"$error":"#N/A"},"PHARMACIE HITIMANA",1285,"Route","NATIONALE","62140 MARCONNELLE",62140,"Marconnelle","Pharmacie d'officine","A"]
[{"$f":"VLOOKUP(B11629,Régions!A:C,3,FALSE)","v":"Hauts-de-France"},62,"CNOP",620014142,620014142,"oui","PHARMACIE ROYER",1,"Rue","NATIONALE","62250 MARQUISE",62250,"Marquise","Pharmacie d'officine","A"]
[{"$f":"VLOOKUP(B11641,Régions!A:C,3,FALSE)","v":"Hauts-de-France"},62,"CNOP",620014480,620014480,"oui","PHARMACIE VAN ISACKER",1,"Rue","DE VARSOVIE","62640 MONTIGNY-EN-GOHELLE",62640,"Montigny-en-Gohelle","Pharmacie d'officine","A"]
[{"$f":"VLOOKUP(B11648,Régions!A:C,3,FALSE)","v":"Hauts-de-France"},62,{"$error":"#N/A"},620014696,{"$error":"#N/A"},{"$error":"#N/A"},"PHARMACIE LECHON-STRUZYK",2,"Rue","DU CARLIN","62580 NEUVILLE-SAINT-VAASAINT",62580,"Neuville-Saint-Vaast","Pharmacie d'officine","A"]
[{"$f":"VLOOKUP(B11660,Régions!A:C,3,FALSE)","v":"Hauts-de-France"},62,"CNOP",620014993,620014993,"oui","PHARMACIE CADOT",59,"Rue","DE LA REPUBLIQUE","62221 NOYELLES-SOUS-LENS",62221,"Noyelles-sous-Lens","Pharmacie d'officine","A"]
[{"$f":"VLOOKUP(B11668,Régions!A:C,3,FALSE)","v":"Hauts-de-France"},62,"CNOP",620015230,620015230,"oui","PHARMACIE KIRCHMEYER",102,"Rue","AUGUSTE COMTE","62230 OUTREAU",62230,"Outreau","Pharmacie d'officine","A"]
[{"$f":"VLOOKUP(B11680,Régions!A:C,3,FALSE)","v":"Hauts-de-France"},62,"CNOP",620015545,620015545,"oui","PHARMACIE ROSE-LAHOUSTE",6,"Place","POINCARE","62480 PORTEL (LE)",62480,"Le Portel","Pharmacie d'officine","A"]
[{"$f":"VLOOKUP(B11683,Régions!A:C,3,FALSE)","v":"Hauts-de-France"},62,"PHARMDIRECTFR",620015610,620015610,"oui","PHARMACIE LECOMTE-HAUDEGON",2,"Rue","DE L'EGLISE","62860 QUEANT",62860,"Quéant","Pharmacie d'officine","A"]
[{"$f":"VLOOKUP(B11699,Régions!A:C,3,FALSE)","v":"Hauts-de-France"},62,"CNOP",620016030,620016030,"oui","SELAS PHARMACIE BARRE",80,"Route","Nationale","62223 SAINTE-CATHERINE",62223,"Sainte-Catherine","Pharmacie d'officine","A"]
[{"$f":"VLOOKUP(B11702,Régions!A:C,3,FALSE)","v":"Hauts-de-France"},62,"CNOP",620016147,620016147,"oui","PHARMACIE ROSATI",34,"Rue","DU GENERAL DE GAULLE","62223 SAINT-LAURENT-BLANGY",62223,"Saint-Laurent-Blangy","Pharmacie d'officine","A"]
[{"$f":"VLOOKUP(B11714,Régions!A:C,3,FALSE)","v":"Hauts-de-France"},62,"CNOP",620016444,620016444,"oui","PHARMACIE JULIE CATTEAU",70,"Rue","Anatole France","62223 SAINT-NICOLAS",62223,"Saint-Nicolas","Pharmacie d'officine","A"]
[{"$f":"VLOOKUP(B11721,Régions!A:C,3,FALSE)","v":"Hauts-de-France"},62,"PHARMDIRECTFR",620016642,620016642,"oui","SELARL DE PHARMACIENS D'OFFICINE",158,"Rue","DE DUNKERQUE","62500 SAINT-OMER",62500,"Saint-Omer","Pharmacie d'officine","A"]
[{"$f":"VLOOKUP(B11733,Régions!A:C,3,FALSE)","v":"Hauts-de-France"},62,"PHARMDIRECTFR",620016980,620016980,"oui","PHARMACIE NOUVELLE DE SAMER",150,"Place","DU MARECHAL FOCH","62830 SAMER",62830,"Samer","Pharmacie d'officine","A"]
[{"$f":"VLOOKUP(B11739,Régions!A:C,3,FALSE)","v":"Hauts-de-France"},62,"CNOP",620017145,620017145,"oui","PHARMACIE DES QUATRE SAISONS",60,"Rue","DE PARIS","62520 LE TOUQUET PARIS PLAGE",62520,"Le Touquet-Paris-Plage","Pharmacie d'officine","A"]
[{"$f":"VLOOKUP(B11753,Régions!A:C,3,FALSE)","v":"Hauts-de-France"},62,"CNOP",620017491,620017491,"oui","PHARMACIE ABRAHAM",39,"Rue","ANDRE MERCIER","62156 VIS-EN-ARTOIS",62156,"Vis-en-Artois","Pharmacie d'officine","A"]
[{"$f":"VLOOKUP(B11756,Régions!A:C,3,FALSE)","v":"Hauts-de-France"},62,"PHARMDIRECTFR",620017574,620017574,"oui","PHARMACIE SIMON CAZIN",71,"Rue","NATIONALE","62170 WAILLY-BEAUCAMP",62170,"Wailly-Beaucamp","Pharmacie d'officine","A"]
[{"$f":"VLOOKUP(B11772,Régions!A:C,3,FALSE)","v":"Hauts-de-France"},62,"PHARMDIRECTFR",620019273,620019273,"oui","PHARMACIE SYLVIE FUNTEN",51,"Rue","EMILE BASLY","62210 AVION",62210,"Avion","Pharmacie d'officine","A"]
[{"$f":"VLOOKUP(B11775,Régions!A:C,3,FALSE)","v":"Auvergne-Rhône-Alpes"},63,"CNOP",630002582,630002582,"oui","PHARMACIE JOLIVET",54,"Boulevard","HENRI IV","63600 AMBERT",63600,"Ambert","Pharmacie d'officine","A"]
[{"$f":"VLOOKUP(B11787,Régions!A:C,3,FALSE)","v":"Auvergne-Rhône-Alpes"},63,"PHARMDIRECTFR",630002939,630002939,"oui","PHARMACIE CHAMPIAT","NULL","Rue","DES VIGNERONS","63116 BEAUREGARD-L'EVEQUE",63116,"Beauregard-l'Évêque","Pharmacie d'officine","A"]
[{"$f":"VLOOKUP(B11794,Régions!A:C,3,FALSE)","v":"Auvergne-Rhône-Alpes"},63,"PHARMDIRECTFR",630003101,630003101,"oui","PHARMACIE POUYET-POULET ERIC",1,"Place","DU PARC","63110 BEAUMONT",63110,"Beaumont","Pharmacie d'officine","A"]
[{"$f":"VLOOKUP(B11806,Régions!A:C,3,FALSE)","v":"Auvergne-Rhône-Alpes"},63,{"$error":"#N/A"},630003432,{"$error":"#N/A"},{"$error":"#N/A"}," PHARMACIE DES PERCHES",1,"Avenue","DU 8 MAI 1945","63118 CEBAZAT",63118,"Cébazat","Pharmacie d'officine","A"]
[{"$f":"VLOOKUP(B11809,Régions!A:C,3,FALSE)","v":"Auvergne-Rhône-Alpes"},63,{"$error":"#N/A"},630003523,{"$error":"#N/A"},{"$error":"#N/A"},"SELARL PHARMACIE DES MARRONNIERS",17,"Avenue","CENTRALE","63670 LE CENDRE",63670,"Le Cendre","Pharmacie d'officine","A"]
[{"$f":"VLOOKUP(B11820,Régions!A:C,3,FALSE)","v":"Auvergne-Rhône-Alpes"},63,"CNOP",630003820,630003820,"oui","PHARMACIE DESCHLER",110,"Avenue","DE ROYAT","63400 CHAMALIERES",63400,"Chamalières","Pharmacie d'officine","A"]
[{"$f":"VLOOKUP(B11829,Régions!A:C,3,FALSE)","v":"Auvergne-Rhône-Alpes"},63,"PHARMDIRECTFR",630004083,630004083,"oui","PHARMACIE SAUVANT",1,"Chemin","du Pont Romain","63200 LE CHEIX",63200,"Le Cheix","Pharmacie d'officine","A"]
[{"$f":"VLOOKUP(B11845,Régions!A:C,3,FALSE)","v":"Auvergne-Rhône-Alpes"},63,"CNOP",630004570,630004570,"oui","SELARL PHARMACIE FONTGIEVE",14,"Rue","FONTGIEVE","63000 CLERMONT-FERRAND",63000,"Clermont-Ferrand","Pharmacie d'officine","A"]
[{"$f":"VLOOKUP(B11848,Régions!A:C,3,FALSE)","v":"Auvergne-Rhône-Alpes"},63,"PHARMDIRECTFR",630004687,630004687,"oui","PHARMACIE POTARD - SIMON",1,"Avenue","D'ITALIE","63000 CLERMONT-FERRAND",63000,"Clermont-Ferrand","Pharmacie d'officine","A"]
[{"$f":"VLOOKUP(B11860,Régions!A:C,3,FALSE)","v":"Auvergne-Rhône-Alpes"},63,{"$error":"#N/A"},630004984,{"$error":"#N/A"},{"$error":"#N/A"},"PHARMACIE DUCHER",2,"Rue","RUE FLAMENG","63000 CLERMONT-FERRAND",63000,"Clermont-Ferrand","Pharmacie d'officine","A"]
[{"$f":"VLOOKUP(B11867,Régions!A:C,3,FALSE)","v":"Auvergne-Rhône-Alpes"},63,"CNOP",630005221,630005221,"non","PHARMACIE DE CHANTERANNE",169,"Rue","CHAMPFLEURY","63100 CLERMONT-FERRAND",63100,"Clermont-Ferrand","Pharmacie d'officine","A"]
[{"$f":"VLOOKUP(B11879,Régions!A:C,3,FALSE)","v":"Auvergne-Rhône-Alpes"},63,"CNOP",630005536,630005536,"oui","PHARMACIE FERRAGNE",33,"Rue","ROUVIER","63100 CLERMONT-FERRAND",63100,"Clermont-Ferrand","Pharmacie d'officine","A"]
[{"$f":"VLOOKUP(B11886,Régions!A:C,3,FALSE)","v":"Auvergne-Rhône-Alpes"},63,"PHARMDIRECTFR",630005767,630005767,"oui","PHARMACIE KARINTHI",7,"Avenue","JEAN JAURES","63114 COUDES",63114,"Coudes","Pharmacie d'officine","A"]
[{"$f":"VLOOKUP(B11898,Régions!A:C,3,FALSE)","v":"Auvergne-Rhône-Alpes"},63,{"$error":"#N/A"},630006054,{"$error":"#N/A"},{"$error":"#N/A"},"PHARMACIE  SOUTRENON",8,"Place","DU MARCHE","63590 CUNLHAT",63590,"Cunlhat","Pharmacie d'officine","A"]
[{"$f":"VLOOKUP(B11905,Régions!A:C,3,FALSE)","v":"Auvergne-Rhône-Alpes"},63,"PHARMDIRECTFR",630006237,630006237,"oui","PHARMACIE CENTRALE GERZAT",15,"Place","DOCTEUR POMMEROL","63360 GERZAT",63360,"Gerzat","Pharmacie d'officine","A"]
[{"$f":"VLOOKUP(B11918,Régions!A:C,3,FALSE)","v":"Auvergne-Rhône-Alpes"},63,"CNOP",630006583,630006583,"oui","PHARMACIE PATRON-PERROTIN","NULL","Rue","DU PONT D'ALLIER","63570 JUMEAUX",63570,"Jumeaux","Pharmacie d'officine","A"]
[{"$f":"VLOOKUP(B11921,Régions!A:C,3,FALSE)","v":"Auvergne-Rhône-Alpes"},63,"PHARMDIRECTFR",630006666,630006666,"oui","PHARMACIE BAÏKECHE",17,"Rue","DU PUY DE DOME","63370 LEMPDES",63370,"Lempdes","Pharmacie d'officine","A"]
[{"$f":"VLOOKUP(B11933,Régions!A:C,3,FALSE)","v":"Auvergne-Rhône-Alpes"},63,{"$error":"#N/A"},630007003,{"$error":"#N/A"},{"$error":"#N/A"},"PHARMACIE CODEGNAT",27,"Rue","DE LA ROSERAIE","63730 MIREFLEURS",63730,"Mirefleurs","Pharmacie d'officine","A"]
[{"$f":"VLOOKUP(B11940,Régions!A:C,3,FALSE)","v":"Auvergne-Rhône-Alpes"},63,{"$error":"#N/A"},630007235,{"$error":"#N/A"},{"$error":"#N/A"}," PHARMACIE DES LAVANDIERES",3,"Route","DE DURTOL","63830 NOHANENT",63830,"Nohanent","Pharmacie d'officine","A"]
[{"$f":"VLOOKUP(B11952,Régions!A:C,3,FALSE)","v":"Auvergne-Rhône-Alpes"},63,{"$error":"#N/A"},630007532,{"$error":"#N/A"},{"$error":"#N/A"},"SELARL PHARMACIE FLORI-MESTER",52,"Avenue","de Clermont","63430 PONT-DU-CHATEAU",63430,"Pont-du-Château","Pharmacie d'officine","A"]
[{"$f":"VLOOKUP(B11959,Régions!A:C,3,FALSE)","v":"Auvergne-Rhône-Alpes"},63,"CNOP",630007722,630007722,"oui","PHARMACIE VALLI",5,"Boulevard","DE LA LIBERTE","63200 RIOM",63200,"Riom","Pharmacie d'officine","A"]
[{"$f":"VLOOKUP(B11971,Régions!A:C,3,FALSE)","v":"Auvergne-Rhône-Alpes"},63,"CNOP",630008084,630008084,"oui","PHARMACIE DES SOURCES",1,"Allee","de la Chocolaterie","63130 ROYAT",63130,"Royat","Pharmacie d'officine","A"]
[{"$f":"VLOOKUP(B11976,Régions!A:C,3,FALSE)","v":"Auvergne-Rhône-Alpes"},63,"CNOP",630008217,630008217,"oui","PHARMACIE ROUSSET-CHAPUIS",26,"Place","DE L' AUBEPIN","63660 SAINT-ANTHEME",63660,"Saint-Anthème","Pharmacie d'officine","A"]
[{"$f":"VLOOKUP(B11991,Régions!A:C,3,FALSE)","v":"Auvergne-Rhône-Alpes"},63,"CNOP",630008720,630008720,"oui","PHARMACIE SANCIAUT-BATTUT","NULL","Rue","DU 8 MAI 1945","63690 TAUVES",63690,"Tauves","Pharmacie d'officine","A"]
[{"$f":"VLOOKUP(B11994,Régions!A:C,3,FALSE)","v":"Auvergne-Rhône-Alpes"},63,"CNOP",630008803,630008803,"oui","SELAS PHARMACIE BOVET",4,"Rue","TERRASSE","63300 THIERS",63300,"Thiers","Pharmacie d'officine","A"]
[{"$f":"VLOOKUP(B12001,Régions!A:C,3,FALSE)","v":"Auvergne-Rhône-Alpes"},63,{"$error":"#N/A"},630009033,{"$error":"#N/A"},{"$error":"#N/A"},"PHARMACIE CODEGNAT","NULL","Boulevard","du Comte","63270 VIC-LE-COMTE",63270,"Vic-le-Comte","Pharmacie d'officine","A"]
[{"$f":"VLOOKUP(B12013,Régions!A:C,3,FALSE)","v":"Nouvelle-Aquitaine"},64,"PHARMDIRECTFR",640006862,640006862,"oui","PHARMACIE CAILLABET",15,"Rue","AMEDEE DUFOURG","64600 ANGLET",64600,"Anglet","Pharmacie d'officine","A"]
[{"$f":"VLOOKUP(B12025,Régions!A:C,3,FALSE)","v":"Nouvelle-Aquitaine"},64,{"$error":"#N/A"},640007175,{"$error":"#N/A"},{"$error":"#N/A"},"PHARMACIE BOURDAT","NULL","Route","DEPARTEMENTALE 3 LES TROIS CROIX","64200 ARCANGUES",64200,"Arcangues","Pharmacie d'officine","A"]
[{"$f":"VLOOKUP(B12032,Régions!A:C,3,FALSE)","v":"Nouvelle-Aquitaine"},64,{"$error":"#N/A"},640007365,{"$error":"#N/A"},{"$error":"#N/A"},"SELAS PHARMACIE DU SOUBESTRE","NULL","Route","DE SAMADET","64410 ARZACQ-ARRAZIGUET",64410,"Arzacq-Arraziguet","Pharmacie d'officine","A"]
[{"$f":"VLOOKUP(B12044,Régions!A:C,3,FALSE)","v":"Nouvelle-Aquitaine"},64,"PHARMDIRECTFR",640007696,640007696,"oui","PHARMACIE LARREGLE","NULL","Avenue","JACQUES LOEB","64100 BAYONNE",64100,"Bayonne","Pharmacie d'officine","A"]
[{"$f":"VLOOKUP(B12047,Régions!A:C,3,FALSE)","v":"Nouvelle-Aquitaine"},64,"PHARMDIRECTFR",640007761,640007761,"oui","PHARMACIE DUFAU-ETCHEGOYEN",5,"Avenue","DE JOUANDIN","64100 BAYONNE",64100,"Bayonne","Pharmacie d'officine","A"]
[{"$f":"VLOOKUP(B12057,Régions!A:C,3,FALSE)","v":"Nouvelle-Aquitaine"},64,"CNOP",640008025,640008025,"oui","PHARMACIE SOUCHON - SAHORES",30,"Place","DE LA REPUBLIQUE","64100 BAYONNE",64100,"Bayonne","Pharmacie d'officine","A"]
[{"$f":"VLOOKUP(B12067,Régions!A:C,3,FALSE)","v":"Nouvelle-Aquitaine"},64,"PHARMDIRECTFR",640008280,640008280,"oui","PHARMACIE CURUTCHET",2,"Avenue","DU MARECHAL FOCH","64200 BIARRITZ",64200,"Biarritz","Pharmacie d'officine","A"]
[{"$f":"VLOOKUP(B12074,Régions!A:C,3,FALSE)","v":"Nouvelle-Aquitaine"},64,{"$error":"#N/A"},640008462,{"$error":"#N/A"},{"$error":"#N/A"},"SELARL PHARMACIE DES THERMES",8,"Avenue","REINE NATHALIE","64200 BIARRITZ",64200,"Biarritz","Pharmacie d'officine","A"]
[{"$f":"VLOOKUP(B12086,Régions!A:C,3,FALSE)","v":"Nouvelle-Aquitaine"},64,"PHARMDIRECTFR",640008777,640008777,"oui","PHARMACIE BOUSQUET - TURON",6,"Place","JULES GOIS","64140 BILLERE",64140,"Billère","Pharmacie d'officine","A"]
[{"$f":"VLOOKUP(B12098,Régions!A:C,3,FALSE)","v":"Nouvelle-Aquitaine"},64,"CNOP",640009114,640009114,"oui","SELAS PHARMACIE DE  CARRESSE",2,"Route","de Salies","64270 CARRESSE-CASSABER",64270,"Carresse-Cassaber","Pharmacie d'officine","A"]
[{"$f":"VLOOKUP(B12105,Régions!A:C,3,FALSE)","v":"Nouvelle-Aquitaine"},64,"PHARMDIRECTFR",640009312,640009312,"oui","PHARMACIE   GANTOISE",148,"Rue","D'OSSAU","64290 GAN",64290,"Gan","Pharmacie d'officine","A"]
[{"$f":"VLOOKUP(B12117,Régions!A:C,3,FALSE)","v":"Nouvelle-Aquitaine"},64,"PHARMDIRECTFR",640009676,640009676,"oui","PHARMACIE CAPDEPUY",15,"Boulevard","DU GENERAL DE GAULLE","64700 HENDAYE",64700,"Hendaye","Pharmacie d'officine","A"]
[{"$f":"VLOOKUP(B12120,Régions!A:C,3,FALSE)","v":"Nouvelle-Aquitaine"},64,{"$error":"#N/A"},640009742,{"$error":"#N/A"},{"$error":"#N/A"},"PHARMACIE CHAZELLE - ANEL - DELORME",36,"NULL","Ordokiko Bidea","64250 ITXASSOU",64250,"Itxassou","Pharmacie d'officine","A"]
[{"$f":"VLOOKUP(B12136,Régions!A:C,3,FALSE)","v":"Nouvelle-Aquitaine"},64,"CNOP",640010161,640010161,"oui","PHARMACIE  CAUSSE - MARIOT",6,"Avenue","DU MOULIN","64140 LONS",64140,"Lons","Pharmacie d'officine","A"]
[{"$f":"VLOOKUP(B12142,Régions!A:C,3,FALSE)","v":"Nouvelle-Aquitaine"},64,"CNOP",640010427,640010427,"oui","PHARMACIE DU BEARN",9,"Rue","du Commerce","64360 MONEIN",64360,"Monein","Pharmacie d'officine","A"]
[{"$f":"VLOOKUP(B12147,Régions!A:C,3,FALSE)","v":"Nouvelle-Aquitaine"},64,{"$error":"#N/A"},640010575,{"$error":"#N/A"},{"$error":"#N/A"},"PHARMACIE DU BOULEVARD",7,"Rue","DE LA REPUBLIQUE","64150 MOURENX-VILLE-NOUVELLE",64150,"Mourenx","Pharmacie d'officine","A"]
[{"$f":"VLOOKUP(B12159,Régions!A:C,3,FALSE)","v":"Nouvelle-Aquitaine"},64,"CNOP",640010880,640010880,"oui","PHARMACIE  MONESTEL",2,"Rue","PABLO PICASSO","64400 OLORON STE MARIE",64400,"Oloron-Sainte-Marie","Pharmacie d'officine","A"]
[{"$f":"VLOOKUP(B12171,Régions!A:C,3,FALSE)","v":"Nouvelle-Aquitaine"},64,"CNOP",640011243,640011243,"oui","PHARMACIE  POUEYMIDOU",49,"Rue","CARNOT","64000 PAU",64000,"Pau","Pharmacie d'officine","A"]
[{"$f":"VLOOKUP(B12178,Régions!A:C,3,FALSE)","v":"Nouvelle-Aquitaine"},64,"CNOP",640011425,640011425,"oui","SELARL PHARMACIE  G.P.C.B.",34,"Avenue","DU GENERAL DE GAULLE","64000 PAU",64000,"Pau","Pharmacie d'officine","A"]
[{"$f":"VLOOKUP(B12190,Régions!A:C,3,FALSE)","v":"Nouvelle-Aquitaine"},64,"CNOP",640011847,640011847,"oui","PHARMACIE  COURET - PINOT",155,"Boulevard","DE LA PAIX","64000 PAU",64000,"Pau","Pharmacie d'officine","A"]
[{"$f":"VLOOKUP(B12197,Régions!A:C,3,FALSE)","v":"Nouvelle-Aquitaine"},64,{"$error":"#N/A"},640012043,{"$error":"#N/A"},{"$error":"#N/A"},"PHARMACIE MARCHELOT",53,"Boulevard","TOURASSE","64000 PAU",64000,"Pau","Pharmacie d'officine","A"]
[{"$f":"VLOOKUP(B12209,Régions!A:C,3,FALSE)","v":"Nouvelle-Aquitaine"},64,{"$error":"#N/A"},640012381,{"$error":"#N/A"},{"$error":"#N/A"},"PHARMACIE  DE  JALDAY",18,"Avenue","DE JALDAY","64500 ST JEAN DE LUZ",64500,"Saint-Jean-de-Luz","Pharmacie d'officine","A"]
[{"$f":"VLOOKUP(B12213,Régions!A:C,3,FALSE)","v":"Nouvelle-Aquitaine"},64,{"$error":"#N/A"},640012514,{"$error":"#N/A"},{"$error":"#N/A"},"PHARMACIE  VASLIN",15,"Boulevard","VICTOR HUGO","64500 SAINT-JEAN-DE-LUZ",64500,"Saint-Jean-de-Luz","Pharmacie d'officine","A"]
[{"$f":"VLOOKUP(B12220,Régions!A:C,3,FALSE)","v":"Nouvelle-Aquitaine"},64,{"$error":"#N/A"},640012696,{"$error":"#N/A"},{"$error":"#N/A"},"PHARMACIE SEYCHAL - DELCAMBRE","NULL","NULL","SECTION AE N 117","64310 SAINT-PEE-SUR-NIVELLE",64310,"Saint-Pée-sur-Nivelle","Pharmacie d'officine","A"]
[{"$f":"VLOOKUP(B12232,Régions!A:C,3,FALSE)","v":"Nouvelle-Aquitaine"},64,"PHARMDIRECTFR",640013041,640013041,"oui","PHARMACIE CABIROL","NULL","Place","DU MARCHE","64470 TARDETS SORHOLUS",64470,"Tardets-Sorholus","Pharmacie d'officine","A"]
[{"$f":"VLOOKUP(B12244,Régions!A:C,3,FALSE)","v":"Nouvelle-Aquitaine"},64,"CNOP",640018776,640018776,"oui","PHARMACIE BONNET",117,"Route","DE ST PIERRE D'IRUBE","64990 VILLEFRANQUE",64990,"Villefranque","Pharmacie d'officine","A"]
[{"$f":"VLOOKUP(B12251,Régions!A:C,3,FALSE)","v":"Occitanie"},65,{"$error":"#N/A"},650001803,{"$error":"#N/A"},{"$error":"#N/A"},"PHARMACIE FAYARD",37,"Route","D'AZUN","65400 ARRENS-MARSOUS",65400,"Arrens-Marsous","Pharmacie d'officine","A"]
[{"$f":"VLOOKUP(B12263,Régions!A:C,3,FALSE)","v":"Occitanie"},65,"CNOP",650002132,650002132,"oui","PHARMACIE SIMON",34,"Place","du Foirail","65200 BAGNERES-DE-BIGORRE",65200,"Bagnères-de-Bigorre","Pharmacie d'officine","A"]
[{"$f":"VLOOKUP(B12270,Régions!A:C,3,FALSE)","v":"Occitanie"},65,"CNOP",650002371,650002371,"oui","PHARMACIE MILLIET - SENS","NULL","Rue","DU CORPS FRANC POMMIES","65230 CASTELNAU-MAGNOAC",65230,"Castelnau-Magnoac","Pharmacie d'officine","A"]
[{"$f":"VLOOKUP(B12282,Régions!A:C,3,FALSE)","v":"Occitanie"},65,"PHARMDIRECTFR",650002751,650002751,"oui","PHARMACIE SESTAUX",2,"Boulevard","D'ESPAGNE","65100 LOURDES",65100,"Lourdes","Pharmacie d'officine","A"]
[{"$f":"VLOOKUP(B12285,Régions!A:C,3,FALSE)","v":"Occitanie"},65,"CNOP",650002835,650002835,"oui","PHARMACIE LABAZUY",88,"Rue","DE LA GROTTE","65100 LOURDES",65100,"Lourdes","Pharmacie d'officine","A"]
[{"$f":"VLOOKUP(B12294,Régions!A:C,3,FALSE)","v":"Occitanie"},65,"PHARMDIRECTFR",650003072,650003072,"oui","PHARMACIE SAINT-MARTIN",461,"Rue","DU GENERAL DE GAULLE","65700 MAUBOURGUET",65700,"Maubourguet","Pharmacie d'officine","A"]
[{"$f":"VLOOKUP(B12305,Régions!A:C,3,FALSE)","v":"Occitanie"},65,{"$error":"#N/A"},650003387,{"$error":"#N/A"},{"$error":"#N/A"},"PHARMACIE LAPART",13,"Rue","DU GENERAL DE GAULLE","65270 SAINT-PE-DE-BIGORRE",65270,"Saint-Pé-de-Bigorre","Pharmacie d'officine","A"]
[{"$f":"VLOOKUP(B12312,Régions!A:C,3,FALSE)","v":"Occitanie"},65,"CNOP",650003551,650003551,"oui","PHARMACIE DELBECQ",56,"Rue","D'URAC","65000 TARBES",65000,"Tarbes","Pharmacie d'officine","A"]
[{"$f":"VLOOKUP(B12324,Régions!A:C,3,FALSE)","v":"Occitanie"},65,"CNOP",650003916,650003916,"oui","PHARMACIE  CHAUVEAU",10,"Avenue","DE LA LIBERATION","65000 TARBES",65000,"Tarbes","Pharmacie d'officine","A"]
[{"$f":"VLOOKUP(B12336,Régions!A:C,3,FALSE)","v":"Occitanie"},65,"CNOP",650004302,650004302,"oui","PHARMACIE DAVERAN - GAGLIANO",4,"Place","DE LA REPUBLIQUE","65500 VIC-EN-BIGORRE",65500,"Vic-en-Bigorre","Pharmacie d'officine","A"]
[{"$f":"VLOOKUP(B12343,Régions!A:C,3,FALSE)","v":"Occitanie"},66,{"$error":"#N/A"},660003997,{"$error":"#N/A"},{"$error":"#N/A"},"PHARMACIE PARAIRE-TOMAS",1,"Rue","DE LA MASSANE","66300 LLUPIA",66300,"Llupia","Pharmacie d'officine","A"]
[{"$f":"VLOOKUP(B12355,Régions!A:C,3,FALSE)","v":"Occitanie"},66,"CNOP",660787961,660787961,"oui","PHARMACIE JAUZE",5,"Route","NATIONALE","66540 BAHO",66540,"Baho","Pharmacie d'officine","A"]
[{"$f":"VLOOKUP(B12358,Régions!A:C,3,FALSE)","v":"Occitanie"},66,{"$error":"#N/A"},660787995,{"$error":"#N/A"},{"$error":"#N/A"},"PHARMACIE GENTET-BEC",5,"Rue","DE LA REPUBLIQUE","66650 BANYULS-SUR-MER",66650,"Banyuls-sur-Mer","Pharmacie d'officine","A"]
[{"$f":"VLOOKUP(B12365,Régions!A:C,3,FALSE)","v":"Occitanie"},66,"CNOP",660788068,660788068,"oui","PHARMACIE BARTHES",50,"Avenue","DU GENERAL DE GAULLE","66160 LE-BOULOU",66160,"Le Boulou","Pharmacie d'officine","A"]
[{"$f":"VLOOKUP(B12378,Régions!A:C,3,FALSE)","v":"Occitanie"},66,"CNOP",660788191,660788191,"non","PHARMACIE ARNAUD",2,"Place","PABLO PICASSO","66400 CERET",66400,"Céret","Pharmacie d'officine","A"]
[{"$f":"VLOOKUP(B12385,Régions!A:C,3,FALSE)","v":"Occitanie"},66,"CNOP",660788266,660788266,"oui","PHARMACIE FABREGA",2,"Boulevard","NARCISSE PLANAS","66200 ELNE",66200,"Elne","Pharmacie d'officine","A"]
[{"$f":"VLOOKUP(B12397,Régions!A:C,3,FALSE)","v":"Occitanie"},66,{"$error":"#N/A"},660788415,{"$error":"#N/A"},{"$error":"#N/A"},"PHARMACIE GARRABE - VERGE",24,"Route","NATIONALE","66480 MAUREILLAS-LAS-ILLAS",66480,"Maureillas-las-Illas","Pharmacie d'officine","A"]
[{"$f":"VLOOKUP(B12409,Régions!A:C,3,FALSE)","v":"Occitanie"},66,{"$error":"#N/A"},660788530,{"$error":"#N/A"},{"$error":"#N/A"},"PHARMACIE BORG",2,"Avenue","PIERRE CAMBRES","66000 PERPIGNAN",66000,"Perpignan","Pharmacie d'officine","A"]
[{"$f":"VLOOKUP(B12416,Régions!A:C,3,FALSE)","v":"Occitanie"},66,"PHARMDIRECTFR",660788613,660788613,"oui","PHARMACIE SOLATGES-DI MEGLIO",8,"Rue","DES VARIETES","66000 PERPIGNAN",66000,"Perpignan","Pharmacie d'officine","A"]
[{"$f":"VLOOKUP(B12428,Régions!A:C,3,FALSE)","v":"Occitanie"},66,{"$error":"#N/A"},660788753,{"$error":"#N/A"},{"$error":"#N/A"},"PHARMACIE DREVET - NADAL",1,"Rue","DES AUGUSTINS","66000 PERPIGNAN",66000,"Perpignan","Pharmacie d'officine","A"]
[{"$f":"VLOOKUP(B12431,Régions!A:C,3,FALSE)","v":"Occitanie"},66,{"$error":"#N/A"},660788787,{"$error":"#N/A"},{"$error":"#N/A"},"PHARMACIE DELFAUD-DALLE",11,"Avenue","DU GENERAL DE GAULLE","66100 PERPIGNAN",66100,"Perpignan","Pharmacie d'officine","A"]
[{"$f":"VLOOKUP(B12438,Régions!A:C,3,FALSE)","v":"Occitanie"},66,"PHARMDIRECTFR",660788860,660788860,"oui","PHARMACIE AYATS - SEGUNDO",3,"Rue","DE COSPRONS","66100 PERPIGNAN",66100,"Perpignan","Pharmacie d'officine","A"]
[{"$f":"VLOOKUP(B12450,Régions!A:C,3,FALSE)","v":"Occitanie"},66,"CNOP",660788993,660788993,"oui","PHARMACIE SALVAT",9,"Rue","LES CLUSES","66000 PERPIGNAN",66000,"Perpignan","Pharmacie d'officine","A"]
[{"$f":"VLOOKUP(B12458,Régions!A:C,3,FALSE)","v":"Occitanie"},66,"CNOP",660789082,660789082,"oui","PHARMACIE BLANCHARD",7,"Avenue","Castellane","66660 PORT-VENDRES",66660,"Port-Vendres","Pharmacie d'officine","A"]
[{"$f":"VLOOKUP(B12470,Régions!A:C,3,FALSE)","v":"Occitanie"},66,"CNOP",660789207,660789207,"oui","PHARMACIE ESTEBE","NULL","Place","DE MARBRE","66750 ST CYPRIEN",66750,"Saint-Cyprien","Pharmacie d'officine","A"]
[{"$f":"VLOOKUP(B12482,Régions!A:C,3,FALSE)","v":"Occitanie"},66,{"$error":"#N/A"},660789322,{"$error":"#N/A"},{"$error":"#N/A"},"PHARMACIE COULOUGNON",2,"Rue","DU VIEUX LAVOIR","66570 ST NAZAIRE",66570,"Saint-Nazaire","Pharmacie d'officine","A"]
[{"$f":"VLOOKUP(B12489,Régions!A:C,3,FALSE)","v":"Occitanie"},66,"CNOP",660789405,660789405,"oui","PHARMACIE LLIBOUTRY - CAYRON","NULL","Rue","des fabriqués","66690 SOREDE",66690,"Sorède","Pharmacie d'officine","A"]
[{"$f":"VLOOKUP(B12501,Régions!A:C,3,FALSE)","v":"Occitanie"},66,{"$error":"#N/A"},660789520,{"$error":"#N/A"},{"$error":"#N/A"},"PHARMACIE  GERAUD",1,"Rue","DU MUSCAT","66180 VILLENEUVE-DE-LA-RAHO",66180,"Villeneuve-de-la-Raho","Pharmacie d'officine","A"]
[{"$f":"VLOOKUP(B12508,Régions!A:C,3,FALSE)","v":"Grand Est"},67,{"$error":"#N/A"},670004688,{"$error":"#N/A"},{"$error":"#N/A"},"PHARMACIE ARMSPACH",83,"Rue","Principale","67590 OHLUNGEN",67590,"Ohlungen","Pharmacie d'officine","A"]
[{"$f":"VLOOKUP(B12511,Régions!A:C,3,FALSE)","v":"Grand Est"},67,"CNOP",670006220,670006220,"oui","PHARMACIE VOLTZ",16,"Rue","DU GENERAL DE GAULLE","67140 ANDLAU",67140,"Andlau","Pharmacie d'officine","A"]
[{"$f":"VLOOKUP(B12523,Régions!A:C,3,FALSE)","v":"Grand Est"},67,"PHARMDIRECTFR",670006535,670006535,"oui","PHARMACIE MENDLER",83,"Rue","DU GAL RAMPONT","67240 BISCHWILLER",67240,"Bischwiller","Pharmacie d'officine","A"]
[{"$f":"VLOOKUP(B12531,Régions!A:C,3,FALSE)","v":"Grand Est"},67,"PHARMDIRECTFR",670006733,670006733,"oui","PHARMACIE PHILIPPS",6,"Rue","JACQUES KABLE","67170 BRUMATH",67170,"Brumath","Pharmacie d'officine","A"]
[{"$f":"VLOOKUP(B12543,Régions!A:C,3,FALSE)","v":"Grand Est"},67,"PHARMDIRECTFR",670007053,670007053,"oui","PHARMACIE DES  CAPUCINES",72,"Avenue","DU GENERAL DE GAULLE","67201 ECKBOLSHEIM",67201,"Eckbolsheim","Pharmacie d'officine","A"]
[{"$f":"VLOOKUP(B12555,Régions!A:C,3,FALSE)","v":"Grand Est"},67,"PHARMDIRECTFR",670007350,670007350,"oui","PHARMACIE DE GERSTHEIM",22,"Rue","DU GENERAL KOENIG","67150 GERSTHEIM",67150,"Gerstheim","Pharmacie d'officine","A"]
[{"$f":"VLOOKUP(B12562,Régions!A:C,3,FALSE)","v":"Grand Est"},67,{"$error":"#N/A"},670007533,{"$error":"#N/A"},{"$error":"#N/A"},"PHARMACIE FAYER",101,"NULL","GRAND'RUE","67500 HAGUENAU",67500,"Haguenau","Pharmacie d'officine","A"]
[{"$f":"VLOOKUP(B12574,Régions!A:C,3,FALSE)","v":"Grand Est"},67,{"$error":"#N/A"},670007822,{"$error":"#N/A"},{"$error":"#N/A"},"PHARMACIE ALEX-HECHLER",18,"Rue","DE LA REPUBLIQUE","67720 HOERDT",67720,"Hoerdt","Pharmacie d'officine","A"]
[{"$f":"VLOOKUP(B12581,Régions!A:C,3,FALSE)","v":"Grand Est"},67,"CNOP",670008002,670008002,"oui","PHARMACIE  DES CEDRES",170,"Route","DE LYON","67400 ILLKIRCH-GRAFFENSTADEN",67400,"Illkirch-Graffenstaden","Pharmacie d'officine","A"]
[{"$f":"VLOOKUP(B12584,Régions!A:C,3,FALSE)","v":"Grand Est"},67,{"$error":"#N/A"},670008085,{"$error":"#N/A"},{"$error":"#N/A"},"PHARMACIE   CENTRALE",38,"Rue","DU MARECHAL FOCH","67340 INGWILLER",67340,"Ingwiller","Pharmacie d'officine","A"]
[{"$f":"VLOOKUP(B12596,Régions!A:C,3,FALSE)","v":"Grand Est"},67,"CNOP",670008382,670008382,"oui","PHARMACIE REBERT",22,"Rue","DU MARECHAL FOCH","67390 MARCKOLSHEIM",67390,"Marckolsheim","Pharmacie d'officine","A"]
[{"$f":"VLOOKUP(B12602,Régions!A:C,3,FALSE)","v":"Grand Est"},67,"PHARMDIRECTFR",670008523,670008523,"oui","PHARMACIE CELKA",4,"Place","DE LA LIBERTE","67580 MERTZWILLER",67580,"Mertzwiller","Pharmacie d'officine","A"]
[{"$f":"VLOOKUP(B12616,Régions!A:C,3,FALSE)","v":"Grand Est"},67,{"$error":"#N/A"},670008887,{"$error":"#N/A"},{"$error":"#N/A"},"PHARMACIE  GERLING",54,"Rue","DU GAL DE GAULLE","67110 NIEDERBRONN-LES-BAINS",67110,"Niederbronn-les-Bains","Pharmacie d'officine","A"]
[{"$f":"VLOOKUP(B12628,Régions!A:C,3,FALSE)","v":"Grand Est"},67,{"$error":"#N/A"},670009182,{"$error":"#N/A"},{"$error":"#N/A"},"PHARMACIE HEINTZ",3,"Rue","DE LA HAUTE VIENNE","67160 SEEBACH",67160,"Seebach","Pharmacie d'officine","A"]
[{"$f":"VLOOKUP(B12635,Régions!A:C,3,FALSE)","v":"Grand Est"},67,{"$error":"#N/A"},670009356,{"$error":"#N/A"},{"$error":"#N/A"},"PHARMACIE MEYER-KIEHL ET MEYER",25,"Rue","de Saverne","67350 VAL-DE-MODER",67350,"Val de Moder","Pharmacie d'officine","A"]
[{"$f":"VLOOKUP(B12647,Régions!A:C,3,FALSE)","v":"Grand Est"},67,{"$error":"#N/A"},670009653,{"$error":"#N/A"},{"$error":"#N/A"},"PHARMACIE  DE  LA GARE",24,"NULL","GRAND'RUE","67700 SAVERNE",67700,"Saverne","Pharmacie d'officine","A"]
[{"$f":"VLOOKUP(B12654,Régions!A:C,3,FALSE)","v":"Grand Est"},67,{"$error":"#N/A"},670009836,{"$error":"#N/A"},{"$error":"#N/A"},"SELAS  PHARMACIE DES ECRIVAINS",90,"Route","DU GENERAL DE GAULLE","67300 SCHILTIGHEIM",67300,"Schiltigheim","Pharmacie d'officine","A"]
[{"$f":"VLOOKUP(B12657,Régions!A:C,3,FALSE)","v":"Grand Est"},67,"CNOP",670009901,670009901,"oui","SELARL JOELLE MATHIS",38,"Route","DU GENERAL DE GAULLE","67300 SCHILTIGHEIM",67300,"Schiltigheim","Pharmacie d'officine","A"]
[{"$f":"VLOOKUP(B12669,Régions!A:C,3,FALSE)","v":"Grand Est"},67,"PHARMDIRECTFR",670010222,670010222,"oui","PHARMACIE NOWAK-DEISS","NULL","Rue","DE HATTEN","67470 SELTZ",67470,"Seltz","Pharmacie d'officine","A"]
[{"$f":"VLOOKUP(B12676,Régions!A:C,3,FALSE)","v":"Grand Est"},67,{"$error":"#N/A"},670010404,{"$error":"#N/A"},{"$error":"#N/A"},"PHARMACIE BLAGA",19,"Rue","DU MARECHAL LECLERC","67790 STEINBOURG",67790,"Steinbourg","Pharmacie d'officine","A"]
[{"$f":"VLOOKUP(B12687,Régions!A:C,3,FALSE)","v":"Grand Est"},67,{"$error":"#N/A"},670010685,{"$error":"#N/A"},{"$error":"#N/A"},"PHARMACIE HALLEL - GROSMAN",142,"Route","DE LA WANTZENAU","67000 STRASBOURG",67000,"Strasbourg","Pharmacie d'officine","A"]
[{"$f":"VLOOKUP(B12696,Régions!A:C,3,FALSE)","v":"Grand Est"},67,{"$error":"#N/A"},670010933,{"$error":"#N/A"},{"$error":"#N/A"},"PHARMACIE FUCHS",1,"Quai","FINKWILLER","67000 STRASBOURG",67000,"Strasbourg","Pharmacie d'officine","A"]
[{"$f":"VLOOKUP(B12708,Régions!A:C,3,FALSE)","v":"Grand Est"},67,{"$error":"#N/A"},670011220,{"$error":"#N/A"},{"$error":"#N/A"},"PHARMACIE DE  L'HOMME DE FER",2,"Place","DE L'HOMME DE FER","67000 STRASBOURG",67000,"Strasbourg","Pharmacie d'officine","A"]
[{"$f":"VLOOKUP(B12720,Régions!A:C,3,FALSE)","v":"Grand Est"},67,{"$error":"#N/A"},670011535,{"$error":"#N/A"},{"$error":"#N/A"},"PHARMACIE  WEYL-CANO",3,"Place","DAUPHINE","67100 STRASBOURG",67100,"Strasbourg","Pharmacie d'officine","A"]
[{"$f":"VLOOKUP(B12727,Régions!A:C,3,FALSE)","v":"Grand Est"},67,{"$error":"#N/A"},670011717,{"$error":"#N/A"},{"$error":"#N/A"},"PHARMACIE JUNG-MEUNIER",205,"Route","D'OBERHAUSBERGEN","67200 STRASBOURG",67200,"Strasbourg","Pharmacie d'officine","A"]
[{"$f":"VLOOKUP(B12730,Régions!A:C,3,FALSE)","v":"Grand Est"},67,{"$error":"#N/A"},670011782,{"$error":"#N/A"},{"$error":"#N/A"},"SELAS PHARMACIE DU SAMARITAIN II",60,"Route","DU POLYGONE","67100 STRASBOURG",67100,"Strasbourg","Pharmacie d'officine","A"]
[{"$f":"VLOOKUP(B12742,Régions!A:C,3,FALSE)","v":"Grand Est"},67,"CNOP",670012087,670012087,"oui","PHARMACIE KREUTTER",6,"Quai","SAINT JEAN","67000 STRASBOURG",67000,"Strasbourg","Pharmacie d'officine","A"]
[{"$f":"VLOOKUP(B12749,Régions!A:C,3,FALSE)","v":"Grand Est"},67,"CNOP",670012251,670012251,"oui","PHARMACIE GERARDIN",49,"Rue","DU 22 NOVEMBRE","67000 STRASBOURG",67000,"Strasbourg","Pharmacie d'officine","A"]
[{"$f":"VLOOKUP(B12761,Régions!A:C,3,FALSE)","v":"Grand Est"},67,"PHARMDIRECTFR",670012566,670012566,"oui","PHARMACIE MESSLER",9,"Rue","DES HÉROS","67610 LA WANTZENAU",67610,"La Wantzenau","Pharmacie d'officine","A"]
[{"$f":"VLOOKUP(B12768,Régions!A:C,3,FALSE)","v":"Grand Est"},67,"PHARMDIRECTFR",670012723,670012723,"oui","PHARMACIE BEAUDOUX",3,"Rue","PRINCIPALE","67290 WINGEN SUR MODER",67290,"Wingen-sur-Moder","Pharmacie d'officine","A"]
[{"$f":"VLOOKUP(B12781,Régions!A:C,3,FALSE)","v":"Grand Est"},68,{"$error":"#N/A"},680006525,{"$error":"#N/A"},{"$error":"#N/A"},"PHARMACIE MEUNIER",7,"Rue","DE GIVET","68130 ALTKIRCH",68130,"Altkirch","Pharmacie d'officine","A"]
[{"$f":"VLOOKUP(B12793,Régions!A:C,3,FALSE)","v":"Grand Est"},68,{"$error":"#N/A"},680006814,{"$error":"#N/A"},{"$error":"#N/A"},"PHARMACIE BAILLY","NULL","Rue","du Pont d'Aspach","68520 BURNHAUPT-LE-HAUT",68520,"Burnhaupt-le-Haut","Pharmacie d'officine","A"]
[{"$f":"VLOOKUP(B12800,Régions!A:C,3,FALSE)","v":"Grand Est"},68,"CNOP",680006996,680006996,"oui","PHARMACIE HEILI",25,"Route","D'INGERSHEIM","68000 COLMAR",68000,"Colmar","Pharmacie d'officine","A"]
[{"$f":"VLOOKUP(B12803,Régions!A:C,3,FALSE)","v":"Grand Est"},68,{"$error":"#N/A"},680007077,{"$error":"#N/A"},{"$error":"#N/A"},"PHARMACIE VILLEREY",21,"Avenue","DE L EUROPE","68000 COLMAR",68000,"Colmar","Pharmacie d'officine","A"]
[{"$f":"VLOOKUP(B12819,Régions!A:C,3,FALSE)","v":"Grand Est"},68,{"$error":"#N/A"},680007424,{"$error":"#N/A"},{"$error":"#N/A"},"PHARMACIE DU CENTRE",97,"Route","DE NEUF BRISACH","68000 COLMAR",68000,"Colmar","Pharmacie d'officine","A"]
[{"$f":"VLOOKUP(B12822,Régions!A:C,3,FALSE)","v":"Grand Est"},68,"CNOP",680007481,680007481,"oui","SELAS PHARMACIE SAINT  GALL",4,"Rue","DU 25 NOVEMBRE","68350 BRUNSTATT DIDENHEIM",68350,"Brunstatt-Didenheim","Pharmacie d'officine","A"]
[{"$f":"VLOOKUP(B12834,Régions!A:C,3,FALSE)","v":"Grand Est"},68,"CNOP",680008265,680008265,"oui","PHARMACIE SCHAFFHAUSER",84,"Rue","DU GAL DE GAULLE","68440 HABSHEIM",68440,"Habsheim","Pharmacie d'officine","A"]
[{"$f":"VLOOKUP(B12839,Régions!A:C,3,FALSE)","v":"Grand Est"},68,{"$error":"#N/A"},680008901,{"$error":"#N/A"},{"$error":"#N/A"},"PHARMACIE  SCHANG",42,"NULL","GRAND' RUE","68180 HORBOURG-WIHR",68180,"Horbourg-Wihr","Pharmacie d'officine","A"]
[{"$f":"VLOOKUP(B12854,Régions!A:C,3,FALSE)","v":"Grand Est"},68,{"$error":"#N/A"},680009347,{"$error":"#N/A"},{"$error":"#N/A"},"PHARMACIE HESS",394,"NULL","LA PLACE","68910 LABAROCHE",68910,"Labaroche","Pharmacie d'officine","A"]
[{"$f":"VLOOKUP(B12866,Régions!A:C,3,FALSE)","v":"Grand Est"},68,{"$error":"#N/A"},680009651,{"$error":"#N/A"},{"$error":"#N/A"},"PHARMACIE ZISCH",96,"Avenue","D'ALTKIRCH","68100 MULHOUSE",68100,"Mulhouse","Pharmacie d'officine","A"]
[{"$f":"VLOOKUP(B12873,Régions!A:C,3,FALSE)","v":"Grand Est"},68,{"$error":"#N/A"},680009834,{"$error":"#N/A"},{"$error":"#N/A"},"PHARMACIE DELMOTTE",47,"Avenue","DE COLMAR","68200 MULHOUSE",68200,"Mulhouse","Pharmacie d'officine","A"]
[{"$f":"VLOOKUP(B12876,Régions!A:C,3,FALSE)","v":"Grand Est"},68,{"$error":"#N/A"},680009917,{"$error":"#N/A"},{"$error":"#N/A"},"PHARMACIE BEL  AIR",16,"Rue","FENELON","68200 MULHOUSE",68200,"Mulhouse","Pharmacie d'officine","A"]
[{"$f":"VLOOKUP(B12892,Régions!A:C,3,FALSE)","v":"Grand Est"},68,{"$error":"#N/A"},680011715,{"$error":"#N/A"},{"$error":"#N/A"},"PHARMACIE AUX LYS",37,"Place","DE LA REUNION","68100 MULHOUSE",68100,"Mulhouse","Pharmacie d'officine","A"]
[{"$f":"VLOOKUP(B12895,Régions!A:C,3,FALSE)","v":"Grand Est"},68,{"$error":"#N/A"},680012200,{"$error":"#N/A"},{"$error":"#N/A"},"PHARMACIE ESPACE SANTE",9,"Rue","DU SAUVAGE","68100 MULHOUSE",68100,"Mulhouse","Pharmacie d'officine","A"]
[{"$f":"VLOOKUP(B12907,Régions!A:C,3,FALSE)","v":"Grand Est"},68,"CNOP",680013364,680013364,"oui","PHARMACIE RABIA",58,"NULL","GRAND'RUE","68830 ODEREN",68830,"Oderen","Pharmacie d'officine","A"]
[{"$f":"VLOOKUP(B12914,Régions!A:C,3,FALSE)","v":"Grand Est"},68,{"$error":"#N/A"},680014545,{"$error":"#N/A"},{"$error":"#N/A"},"PHARMACIE PETIT-WOLF",67,"NULL","GRAND'RUE","68890 REGUISHEIM",68890,"Réguisheim","Pharmacie d'officine","A"]
[{"$f":"VLOOKUP(B12924,Régions!A:C,3,FALSE)","v":"Grand Est"},68,{"$error":"#N/A"},680014933,{"$error":"#N/A"},{"$error":"#N/A"},"PHARMACIE GUTH",134,"Rue","de l'Île Napoléon","68170 RIXHEIM",68170,"Rixheim","Pharmacie d'officine","A"]
[{"$f":"VLOOKUP(B12939,Régions!A:C,3,FALSE)","v":"Grand Est"},68,"CNOP",680015302,680015302,"oui","PHARMACIE DUPONCHEL",155,"Rue","DU MAL DE LATTRE DE TASSIGNY","68160 SAINTE-MARIE-AUX-MINES",68160,"Sainte-Marie-aux-Mines","Pharmacie d'officine","A"]
[{"$f":"VLOOKUP(B12946,Régions!A:C,3,FALSE)","v":"Grand Est"},68,"CNOP",680015500,680015500,"oui","PHARMACIE DIEBOLT",43,"Rue","DE LA VALLEE","68570 SOULTZMATT",68570,"Soultzmatt","Pharmacie d'officine","A"]
[{"$f":"VLOOKUP(B12949,Régions!A:C,3,FALSE)","v":"Grand Est"},68,"CNOP",680015617,680015617,"oui","PHARMACIE BEAUFILS",46,"Rue","DE LA 1ERE ARMEE","68800 THANN",68800,"Thann","Pharmacie d'officine","A"]
[{"$f":"VLOOKUP(B12965,Régions!A:C,3,FALSE)","v":"Auvergne-Rhône-Alpes"},69,{"$error":"#N/A"},690007109,{"$error":"#N/A"},{"$error":"#N/A"},"PHARMACIE ROUS DE MADINHAC-DE",4891,"Route","de Strasbourg","69140 RILLIEUX-LA-PAPE",69140,"Rillieux-la-Pape","Pharmacie d'officine","A"]
[{"$f":"VLOOKUP(B12968,Régions!A:C,3,FALSE)","v":"Auvergne-Rhône-Alpes"},69,"CNOP",690007620,690007620,"non","PHARMACIE BOUCKENHEIMER",30,"Rue","THIMONIER","69550 AMPLEPUIS",69550,"Amplepuis","Pharmacie d'officine","A"]
[{"$f":"VLOOKUP(B12980,Régions!A:C,3,FALSE)","v":"Auvergne-Rhône-Alpes"},69,"CNOP",690007935,690007935,"non","SELARL PHARMACIE CROZET",39,"Rue","DE LA REPUBLIQUE","69220 BELLEVILLE-EN-BEAUJOLAIS",69220,"Belleville-en-Beaujolais","Pharmacie d'officine","A"]
[{"$f":"VLOOKUP(B12987,Régions!A:C,3,FALSE)","v":"Auvergne-Rhône-Alpes"},69,{"$error":"#N/A"},690008107,{"$error":"#N/A"},{"$error":"#N/A"},"PHARMACIE DU VIEUX PONT",13,"Place","GAMBONI","69530 BRIGNAIS",69530,"Brignais","Pharmacie d'officine","A"]
[{"$f":"VLOOKUP(B12995,Régions!A:C,3,FALSE)","v":"Auvergne-Rhône-Alpes"},69,{"$error":"#N/A"},690008321,{"$error":"#N/A"},{"$error":"#N/A"},"PHARMACIE PERRIER",159,"Avenue","FRANCKLIN ROOSEVELT","69500 BRON",69500,"Bron","Pharmacie d'officine","A"]
[{"$f":"VLOOKUP(B13007,Régions!A:C,3,FALSE)","v":"Auvergne-Rhône-Alpes"},69,{"$error":"#N/A"},690008636,{"$error":"#N/A"},{"$error":"#N/A"},"PHARMACIE DELAPERRIÈRE",4,"Rue","FRANCOIS PEISSEL","69300 CALUIRE-ET-CUIRE",69300,"Caluire-et-Cuire","Pharmacie d'officine","A"]
[{"$f":"VLOOKUP(B13019,Régions!A:C,3,FALSE)","v":"Auvergne-Rhône-Alpes"},69,"CNOP",690008933,690008933,"oui"," PHARMACIE DU VILLAGE",2,"Rue","ROYET","69300 CALUIRE-ET-CUIRE",69300,"Caluire-et-Cuire","Pharmacie d'officine","A"]
[{"$f":"VLOOKUP(B13022,Régions!A:C,3,FALSE)","v":"Auvergne-Rhône-Alpes"},69,"CNOP",690009022,690009022,"oui"," PHARMACIE DE CHAMPAGNE AU MONT D'OR",56,"Avenue","de Lanessan","69410 CHAMPAGNE-AU-MONT-D'OR",69410,"Champagne-au-Mont-d'Or","Pharmacie d'officine","A"]
[{"$f":"VLOOKUP(B13038,Régions!A:C,3,FALSE)","v":"Auvergne-Rhône-Alpes"},69,{"$error":"#N/A"},690009451,{"$error":"#N/A"},{"$error":"#N/A"},"PHIE LIEUTIER - DUCOURAU - PERROT",15,"Place","DU GENERAL DE GAULLE","69290 CRAPONNE",69290,"Craponne","Pharmacie d'officine","A"]
[{"$f":"VLOOKUP(B13041,Régions!A:C,3,FALSE)","v":"Auvergne-Rhône-Alpes"},69,"CNOP",690009535,690009535,"oui","PHARMACIE SPECK",59,"Avenue","DE VERDUN","69570 DARDILLY",69570,"Dardilly","Pharmacie d'officine","A"]
[{"$f":"VLOOKUP(B13053,Régions!A:C,3,FALSE)","v":"Auvergne-Rhône-Alpes"},69,"PHARMDIRECTFR",690009873,690009873,"oui","PHARMACIE LLAURENS-ROURE",24,"Avenue","DE LA TABLE DE PIERRE","69340 FRANCHEVILLE",69340,"Francheville","Pharmacie d'officine","A"]
[{"$f":"VLOOKUP(B13060,Régions!A:C,3,FALSE)","v":"Auvergne-Rhône-Alpes"},69,"CNOP",690010053,690010053,"oui","PHARMACIE PELLEREY",5,"Rue","GAMBETTA","69700 GIVORS",69700,"Givors","Pharmacie d'officine","A"]
[{"$f":"VLOOKUP(B13072,Régions!A:C,3,FALSE)","v":"Auvergne-Rhône-Alpes"},69,{"$error":"#N/A"},690010517,{"$error":"#N/A"},{"$error":"#N/A"},"PHARMACIE BROSSARD ET LHUILLIER",1,"Place","de l'Europe","69540 IRIGNY",69540,"Irigny","Pharmacie d'officine","A"]
[{"$f":"VLOOKUP(B13076,Régions!A:C,3,FALSE)","v":"Auvergne-Rhône-Alpes"},69,{"$error":"#N/A"},690010616,{"$error":"#N/A"},{"$error":"#N/A"},"PHARMACIE MEGE-GIRARD","NULL","NULL","La Folletière","69870 LAMURE-SUR-AZERGUES",69870,"Lamure-sur-Azergues","Pharmacie d'officine","A"]
[{"$f":"VLOOKUP(B13092,Régions!A:C,3,FALSE)","v":"Auvergne-Rhône-Alpes"},69,"CNOP",690011002,690011002,"oui","PHARMACIE SAUMET",2,"Place","DE LA LIBERTE","69440 MORNANT",69440,"Mornant","Pharmacie d'officine","A"]
[{"$f":"VLOOKUP(B13095,Régions!A:C,3,FALSE)","v":"Auvergne-Rhône-Alpes"},69,{"$error":"#N/A"},690011085,{"$error":"#N/A"},{"$error":"#N/A"},"PHARMACIE OLIVIER",79,"Chemin","DU GRAND ROULE","69350 MULATIERE (LA)",69350,"La Mulatière","Pharmacie d'officine","A"]
[{"$f":"VLOOKUP(B13111,Régions!A:C,3,FALSE)","v":"Auvergne-Rhône-Alpes"},69,"PHARMDIRECTFR",690011556,690011556,"oui","PHARMACIE DURUPT-LANNE",59,"Rue","PAUL VAILLANT COUTURIER","69310 PIERRE-BENITE",69310,"Pierre-Bénite","Pharmacie d'officine","A"]
[{"$f":"VLOOKUP(B13114,Régions!A:C,3,FALSE)","v":"Auvergne-Rhône-Alpes"},69,"CNOP",690011655,690011655,"oui","PHIE BERTRINGER - GUGLIERMINA -",18,"Rue","DE VERDUN","69490 VINDRY-SUR-TURDINE",69490,"Vindry-sur-Turdine","Pharmacie d'officine","A"]
[{"$f":"VLOOKUP(B13126,Régions!A:C,3,FALSE)","v":"Auvergne-Rhône-Alpes"},69,{"$error":"#N/A"},690011952,{"$error":"#N/A"},{"$error":"#N/A"},"PHARMACIE NACACHE",46,"Rue","EMILE ZOLA","69190 SAINT-FONS",69190,"Saint-Fons","Pharmacie d'officine","A"]
[{"$f":"VLOOKUP(B13133,Régions!A:C,3,FALSE)","v":"Auvergne-Rhône-Alpes"},69,{"$error":"#N/A"},690012182,{"$error":"#N/A"},{"$error":"#N/A"},"PHARMACIE ROCOURT-WINGERTER",125,"Rue","DU COMMANDANT CHARCOT","69110 SAINTE-FOY-LES-LYON",69110,"Sainte-Foy-lès-Lyon","Pharmacie d'officine","A"]
[{"$f":"VLOOKUP(B13145,Régions!A:C,3,FALSE)","v":"Auvergne-Rhône-Alpes"},69,{"$error":"#N/A"},690012471,{"$error":"#N/A"},{"$error":"#N/A"},"PHARMACIE CHATAGNON-REVILLET",84,"Rue","DES COLLONGES","69230 SAINT-GENIS-LAVAL",69230,"Saint-Genis-Laval","Pharmacie d'officine","A"]
[{"$f":"VLOOKUP(B13152,Régions!A:C,3,FALSE)","v":"Auvergne-Rhône-Alpes"},69,{"$error":"#N/A"},690012653,{"$error":"#N/A"},{"$error":"#N/A"}," PHARMACIE DE LA CROISEE",170,"Rue","DU PARC","69220 BELLEVILLE-EN-BEAUJOLAIS",69220,"Belleville-en-Beaujolais","Pharmacie d'officine","A"]
[{"$f":"VLOOKUP(B13161,Régions!A:C,3,FALSE)","v":"Auvergne-Rhône-Alpes"},69,"PHARMDIRECTFR",690012901,690012901,"oui","PHARMACIE FAVRE-TRANCHAND",21,"Rue","PECHERIE","69170 TARARE",69170,"Tarare","Pharmacie d'officine","A"]
[{"$f":"VLOOKUP(B13168,Régions!A:C,3,FALSE)","v":"Auvergne-Rhône-Alpes"},69,{"$error":"#N/A"},690013073,{"$error":"#N/A"},{"$error":"#N/A"},"PHARMACIE CENTRALE DE LA DEMI LUNE",49,"Avenue","DE LA REPUBLIQUE","69160 TASSIN-LA-DEMI-LUNE",69160,"Tassin-la-Demi-Lune","Pharmacie d'officine","A"]
[{"$f":"VLOOKUP(B13184,Régions!A:C,3,FALSE)","v":"Auvergne-Rhône-Alpes"},69,"CNOP",690013537,690013537,"oui","PHARMACIE DE BONY",131,"Rue","DE LA REPUBLIQUE","69120 VAULX-EN-VELIN",69120,"Vaulx-en-Velin","Pharmacie d'officine","A"]
[{"$f":"VLOOKUP(B13187,Régions!A:C,3,FALSE)","v":"Auvergne-Rhône-Alpes"},69,"CNOP",690013602,690013602,"oui","PHARMACIE GUINET",7,"Rue","VICTOR HUGO","69120 VAULX-EN-VELIN",69120,"Vaulx-en-Velin","Pharmacie d'officine","A"]
[{"$f":"VLOOKUP(B13203,Régions!A:C,3,FALSE)","v":"Auvergne-Rhône-Alpes"},69,{"$error":"#N/A"},690014071,{"$error":"#N/A"},{"$error":"#N/A"},"PHARMACIE FOND",62,"Rue","DU PROFESSEUR ROUX","69200 VENISSIEUX",69200,"Vénissieux","Pharmacie d'officine","A"]
[{"$f":"VLOOKUP(B13206,Régions!A:C,3,FALSE)","v":"Auvergne-Rhône-Alpes"},69,"CNOP",690014154,690014154,"oui","PHARMACIE VIVIANI",68,"Avenue","VIVIANI","69200 VÉNISSIEUX",69200,"Vénissieux","Pharmacie d'officine","A"]
[{"$f":"VLOOKUP(B13218,Régions!A:C,3,FALSE)","v":"Auvergne-Rhône-Alpes"},69,"PHARMDIRECTFR",690014501,690014501,"oui","PHARMACIE DUPUY - RODRIGUEZ",986,"Rue","NATIONALE","69400 VILLEFRANCHE-SUR-SAÔNE",69400,"Villefranche-sur-Saône","Pharmacie d'officine","A"]
[{"$f":"VLOOKUP(B13225,Régions!A:C,3,FALSE)","v":"Auvergne-Rhône-Alpes"},69,{"$error":"#N/A"},690014717,{"$error":"#N/A"},{"$error":"#N/A"},"PHARMACIE LAFOND-VAN STRAATEN",12,"Rue","D INKERMANN","69100 VILLEURBANNE",69100,"Villeurbanne","Pharmacie d'officine","A"]
[{"$f":"VLOOKUP(B13232,Régions!A:C,3,FALSE)","v":"Auvergne-Rhône-Alpes"},69,"PHARMDIRECTFR",690014873,690014873,"oui","PHARMACIE RIVORY-RABOURDIN",271,"Cours","EMILE  ZOLA","69100 VILLEURBANNE",69100,"Villeurbanne","Pharmacie d'officine","A"]
[{"$f":"VLOOKUP(B13241,Régions!A:C,3,FALSE)","v":"Auvergne-Rhône-Alpes"},69,"CNOP",690015102,690015102,"oui","PHARMACIE A. LICHTENSTERN",120,"Rue","DU 8 MAI 1945","69100 VILLEURBANNE",69100,"Villeurbanne","Pharmacie d'officine","A"]
[{"$f":"VLOOKUP(B13257,Régions!A:C,3,FALSE)","v":"Auvergne-Rhône-Alpes"},69,{"$error":"#N/A"},690015532,{"$error":"#N/A"},{"$error":"#N/A"},"PHARMACIE DE LA PLACE WILSON",21,"Place","WILSON","69100 VILLEURBANNE",69100,"Villeurbanne","Pharmacie d'officine","A"]
[{"$f":"VLOOKUP(B13260,Régions!A:C,3,FALSE)","v":"Auvergne-Rhône-Alpes"},69,{"$error":"#N/A"},690015607,{"$error":"#N/A"},{"$error":"#N/A"},"PHARMACIE CARRE - GUILLOT",9,"Rue","LOUIS VERNAY","69390 VOURLES",69390,"Vourles","Pharmacie d'officine","A"]
[{"$f":"VLOOKUP(B13276,Régions!A:C,3,FALSE)","v":"Auvergne-Rhône-Alpes"},69,{"$error":"#N/A"},690016035,{"$error":"#N/A"},{"$error":"#N/A"},"PHARMACIE FRECHET",374,"Avenue","JEAN JAURES","69150 DECINES-CHARPIEU",69150,"Décines-Charpieu","Pharmacie d'officine","A"]
[{"$f":"VLOOKUP(B13279,Régions!A:C,3,FALSE)","v":"Auvergne-Rhône-Alpes"},69,{"$error":"#N/A"},690016100,{"$error":"#N/A"},{"$error":"#N/A"},"PHARMACIE FIUME",16,"Rue","DES RAZES","69320 FEYZIN",69320,"Feyzin","Pharmacie d'officine","A"]
[{"$f":"VLOOKUP(B13291,Régions!A:C,3,FALSE)","v":"Auvergne-Rhône-Alpes"},69,{"$error":"#N/A"},690016423,{"$error":"#N/A"},{"$error":"#N/A"},"PHARMACIE GARNIER",3,"Rue","LOUIS SAULNIER","69330 MEYZIEU",69330,"Meyzieu","Pharmacie d'officine","A"]
[{"$f":"VLOOKUP(B13298,Régions!A:C,3,FALSE)","v":"Auvergne-Rhône-Alpes"},69,{"$error":"#N/A"},690016621,{"$error":"#N/A"},{"$error":"#N/A"}," PHARMACIE DES ARCADES",100,"Rue","DU 23 AOUT 1944","69780 MIONS",69780,"Mions","Pharmacie d'officine","A"]
[{"$f":"VLOOKUP(B13310,Régions!A:C,3,FALSE)","v":"Auvergne-Rhône-Alpes"},69,"PHARMDIRECTFR",690016985,690016985,"oui","PHARMACIE DES ENGRIVES",1,"Chemin","DES ENGRIVES","69720 ST BONNET DE MURE",69720,"Saint-Bonnet-de-Mure","Pharmacie d'officine","A"]
[{"$f":"VLOOKUP(B13313,Régions!A:C,3,FALSE)","v":"Auvergne-Rhône-Alpes"},69,{"$error":"#N/A"},690017082,{"$error":"#N/A"},{"$error":"#N/A"},"PHARMACIE DUSSAUCHOY-RAYNAL",1,"Place","Steven Spielberg","69800 SAINT-PRIEST",69800,"Saint-Priest","Pharmacie d'officine","A"]
[{"$f":"VLOOKUP(B13330,Régions!A:C,3,FALSE)","v":"Auvergne-Rhône-Alpes"},69,{"$error":"#N/A"},690017504,{"$error":"#N/A"},{"$error":"#N/A"},"PHARMACIE PAPASTRATIDES-MIGNOT",35,"Boulevard","CASTELLANE","69580 SATHONAY-CAMP",69580,"Sathonay-Camp","Pharmacie d'officine","A"]
[{"$f":"VLOOKUP(B13333,Régions!A:C,3,FALSE)","v":"Auvergne-Rhône-Alpes"},69,{"$error":"#N/A"},690017587,{"$error":"#N/A"},{"$error":"#N/A"},"PHARMACIE PERROT",118,"Place","DE LA MAIRIE","69360 SOLAIZE",69360,"Solaize","Pharmacie d'officine","A"]
[{"$f":"VLOOKUP(B13349,Régions!A:C,3,FALSE)","v":"Auvergne-Rhône-Alpes"},69,{"$error":"#N/A"},690018023,{"$error":"#N/A"},{"$error":"#N/A"},"PHARMACIE KUBACSI-MONIER",30,"Boulevard","DE LA CROIX ROUSSE","69001 LYON",69001,"Lyon 1er Arrondissement","Pharmacie d'officine","A"]
[{"$f":"VLOOKUP(B13352,Régions!A:C,3,FALSE)","v":"Auvergne-Rhône-Alpes"},69,"CNOP",690018122,690018122,"oui","PHARMACIE JUNIER",55,"Rue","AUGUSTE COMTE","69002 LYON",69002,"Lyon 2e  Arrondissement","Pharmacie d'officine","A"]
[{"$f":"VLOOKUP(B13364,Régions!A:C,3,FALSE)","v":"Auvergne-Rhône-Alpes"},69,"CNOP",690018601,690018601,"oui","PHARMACIE REBOUL",97,"Rue","PRESIDENT E. HERRIOT","69002 LYON",69002,"Lyon 2e  Arrondissement","Pharmacie d'officine","A"]
[{"$f":"VLOOKUP(B13371,Régions!A:C,3,FALSE)","v":"Auvergne-Rhône-Alpes"},69,{"$error":"#N/A"},690018833,{"$error":"#N/A"},{"$error":"#N/A"},"PHARMACIE FORAZ",63,"Rue","VICTOR HUGO","69002 LYON",69002,"Lyon 2e  Arrondissement","Pharmacie d'officine","A"]
[{"$f":"VLOOKUP(B13383,Régions!A:C,3,FALSE)","v":"Auvergne-Rhône-Alpes"},69,"PHARMDIRECTFR",690019187,690019187,"oui","PHARMACIE CHEDORGE",27,"Cours","GAMBETTA","69003 LYON",69003,"Lyon 3e  Arrondissement","Pharmacie d'officine","A"]
[{"$f":"VLOOKUP(B13394,Régions!A:C,3,FALSE)","v":"Auvergne-Rhône-Alpes"},69,{"$error":"#N/A"},690019534,{"$error":"#N/A"},{"$error":"#N/A"},"PHARMACIE CHAPERON-MONIN VEYRET",150,"Rue","PAUL BERT","69003 LYON",69003,"Lyon 3e  Arrondissement","Pharmacie d'officine","A"]
[{"$f":"VLOOKUP(B13403,Régions!A:C,3,FALSE)","v":"Auvergne-Rhône-Alpes"},69,"PHARMDIRECTFR",690019807,690019807,"oui","PHARMACIE MOREAU",115,"Boulevard","DE LA CROIX ROUSSE","69004 LYON",69004,"Lyon 4e  Arrondissement","Pharmacie d'officine","A"]
[{"$f":"VLOOKUP(B13406,Régions!A:C,3,FALSE)","v":"Auvergne-Rhône-Alpes"},69,"CNOP",690019872,690019872,"oui","PHARMACIE BARRAS - DE RIVOYRE",4,"Place","DE LA CROIX ROUSSE","69004 LYON",69004,"Lyon 4e  Arrondissement","Pharmacie d'officine","A"]
[{"$f":"VLOOKUP(B13422,Régions!A:C,3,FALSE)","v":"Auvergne-Rhône-Alpes"},69,"CNOP",690020367,690020367,"oui","PHARMACIE BOULAND-SOUREZES",2,"Rue","OCTAVIO MEY","69005 LYON",69005,"Lyon 5e  Arrondissement","Pharmacie d'officine","A"]
[{"$f":"VLOOKUP(B13425,Régions!A:C,3,FALSE)","v":"Auvergne-Rhône-Alpes"},69,"PHARMDIRECTFR",690020482,690020482,"oui","PHARMACIE FRANCILLON - METROP","NULL","Angle","78 COURS VITTON - 89 BLD DES B","69006 LYON",69006,"Lyon 6e  Arrondissement","Pharmacie d'officine","A"]
[{"$f":"VLOOKUP(B13437,Régions!A:C,3,FALSE)","v":"Auvergne-Rhône-Alpes"},69,{"$error":"#N/A"},690020904,{"$error":"#N/A"},{"$error":"#N/A"}," PHARMACIE ISALYA",289,"Cours","LAFAYETTE","69006 LYON",69006,"Lyon 6e  Arrondissement","Pharmacie d'officine","A"]
[{"$f":"VLOOKUP(B13444,Régions!A:C,3,FALSE)","v":"Auvergne-Rhône-Alpes"},69,"PHARMDIRECTFR",690021167,690021167,"oui","PHARMACIE VITTON-ZOLA",91,"Cours","VITTON","69006 LYON",69006,"Lyon 6e  Arrondissement","Pharmacie d'officine","A"]
[{"$f":"VLOOKUP(B13456,Régions!A:C,3,FALSE)","v":"Auvergne-Rhône-Alpes"},69,"CNOP",690021456,690021456,"oui","PHARMACIE DES PAVILLONS",7,"Rue","JACQUES MONOD","69007 LYON",69007,"Lyon 7e  Arrondissement","Pharmacie d'officine","A"]
[{"$f":"VLOOKUP(B13463,Régions!A:C,3,FALSE)","v":"Auvergne-Rhône-Alpes"},69,{"$error":"#N/A"},690021621,{"$error":"#N/A"},{"$error":"#N/A"},"PHARMACIE GARNIER - SIMONET",11,"Rue","DE LA MADELEINE","69007 LYON",69007,"Lyon 7e  Arrondissement","Pharmacie d'officine","A"]
[{"$f":"VLOOKUP(B13469,Régions!A:C,3,FALSE)","v":"Auvergne-Rhône-Alpes"},69,"CNOP",690021837,690021837,"oui","PHARMACIE SEBAG-COHEN",74,"Rue","Marius Berliet","69008 LYON 08",69008,"Lyon 8e  Arrondissement","Pharmacie d'officine","A"]
[{"$f":"VLOOKUP(B13479,Régions!A:C,3,FALSE)","v":"Auvergne-Rhône-Alpes"},69,{"$error":"#N/A"},690022116,{"$error":"#N/A"},{"$error":"#N/A"},"PHARMACIE TRONEL",8,"Place","ANDRE LATARGET","69008 LYON",69008,"Lyon 8e  Arrondissement","Pharmacie d'officine","A"]
[{"$f":"VLOOKUP(B13495,Régions!A:C,3,FALSE)","v":"Auvergne-Rhône-Alpes"},69,{"$error":"#N/A"},690022603,{"$error":"#N/A"},{"$error":"#N/A"},"PHARMACIE DE SAINT RAMBERT",35,"Rue","HECTOR BERLIOZ","69009 LYON",69009,"Lyon 9e  Arrondissement","Pharmacie d'officine","A"]
[{"$f":"VLOOKUP(B13498,Régions!A:C,3,FALSE)","v":"Auvergne-Rhône-Alpes"},69,"CNOP",690022686,690022686,"oui","PHARMACIE COSTA",27,"Rue","PATEL","69009 LYON",69009,"Lyon 9e  Arrondissement","Pharmacie d'officine","A"]
[{"$f":"VLOOKUP(B13505,Régions!A:C,3,FALSE)","v":"Auvergne-Rhône-Alpes"},69,"CNOP",690024906,690024906,"oui","PHARMACIE PECH - LOMBARDO",33,"Avenue","DE VERDUN","69630 CHAPONOST",69630,"Chaponost","Pharmacie d'officine","A"]
[{"$f":"VLOOKUP(B13517,Régions!A:C,3,FALSE)","v":"Bourgogne-Franche-Comté"},70,"CNOP",700001225,700001225,"oui","PHARMACIE PHEULPIN - BIENFAIT",8,"Route","DE LURE","70110 ATHESANS ETROITEFONTAINE",70110,"Athesans-Étroitefontaine","Pharmacie d'officine","A"]
[{"$f":"VLOOKUP(B13529,Régions!A:C,3,FALSE)","v":"Bourgogne-Franche-Comté"},70,"PHARMDIRECTFR",700001514,700001514,"oui","PHARMACIE D'ECHENOZ-LA-MELINE",1,"Avenue","PASTEUR","70000 ECHENOZ-LA-MELINE",70000,"Échenoz-la-Méline","Pharmacie d'officine","A"]
[{"$f":"VLOOKUP(B13536,Régions!A:C,3,FALSE)","v":"Bourgogne-Franche-Comté"},70,"PHARMDIRECTFR",700001712,700001712,"oui","PHARMACIE DE LA VALLÉE",36,"Rue","DE LA PLAINE","70300 FROIDECONCHE",70300,"Froideconche","Pharmacie d'officine","A"]
[{"$f":"VLOOKUP(B13548,Régions!A:C,3,FALSE)","v":"Bourgogne-Franche-Comté"},70,{"$error":"#N/A"},700002041,{"$error":"#N/A"},{"$error":"#N/A"},"PHARMACIE NAU",26,"Rue","DE L EUROPE","70120 LAVONCOURT",70120,"Lavoncourt","Pharmacie d'officine","A"]
[{"$f":"VLOOKUP(B13554,Régions!A:C,3,FALSE)","v":"Bourgogne-Franche-Comté"},70,"PHARMDIRECTFR",700002215,700002215,"oui","PHARMACIE DU CHENE",61,"Rue","JULES JEANNENEY","70300 LUXEUIL-LES-BAINS",70300,"Luxeuil-les-Bains","Pharmacie d'officine","A"]
[{"$f":"VLOOKUP(B13568,Régions!A:C,3,FALSE)","v":"Bourgogne-Franche-Comté"},70,{"$error":"#N/A"},700002611,{"$error":"#N/A"},{"$error":"#N/A"}," PHARMACIE DEVILLERS - PAULIN",125,"Rue","CHARLES DE GAULLE","70190 RIOZ",70190,"Rioz","Pharmacie d'officine","A"]
[{"$f":"VLOOKUP(B13571,Régions!A:C,3,FALSE)","v":"Bourgogne-Franche-Comté"},70,{"$error":"#N/A"},700002694,{"$error":"#N/A"},{"$error":"#N/A"},"PHARMACIE BAUDIN",5,"Rue","DE LA VERRERIE","70200 ROYE",70200,"Roye","Pharmacie d'officine","A"]
[{"$f":"VLOOKUP(B13578,Régions!A:C,3,FALSE)","v":"Bourgogne-Franche-Comté"},70,"CNOP",700002892,700002892,"oui","PHARMACIE DE SCEY SUR SAONE ET",23,"Rue","PAULMARD","70360 SCEY-SUR-SAONE",70360,"Scey-sur-Saône-et-Saint-Albin","Pharmacie d'officine","A"]
[{"$f":"VLOOKUP(B13590,Régions!A:C,3,FALSE)","v":"Bourgogne-Franche-Comté"},70,"PHARMDIRECTFR",700003262,700003262,"oui","PHARMACIE PELAY-TREGNIER",93,"Rue","FRANCOIS DE GRAMMONT","70110 VILLERSEXEL",70110,"Villersexel","Pharmacie d'officine","A"]
[{"$f":"VLOOKUP(B13602,Régions!A:C,3,FALSE)","v":"Bourgogne-Franche-Comté"},71,{"$error":"#N/A"},710002411,{"$error":"#N/A"},{"$error":"#N/A"},"PHARMACIE ROBERT",12,"Rue","DE LATTRE DE TASSIGNY","71400 AUTUN",71400,"Autun","Pharmacie d'officine","A"]
[{"$f":"VLOOKUP(B13609,Régions!A:C,3,FALSE)","v":"Bourgogne-Franche-Comté"},71,"CNOP",710002692,710002692,"oui","PHARMACIE THOUVEREY",1770,"Route","DU BOURG","71500 BRANGES",71500,"Branges","Pharmacie d'officine","A"]
[{"$f":"VLOOKUP(B13621,Régions!A:C,3,FALSE)","v":"Bourgogne-Franche-Comté"},71,"CNOP",710003013,710003013,"oui","PHARMACIE NOEL",9,"Rue","DE BELFORT","71100 CHALON SUR SAONE",71100,"Chalon-sur-Saône","Pharmacie d'officine","A"]
[{"$f":"VLOOKUP(B13631,Régions!A:C,3,FALSE)","v":"Bourgogne-Franche-Comté"},71,"PHARMDIRECTFR",710003310,710003310,"oui","PHARMACIE DE BOURGOGNE",35,"Rue","DU GENERAL LECLERC","71100 CHALON SUR SAONE",71100,"Chalon-sur-Saône","Pharmacie d'officine","A"]
[{"$f":"VLOOKUP(B13641,Régions!A:C,3,FALSE)","v":"Bourgogne-Franche-Comté"},71,"CNOP",710003625,710003625,"oui","SELAS CHAROL'PHARM - PHIE PICHARD",21,"Place","DE L'EGLISE","71120 CHAROLLES",71120,"Charolles","Pharmacie d'officine","A"]
[{"$f":"VLOOKUP(B13644,Régions!A:C,3,FALSE)","v":"Bourgogne-Franche-Comté"},71,{"$error":"#N/A"},710003690,{"$error":"#N/A"},{"$error":"#N/A"},"PHARMACIE FONTAINE",14,"Rue","CENTRALE","71170 CHAUFFAILLES",71170,"Chauffailles","Pharmacie d'officine","A"]
[{"$f":"VLOOKUP(B13651,Régions!A:C,3,FALSE)","v":"Bourgogne-Franche-Comté"},71,"CNOP",710003914,710003914,"oui","PHARMACIE PEZDA SELARL",17,"NULL","GRANDE RUE","71460 CORMATIN",71460,"Cormatin","Pharmacie d'officine","A"]
[{"$f":"VLOOKUP(B13663,Régions!A:C,3,FALSE)","v":"Bourgogne-Franche-Comté"},71,"CNOP",710004292,710004292,"oui","PHARMACIE VANLERBERGHE - BENALLA",79,"Rue","DE CHANZY","71200 CREUSOT (LE)",71200,"Le Creusot","Pharmacie d'officine","A"]
[{"$f":"VLOOKUP(B13675,Régions!A:C,3,FALSE)","v":"Bourgogne-Franche-Comté"},71,"CNOP",710004631,710004631,"non","PHARMACIE DEMEULEMEESTER-VIDIL",26,"Rue","ROGER SALENGRO","71360 EPINAC",71360,"Épinac","Pharmacie d'officine","A"]
[{"$f":"VLOOKUP(B13682,Régions!A:C,3,FALSE)","v":"Bourgogne-Franche-Comté"},71,"PHARMDIRECTFR",710004813,710004813,"oui","PHARMACIE SCHMID - JANKECH",35,"NULL","GRANDE RUE","71590 GERGY",71590,"Gergy","Pharmacie d'officine","A"]
[{"$f":"VLOOKUP(B13694,Régions!A:C,3,FALSE)","v":"Bourgogne-Franche-Comté"},71,"CNOP",710005265,710005265,"oui","PHARMACIE  HENNEQUIN","NULL","Rue","DU PONT","71260 LUGNY",71260,"Lugny","Pharmacie d'officine","A"]
[{"$f":"VLOOKUP(B13701,Régions!A:C,3,FALSE)","v":"Bourgogne-Franche-Comté"},71,{"$error":"#N/A"},710005430,{"$error":"#N/A"},{"$error":"#N/A"},"PHARMACIE JUVANON","NULL","Rue","LOUISE  MICHEL","71000 MÂCON",71000,"Mâcon","Pharmacie d'officine","A"]
[{"$f":"VLOOKUP(B13706,Régions!A:C,3,FALSE)","v":"Bourgogne-Franche-Comté"},71,"CNOP",710005612,710005612,"oui","PHARMACIE PETIT","NULL","Place","GARDON","71000 MÂCON",71000,"Mâcon","Pharmacie d'officine","A"]
[{"$f":"VLOOKUP(B13717,Régions!A:C,3,FALSE)","v":"Bourgogne-Franche-Comté"},71,"CNOP",710005943,710005943,"oui","PHARMACIE GILOT-LAGNEAU",21,"Rue","Carnot","71300 MONTCEAU-LES-MINES",71300,"Montceau-les-Mines","Pharmacie d'officine","A"]
[{"$f":"VLOOKUP(B13724,Régions!A:C,3,FALSE)","v":"Bourgogne-Franche-Comté"},71,"PHARMDIRECTFR",710006214,710006214,"oui","LA GRANDE PHARMACIE DU BOIS DU VERNE",3,"Rue","de Châtillon","71300 MONTCEAU-LES-MINES",71300,"Montceau-les-Mines","Pharmacie d'officine","A"]
[{"$f":"VLOOKUP(B13736,Régions!A:C,3,FALSE)","v":"Bourgogne-Franche-Comté"},71,{"$error":"#N/A"},710006560,{"$error":"#N/A"},{"$error":"#N/A"},"PHARMACIE BAILLY",26,"Rue","VICTOR HUGO","71600 PARAY-LE-MONIAL",71600,"Paray-le-Monial","Pharmacie d'officine","A"]
[{"$f":"VLOOKUP(B13748,Régions!A:C,3,FALSE)","v":"Bourgogne-Franche-Comté"},71,"PHARMDIRECTFR",710006891,710006891,"oui","PHIE ZAPATA - PHIE HELENE ZAPATA",31,"Place","DU MARCHE","71330 SAINT-GERMAIN-DU-BOIS",71330,"Saint-Germain-du-Bois","Pharmacie d'officine","A"]
[{"$f":"VLOOKUP(B13755,Régions!A:C,3,FALSE)","v":"Bourgogne-Franche-Comté"},71,"CNOP",710007097,710007097,"oui","PHARMACIE PUIG LÉVEILLÉ",39,"Route","de Dole","71380 SAINT-MARCEL",71380,"Saint-Marcel","Pharmacie d'officine","A"]
[{"$f":"VLOOKUP(B13767,Régions!A:C,3,FALSE)","v":"Bourgogne-Franche-Comté"},71,"PHARMDIRECTFR",710007477,710007477,"oui","PHARMACIE PERRET-SECONDI",51,"Rue","FRANCOIS MITTERRAND","71410 SANVIGNES-LES-MINES",71410,"Sanvignes-les-Mines","Pharmacie d'officine","A"]
[{"$f":"VLOOKUP(B13774,Régions!A:C,3,FALSE)","v":"Bourgogne-Franche-Comté"},71,"CNOP",710007691,710007691,"oui","PHARMACIE VENIAT",27,"Rue","DE LA REPUBLIQUE","71700 TOURNUS",71700,"Tournus","Pharmacie d'officine","A"]
[{"$f":"VLOOKUP(B13786,Régions!A:C,3,FALSE)","v":"Pays de la Loire"},72,"CNOP",720009083,720009083,"oui","PHARMACIE CHAUMEIL-CHARPENTIER",20,"Avenue","DE PADERBORN","72000 MANS (LE)",72000,"Le Mans","Pharmacie d'officine","A"]
[{"$f":"VLOOKUP(B13791,Régions!A:C,3,FALSE)","v":"Pays de la Loire"},72,{"$error":"#N/A"},720009141,{"$error":"#N/A"},{"$error":"#N/A"},"PHARMACIE GAMBETTA",95,"Rue","GAMBETTA","72000 MANS (LE)",72000,"Le Mans","Pharmacie d'officine","A"]
[{"$f":"VLOOKUP(B13797,Régions!A:C,3,FALSE)","v":"Pays de la Loire"},72,{"$error":"#N/A"},720009216,{"$error":"#N/A"},{"$error":"#N/A"},"PHARMACIE BAH",1,"Square","JEAN-PIERRE WIMILLE","72100 MANS (LE)",72100,"Le Mans","Pharmacie d'officine","A"]
[{"$f":"VLOOKUP(B13809,Régions!A:C,3,FALSE)","v":"Pays de la Loire"},72,"PHARMDIRECTFR",720009372,720009372,"oui","PHARMACIE ROUSSEAU - JOFFE",80,"Avenue","RUBILLARD","72000 LE MANS",72000,"Le Mans","Pharmacie d'officine","A"]
[{"$f":"VLOOKUP(B13816,Régions!A:C,3,FALSE)","v":"Pays de la Loire"},72,"PHARMDIRECTFR",720009448,720009448,"oui","PHARMACIE POITOU",7,"Avenue","MOZART","72100 MANS (LE)",72100,"Le Mans","Pharmacie d'officine","A"]
[{"$f":"VLOOKUP(B13828,Régions!A:C,3,FALSE)","v":"Pays de la Loire"},72,{"$error":"#N/A"},720009919,{"$error":"#N/A"},{"$error":"#N/A"},"SELARL PHARMACIE D'ARCONNAY",1,"Place"," 8 Mai 1945","72610 ARCONNAY",72610,"Arçonnay","Pharmacie d'officine","A"]
[{"$f":"VLOOKUP(B13840,Régions!A:C,3,FALSE)","v":"Pays de la Loire"},72,"CNOP",720010040,720010040,"oui","PHARMACIE GESLIN","NULL","Place","DU PETIT MARCHE","72440 BOULOIRE",72440,"Bouloire","Pharmacie d'officine","A"]
[{"$f":"VLOOKUP(B13847,Régions!A:C,3,FALSE)","v":"Pays de la Loire"},72,"CNOP",720010164,720010164,"oui","PHARMACIE MAMMIFERI - TAPON",38,"Rue","DU MANS","72240 CONLIE",72240,"Conlie","Pharmacie d'officine","A"]
[{"$f":"VLOOKUP(B13859,Régions!A:C,3,FALSE)","v":"Pays de la Loire"},72,"CNOP",720010313,720010313,"oui","PHARMACIE  GUYARD-GOUSSET",6,"Rue","DU QUATRE SEPTEMBRE","72400 FERTE-BERNARD (LA)",72400,"La Ferté-Bernard","Pharmacie d'officine","A"]
[{"$f":"VLOOKUP(B13862,Régions!A:C,3,FALSE)","v":"Pays de la Loire"},72,"PHARMDIRECTFR",720010354,720010354,"oui","LA GRANDE PHARMACIE FLECHOISE","NULL","Rue","HENRI DUNANT","72200 FLECHE (LA)",72200,"La Flèche","Pharmacie d'officine","A"]
[{"$f":"VLOOKUP(B13870,Régions!A:C,3,FALSE)","v":"Pays de la Loire"},72,"PHARMDIRECTFR",720010453,720010453,"oui","PHARMACIE DUVAL","NULL","Rue","DE LA GARENNE","72800 LUDE (LE)",72800,"Le Lude","Pharmacie d'officine","A"]
[{"$f":"VLOOKUP(B13882,Régions!A:C,3,FALSE)","v":"Pays de la Loire"},72,{"$error":"#N/A"},720010602,{"$error":"#N/A"},{"$error":"#N/A"},"PHARMACIE CLERC",2,"Rue","DU PETIT PONT","72190 NEUVILLE-SUR-SARTHE",72190,"Neuville-sur-Sarthe","Pharmacie d'officine","A"]
[{"$f":"VLOOKUP(B13889,Régions!A:C,3,FALSE)","v":"Pays de la Loire"},72,"PHARMDIRECTFR",720010701,720010701,"oui","PHARMACIE LE BOULANGER",55,"Rue","PRINCIPALE","72230 RUAUDIN",72230,"Ruaudin","Pharmacie d'officine","A"]
[{"$f":"VLOOKUP(B13901,Régions!A:C,3,FALSE)","v":"Pays de la Loire"},72,"CNOP",720010867,720010867,"oui","PHARMACIE  BENOIST","NULL","Rue","GAMBETTA","72220 SAINT-MARS-D'OUTILLÉ",72220,"Saint-Mars-d'Outillé","Pharmacie d'officine","A"]
[{"$f":"VLOOKUP(B13913,Régions!A:C,3,FALSE)","v":"Pays de la Loire"},72,"CNOP",720011006,720011006,"oui","PHARMACIE LAURENT",23,"Rue","DU 8 MAI","72330 YVRE-LE-POLIN",72330,"Yvré-le-Pôlin","Pharmacie d'officine","A"]
[{"$f":"VLOOKUP(B13920,Régions!A:C,3,FALSE)","v":"Pays de la Loire"},72,"CNOP",720011121,720011121,"oui","PHARMACIE KEROB",35,"Rue","DE L'EUROPE","72650 LA-CHAPELLE-SAINT-AUBIN",72650,"La Chapelle-Saint-Aubin","Pharmacie d'officine","A"]
[{"$f":"VLOOKUP(B13932,Régions!A:C,3,FALSE)","v":"Pays de la Loire"},72,"PHARMDIRECTFR",720013994,720013994,"oui","PHARMACIE ROSEVEGUE",48,"NULL","Grande Rue","72160 THORIGNE-SUR-DUE",72160,"Thorigné-sur-Dué","Pharmacie d'officine","A"]
[{"$f":"VLOOKUP(B13935,Régions!A:C,3,FALSE)","v":"Pays de la Loire"},72,"PHARMDIRECTFR",720014455,720014455,"oui","PHARMACIE  LENOBLE",3,"Place","SAINT MARTIN","72220 LAIGNÉ-EN-BELIN",72220,"Laigné-en-Belin","Pharmacie d'officine","A"]
[{"$f":"VLOOKUP(B13943,Régions!A:C,3,FALSE)","v":"Auvergne-Rhône-Alpes"},73,{"$error":"#N/A"},730005600,{"$error":"#N/A"},{"$error":"#N/A"},"PHARMACIE ARNOUL","NULL","Avenue","FRANKLIN ROOSEVELT","73100 AIX-LES-BAINS",73100,"Aix-les-Bains","Pharmacie d'officine","A"]
[{"$f":"VLOOKUP(B13955,Régions!A:C,3,FALSE)","v":"Auvergne-Rhône-Alpes"},73,{"$error":"#N/A"},730005907,{"$error":"#N/A"},{"$error":"#N/A"},"PHARMACIE SERRES-CAMBOT",70,"Chemin","DE LA PIERRE DU ROY","73200 ALBERTVILLE",73200,"Albertville","Pharmacie d'officine","A"]
[{"$f":"VLOOKUP(B13962,Régions!A:C,3,FALSE)","v":"Auvergne-Rhône-Alpes"},73,{"$error":"#N/A"},730006087,{"$error":"#N/A"},{"$error":"#N/A"},"PHARMACIE MASSOT","NULL","Station","MERIBEL MOTTARET","73550 LES-ALLUES",73550,"Les Allues","Pharmacie d'officine","A"]
[{"$f":"VLOOKUP(B13974,Régions!A:C,3,FALSE)","v":"Auvergne-Rhône-Alpes"},73,{"$error":"#N/A"},730006384,{"$error":"#N/A"},{"$error":"#N/A"},"PHARMACIE DES CIMES",485,"Avenue","du Stade","73700 BOURG-SAINT-MAURICE",73700,"Bourg-Saint-Maurice","Pharmacie d'officine","A"]
[{"$f":"VLOOKUP(B13986,Régions!A:C,3,FALSE)","v":"Auvergne-Rhône-Alpes"},73,{"$error":"#N/A"},730006707,{"$error":"#N/A"},{"$error":"#N/A"},"PHARMACIE TRUCHET",2,"Place","d'Italie","73000 CHAMBERY",73000,"Chambéry","Pharmacie d'officine","A"]
[{"$f":"VLOOKUP(B13993,Régions!A:C,3,FALSE)","v":"Auvergne-Rhône-Alpes"},73,{"$error":"#N/A"},730006905,{"$error":"#N/A"},{"$error":"#N/A"},"PHARMACIE GROSJEAN-SARBONI",32,"Square","DE NORMANDIE","73000 CHAMBÉRY",73000,"Chambéry","Pharmacie d'officine","A"]
[{"$f":"VLOOKUP(B14005,Régions!A:C,3,FALSE)","v":"Auvergne-Rhône-Alpes"},73,"PHARMDIRECTFR",730007200,730007200,"oui","PHARMACIE SIGAUD - VERNE",7,"Route","DE LYON","73160 COGNIN",73160,"Cognin","Pharmacie d'officine","A"]
[{"$f":"VLOOKUP(B14012,Régions!A:C,3,FALSE)","v":"Auvergne-Rhône-Alpes"},73,{"$error":"#N/A"},730007382,{"$error":"#N/A"},{"$error":"#N/A"},"PHARMACIE BIDEAU",21,"Route","DE CHAMBERY","73200 GILLY-SUR-ISERE",73200,"Gilly-sur-Isère","Pharmacie d'officine","A"]
[{"$f":"VLOOKUP(B14024,Régions!A:C,3,FALSE)","v":"Auvergne-Rhône-Alpes"},73,{"$error":"#N/A"},730007705,{"$error":"#N/A"},{"$error":"#N/A"},"PHARMACIE BARTHELEMY","NULL","Avenue","DU PRESIDENT ED.HERRIOT","73800 MONTMELIAN",73800,"Montmélian","Pharmacie d'officine","A"]
[{"$f":"VLOOKUP(B14028,Régions!A:C,3,FALSE)","v":"Auvergne-Rhône-Alpes"},73,"CNOP",730007804,730007804,"oui","PHARMACIE GANEL-DJIAN",43,"Rue","THEODORE REINACH","73290 MOTTE-SERVOLEX (LA)",73290,"La Motte-Servolex","Pharmacie d'officine","A"]
[{"$f":"VLOOKUP(B14035,Régions!A:C,3,FALSE)","v":"Auvergne-Rhône-Alpes"},73,"PHARMDIRECTFR",730008000,730008000,"oui","GRANDE PHARMACIE DU PONT","NULL","Route","NATIONALE 6","73330 LE-PONT-DE-BEAUVOISIN",73330,"Le Pont-de-Beauvoisin","Pharmacie d'officine","A"]
[{"$f":"VLOOKUP(B14047,Régions!A:C,3,FALSE)","v":"Auvergne-Rhône-Alpes"},73,"CNOP",730008323,730008323,"oui","PHARMACIE PUPILLO","NULL","Place","DU PONT","73240 SAINT-GENIX-LES-VILLAGES",73240,"Saint-Genix-les-Villages","Pharmacie d'officine","A"]
[{"$f":"VLOOKUP(B14059,Régions!A:C,3,FALSE)","v":"Auvergne-Rhône-Alpes"},73,"CNOP",730008687,730008687,"oui","PHARMACIE DE LACONNAY",88,"Place","Charles Albert","73250 SAINT-PIERRE-D'ALBIGNY",73250,"Saint-Pierre-d'Albigny","Pharmacie d'officine","A"]
[{"$f":"VLOOKUP(B14066,Régions!A:C,3,FALSE)","v":"Auvergne-Rhône-Alpes"},73,"CNOP",730008851,730008851,"oui"," PHARMACIE DU CHEF LIEU",22,"Place","DE L'HOTEL DE VILLE","73400 UGINE",73400,"Ugine","Pharmacie d'officine","A"]
[{"$f":"VLOOKUP(B14078,Régions!A:C,3,FALSE)","v":"Auvergne-Rhône-Alpes"},73,{"$error":"#N/A"},730010212,{"$error":"#N/A"},{"$error":"#N/A"},"PHARMACIE ORDONEZ-RAYNAL",56,"Rue","des Bissieres","73000 CHAMBERY",73000,"Chambéry","Pharmacie d'officine","A"]
[{"$f":"VLOOKUP(B14085,Régions!A:C,3,FALSE)","v":"Auvergne-Rhône-Alpes"},74,{"$error":"#N/A"},740002290,{"$error":"#N/A"},{"$error":"#N/A"},"PHARMACIE LACAVA",388,"Avenue","DE THONON","74200 ALLINGES",74200,"Allinges","Pharmacie d'officine","A"]
[{"$f":"VLOOKUP(B14088,Régions!A:C,3,FALSE)","v":"Auvergne-Rhône-Alpes"},74,{"$error":"#N/A"},740002340,{"$error":"#N/A"},{"$error":"#N/A"},"PHARMACIE BAK - ROCH",19,"Rue","RAVIER","74100 AMBILLY",74100,"Ambilly","Pharmacie d'officine","A"]
[{"$f":"VLOOKUP(B14099,Régions!A:C,3,FALSE)","v":"Auvergne-Rhône-Alpes"},74,"CNOP",740002597,740002597,"oui","PHARMACIE BELLAICHE-KRAKOWSKA",10,"Rue","DES GLIERES","74000 ANNECY",74000,"Annecy","Pharmacie d'officine","A"]
[{"$f":"VLOOKUP(B14108,Régions!A:C,3,FALSE)","v":"Auvergne-Rhône-Alpes"},74,"CNOP",740002845,740002845,"oui","PHARMACIE MILLET- SCHOUTEETEN",3,"Avenue","DE THONES","74000 ANNECY",74000,"Annecy","Pharmacie d'officine","A"]
[{"$f":"VLOOKUP(B14120,Régions!A:C,3,FALSE)","v":"Auvergne-Rhône-Alpes"},74,{"$error":"#N/A"},740003140,{"$error":"#N/A"},{"$error":"#N/A"},"PHARMACIE CHABLAIS-GARE",53,"Avenue","DE LA GARE","74100 ANNEMASSE",74100,"Annemasse","Pharmacie d'officine","A"]
[{"$f":"VLOOKUP(B14127,Régions!A:C,3,FALSE)","v":"Auvergne-Rhône-Alpes"},74,"PHARMDIRECTFR",740003314,740003314,"oui","PHARMACIE VIALANEIX - DIEU","NULL","Avenue","DE VERNIAZ","74200 ANTHY SUR LEMAN",74200,"Anthy-sur-Léman","Pharmacie d'officine","A"]
[{"$f":"VLOOKUP(B14139,Régions!A:C,3,FALSE)","v":"Auvergne-Rhône-Alpes"},74,"PHARMDIRECTFR",740003611,740003611,"oui","PHARMACIE DE L'AIGUILLE DU MIDI",262,"Avenue","DE L AIGUILLE DU MIDI","74400 CHAMONIX-MONT-BLANC",74400,"Chamonix-Mont-Blanc","Pharmacie d'officine","A"]
[{"$f":"VLOOKUP(B14151,Régions!A:C,3,FALSE)","v":"Auvergne-Rhône-Alpes"},74,{"$error":"#N/A"},740003942,{"$error":"#N/A"},{"$error":"#N/A"},"PHARMACIE LEGER-BAUSSAND",20,"Rue","DE LA LIBERATION","74300 CLUSES",74300,"Cluses","Pharmacie d'officine","A"]
[{"$f":"VLOOKUP(B14158,Régions!A:C,3,FALSE)","v":"Auvergne-Rhône-Alpes"},74,"CNOP",740004130,740004130,"oui","PHARMACIE DU JOURDIL",1,"Place","DE L ETALE","74960 CRAN GEVRIER",74960,"Annecy","Pharmacie d'officine","A"]
[{"$f":"VLOOKUP(B14161,Régions!A:C,3,FALSE)","v":"Auvergne-Rhône-Alpes"},74,"CNOP",740004213,740004213,"oui","PHARMACIE DROUET",15,"Avenue","DE LA REPUBLIQUE","74960 CRAN GEVRIER",74960,"Annecy","Pharmacie d'officine","A"]
[{"$f":"VLOOKUP(B14173,Régions!A:C,3,FALSE)","v":"Auvergne-Rhône-Alpes"},74,"CNOP",740004577,740004577,"oui","PHARMACIE VIOLLET",193,"Rue","DE LA REPUBLIQUE","74210 FAVERGES SEYTHENEX",74210,"Faverges-Seythenex","Pharmacie d'officine","A"]
[{"$f":"VLOOKUP(B14180,Régions!A:C,3,FALSE)","v":"Auvergne-Rhône-Alpes"},74,{"$error":"#N/A"},740004742,{"$error":"#N/A"},{"$error":"#N/A"},"PHARMACIE CENTRALE DE GAILLARD",5,"Cours","DE LA REPUBLIQUE","74240 GAILLARD",74240,"Gaillard","Pharmacie d'officine","A"]
[{"$f":"VLOOKUP(B14193,Régions!A:C,3,FALSE)","v":"Auvergne-Rhône-Alpes"},74,{"$error":"#N/A"},740005111,{"$error":"#N/A"},{"$error":"#N/A"},"PHARMACIE GARRET",60,"Rue","GENERAL MUFFAT DE ST AMOUR","74120 MEGEVE",74120,"Megève","Pharmacie d'officine","A"]
[{"$f":"VLOOKUP(B14200,Régions!A:C,3,FALSE)","v":"Auvergne-Rhône-Alpes"},74,{"$error":"#N/A"},740005327,{"$error":"#N/A"},{"$error":"#N/A"},"PHARMACIE ROBERT-COURET",749,"Route","DU SALEVE","74560 MONNETIER MORNEX",74560,"Monnetier-Mornex","Pharmacie d'officine","A"]
[{"$f":"VLOOKUP(B14212,Régions!A:C,3,FALSE)","v":"Auvergne-Rhône-Alpes"},74,{"$error":"#N/A"},740005624,{"$error":"#N/A"},{"$error":"#N/A"},"PHARMACIE DESTOURS",81,"Route","DE MEGEVE","74120 PRAZ SUR ARLY",74120,"Praz-sur-Arly","Pharmacie d'officine","A"]
[{"$f":"VLOOKUP(B14224,Régions!A:C,3,FALSE)","v":"Auvergne-Rhône-Alpes"},74,"CNOP",740005913,740005913,"oui","PHARMACIE POSSETY","NULL","Place","GRENETTE","74150 RUMILLY",74150,"Rumilly","Pharmacie d'officine","A"]
[{"$f":"VLOOKUP(B14231,Régions!A:C,3,FALSE)","v":"Auvergne-Rhône-Alpes"},74,{"$error":"#N/A"},740006093,{"$error":"#N/A"},{"$error":"#N/A"},"PHARMACIE CAMPANA",2097,"Route","DES GRANDES ALPES","74430 ST JEAN D AULPS",74430,"Saint-Jean-d'Aulps","Pharmacie d'officine","A"]
[{"$f":"VLOOKUP(B14234,Régions!A:C,3,FALSE)","v":"Auvergne-Rhône-Alpes"},74,{"$error":"#N/A"},740006176,{"$error":"#N/A"},{"$error":"#N/A"},"PHARMACIE FERRAND",193,"Route","DE TAVAN","74410 SAINT-JORIOZ",74410,"Saint-Jorioz","Pharmacie d'officine","A"]
[{"$f":"VLOOKUP(B14246,Régions!A:C,3,FALSE)","v":"Auvergne-Rhône-Alpes"},74,"CNOP",740006465,740006465,"oui","PHARMACIE DENAYER",1751,"Avenue","DE GENEVE","74700 SALLANCHES",74700,"Sallanches","Pharmacie d'officine","A"]
[{"$f":"VLOOKUP(B14261,Régions!A:C,3,FALSE)","v":"Auvergne-Rhône-Alpes"},74,{"$error":"#N/A"},740006895,{"$error":"#N/A"},{"$error":"#N/A"},"PHARMACIE SAUTERON-CROZET",23,"Rue","DE LA POSTE","74300 THYEZ",74300,"Thyez","Pharmacie d'officine","A"]
[{"$f":"VLOOKUP(B14266,Régions!A:C,3,FALSE)","v":"Auvergne-Rhône-Alpes"},74,"PHARMDIRECTFR",740007026,740007026,"oui","PHARMACIE VOLTAIRE",2,"Place","DES ARTS","74200 THONON-LES-BAINS",74200,"Thonon-les-Bains","Pharmacie d'officine","A"]
[{"$f":"VLOOKUP(B14273,Régions!A:C,3,FALSE)","v":"Auvergne-Rhône-Alpes"},74,{"$error":"#N/A"},740007190,{"$error":"#N/A"},{"$error":"#N/A"},"PHARMACIE MALBRANQUE",10,"Rue","SAINT SEBASTIEN","74200 THONON-LES-BAINS",74200,"Thonon-les-Bains","Pharmacie d'officine","A"]
[{"$f":"VLOOKUP(B14285,Régions!A:C,3,FALSE)","v":"Auvergne-Rhône-Alpes"},74,{"$error":"#N/A"},740007497,{"$error":"#N/A"},{"$error":"#N/A"},"PHARMACIE DES TOURNELLES",60,"Rue","DES TOURNELLES","74100 VILLE-LA-GRAND",74100,"Ville-la-Grand","Pharmacie d'officine","A"]
[{"$f":"VLOOKUP(B14297,Régions!A:C,3,FALSE)","v":"Auvergne-Rhône-Alpes"},74,"CNOP",740011069,740011069,"oui","PHARMACIE ZOLNIEROWSKI",3,"Avenue","DE GENEVE","74160 SAINT-JULIEN-EN-GENEVOIS",74160,"Saint-Julien-en-Genevois","Pharmacie d'officine","A"]
[{"$f":"VLOOKUP(B14304,Régions!A:C,3,FALSE)","v":"Ile-de-France"},75,{"$error":"#N/A"},750008492,{"$error":"#N/A"},{"$error":"#N/A"},"PHARMACIE ANTOINE - CHARMEUX",7,"Rue","DU COQ HERON ET RUE DU LOUVRE","75001 PARIS",75001,"Paris 1er Arrondissement","Pharmacie d'officine","A"]
[{"$f":"VLOOKUP(B14307,Régions!A:C,3,FALSE)","v":"Ile-de-France"},75,{"$error":"#N/A"},750008591,{"$error":"#N/A"},{"$error":"#N/A"},"PHARMACIE DENIS-MEZZANOTTE",38,"Rue","DU LOUVRE","75001 PARIS",75001,"Paris 1er Arrondissement","Pharmacie d'officine","A"]
[{"$f":"VLOOKUP(B14323,Régions!A:C,3,FALSE)","v":"Ile-de-France"},75,{"$error":"#N/A"},750009110,{"$error":"#N/A"},{"$error":"#N/A"},"PHARMACIE BENKIMOUN - DARMON",151,"Rue","MONTMARTRE","75002 PARIS",75002,"Paris 2e  Arrondissement","Pharmacie d'officine","A"]
[{"$f":"VLOOKUP(B14326,Régions!A:C,3,FALSE)","v":"Ile-de-France"},75,{"$error":"#N/A"},750009193,{"$error":"#N/A"},{"$error":"#N/A"},"PHARMACIE HABABOU",67,"Rue","MONTORGUEIL","75002 PARIS",75002,"Paris 2e  Arrondissement","Pharmacie d'officine","A"]
[{"$f":"VLOOKUP(B14336,Régions!A:C,3,FALSE)","v":"Ile-de-France"},75,{"$error":"#N/A"},750009664,{"$error":"#N/A"},{"$error":"#N/A"},"SELURL PHARMACIE RAMBUTEAU",20,"Rue","RAMBUTEAU","75003 PARIS",75003,"Paris 3e  Arrondissement","Pharmacie d'officine","A"]
[{"$f":"VLOOKUP(B14346,Régions!A:C,3,FALSE)","v":"Ile-de-France"},75,{"$error":"#N/A"},750009961,{"$error":"#N/A"},{"$error":"#N/A"},"PHARMACIE CHAOUAT-TAIEB",95,"Rue","DE TURENNE","75003 PARIS",75003,"Paris 3e  Arrondissement","Pharmacie d'officine","A"]
[{"$f":"VLOOKUP(B14358,Régions!A:C,3,FALSE)","v":"Ile-de-France"},75,{"$error":"#N/A"},750010431,{"$error":"#N/A"},{"$error":"#N/A"},"PHARMACIE FUNARO",119,"Rue","SAINT  ANTOINE","75004 PARIS",75004,"Paris 4e  Arrondissement","Pharmacie d'officine","A"]
[{"$f":"VLOOKUP(B14370,Régions!A:C,3,FALSE)","v":"Ile-de-France"},75,{"$error":"#N/A"},750010902,{"$error":"#N/A"},{"$error":"#N/A"},"PHARMACIE BENZAKKI-SCHREIBER",20,"Rue","DES ECOLES","75005 PARIS",75005,"Paris 5e  Arrondissement","Pharmacie d'officine","A"]
[{"$f":"VLOOKUP(B14377,Régions!A:C,3,FALSE)","v":"Ile-de-France"},75,"CNOP",750011173,750011173,"oui","PHARMACIE BENEDITTINI",11,"Rue","LAGRANGE","75005 PARIS",75005,"Paris 5e  Arrondissement","Pharmacie d'officine","A"]
[{"$f":"VLOOKUP(B14380,Régions!A:C,3,FALSE)","v":"Ile-de-France"},75,"CNOP",750011330,750011330,"oui","PHARMACIE BENZENO",30,"Rue","MONGE","75005 PARIS",75005,"Paris 5e  Arrondissement","Pharmacie d'officine","A"]
[{"$f":"VLOOKUP(B14396,Régions!A:C,3,FALSE)","v":"Ile-de-France"},75,{"$error":"#N/A"},750011983,{"$error":"#N/A"},{"$error":"#N/A"},"PHARMACIE LAM-DO PHUOC HIEU",8,"Boulevard","ST MARCEL","75005 PARIS",75005,"Paris 5e  Arrondissement","Pharmacie d'officine","A"]
[{"$f":"VLOOKUP(B14399,Régions!A:C,3,FALSE)","v":"Ile-de-France"},75,{"$error":"#N/A"},750012122,{"$error":"#N/A"},{"$error":"#N/A"},"PHARMACIE CHAIGNEAIU-HUBERT",127,"Boulevard","SAINT MICHEL","75005 PARIS",75005,"Paris 5e  Arrondissement","Pharmacie d'officine","A"]
[{"$f":"VLOOKUP(B14411,Régions!A:C,3,FALSE)","v":"Ile-de-France"},75,{"$error":"#N/A"},750012742,{"$error":"#N/A"},{"$error":"#N/A"},"PHARMACIE CAU-COMBIER",6,"Rue","JACOB","75006 PARIS",75006,"Paris 6e  Arrondissement","Pharmacie d'officine","A"]
[{"$f":"VLOOKUP(B14417,Régions!A:C,3,FALSE)","v":"Ile-de-France"},75,"CNOP",750012981,750012981,"oui","PHARMACIE TIVOLLE",105,"Rue","DE RENNES","75006 PARIS",75006,"Paris 6e  Arrondissement","Pharmacie d'officine","A"]
[{"$f":"VLOOKUP(B14431,Régions!A:C,3,FALSE)","v":"Ile-de-France"},75,{"$error":"#N/A"},750013542,{"$error":"#N/A"},{"$error":"#N/A"},"PHARMACIE MUTINELLI SZYMANSKI-PELOT",87,"Rue","DU BAC - 32 RUE DE VARENNE","75007 PARIS",75007,"Paris 7e  Arrondissement","Pharmacie d'officine","A"]
[{"$f":"VLOOKUP(B14438,Régions!A:C,3,FALSE)","v":"Ile-de-France"},75,{"$error":"#N/A"},750013831,{"$error":"#N/A"},{"$error":"#N/A"},"PHARMACIE PARSY",151,"Rue","DE GRENELLE","75007 PARIS",75007,"Paris 7e  Arrondissement","Pharmacie d'officine","A"]
[{"$f":"VLOOKUP(B14450,Régions!A:C,3,FALSE)","v":"Ile-de-France"},75,"PHARMDIRECTFR",750014243,750014243,"oui","PHARMACIE GADY",223,"Boulevard","SAINT GERMAIN","75007 PARIS",75007,"Paris 7e  Arrondissement","Pharmacie d'officine","A"]
[{"$f":"VLOOKUP(B14453,Régions!A:C,3,FALSE)","v":"Ile-de-France"},75,"CNOP",750014375,750014375,"oui","PHARMACIE 40 VANEAU",40,"Rue","VANEAU","75007 PARIS",75007,"Paris 7e  Arrondissement","Pharmacie d'officine","A"]
[{"$f":"VLOOKUP(B14469,Régions!A:C,3,FALSE)","v":"Ile-de-France"},75,{"$error":"#N/A"},750014912,{"$error":"#N/A"},{"$error":"#N/A"},"PHARMACIE LIPSZYC",49,"Avenue","FRANKLIN ROOSEVELT","75008 PARIS",75008,"Paris 8e  Arrondissement","Pharmacie d'officine","A"]
[{"$f":"VLOOKUP(B14472,Régions!A:C,3,FALSE)","v":"Ile-de-France"},75,"CNOP",750014995,750014995,"oui","PHARMACIE KIM",29,"Avenue","DE FRIEDLAND","75008 PARIS",75008,"Paris 8e  Arrondissement","Pharmacie d'officine","A"]
[{"$f":"VLOOKUP(B14484,Régions!A:C,3,FALSE)","v":"Ile-de-France"},75,{"$error":"#N/A"},750015331,{"$error":"#N/A"},{"$error":"#N/A"},"PHARMACIE  BARANES",58,"Rue","DE MIROMESNIL","75008 PARIS",75008,"Paris 8e  Arrondissement","Pharmacie d'officine","A"]
[{"$f":"VLOOKUP(B14498,Régions!A:C,3,FALSE)","v":"Ile-de-France"},75,{"$error":"#N/A"},750015844,{"$error":"#N/A"},{"$error":"#N/A"},"EFOS",7,"Boulevard","DE CLICHY","75009 PARIS",75009,"Paris 9e  Arrondissement","Pharmacie d'officine","A"]
[{"$f":"VLOOKUP(B14504,Régions!A:C,3,FALSE)","v":"Ile-de-France"},75,"PHARMDIRECTFR",750016040,750016040,"oui","PHARMACIE GAZERES - TEBOUL",17,"Rue","DU FAUBOURG MONTMARTRE","75009 PARIS",75009,"Paris 9e  Arrondissement","Pharmacie d'officine","A"]
[{"$f":"VLOOKUP(B14511,Régions!A:C,3,FALSE)","v":"Ile-de-France"},75,{"$error":"#N/A"},750016347,{"$error":"#N/A"},{"$error":"#N/A"},"PHARMACIE HILEY - BOHME",4,"Rue","DES MARTYRS","75009 PARIS",75009,"Paris 9e  Arrondissement","Pharmacie d'officine","A"]
[{"$f":"VLOOKUP(B14523,Régions!A:C,3,FALSE)","v":"Ile-de-France"},75,{"$error":"#N/A"},750016727,{"$error":"#N/A"},{"$error":"#N/A"},"PHARMACIE DUCART",44,"Rue","ROCHECHOUART","75009 PARIS",75009,"Paris 9e  Arrondissement","Pharmacie d'officine","A"]
[{"$f":"VLOOKUP(B14526,Régions!A:C,3,FALSE)","v":"Ile-de-France"},75,{"$error":"#N/A"},750016842,{"$error":"#N/A"},{"$error":"#N/A"},"PHARMACIE MIGNON",46,"Rue","DE TREVISE","75009 PARIS",75009,"Paris 9e  Arrondissement","Pharmacie d'officine","A"]
[{"$f":"VLOOKUP(B14542,Régions!A:C,3,FALSE)","v":"Ile-de-France"},75,{"$error":"#N/A"},750017394,{"$error":"#N/A"},{"$error":"#N/A"},"PHARMACIE MIMOUNI",91,"Rue","DU FG DU TEMPLE","75010 PARIS",75010,"Paris 10e  Arrondissement","Pharmacie d'officine","A"]
[{"$f":"VLOOKUP(B14545,Régions!A:C,3,FALSE)","v":"Ile-de-France"},75,{"$error":"#N/A"},750017477,{"$error":"#N/A"},{"$error":"#N/A"},"PHARMACIE COHEN SOLAL",118,"Rue","DU FAUBOURG POISSONNIERE","75010 PARIS",75010,"Paris 10e  Arrondissement","Pharmacie d'officine","A"]
[{"$f":"VLOOKUP(B14557,Régions!A:C,3,FALSE)","v":"Ile-de-France"},75,"CNOP",750017881,750017881,"oui","PHARMACIE OUAKNINE",132,"Rue","LA FAYETTE","75010 PARIS",75010,"Paris 10e  Arrondissement","Pharmacie d'officine","A"]
[{"$f":"VLOOKUP(B14564,Régions!A:C,3,FALSE)","v":"Ile-de-France"},75,{"$error":"#N/A"},750018111,{"$error":"#N/A"},{"$error":"#N/A"},"PHARMACIE SEING",29,"Boulevard","MAGENTA","75010 PARIS",75010,"Paris 10e  Arrondissement","Pharmacie d'officine","A"]
[{"$f":"VLOOKUP(B14573,Régions!A:C,3,FALSE)","v":"Ile-de-France"},75,{"$error":"#N/A"},750018376,{"$error":"#N/A"},{"$error":"#N/A"},"PHARMACIE BENILLOUCHE",12,"Boulevard","DE STRASBOURG","75010 PARIS",75010,"Paris 10e  Arrondissement","Pharmacie d'officine","A"]
[{"$f":"VLOOKUP(B14584,Régions!A:C,3,FALSE)","v":"Ile-de-France"},75,"PHARMDIRECTFR",750018665,750018665,"oui","SELARL GRANDE PHARMACIE DE CHARONNE",127,"Rue","DE CHARONNE","75011 PARIS",75011,"Paris 11e  Arrondissement","Pharmacie d'officine","A"]
[{"$f":"VLOOKUP(B14596,Régions!A:C,3,FALSE)","v":"Ile-de-France"},75,{"$error":"#N/A"},750019010,{"$error":"#N/A"},{"$error":"#N/A"},"PHARMACIE GALY",24,"Rue","DE LA FOLIE MERICOURT","75011 PARIS",75011,"Paris 11e  Arrondissement","Pharmacie d'officine","A"]
[{"$f":"VLOOKUP(B14599,Régions!A:C,3,FALSE)","v":"Ile-de-France"},75,{"$error":"#N/A"},750019176,{"$error":"#N/A"},{"$error":"#N/A"},"PHARMACIE CELNIK",116,"Avenue","LEDRU ROLLIN","75011 PARIS",75011,"Paris 11e  Arrondissement","Pharmacie d'officine","A"]
[{"$f":"VLOOKUP(B14615,Régions!A:C,3,FALSE)","v":"Ile-de-France"},75,{"$error":"#N/A"},750019713,{"$error":"#N/A"},{"$error":"#N/A"},"PHARMACIE BARTEAU",62,"Avenue","PHILIPPE AUGUSTE","75011 PARIS",75011,"Paris 11e  Arrondissement","Pharmacie d'officine","A"]
[{"$f":"VLOOKUP(B14618,Régions!A:C,3,FALSE)","v":"Ile-de-France"},75,{"$error":"#N/A"},750019895,{"$error":"#N/A"},{"$error":"#N/A"},"PHARMACIE ASSOUN",53,"Avenue","DE LA REPUBLIQUE","75011 PARIS",75011,"Paris 11e  Arrondissement","Pharmacie d'officine","A"]
[{"$f":"VLOOKUP(B14634,Régions!A:C,3,FALSE)","v":"Ile-de-France"},75,{"$error":"#N/A"},750020596,{"$error":"#N/A"},{"$error":"#N/A"},"PHARMACIE RASTRELLI",26,"Boulevard","RICHARD LENOIR","75011 PARIS",75011,"Paris 11e  Arrondissement","Pharmacie d'officine","A"]
[{"$f":"VLOOKUP(B14637,Régions!A:C,3,FALSE)","v":"Ile-de-France"},75,"PHARMDIRECTFR",750020687,750020687,"oui","PHARMACIE NICOLAS",52,"Rue","DE LA FOLIE REGNAULT","75011 PARIS",75011,"Paris 11e  Arrondissement","Pharmacie d'officine","A"]
[{"$f":"VLOOKUP(B14644,Régions!A:C,3,FALSE)","v":"Ile-de-France"},75,"PHARMDIRECTFR",750020877,750020877,"oui","PHARMACIE VISOT-MAINCENT BRIGITTE",103,"Rue","DE CHARENTON","75012 PARIS",75012,"Paris 12e  Arrondissement","Pharmacie d'officine","A"]
[{"$f":"VLOOKUP(B14657,Régions!A:C,3,FALSE)","v":"Ile-de-France"},75,{"$error":"#N/A"},750021354,{"$error":"#N/A"},{"$error":"#N/A"},"PHARMACIE NIZARD",59,"Rue","PICPUS","75012 PARIS 12 #",75012,"Paris 12e  Arrondissement","Pharmacie d'officine","A"]
[{"$f":"VLOOKUP(B14669,Régions!A:C,3,FALSE)","v":"Ile-de-France"},75,{"$error":"#N/A"},750021651,{"$error":"#N/A"},{"$error":"#N/A"},"PHARMACIE WOLKOWITCH",4,"Rue","DE LYON","75012 PARIS",75012,"Paris 12e  Arrondissement","Pharmacie d'officine","A"]
[{"$f":"VLOOKUP(B14672,Régions!A:C,3,FALSE)","v":"Ile-de-France"},75,{"$error":"#N/A"},750021735,{"$error":"#N/A"},{"$error":"#N/A"},"LA PHARMACIE MARSOULAN",25,"Rue","MARSOULAN","75012 PARIS",75012,"Paris 12e  Arrondissement","Pharmacie d'officine","A"]
[{"$f":"VLOOKUP(B14688,Régions!A:C,3,FALSE)","v":"Ile-de-France"},75,{"$error":"#N/A"},750022154,{"$error":"#N/A"},{"$error":"#N/A"},"PHARMACIE METRO BEL AIR",19,"Boulevard","de Picpus","75012 PARIS 12",75012,"Paris 12e  Arrondissement","Pharmacie d'officine","A"]
[{"$f":"VLOOKUP(B14691,Régions!A:C,3,FALSE)","v":"Ile-de-France"},75,"CNOP",750022220,750022220,"oui","PHARMACIE GUEZ-HOURI",96,"Cours","DE VINCENNES","75012 PARIS",75012,"Paris 12e  Arrondissement","Pharmacie d'officine","A"]
[{"$f":"VLOOKUP(B14707,Régions!A:C,3,FALSE)","v":"Ile-de-France"},75,{"$error":"#N/A"},750022634,{"$error":"#N/A"},{"$error":"#N/A"},"PHARMACIE F",141,"Avenue","de France","75013 PARIS 13",75013,"Paris 13e  Arrondissement","Pharmacie d'officine","A"]
[{"$f":"VLOOKUP(B14710,Régions!A:C,3,FALSE)","v":"Ile-de-France"},75,"PHARMDIRECTFR",750022733,750022733,"oui","PHARMACIE LARTIGOT",2,"Rue","DU DR LUCAS CHAMPIONNIERE","75013 PARIS",75013,"Paris 13e  Arrondissement","Pharmacie d'officine","A"]
[{"$f":"VLOOKUP(B14722,Régions!A:C,3,FALSE)","v":"Ile-de-France"},75,{"$error":"#N/A"},750023020,{"$error":"#N/A"},{"$error":"#N/A"},"PHARMACIE TRINH",149,"Rue","DE TOLBIAC - 61 AVENUE D'ITALI","75013 PARIS",75013,"Paris 13e  Arrondissement","Pharmacie d'officine","A"]
[{"$f":"VLOOKUP(B14735,Régions!A:C,3,FALSE)","v":"Ile-de-France"},75,{"$error":"#N/A"},750023350,{"$error":"#N/A"},{"$error":"#N/A"},"PHARMACIE GILLES-QUERSIN",34,"Avenue","DE LA PORTE DE CHOISY","75013 PARIS",75013,"Paris 13e  Arrondissement","Pharmacie d'officine","A"]
[{"$f":"VLOOKUP(B14742,Régions!A:C,3,FALSE)","v":"Ile-de-France"},75,"CNOP",750023566,750023566,"oui","PHARMACIE  KEUK-LOR",200,"Rue","TOLBIAC","75013 PARIS",75013,"Paris 13e  Arrondissement","Pharmacie d'officine","A"]
[{"$f":"VLOOKUP(B14745,Régions!A:C,3,FALSE)","v":"Ile-de-France"},75,{"$error":"#N/A"},750023632,{"$error":"#N/A"},{"$error":"#N/A"},"PHARMACIE BENHAMOU-TEMSTET",115,"NULL","RUE DE L'OUEST","75014 PARIS",75014,"Paris 14e  Arrondissement","Pharmacie d'officine","A"]
[{"$f":"VLOOKUP(B14761,Régions!A:C,3,FALSE)","v":"Ile-de-France"},75,{"$error":"#N/A"},750024085,{"$error":"#N/A"},{"$error":"#N/A"},"PHARMACIE EDGAR QUINET",43,"Rue","DELAMBRE","75014 PARIS",75014,"Paris 14e  Arrondissement","Pharmacie d'officine","A"]
[{"$f":"VLOOKUP(B14764,Régions!A:C,3,FALSE)","v":"Ile-de-France"},75,"CNOP",750024150,750024150,"oui"," PHARMACIE VILLAGE DIDOT",66,"Rue","DIDOT","75014 PARIS",75014,"Paris 14e  Arrondissement","Pharmacie d'officine","A"]
[{"$f":"VLOOKUP(B14780,Régions!A:C,3,FALSE)","v":"Ile-de-France"},75,{"$error":"#N/A"},750024705,{"$error":"#N/A"},{"$error":"#N/A"},"PHARMACIE HADDAD",1,"Rue","D'ODESSA & 3 RUE DU DEPART","75014 PARIS",75014,"Paris 14e  Arrondissement","Pharmacie d'officine","A"]
[{"$f":"VLOOKUP(B14783,Régions!A:C,3,FALSE)","v":"Ile-de-France"},75,"PHARMDIRECTFR",750024804,750024804,"oui","PHARMACIE JAIS",206,"Boulevard","RASPAIL","75014 PARIS",75014,"Paris 14e  Arrondissement","Pharmacie d'officine","A"]
[{"$f":"VLOOKUP(B14795,Régions!A:C,3,FALSE)","v":"Ile-de-France"},75,{"$error":"#N/A"},750025256,{"$error":"#N/A"},{"$error":"#N/A"},"PHARMACIE BROVILLE",47,"Rue","BALARD","75015 PARIS",75015,"Paris 15e  Arrondissement","Pharmacie d'officine","A"]
[{"$f":"VLOOKUP(B14802,Régions!A:C,3,FALSE)","v":"Ile-de-France"},75,{"$error":"#N/A"},750025470,{"$error":"#N/A"},{"$error":"#N/A"},"PHARMACIE CENTRALE",52,"Rue","DU COMMERCE","75015 PARIS",75015,"Paris 15e  Arrondissement","Pharmacie d'officine","A"]
[{"$f":"VLOOKUP(B14810,Régions!A:C,3,FALSE)","v":"Ile-de-France"},75,{"$error":"#N/A"},750025736,{"$error":"#N/A"},{"$error":"#N/A"},"PHARMACIE GAYDAN - LE BERRE",60,"Rue","DE LA CROIX NIVERT - 150 R DU","75015 PARIS",75015,"Paris 15e  Arrondissement","Pharmacie d'officine","A"]
[{"$f":"VLOOKUP(B14822,Régions!A:C,3,FALSE)","v":"Ile-de-France"},75,{"$error":"#N/A"},750026106,{"$error":"#N/A"},{"$error":"#N/A"},"SELAS LOURMEL",105,"Avenue","FELIX FAURE","75015 PARIS",75015,"Paris 15e  Arrondissement","Pharmacie d'officine","A"]
[{"$f":"VLOOKUP(B14834,Régions!A:C,3,FALSE)","v":"Ile-de-France"},75,"PHARMDIRECTFR",750026486,750026486,"oui","PHARMACIE AIME-DUTHEIL DE LA ROCHERE",188,"Rue","LECOURBE","75015 PARIS",75015,"Paris 15e  Arrondissement","Pharmacie d'officine","A"]
[{"$f":"VLOOKUP(B14837,Régions!A:C,3,FALSE)","v":"Ile-de-France"},75,"CNOP",750026635,750026635,"oui","PHARMACIE GAUMERAIS",59,"Boulevard","LEFEBVRE","75015 PARIS",75015,"Paris 15e  Arrondissement","Pharmacie d'officine","A"]
[{"$f":"VLOOKUP(B14853,Régions!A:C,3,FALSE)","v":"Ile-de-France"},75,"CNOP",750027054,750027054,"oui","PHARMACIE LEFEVRE-NGUYEN PHU KHAI",42,"Rue","DU THEATRE","75015 PARIS",75015,"Paris 15e  Arrondissement","Pharmacie d'officine","A"]
[{"$f":"VLOOKUP(B14856,Régions!A:C,3,FALSE)","v":"Ile-de-France"},75,"PHARMDIRECTFR",750027120,750027120,"oui","PHARMACIE RYZIGER",198,"Rue","DE VAUGIRARD","75015 PARIS",75015,"Paris 15e  Arrondissement","Pharmacie d'officine","A"]
[{"$f":"VLOOKUP(B14868,Régions!A:C,3,FALSE)","v":"Ile-de-France"},75,"PHARMDIRECTFR",750027567,750027567,"oui","PHARMACIE AOUIZERAT",43,"Rue","D'AUTEUIL","75016 PARIS",75016,"Paris 16e  Arrondissement","Pharmacie d'officine","A"]
[{"$f":"VLOOKUP(B14875,Régions!A:C,3,FALSE)","v":"Ile-de-France"},75,{"$error":"#N/A"},750027807,{"$error":"#N/A"},{"$error":"#N/A"},"PHARMACIE BENAYOUN-BENELBAZ",4,"Rue","JEAN DE LA FONTAINE","75016 PARIS",75016,"Paris 16e  Arrondissement","Pharmacie d'officine","A"]
[{"$f":"VLOOKUP(B14881,Régions!A:C,3,FALSE)","v":"Ile-de-France"},75,{"$error":"#N/A"},750027955,{"$error":"#N/A"},{"$error":"#N/A"},"PHARMACIE LAHSSINI",4,"Chaussee","DE LA MUETTE","75016 PARIS",75016,"Paris 16e  Arrondissement","Pharmacie d'officine","A"]
[{"$f":"VLOOKUP(B14895,Régions!A:C,3,FALSE)","v":"Ile-de-France"},75,{"$error":"#N/A"},750028417,{"$error":"#N/A"},{"$error":"#N/A"},"PHARMACIE FEDIDA",197,"Avenue","DE VERSAILLES","75016 PARIS",75016,"Paris 16e  Arrondissement","Pharmacie d'officine","A"]
[{"$f":"VLOOKUP(B14907,Régions!A:C,3,FALSE)","v":"Ile-de-France"},75,{"$error":"#N/A"},750028706,{"$error":"#N/A"},{"$error":"#N/A"},"PHARMACIE NICOLAI",91,"Avenue","KLEBER","75016 PARIS",75016,"Paris 16e  Arrondissement","Pharmacie d'officine","A"]
[{"$f":"VLOOKUP(B14910,Régions!A:C,3,FALSE)","v":"Ile-de-France"},75,{"$error":"#N/A"},750028771,{"$error":"#N/A"},{"$error":"#N/A"},"PHARMACIE BLAZIOT",33,"Rue","LAURISTON","75116 PARIS 16E  ARRONDISSEMENT",75116,"Paris 16e  Arrondissement","Pharmacie d'officine","A"]
[{"$f":"VLOOKUP(B14926,Régions!A:C,3,FALSE)","v":"Ile-de-France"},75,{"$error":"#N/A"},750029183,{"$error":"#N/A"},{"$error":"#N/A"},"PHARMACIE DES BELLES FEUILLES",37,"Rue","ST DIDIER","75116 PARIS 16E  ARRONDISSEMENT",75116,"Paris 16e  Arrondissement","Pharmacie d'officine","A"]
[{"$f":"VLOOKUP(B14929,Régions!A:C,3,FALSE)","v":"Ile-de-France"},75,{"$error":"#N/A"},750029266,{"$error":"#N/A"},{"$error":"#N/A"},"PHARMACIE SEGUIN",141,"Rue","DE LA TOUR","75016 PARIS",75016,"Paris 16e  Arrondissement","Pharmacie d'officine","A"]
[{"$f":"VLOOKUP(B14936,Régions!A:C,3,FALSE)","v":"Ile-de-France"},75,{"$error":"#N/A"},750029456,{"$error":"#N/A"},{"$error":"#N/A"},"PHARMACIE  CONSEIL PASSY",1,"Rue","RAYNOUARD - 7 RUE DE L'ALBONI","75016 PARIS",75016,"Paris 16e  Arrondissement","Pharmacie d'officine","A"]
[{"$f":"VLOOKUP(B14948,Régions!A:C,3,FALSE)","v":"Ile-de-France"},75,"CNOP",750029803,750029803,"oui","PHARMACIE CARDINET COURCELLES",8,"Rue","CARDINET","75017 PARIS",75017,"Paris 17e  Arrondissement","Pharmacie d'officine","A"]
[{"$f":"VLOOKUP(B14960,Régions!A:C,3,FALSE)","v":"Ile-de-France"},75,"PHARMDIRECTFR",750030272,750030272,"oui","PHARMACIE BALLOT LENA-BARANES",2,"Rue","DU DEBARCADERE","75017 PARIS",75017,"Paris 17e  Arrondissement","Pharmacie d'officine","A"]
[{"$f":"VLOOKUP(B14972,Régions!A:C,3,FALSE)","v":"Ile-de-France"},75,{"$error":"#N/A"},750030652,{"$error":"#N/A"},{"$error":"#N/A"},"SELARL PHARMACIE DU CASTOR",5,"Rue","GILBERT CESBRON","75017 PARIS 17 #",75017,"Paris 17e  Arrondissement","Pharmacie d'officine","A"]
[{"$f":"VLOOKUP(B14980,Régions!A:C,3,FALSE)","v":"Ile-de-France"},75,"CNOP",750030900,750030900,"oui","PHARMACIE PHILIPPE-COHEN",151,"Boulevard","MALHERBES","75017 PARIS",75017,"Paris 17e  Arrondissement","Pharmacie d'officine","A"]
[{"$f":"VLOOKUP(B14983,Régions!A:C,3,FALSE)","v":"Ile-de-France"},75,{"$error":"#N/A"},750031007,{"$error":"#N/A"},{"$error":"#N/A"},"SELAS PHARMACIE NIEL",16,"Avenue","NIEL","75017 PARIS",75017,"Paris 17e  Arrondissement","Pharmacie d'officine","A"]
[{"$f":"VLOOKUP(B14999,Régions!A:C,3,FALSE)","v":"Ile-de-France"},75,{"$error":"#N/A"},750031486,{"$error":"#N/A"},{"$error":"#N/A"},"PHARMACIE DE LA PORTE DE SAINT-OUEN",133,"Avenue","DE SAINT OUEN","75017 PARIS",75017,"Paris 17e  Arrondissement","Pharmacie d'officine","A"]
[{"$f":"VLOOKUP(B15002,Régions!A:C,3,FALSE)","v":"Ile-de-France"},75,{"$error":"#N/A"},750031585,{"$error":"#N/A"},{"$error":"#N/A"},"PHARMACIE DUFOUR-FESTY",90,"Avenue","DES TERNES","75017 PARIS",75017,"Paris 17e  Arrondissement","Pharmacie d'officine","A"]
[{"$f":"VLOOKUP(B15009,Régions!A:C,3,FALSE)","v":"Ile-de-France"},75,{"$error":"#N/A"},750031783,{"$error":"#N/A"},{"$error":"#N/A"},"PHARMACIE RENARD-JULE",131,"Avenue","DE VILLIERS","75017 PARIS",75017,"Paris 17e  Arrondissement","Pharmacie d'officine","A"]
[{"$f":"VLOOKUP(B15021,Régions!A:C,3,FALSE)","v":"Ile-de-France"},75,{"$error":"#N/A"},750032203,{"$error":"#N/A"},{"$error":"#N/A"},"PHARMACIE BENHALIMA",5,"Rue","DE LA CHAPELLE","75018 PARIS",75018,"Paris 18e  Arrondissement","Pharmacie d'officine","A"]
[{"$f":"VLOOKUP(B15033,Régions!A:C,3,FALSE)","v":"Ile-de-France"},75,"CNOP",750032534,750032534,"oui","PHARMACIE RADJABALY ABDOULALY",63,"Rue","DAMREMONT","75018 PARIS",75018,"Paris 18e  Arrondissement","Pharmacie d'officine","A"]
[{"$f":"VLOOKUP(B15040,Régions!A:C,3,FALSE)","v":"Ile-de-France"},75,{"$error":"#N/A"},750032757,{"$error":"#N/A"},{"$error":"#N/A"},"SELAS PHARMACIE LAMARCK",2,"Place","JACQUES FROMENT","75018 PARIS",75018,"Paris 18e  Arrondissement","Pharmacie d'officine","A"]
[{"$f":"VLOOKUP(B15047,Régions!A:C,3,FALSE)","v":"Ile-de-France"},75,{"$error":"#N/A"},750032971,{"$error":"#N/A"},{"$error":"#N/A"},"PHARMACIE TAN",234,"Rue","CHAMPIONNET","75018 PARIS",75018,"Paris 18e  Arrondissement","Pharmacie d'officine","A"]
[{"$f":"VLOOKUP(B15056,Régions!A:C,3,FALSE)","v":"Ile-de-France"},75,{"$error":"#N/A"},750033250,{"$error":"#N/A"},{"$error":"#N/A"},"PHARMACIE SOUIED",142,"Boulevard","NEY","75018 PARIS",75018,"Paris 18e  Arrondissement","Pharmacie d'officine","A"]
[{"$f":"VLOOKUP(B15072,Régions!A:C,3,FALSE)","v":"Ile-de-France"},75,{"$error":"#N/A"},750033755,{"$error":"#N/A"},{"$error":"#N/A"},"PHARMACIE TRAN VAN",38,"Rue","POULET - 33 B RUE DES POISSONN","75018 PARIS",75018,"Paris 18e  Arrondissement","Pharmacie d'officine","A"]
[{"$f":"VLOOKUP(B15075,Régions!A:C,3,FALSE)","v":"Ile-de-France"},75,"CNOP",750033870,750033870,"oui","PHARMACIE PAJOL",65,"Rue","RIQUET","75018 PARIS",75018,"Paris 18e  Arrondissement","Pharmacie d'officine","A"]
[{"$f":"VLOOKUP(B15082,Régions!A:C,3,FALSE)","v":"Ile-de-France"},75,"CNOP",750034167,750034167,"oui","PHARMACIE BROUQUIER",40,"Rue","DE TORCY","75018 PARIS",75018,"Paris 18e  Arrondissement","Pharmacie d'officine","A"]
[{"$f":"VLOOKUP(B15094,Régions!A:C,3,FALSE)","v":"Ile-de-France"},75,"CNOP",750034555,750034555,"oui","PHARMACIE  LE NGOC",246,"Rue","DE CRIMEE","75019 PARIS",75019,"Paris 19e  Arrondissement","Pharmacie d'officine","A"]
[{"$f":"VLOOKUP(B15106,Régions!A:C,3,FALSE)","v":"Ile-de-France"},75,{"$error":"#N/A"},750034936,{"$error":"#N/A"},{"$error":"#N/A"},"PHARMACIE DAYAN",105,"Rue","MANIN","75019 PARIS",75019,"Paris 19e  Arrondissement","Pharmacie d'officine","A"]
[{"$f":"VLOOKUP(B15113,Régions!A:C,3,FALSE)","v":"Ile-de-France"},75,"PHARMDIRECTFR",750035107,750035107,"oui","PHARMACIE APPEL",2,"Avenue","DE LA PORTE CHAUMONT","75019 PARIS",75019,"Paris 19e  Arrondissement","Pharmacie d'officine","A"]
[{"$f":"VLOOKUP(B15118,Régions!A:C,3,FALSE)","v":"Ile-de-France"},75,{"$error":"#N/A"},750035271,{"$error":"#N/A"},{"$error":"#N/A"},"PHARMACIE  MAREY - GONZALEZ DE LINARES",97,"Avenue","SIMON BOLIVAR","75019 PARIS",75019,"Paris 19e  Arrondissement","Pharmacie d'officine","A"]
[{"$f":"VLOOKUP(B15133,Régions!A:C,3,FALSE)","v":"Ile-de-France"},75,"PHARMDIRECTFR",750035735,750035735,"oui","PHARMACIE CHUON-SOK",44,"Rue","DE BELLEVILLE","75020 PARIS",75020,"Paris 20e  Arrondissement","Pharmacie d'officine","A"]
[{"$f":"VLOOKUP(B15145,Régions!A:C,3,FALSE)","v":"Ile-de-France"},75,{"$error":"#N/A"},750036055,{"$error":"#N/A"},{"$error":"#N/A"},"PHARMACIE MAN",84,"Avenue","Gambetta","75020 PARIS 20",75020,"Paris 20e  Arrondissement","Pharmacie d'officine","A"]
[{"$f":"VLOOKUP(B15148,Régions!A:C,3,FALSE)","v":"Ile-de-France"},75,"PHARMDIRECTFR",750036154,750036154,"oui","PHARMACIE AZENCOTT-BENHAMOU",43,"Rue","DES MARONITES","75020 PARIS",75020,"Paris 20e  Arrondissement","Pharmacie d'officine","A"]
[{"$f":"VLOOKUP(B15155,Régions!A:C,3,FALSE)","v":"Ile-de-France"},75,{"$error":"#N/A"},750036386,{"$error":"#N/A"},{"$error":"#N/A"},"PHARMACIE BERRICH",76,"Boulevard","MORTIER","75020 PARIS",75020,"Paris 20e  Arrondissement","Pharmacie d'officine","A"]
[{"$f":"VLOOKUP(B15167,Régions!A:C,3,FALSE)","v":"Ile-de-France"},75,{"$error":"#N/A"},750036683,{"$error":"#N/A"},{"$error":"#N/A"},"PHARMACIE THOUVENIN-GACHA",361,"Rue","DES PYRENEES","75020 PARIS",75020,"Paris 20e  Arrondissement","Pharmacie d'officine","A"]
[{"$f":"VLOOKUP(B15179,Régions!A:C,3,FALSE)","v":"Ile-de-France"},75,{"$error":"#N/A"},750039208,{"$error":"#N/A"},{"$error":"#N/A"},"SEL DE PHARMACIEN D'OFFICINE",32,"Rue","DE VAUCOULEURS","75011 PARIS",75011,"Paris 11e  Arrondissement","Pharmacie d'officine","A"]
[{"$f":"VLOOKUP(B15186,Régions!A:C,3,FALSE)","v":"Normandie"},76,"CNOP",760013003,760013003,"oui","PHARMACIE VALAYER",2,"Rue","DE L'IF","76280 ANGERVILLE-L'ORCHER",76280,"Angerville-l'Orcher","Pharmacie d'officine","A"]
[{"$f":"VLOOKUP(B15198,Régions!A:C,3,FALSE)","v":"Normandie"},76,"PHARMDIRECTFR",760013300,760013300,"non","PHARMACIE FASQUEL",46,"Rue","DES MARTYRS","76360 BARENTIN",76360,"Barentin","Pharmacie d'officine","A"]
[{"$f":"VLOOKUP(B15209,Régions!A:C,3,FALSE)","v":"Normandie"},76,{"$error":"#N/A"},760013573,{"$error":"#N/A"},{"$error":"#N/A"},"SELARL PHARMACIE CHOUQUET",69,"Route","DE PARIS","76240 BONSECOURS",76240,"Bonsecours","Pharmacie d'officine","A"]
[{"$f":"VLOOKUP(B15218,Régions!A:C,3,FALSE)","v":"Normandie"},76,"CNOP",760013854,760013854,"oui","PHARMACIE MONTIER","NULL","Place","DU MARCHE","76850 BOSC-LE-HARD",76850,"Bosc-le-Hard","Pharmacie d'officine","A"]
[{"$f":"VLOOKUP(B15221,Régions!A:C,3,FALSE)","v":"Normandie"},76,"PHARMDIRECTFR",760013953,760013953,"oui","PHARMACIE DARAS","NULL","Rue","DE L'ABREUVOIR","76690 CAILLY",76690,"Cailly","Pharmacie d'officine","A"]
[{"$f":"VLOOKUP(B15228,Régions!A:C,3,FALSE)","v":"Normandie"},76,{"$error":"#N/A"},760014134,{"$error":"#N/A"},{"$error":"#N/A"},"PHARMACIE JUMEAU",74,"Rue","DU GENERAL DE GAULLE","76450 CANY-BARVILLE",76450,"Cany-Barville","Pharmacie d'officine","A"]
[{"$f":"VLOOKUP(B15240,Régions!A:C,3,FALSE)","v":"Normandie"},76,"CNOP",760014506,760014506,"oui","PHARMACIE QUEÏNNEC",58,"Rue","SADI CARNOT","76160 DARNETAL",76160,"Darnétal","Pharmacie d'officine","A"]
[{"$f":"VLOOKUP(B15252,Régions!A:C,3,FALSE)","v":"Normandie"},76,{"$error":"#N/A"},760014886,{"$error":"#N/A"},{"$error":"#N/A"},"SELARL HEMERY",15,"Place","NATIONALE","76200 DIEPPE",76200,"Dieppe","Pharmacie d'officine","A"]
[{"$f":"VLOOKUP(B15259,Régions!A:C,3,FALSE)","v":"Normandie"},76,"CNOP",760015057,760015057,"oui","PHARMACIE DU MARCHÉ",301,"Place","DU GENERAL DE GAULLE","76480 DUCLAIR",76480,"Duclair","Pharmacie d'officine","A"]
[{"$f":"VLOOKUP(B15271,Régions!A:C,3,FALSE)","v":"Normandie"},76,{"$error":"#N/A"},760015404,{"$error":"#N/A"},{"$error":"#N/A"},"PHARMACIE WARAMBOURG",2,"Rue","DU MARECHAL FOCH","76260 EU",76260,"Eu","Pharmacie d'officine","A"]
[{"$f":"VLOOKUP(B15280,Régions!A:C,3,FALSE)","v":"Normandie"},76,"CNOP",760015685,760015685,"oui","PHARMACIE BEUZELIN",2,"Rue","SAINT ETIENNE","76400 FECAMP",76400,"Fécamp","Pharmacie d'officine","A"]
[{"$f":"VLOOKUP(B15291,Régions!A:C,3,FALSE)","v":"Normandie"},76,"CNOP",760016006,760016006,"oui","PHARMACIE GEULIN",7,"Place","DE VERDUN","76110 GODERVILLE",76110,"Goderville","Pharmacie d'officine","A"]
[{"$f":"VLOOKUP(B15294,Régions!A:C,3,FALSE)","v":"Normandie"},76,"PHARMDIRECTFR",760016071,760016071,"oui","PHARMACIE THOMAS-BOATAS",1,"Rue","DE L'EGLISE","76700 GONFREVILLE-L'ORCHER",76700,"Gonfreville-l'Orcher","Pharmacie d'officine","A"]
[{"$f":"VLOOKUP(B15301,Régions!A:C,3,FALSE)","v":"Normandie"},76,"PHARMDIRECTFR",760016287,760016287,"oui","PHARMACIE LOUVEL-BARONI",5,"Avenue","JEAN LAGARRIGUE","76530 GRAND-COURONNE",76530,"Grand-Couronne","Pharmacie d'officine","A"]
[{"$f":"VLOOKUP(B15313,Régions!A:C,3,FALSE)","v":"Normandie"},76,{"$error":"#N/A"},760016683,{"$error":"#N/A"},{"$error":"#N/A"},"PHARMACIE CHAPELLE-MOITEAUX",33,"Place","GUY DE MAUPASSANT","76700 HARFLEUR",76700,"Harfleur","Pharmacie d'officine","A"]
[{"$f":"VLOOKUP(B15320,Régions!A:C,3,FALSE)","v":"Normandie"},76,"CNOP",760016972,760016972,"oui","PHARMACIE LEMAIRE-PUYDOYER",57,"Rue","DE L'EGLISE","76600 LE HAVRE",76600,"Le Havre","Pharmacie d'officine","A"]
[{"$f":"VLOOKUP(B15332,Régions!A:C,3,FALSE)","v":"Normandie"},76,{"$error":"#N/A"},760017434,{"$error":"#N/A"},{"$error":"#N/A"},"PHARMACIE RUAULT",10,"Avenue","RENE COTY","76600 HAVRE (LE)",76600,"Le Havre","Pharmacie d'officine","A"]
[{"$f":"VLOOKUP(B15344,Régions!A:C,3,FALSE)","v":"Normandie"},76,"CNOP",760017806,760017806,"oui","PHARMACIE DECULTOT-BEAUCHESNE",20,"Rue","EUGENE MOPIN","76610 HAVRE (LE)",76610,"Le Havre","Pharmacie d'officine","A"]
[{"$f":"VLOOKUP(B15351,Régions!A:C,3,FALSE)","v":"Normandie"},76,{"$error":"#N/A"},760018051,{"$error":"#N/A"},{"$error":"#N/A"},"PHARMACIE JOURNEL","NULL","Avenue","DU BOIS AU COQ","76620 HAVRE (LE)",76620,"Le Havre","Pharmacie d'officine","A"]
[{"$f":"VLOOKUP(B15355,Régions!A:C,3,FALSE)","v":"Normandie"},76,"CNOP",760018150,760018150,"oui","PHARMACIE GOULET",24,"Place","DE LA MARE AU CLERC","76620 HAVRE (LE)",76620,"Le Havre","Pharmacie d'officine","A"]
[{"$f":"VLOOKUP(B15367,Régions!A:C,3,FALSE)","v":"Normandie"},76,"CNOP",760018572,760018572,"oui","PHARMACIE MARCELLIN-DUPRET",104,"Rue","DU GENERAL DE GAULLE","76770 LE HOULME",76770,"Le Houlme","Pharmacie d'officine","A"]
[{"$f":"VLOOKUP(B15374,Régions!A:C,3,FALSE)","v":"Normandie"},76,{"$error":"#N/A"},760018804,{"$error":"#N/A"},{"$error":"#N/A"},"PHARMACIE VINCENT","NULL","Place","DU MARCHE","76660 LONDINIERES",76660,"Londinières","Pharmacie d'officine","A"]
[{"$f":"VLOOKUP(B15386,Régions!A:C,3,FALSE)","v":"Normandie"},76,"PHARMDIRECTFR",760019133,760019133,"oui","PHARMACIE DE LA BELLE ETOILE",9,"NULL","Impasse Edgar DEGAS","76290 MONTIVILLIERS",76290,"Montivilliers","Pharmacie d'officine","A"]
[{"$f":"VLOOKUP(B15393,Régions!A:C,3,FALSE)","v":"Normandie"},76,{"$error":"#N/A"},760019356,{"$error":"#N/A"},{"$error":"#N/A"},"PHARMACIE DE LA VATINE","NULL","Carrefour","DE LA VATINE","76130 MONT ST AIGNAN",76130,"Mont-Saint-Aignan","Pharmacie d'officine","A"]
[{"$f":"VLOOKUP(B15405,Régions!A:C,3,FALSE)","v":"Normandie"},76,{"$error":"#N/A"},760019737,{"$error":"#N/A"},{"$error":"#N/A"},"FRIESS LEPILEUR","NULL","NULL","NULL","76330 PORT JEROME SUR SEINE",76330,"Port-Jérôme-sur-Seine","Pharmacie d'officine","A"]
[{"$f":"VLOOKUP(B15417,Régions!A:C,3,FALSE)","v":"Normandie"},76,"CNOP",760020073,760020073,"oui","PHARMACIE ARISTIDE BRIAND",1027,"Rue","ARISTIDE BRIAND","76650 PETIT COURONNE",76650,"Petit-Couronne","Pharmacie d'officine","A"]
[{"$f":"VLOOKUP(B15424,Régions!A:C,3,FALSE)","v":"Normandie"},76,"PHARMDIRECTFR",760020255,760020255,"oui","SELARL PHARMACIE DUBOIS",96,"Avenue","JEAN JAURES","76140 LE-PETIT-QUEVILLY",76140,"Le Petit-Quevilly","Pharmacie d'officine","A"]
[{"$f":"VLOOKUP(B15436,Régions!A:C,3,FALSE)","v":"Normandie"},76,{"$error":"#N/A"},760020750,{"$error":"#N/A"},{"$error":"#N/A"},"PHARMACIE LAFAYE",7,"Place","Cauchoise","76000 ROUEN",76000,"Rouen","Pharmacie d'officine","A"]
[{"$f":"VLOOKUP(B15446,Régions!A:C,3,FALSE)","v":"Normandie"},76,{"$error":"#N/A"},760021154,{"$error":"#N/A"},{"$error":"#N/A"},"PHARMACIE TAMARELLE-FLEURISSON",1,"Rue","ST HILAIRE","76000 ROUEN",76000,"Rouen","Pharmacie d'officine","A"]
[{"$f":"VLOOKUP(B15447,Régions!A:C,3,FALSE)","v":"Normandie"},76,{"$error":"#N/A"},760021204,{"$error":"#N/A"},{"$error":"#N/A"},"PHARMACIE DE LA GARE",21,"Rue","Verte","76000 ROUEN",76000,"Rouen","Pharmacie d'officine","A"]
[{"$f":"VLOOKUP(B15459,Régions!A:C,3,FALSE)","v":"Normandie"},76,"PHARMDIRECTFR",760021501,760021501,"oui","PHARMACIE GIMONET",12,"Rue","ST VIVIEN","76000 ROUEN",76000,"Rouen","Pharmacie d'officine","A"]
[{"$f":"VLOOKUP(B15466,Régions!A:C,3,FALSE)","v":"Normandie"},76,"CNOP",760021717,760021717,"oui","PHARMACIE DES FEUGRAIS",3,"Rue","DES FEUGRAIS","76410 SAINT-AUBIN-LES-ELBEUF",76410,"Saint-Aubin-lès-Elbeuf","Pharmacie d'officine","A"]
[{"$f":"VLOOKUP(B15478,Régions!A:C,3,FALSE)","v":"Normandie"},76,{"$error":"#N/A"},760022152,{"$error":"#N/A"},{"$error":"#N/A"},"PHARMACIE JOUEN GODE",152,"Rue","EDOUARD CANNEVEL","76510 SAINT-NICOLAS-D'ALIERMONT",76510,"Saint-Nicolas-d'Aliermont","Pharmacie d'officine","A"]
[{"$f":"VLOOKUP(B15490,Régions!A:C,3,FALSE)","v":"Normandie"},76,{"$error":"#N/A"},760022483,{"$error":"#N/A"},{"$error":"#N/A"},"SELARL HARDY LESUEUR",160,"Route","NEUFCHATEL","76440 SERQUEUX",76440,"Serqueux","Pharmacie d'officine","A"]
[{"$f":"VLOOKUP(B15497,Régions!A:C,3,FALSE)","v":"Normandie"},76,"CNOP",760022756,760022756,"oui","PHARMACIE VIEREN",23,"Place","VOLTAIRE","76300 SOTTEVILLE-LES-ROUEN",76300,"Sotteville-lès-Rouen","Pharmacie d'officine","A"]
[{"$f":"VLOOKUP(B15509,Régions!A:C,3,FALSE)","v":"Normandie"},76,"CNOP",760023085,760023085,"oui"," PHARMACIE HOUSSAIT",1,"Rue","DE LA REPUBLIQUE","76480 YAINVILLE",76480,"Yainville","Pharmacie d'officine","A"]
[{"$f":"VLOOKUP(B15517,Régions!A:C,3,FALSE)","v":"Normandie"},76,"PHARMDIRECTFR",760023507,760023507,"oui","PHARMACIE CURCI MARC","NULL","Place","FERNAND AUGER","76640 YEBLERON",76640,"Yébleron","Pharmacie d'officine","A"]
[{"$f":"VLOOKUP(B15520,Régions!A:C,3,FALSE)","v":"Normandie"},76,"CNOP",760024596,760024596,"oui","PHARMACIE HOUDEVILLE-GUINOT",1,"Route","DE FRANQUEVILLE","76240 BELBEUF",76240,"Belbeuf","Pharmacie d'officine","A"]
[{"$f":"VLOOKUP(B15532,Régions!A:C,3,FALSE)","v":"Ile-de-France"},77,{"$error":"#N/A"},770003580,{"$error":"#N/A"},{"$error":"#N/A"},"PHARMACIE DE LA BUTTE MONCEAU",26,"NULL","CENTRE COMMERCIAL","77210 AVON",77210,"Avon","Pharmacie d'officine","A"]
[{"$f":"VLOOKUP(B15539,Régions!A:C,3,FALSE)","v":"Ile-de-France"},77,{"$error":"#N/A"},770003762,{"$error":"#N/A"},{"$error":"#N/A"},"PHARMACIE DE BARBIZON",98,"NULL","GRANDE RUE","77630 BARBIZON",77630,"Barbizon","Pharmacie d'officine","A"]
[{"$f":"VLOOKUP(B15551,Régions!A:C,3,FALSE)","v":"Ile-de-France"},77,"PHARMDIRECTFR",770004141,770004141,"oui","PHARMACIE DO NASCIMENTO-BLOT",37,"Avenue","JEAN JAURES","77177 BROU-SUR-CHANTEREINE",77177,"Brou-sur-Chantereine","Pharmacie d'officine","A"]
[{"$f":"VLOOKUP(B15563,Régions!A:C,3,FALSE)","v":"Ile-de-France"},77,{"$error":"#N/A"},770004562,{"$error":"#N/A"},{"$error":"#N/A"},"PHARMACIE SA-PEN","NULL","Avenue","DES PYRAMIDES","77420 CHAMPS-SUR-MARNE",77420,"Champs-sur-Marne","Pharmacie d'officine","A"]
[{"$f":"VLOOKUP(B15570,Régions!A:C,3,FALSE)","v":"Ile-de-France"},77,"CNOP",770004760,770004760,"oui","PHARMACIE ROSSIGNOL",15,"Rue","JEAN GALLAND","77570 CHATEAU-LANDON",77570,"Château-Landon","Pharmacie d'officine","A"]
[{"$f":"VLOOKUP(B15582,Régions!A:C,3,FALSE)","v":"Ile-de-France"},77,"PHARMDIRECTFR",770005080,770005080,"oui","PHARMACIE JULES FERRY",25,"Avenue","FOCH","77500 CHELLES",77500,"Chelles","Pharmacie d'officine","A"]
[{"$f":"VLOOKUP(B15589,Régions!A:C,3,FALSE)","v":"Ile-de-France"},77,"PHARMDIRECTFR",770005262,770005262,"oui","PHARMACIE MALAC",22,"Rue","DU GENERAL DE GAULLE","77700 CHESSY",77700,"Chessy","Pharmacie d'officine","A"]
[{"$f":"VLOOKUP(B15592,Régions!A:C,3,FALSE)","v":"Ile-de-France"},77,"CNOP",770005346,770005346,"oui","LA PHARMACIE CENTRALE DE CLAYE",60,"Rue","JEAN JAURES","77410 CLAYE SOUILLY",77410,"Claye-Souilly","Pharmacie d'officine","A"]
[{"$f":"VLOOKUP(B15605,Régions!A:C,3,FALSE)","v":"Ile-de-France"},77,"PHARMDIRECTFR",770005742,770005742,"oui","SELARL PHARMACIE COULOMMIERS 1",27,"Rue","BEAUREPAIRE","77120 COULOMMIERS",77120,"Coulommiers","Pharmacie d'officine","A"]
[{"$f":"VLOOKUP(B15612,Régions!A:C,3,FALSE)","v":"Ile-de-France"},77,{"$error":"#N/A"},770005924,{"$error":"#N/A"},{"$error":"#N/A"},"PHARMACIE MERAT",5,"Place","DU MARCHE","77580 CRECY-LA-CHAPELLE",77580,"Crécy-la-Chapelle","Pharmacie d'officine","A"]
[{"$f":"VLOOKUP(B15624,Régions!A:C,3,FALSE)","v":"Ile-de-France"},77,{"$error":"#N/A"},770006260,{"$error":"#N/A"},{"$error":"#N/A"},"PHARMACIE THIERRY-OLLIVIER",168,"Rue","DU GENERAL DE GAULLE","77230 DAMMARTIN-EN-GOELE",77230,"Dammartin-en-Goële","Pharmacie d'officine","A"]
[{"$f":"VLOOKUP(B15631,Régions!A:C,3,FALSE)","v":"Ile-de-France"},77,"PHARMDIRECTFR",770006492,770006492,"oui","PHARMACIE MARNAT",6,"NULL","GRAND RUE","77166 GRISY-SUISNES",77166,"Évry-Grégy-sur-Yerre","Pharmacie d'officine","A"]
[{"$f":"VLOOKUP(B15643,Régions!A:C,3,FALSE)","v":"Ile-de-France"},77,"CNOP",770006864,770006864,"oui","SELARL PHARMACIE DU MARCHE",21,"Rue","DE LA PAROISSE","77300 FONTAINEBLEAU",77300,"Fontainebleau","Pharmacie d'officine","A"]
[{"$f":"VLOOKUP(B15655,Régions!A:C,3,FALSE)","v":"Ile-de-France"},77,"PHARMDIRECTFR",770007193,770007193,"oui","PHARMACIE BLEUZE",23,"NULL","GRANDE PLACE","77640 JOUARRE",77640,"Jouarre","Pharmacie d'officine","A"]
[{"$f":"VLOOKUP(B15662,Régions!A:C,3,FALSE)","v":"Ile-de-France"},77,"CNOP",770007375,770007375,"oui","PHARMACIE HASSANI",28,"Avenue","DU GENERAL LECLERC","77400 LAGNY-SUR-MARNE",77400,"Lagny-sur-Marne","Pharmacie d'officine","A"]
[{"$f":"VLOOKUP(B15673,Régions!A:C,3,FALSE)","v":"Ile-de-France"},77,"PHARMDIRECTFR",770007680,770007680,"oui","PHARMACIE YENG",1,"Esplanade","DES DROITS DE L HOMME","77185 LOGNES",77185,"Lognes","Pharmacie d'officine","A"]
[{"$f":"VLOOKUP(B15678,Régions!A:C,3,FALSE)","v":"Ile-de-France"},77,"CNOP",770007813,770007813,"oui","SELARL PHARMACIE DE LORREZ",18,"Rue","EMILE BRU","77710 LORREZ-LE-BOCAGE",77710,"Lorrez-le-Bocage-Préaux","Pharmacie d'officine","A"]
[{"$f":"VLOOKUP(B15685,Régions!A:C,3,FALSE)","v":"Ile-de-France"},77,{"$error":"#N/A"},770008076,{"$error":"#N/A"},{"$error":"#N/A"},"PHARMACIE URIER",17,"Rue","DES CORDELIERS","77100 MEAUX",77100,"Meaux","Pharmacie d'officine","A"]
[{"$f":"VLOOKUP(B15697,Régions!A:C,3,FALSE)","v":"Ile-de-France"},77,{"$error":"#N/A"},770008365,{"$error":"#N/A"},{"$error":"#N/A"},"PHARMACIE EL ALLALI",285,"Allee","DE LA GARE","77350 LE MEE SUR SEINE",77350,"Le Mée-sur-Seine","Pharmacie d'officine","A"]
[{"$f":"VLOOKUP(B15704,Régions!A:C,3,FALSE)","v":"Ile-de-France"},77,{"$error":"#N/A"},770008613,{"$error":"#N/A"},{"$error":"#N/A"},"PHARMACIE JOLIVET",2,"Place","Gallieni","77000 MELUN",77000,"Melun","Pharmacie d'officine","A"]
[{"$f":"VLOOKUP(B15716,Régions!A:C,3,FALSE)","v":"Ile-de-France"},77,{"$error":"#N/A"},770008993,{"$error":"#N/A"},{"$error":"#N/A"},"PHARMACIE NONO KEMGNI",397,"Rue","PASTEUR","77550 MOISSY-CRAMAYEL",77550,"Moissy-Cramayel","Pharmacie d'officine","A"]
[{"$f":"VLOOKUP(B15728,Régions!A:C,3,FALSE)","v":"Ile-de-France"},77,"PHARMDIRECTFR",770009363,770009363,"oui","PHARMACIE SERRANO GONZALEZ",2,"Rue","MONTGERMONT","77690 MONTIGNY-SUR-LOING",77690,"Montigny-sur-Loing","Pharmacie d'officine","A"]
[{"$f":"VLOOKUP(B15735,Régions!A:C,3,FALSE)","v":"Ile-de-France"},77,{"$error":"#N/A"},770009645,{"$error":"#N/A"},{"$error":"#N/A"},"PHARMACIE BAILLY",58,"Avenue","LOUIS BRAILLE","77370 NANGIS",77370,"Nangis","Pharmacie d'officine","A"]
[{"$f":"VLOOKUP(B15738,Régions!A:C,3,FALSE)","v":"Ile-de-France"},77,{"$error":"#N/A"},770009710,{"$error":"#N/A"},{"$error":"#N/A"},"PHARMACIE DES SAINTS PERES","NULL","Avenue","FRIDINGEN","77100 NANTEUIL LES MEAUX",77100,"Nanteuil-lès-Meaux","Pharmacie d'officine","A"]
[{"$f":"VLOOKUP(B15754,Régions!A:C,3,FALSE)","v":"Ile-de-France"},77,{"$error":"#N/A"},770010163,{"$error":"#N/A"},{"$error":"#N/A"},"PHARMACIE MASSOT-MORLEC",44,"Avenue","DU GENERAL LECLERC","77330 OZOIR-LA-FERRIERE",77330,"Ozoir-la-Ferrière","Pharmacie d'officine","A"]
[{"$f":"VLOOKUP(B15758,Régions!A:C,3,FALSE)","v":"Ile-de-France"},77,"CNOP",770010296,770010296,"oui","PHARMACIE THIERRY",20,"Rue","DE COURTRY","77181 LE-PIN",77181,"Le Pin","Pharmacie d'officine","A"]
[{"$f":"VLOOKUP(B15770,Régions!A:C,3,FALSE)","v":"Ile-de-France"},77,{"$error":"#N/A"},770010627,{"$error":"#N/A"},{"$error":"#N/A"},"PHARMACIE MARTY",85,"NULL","GRANDE RUE","77135 PONTCARRE",77135,"Pontcarré","Pharmacie d'officine","A"]
[{"$f":"VLOOKUP(B15777,Régions!A:C,3,FALSE)","v":"Ile-de-France"},77,{"$error":"#N/A"},770010874,{"$error":"#N/A"},{"$error":"#N/A"},"PHARMACIE LACHOR",1,"Rue","SAINT NICOLAS","77510 REBAIS",77510,"Rebais","Pharmacie d'officine","A"]
[{"$f":"VLOOKUP(B15789,Régions!A:C,3,FALSE)","v":"Ile-de-France"},77,"PHARMDIRECTFR",770011260,770011260,"oui","PHARMACIE LALLEMAND-OUALID",46,"Avenue","DE FONTAINEBLEAU","77310 ST FARGEAU PONTHIERRY",77310,"Saint-Fargeau-Ponthierry","Pharmacie d'officine","A"]
[{"$f":"VLOOKUP(B15801,Régions!A:C,3,FALSE)","v":"Ile-de-France"},77,"CNOP",770011591,770011591,"oui","SELARL PHARMACIE SAINT-GERMAIN",14,"Place","CLAUDE MONET","77400 SAINT-THIBAULT-DES-VIGNES",77400,"Saint-Thibault-des-Vignes","Pharmacie d'officine","A"]
[{"$f":"VLOOKUP(B15808,Régions!A:C,3,FALSE)","v":"Ile-de-France"},77,"PHARMDIRECTFR",770011815,770011815,"oui","PHARMAVAL",14,"Cours","DU DANUBE","77700 SERRIS",77700,"Serris","Pharmacie d'officine","A"]
[{"$f":"VLOOKUP(B15811,Régions!A:C,3,FALSE)","v":"Ile-de-France"},77,"CNOP",770011914,770011914,"oui","PHARMACIE POTELLET",22,"Route","DE PARIS","77171 SOURDUN",77171,"Sourdun","Pharmacie d'officine","A"]
[{"$f":"VLOOKUP(B15827,Régions!A:C,3,FALSE)","v":"Ile-de-France"},77,"PHARMDIRECTFR",770012375,770012375,"oui","PHARMACIE LE QUAN",2,"Place","DE LA REPUBLIQUE","77360 VAIRES-SUR-MARNE",77360,"Vaires-sur-Marne","Pharmacie d'officine","A"]
[{"$f":"VLOOKUP(B15829,Régions!A:C,3,FALSE)","v":"Ile-de-France"},77,"CNOP",770012441,770012441,"non","PHARMACIE MOUANDA PLATEAU",58,"Rue","VICTOR CLAIRET","77910 VARREDDES",77910,"Varreddes","Pharmacie d'officine","A"]
[{"$f":"VLOOKUP(B15843,Régions!A:C,3,FALSE)","v":"Ile-de-France"},77,"PHARMDIRECTFR",770012862,770012862,"oui","PHARMACIE RADJABALY",27,"Rue","JEAN JAURES","77270 VILLEPARISIS",77270,"Villeparisis","Pharmacie d'officine","A"]
[{"$f":"VLOOKUP(B15850,Régions!A:C,3,FALSE)","v":"Ile-de-France"},77,"CNOP",770013050,770013050,"oui","PHARMACIE PRIKER",12,"Avenue","GUSTAVE EIFFEL","77170 BRIE-COMTE-ROBERT",77170,"Brie-Comte-Robert","Pharmacie d'officine","A"]
[{"$f":"VLOOKUP(B15862,Régions!A:C,3,FALSE)","v":"Ile-de-France"},77,{"$error":"#N/A"},770015584,{"$error":"#N/A"},{"$error":"#N/A"},"PHARMACIE RATSIMBAZAFY",128,"Rue","DU GENERAL DE GAULLE","77230 DAMMARTIN-EN-GOELE",77230,"Dammartin-en-Goële","Pharmacie d'officine","A"]
[{"$f":"VLOOKUP(B15874,Régions!A:C,3,FALSE)","v":"Ile-de-France"},77,{"$error":"#N/A"},770023679,{"$error":"#N/A"},{"$error":"#N/A"},"PHARMACIE DU 2F","NULL","NULL","Aeroport Charles de Gaulle","77990 LE MESNIL-AMELOT",77990,"Le Mesnil-Amelot","Pharmacie d'officine","A"]
[{"$f":"VLOOKUP(B15881,Régions!A:C,3,FALSE)","v":"Ile-de-France"},78,"PHARMDIRECTFR",780004743,780004743,"oui","PHARMACIE PILLONNET",11,"Place","DU 14 JUILLET","78260 ACHERES",78260,"Achères","Pharmacie d'officine","A"]
[{"$f":"VLOOKUP(B15884,Régions!A:C,3,FALSE)","v":"Ile-de-France"},78,{"$error":"#N/A"},780004826,{"$error":"#N/A"},{"$error":"#N/A"},"PHARMACIE LAHUTTE-WULLUS",44,"Boulevard","NOEL MARC","78570 ANDRESY",78570,"Andrésy","Pharmacie d'officine","A"]
[{"$f":"VLOOKUP(B15900,Régions!A:C,3,FALSE)","v":"Ile-de-France"},78,"CNOP",780005310,780005310,"oui","PHARMACIE ROUSTAN",190,"Rue","DES CHARNELLES","78410 BOUAFLE",78410,"Bouafle","Pharmacie d'officine","A"]
[{"$f":"VLOOKUP(B15910,Régions!A:C,3,FALSE)","v":"Ile-de-France"},78,{"$error":"#N/A"},780005625,{"$error":"#N/A"},{"$error":"#N/A"},"PHARMACIE LAMBIN",22,"Rue","GABRIEL PERI","78420 CARRIERES-SUR-SEINE",78420,"Carrières-sur-Seine","Pharmacie d'officine","A"]
[{"$f":"VLOOKUP(B15916,Régions!A:C,3,FALSE)","v":"Ile-de-France"},78,{"$error":"#N/A"},780005781,{"$error":"#N/A"},{"$error":"#N/A"},"PHARMACIE CLARY-LIM",18,"Avenue","DE LA JONCHERE","78170 CELLE-SAINT-CLOUD (LA)",78170,"La Celle-Saint-Cloud","Pharmacie d'officine","A"]
[{"$f":"VLOOKUP(B15923,Régions!A:C,3,FALSE)","v":"Ile-de-France"},78,{"$error":"#N/A"},780006060,{"$error":"#N/A"},{"$error":"#N/A"},"PHARMACIE   BOUMARAF","NULL","Avenue","DE POISSY ET RUE DES MAROTTES","78570 CHANTELOUP LES VIGNES",78570,"Chanteloup-les-Vignes","Pharmacie d'officine","A"]
[{"$f":"VLOOKUP(B15935,Régions!A:C,3,FALSE)","v":"Ile-de-France"},78,"PHARMDIRECTFR",780006474,780006474,"oui","PHARMACIE ROTH-EHL",61,"Rue","DE GLATIGNY","78150 LE CHESNAY-ROCQUENCOURT",78150,"Le Chesnay-Rocquencourt","Pharmacie d'officine","A"]
[{"$f":"VLOOKUP(B15942,Régions!A:C,3,FALSE)","v":"Ile-de-France"},78,"CNOP",780006631,780006631,"oui","PHARMACIE LA REDINGOTE",77,"Rue","DE VERSAILLES","78150 LE CHESNAY-ROCQUENCOURT",78150,"Le Chesnay-Rocquencourt","Pharmacie d'officine","A"]
[{"$f":"VLOOKUP(B15954,Régions!A:C,3,FALSE)","v":"Ile-de-France"},78,"CNOP",780007076,780007076,"non","PHARMACIE TESTU",2,"Rue","ALBERT SCHWEITZER","78700 CONFLANS STE HONORINE",78700,"Conflans-Sainte-Honorine","Pharmacie d'officine","A"]
[{"$f":"VLOOKUP(B15957,Régions!A:C,3,FALSE)","v":"Ile-de-France"},78,{"$error":"#N/A"},780007175,{"$error":"#N/A"},{"$error":"#N/A"},"PHARMACIE NIDAM",40,"Rue","MAURICE BERTEAUX","78700 CONFLANS-SAINTE-HONORINE",78700,"Conflans-Sainte-Honorine","Pharmacie d'officine","A"]
[{"$f":"VLOOKUP(B15973,Régions!A:C,3,FALSE)","v":"Ile-de-France"},78,"CNOP",780007712,780007712,"oui","PHARMACIE SCHNEIDER - RUPP",23,"Avenue","DE LA GARE","78690 ESSARTS-LE-ROI (LES)",78690,"Les Essarts-le-Roi","Pharmacie d'officine","A"]
[{"$f":"VLOOKUP(B15976,Régions!A:C,3,FALSE)","v":"Ile-de-France"},78,{"$error":"#N/A"},780007811,{"$error":"#N/A"},{"$error":"#N/A"},"PHARMACIE FLINS","NULL","NULL","NULL","78410 FLINS-SUR-SEINE",78410,"Flins-sur-Seine","Pharmacie d'officine","A"]
[{"$f":"VLOOKUP(B15985,Régions!A:C,3,FALSE)","v":"Ile-de-France"},78,"PHARMDIRECTFR",780008090,780008090,"oui","PHARMACIE LOGEREAU",24,"Avenue","MADEMOISELLE DOSNE","78440 GARGENVILLE",78440,"Gargenville","Pharmacie d'officine","A"]
[{"$f":"VLOOKUP(B15996,Régions!A:C,3,FALSE)","v":"Ile-de-France"},78,{"$error":"#N/A"},780008397,{"$error":"#N/A"},{"$error":"#N/A"},"PHARMACIE AUGEREAU",35,"NULL","GRANDE RUE","78550 HOUDAN",78550,"Houdan","Pharmacie d'officine","A"]
[{"$f":"VLOOKUP(B16008,Régions!A:C,3,FALSE)","v":"Ile-de-France"},78,"PHARMDIRECTFR",780008793,780008793,"oui","PHARMACIE FABRE - CAZALY",50,"Avenue","JEAN JAURES","78350 JOUY-EN-JOSAS",78350,"Jouy-en-Josas","Pharmacie d'officine","A"]
[{"$f":"VLOOKUP(B16015,Régions!A:C,3,FALSE)","v":"Ile-de-France"},78,{"$error":"#N/A"},780008975,{"$error":"#N/A"},{"$error":"#N/A"},"PHARMACIE GALOU","NULL","Avenue","DE LA SOURCE","78520 LIMAY",78520,"Limay","Pharmacie d'officine","A"]
[{"$f":"VLOOKUP(B16027,Régions!A:C,3,FALSE)","v":"Ile-de-France"},78,{"$error":"#N/A"},780009460,{"$error":"#N/A"},{"$error":"#N/A"},"PHARMACIE MARTIN",6,"Rue","GAMBETTA","78200 MANTES-LA-JOLIE",78200,"Mantes-la-Jolie","Pharmacie d'officine","A"]
[{"$f":"VLOOKUP(B16030,Régions!A:C,3,FALSE)","v":"Ile-de-France"},78,"CNOP",780009544,780009544,"oui","PHARMACIE MIMOUN-MEYER",9,"Place","DU MARCHE AU BLE","78200 MANTES-LA-JOLIE",78200,"Mantes-la-Jolie","Pharmacie d'officine","A"]
[{"$f":"VLOOKUP(B16046,Régions!A:C,3,FALSE)","v":"Ile-de-France"},78,{"$error":"#N/A"},780009965,{"$error":"#N/A"},{"$error":"#N/A"},"PHARMACIE HERBIN","NULL","Place","DU GUINEE","78124 MAREIL-SUR-MAULDRE",78124,"Mareil-sur-Mauldre","Pharmacie d'officine","A"]
[{"$f":"VLOOKUP(B16049,Régions!A:C,3,FALSE)","v":"Ile-de-France"},78,{"$error":"#N/A"},780010161,{"$error":"#N/A"},{"$error":"#N/A"},"PHARMACIE SAINT GERMAIN",10,"Avenue","DE ST GERMAIN","78160 MARLY-LE-ROI",78160,"Marly-le-Roi","Pharmacie d'officine","A"]
[{"$f":"VLOOKUP(B16061,Régions!A:C,3,FALSE)","v":"Ile-de-France"},78,"CNOP",780010542,780010542,"oui","PHARMACIE DUZER",79,"Rue","EMILE FONTANIER","78320 MESNIL-SAINT-DENIS (LE)",78320,"Le Mesnil-Saint-Denis","Pharmacie d'officine","A"]
[{"$f":"VLOOKUP(B16066,Régions!A:C,3,FALSE)","v":"Ile-de-France"},78,"PHARMDIRECTFR",780010690,780010690,"oui","SELARL PHARMACIE CHARLÈS",117,"Rue","NATIONALE","78970 MEZIERES-SUR-SEINE",78970,"Mézières-sur-Seine","Pharmacie d'officine","A"]
[{"$f":"VLOOKUP(B16081,Régions!A:C,3,FALSE)","v":"Ile-de-France"},78,{"$error":"#N/A"},780011110,{"$error":"#N/A"},{"$error":"#N/A"},"PHARMACIE PLESKOFF","NULL","Place","DES CAUSSES","78180 MONTIGNY-LE-BRETONNEUX",78180,"Montigny-le-Bretonneux","Pharmacie d'officine","A"]
[{"$f":"VLOOKUP(B16088,Régions!A:C,3,FALSE)","v":"Ile-de-France"},78,{"$error":"#N/A"},780011375,{"$error":"#N/A"},{"$error":"#N/A"},"PHARMACIE HARBOUCH",8,"Place","DE LA REPUBLIQUE","78130 LES-MUREAUX",78130,"Les Mureaux","Pharmacie d'officine","A"]
[{"$f":"VLOOKUP(B16100,Régions!A:C,3,FALSE)","v":"Ile-de-France"},78,{"$error":"#N/A"},780011763,{"$error":"#N/A"},{"$error":"#N/A"},"PHARMACIE TREFAULT",14,"Rue","DE PARIS","78230 LE-PECQ",78230,"Le Pecq","Pharmacie d'officine","A"]
[{"$f":"VLOOKUP(B16103,Régions!A:C,3,FALSE)","v":"Ile-de-France"},78,"CNOP",780011862,780011862,"oui","PHARMACIE DELLA MAGGIORA",86,"Rue","DE PARIS","78610 LE-PERRAY-EN-YVELINES",78610,"Le Perray-en-Yvelines","Pharmacie d'officine","A"]
[{"$f":"VLOOKUP(B16119,Régions!A:C,3,FALSE)","v":"Ile-de-France"},78,"CNOP",780012415,780012415,"oui","PHARMACIE GEFFRAY",26,"Place","RACINE","78300 POISSY",78300,"Poissy","Pharmacie d'officine","A"]
[{"$f":"VLOOKUP(B16122,Régions!A:C,3,FALSE)","v":"Ile-de-France"},78,"CNOP",780012480,780012480,"oui","PHARMACIE PONTORIERO",33,"Route","DE RANGIPORT","78440 PORCHEVILLE",78440,"Porcheville","Pharmacie d'officine","A"]
[{"$f":"VLOOKUP(B16138,Régions!A:C,3,FALSE)","v":"Ile-de-France"},78,"CNOP",780012993,780012993,"oui","PHARMACIE HAMEAU",4,"Rue","JEAN MACE","78210 SAINT-CYR-L-ECOLE",78210,"Saint-Cyr-l'École","Pharmacie d'officine","A"]
[{"$f":"VLOOKUP(B16147,Régions!A:C,3,FALSE)","v":"Ile-de-France"},78,{"$error":"#N/A"},780013264,{"$error":"#N/A"},{"$error":"#N/A"},"PHARMACIE TOSTIVINT-BERGEAU",11,"Rue","DE POISSY","78100 SAINT-GERMAIN-EN-LAYE",78100,"Saint-Germain-en-Laye","Pharmacie d'officine","A"]
[{"$f":"VLOOKUP(B16154,Régions!A:C,3,FALSE)","v":"Ile-de-France"},78,"CNOP",780013447,780013447,"oui","PHARMACIE BOUCHARD",1,"Route","DE RAMBOUILLET","78610 SAINT-LEGER-EN-YVELINES",78610,"Saint-Léger-en-Yvelines","Pharmacie d'officine","A"]
[{"$f":"VLOOKUP(B16161,Régions!A:C,3,FALSE)","v":"Ile-de-France"},78,"PHARMDIRECTFR",780013645,780013645,"oui","PHARMACIE BLANCHARD",165,"Rue","GABRIEL PERI","78500 SARTROUVILLE",78500,"Sartrouville","Pharmacie d'officine","A"]
[{"$f":"VLOOKUP(B16173,Régions!A:C,3,FALSE)","v":"Ile-de-France"},78,{"$error":"#N/A"},780014015,{"$error":"#N/A"},{"$error":"#N/A"},"PHARMACIE GILBERT","NULL","Square","GERARD PHILIPE","78190 TRAPPES",78190,"Trappes","Pharmacie d'officine","A"]
[{"$f":"VLOOKUP(B16176,Régions!A:C,3,FALSE)","v":"Ile-de-France"},78,{"$error":"#N/A"},780014080,{"$error":"#N/A"},{"$error":"#N/A"},"SELARL PHARMACIE PRINCIPALE",43,"Rue","JEAN JAURES","78190 TRAPPES",78190,"Trappes","Pharmacie d'officine","A"]
[{"$f":"VLOOKUP(B16192,Régions!A:C,3,FALSE)","v":"Ile-de-France"},78,"PHARMDIRECTFR",780014676,780014676,"oui","PHARMACIE LAVERGNE",23,"Rue","DES ROSIERS","78480 VERNEUIL-SUR-SEINE",78480,"Verneuil-sur-Seine","Pharmacie d'officine","A"]
[{"$f":"VLOOKUP(B16195,Régions!A:C,3,FALSE)","v":"Ile-de-France"},78,{"$error":"#N/A"},780014742,{"$error":"#N/A"},{"$error":"#N/A"},"PHARMACIE AUBERDIAC ADDES - POLLET",2,"Impasse","DES ORMES","78540 VERNOUILLET",78540,"Vernouillet","Pharmacie d'officine","A"]
[{"$f":"VLOOKUP(B16211,Régions!A:C,3,FALSE)","v":"Ile-de-France"},78,"CNOP",780015194,780015194,"oui","PHARMACIE DES HALLES",18,"Rue","MARECHAL FOCH","78000 VERSAILLES",78000,"Versailles","Pharmacie d'officine","A"]
[{"$f":"VLOOKUP(B16214,Régions!A:C,3,FALSE)","v":"Ile-de-France"},78,{"$error":"#N/A"},780015277,{"$error":"#N/A"},{"$error":"#N/A"},"PHARMACIE MENARDSELEURL LES ADRETS",3,"Rue","DE MONTREUIL","78000 VERSAILLES",78000,"Versailles","Pharmacie d'officine","A"]
[{"$f":"VLOOKUP(B16222,Régions!A:C,3,FALSE)","v":"Ile-de-France"},78,{"$error":"#N/A"},780015665,{"$error":"#N/A"},{"$error":"#N/A"},"PHARMACIE BENYAMIN",22,"Avenue","DE SAINT CLOUD","78000 VERSAILLES",78000,"Versailles","Pharmacie d'officine","A"]
[{"$f":"VLOOKUP(B16234,Régions!A:C,3,FALSE)","v":"Ile-de-France"},78,{"$error":"#N/A"},780016044,{"$error":"#N/A"},{"$error":"#N/A"},"PHARMACIE BERTRY",21,"Avenue","DU GRAND CANAL","78450 VILLEPREUX",78450,"Villepreux","Pharmacie d'officine","A"]
[{"$f":"VLOOKUP(B16246,Régions!A:C,3,FALSE)","v":"Ile-de-France"},78,"CNOP",780017760,780017760,"oui","PHARMACIE DU CENTRE",8,"Place","PAUL DEMANGE","78360 MONTESSON",78360,"Montesson","Pharmacie d'officine","A"]
[{"$f":"VLOOKUP(B16253,Régions!A:C,3,FALSE)","v":"Nouvelle-Aquitaine"},79,{"$error":"#N/A"},790006951,{"$error":"#N/A"},{"$error":"#N/A"},"PHARMACIE ROUGIER",11,"Place","DU MARCHE","79120 LEZAY",79120,"Lezay","Pharmacie d'officine","A"]
[{"$f":"VLOOKUP(B16265,Régions!A:C,3,FALSE)","v":"Nouvelle-Aquitaine"},79,"PHARMDIRECTFR",790010144,790010144,"oui","PHARMACIE CHOLLET","NULL","Zone industrielle","LA PIECE DU CHENE","79400 AZAY-LE-BRULE",79400,"Azay-le-Brûlé","Pharmacie d'officine","A"]
[{"$f":"VLOOKUP(B16268,Régions!A:C,3,FALSE)","v":"Nouvelle-Aquitaine"},79,"CNOP",790010185,790010185,"oui","PHARMACIE BOUDIER-GIRARD - DESPORT",9,"Place","DE LA PAYSE","79120 LEZAY",79120,"Lezay","Pharmacie d'officine","A"]
[{"$f":"VLOOKUP(B16284,Régions!A:C,3,FALSE)","v":"Nouvelle-Aquitaine"},79,"PHARMDIRECTFR",790010367,790010367,"oui","PHARMACIE DELUMEAU",16,"Place","DU MARCHE","79500 MELLE",79500,"Melle","Pharmacie d'officine","A"]
[{"$f":"VLOOKUP(B16287,Régions!A:C,3,FALSE)","v":"Nouvelle-Aquitaine"},79,"PHARMDIRECTFR",790010409,790010409,"oui","PHARMACIE DES MARRONNIERS",31,"Rue","DU GENERAL DE GAULLE","79390 THENEZAY",79390,"Thénezay","Pharmacie d'officine","A"]
[{"$f":"VLOOKUP(B16303,Régions!A:C,3,FALSE)","v":"Nouvelle-Aquitaine"},79,"PHARMDIRECTFR",790010631,790010631,"oui","PHARMACIE THIVOLLIER",20,"Boulevard","de Diepholz","79100 THOUARS",79100,"Thouars","Pharmacie d'officine","A"]
[{"$f":"VLOOKUP(B16307,Régions!A:C,3,FALSE)","v":"Nouvelle-Aquitaine"},79,"PHARMDIRECTFR",790010698,790010698,"oui","PHARMACIE BRAUX",110,"Route","DE NIORT","79230 AIFFRES",79230,"Aiffres","Pharmacie d'officine","A"]
[{"$f":"VLOOKUP(B16319,Régions!A:C,3,FALSE)","v":"Nouvelle-Aquitaine"},79,{"$error":"#N/A"},790010847,{"$error":"#N/A"},{"$error":"#N/A"},"PHARMACIE BLANCHART",580,"Avenue","DE PARIS","79000 NIORT",79000,"Niort","Pharmacie d'officine","A"]
[{"$f":"VLOOKUP(B16326,Régions!A:C,3,FALSE)","v":"Nouvelle-Aquitaine"},79,"PHARMDIRECTFR",790010946,790010946,"oui","PHARMACIE SOUCHE-PIERIN",34,"Rue","RICARD","79000 NIORT",79000,"Niort","Pharmacie d'officine","A"]
[{"$f":"VLOOKUP(B16338,Régions!A:C,3,FALSE)","v":"Nouvelle-Aquitaine"},79,{"$error":"#N/A"},790011068,{"$error":"#N/A"},{"$error":"#N/A"},"PHARMACIE CHETOUANE",52,"Rue","DE LA GRANGE LUCAS","79220 CHAMPDENIERS",79220,"Champdeniers","Pharmacie d'officine","A"]
[{"$f":"VLOOKUP(B16341,Régions!A:C,3,FALSE)","v":"Nouvelle-Aquitaine"},79,"PHARMDIRECTFR",790011126,790011126,"oui","PHARMACIE DE PARIS",6,"Avenue","DE PARIS","79000 NIORT",79000,"Niort","Pharmacie d'officine","A"]
[{"$f":"VLOOKUP(B16357,Régions!A:C,3,FALSE)","v":"Nouvelle-Aquitaine"},79,"CNOP",790011357,790011357,"non","PHARMACIE ABADIE",66,"Avenue","P MENDES FRANCE","79200 PARTHENAY",79200,"Parthenay","Pharmacie d'officine","A"]
[{"$f":"VLOOKUP(B16360,Régions!A:C,3,FALSE)","v":"Nouvelle-Aquitaine"},79,"CNOP",790011407,790011407,"oui","PHARMACIE NGUIMBUS","NULL","Rue","DES ACACIAS","79370 CELLES-SUR-BELLE",79370,"Celles-sur-Belle","Pharmacie d'officine","A"]
[{"$f":"VLOOKUP(B16372,Régions!A:C,3,FALSE)","v":"Hauts-de-France"},80,"PHARMDIRECTFR",800003386,800003386,"oui","PHARMACIE  DUPIRE",70,"Route","DE DOULLENS","80100 ABBEVILLE",80100,"Abbeville","Pharmacie d'officine","A"]
[{"$f":"VLOOKUP(B16384,Régions!A:C,3,FALSE)","v":"Hauts-de-France"},80,"CNOP",800003766,800003766,"oui","PHARMACIE SANNIER",28,"Route","NATIONALE","80690 AILLY-LE-HAUT-CLOCHER",80690,"Ailly-le-Haut-Clocher","Pharmacie d'officine","A"]
[{"$f":"VLOOKUP(B16392,Régions!A:C,3,FALSE)","v":"Hauts-de-France"},80,"PHARMDIRECTFR",800005332,800005332,"oui","PHARMACIE MOITIER SATCHIVI",18,"Place","D ARMES","80300 ALBERT",80300,"Albert","Pharmacie d'officine","A"]
[{"$f":"VLOOKUP(B16399,Régions!A:C,3,FALSE)","v":"Hauts-de-France"},80,"PHARMDIRECTFR",800006652,800006652,"oui","PHARMACIE LE NANCQ",22,"Rue","ARMAND DEVILLERS","80630 BEAUVAL",80630,"Beauval","Pharmacie d'officine","A"]
[{"$f":"VLOOKUP(B16411,Régions!A:C,3,FALSE)","v":"Hauts-de-France"},80,"PHARMDIRECTFR",800007155,800007155,"oui","PHARMACIE DEBLOCK",21,"Rue","ODON DUMONT","80320 CHAULNES",80320,"Chaulnes","Pharmacie d'officine","A"]
[{"$f":"VLOOKUP(B16414,Régions!A:C,3,FALSE)","v":"Hauts-de-France"},80,"CNOP",800007304,800007304,"oui","PHARMACIE CROZET",15,"Place","DU GENERAL DE GAULLE","80160 CONTY",80160,"Conty","Pharmacie d'officine","A"]
[{"$f":"VLOOKUP(B16430,Régions!A:C,3,FALSE)","v":"Hauts-de-France"},80,{"$error":"#N/A"},800009722,{"$error":"#N/A"},{"$error":"#N/A"},"PHARMACIE MARC LECOUF",1,"Place","JEAN JAURES","80210 FEUQUIERES-EN-VIMEU",80210,"Feuquières-en-Vimeu","Pharmacie d'officine","A"]
[{"$f":"VLOOKUP(B16433,Régions!A:C,3,FALSE)","v":"Hauts-de-France"},80,"CNOP",800009904,800009904,"oui","PHARMACIE DOREMUS",948,"Avenue","DE LA PLAGE","80120 FORT-MAHON-PLAGE",80120,"Fort-Mahon-Plage","Pharmacie d'officine","A"]
[{"$f":"VLOOKUP(B16440,Régions!A:C,3,FALSE)","v":"Hauts-de-France"},80,{"$error":"#N/A"},800010506,{"$error":"#N/A"},{"$error":"#N/A"},"PHARMACIE LELONG",62,"Rue","CHARLES DE GAULLE","80220 GAMACHES",80220,"Gamaches","Pharmacie d'officine","A"]
[{"$f":"VLOOKUP(B16452,Régions!A:C,3,FALSE)","v":"Hauts-de-France"},80,{"$error":"#N/A"},800011843,{"$error":"#N/A"},{"$error":"#N/A"},"PHARMACIE FINET AYMERIC",105,"Rue","HENRI BARBUSSE","80330 LONGUEAU",80330,"Longueau","Pharmacie d'officine","A"]
[{"$f":"VLOOKUP(B16459,Régions!A:C,3,FALSE)","v":"Hauts-de-France"},80,{"$error":"#N/A"},800012031,{"$error":"#N/A"},{"$error":"#N/A"},"PHARMACIE DAUMONT",16,"Rue","LEON VERRIER","80200 MOISLAINS CEDEX",80200,"Moislains","Pharmacie d'officine","A"]
[{"$f":"VLOOKUP(B16472,Régions!A:C,3,FALSE)","v":"Hauts-de-France"},80,{"$error":"#N/A"},800012361,{"$error":"#N/A"},{"$error":"#N/A"},"PHARMACIE BECU-HIRSCH",31,"Avenue","MAC ORLAN","80203 PERONNE CEDEX",80203,"Péronne","Pharmacie d'officine","A"]
[{"$f":"VLOOKUP(B16484,Régions!A:C,3,FALSE)","v":"Hauts-de-France"},80,"CNOP",800012676,800012676,"oui","PHARMACIE CAROLINE LEMAITRE",42,"Avenue","DE LA DEFENSE PASSIVE","80136 RIVERY",80136,"Rivery","Pharmacie d'officine","A"]
[{"$f":"VLOOKUP(B16487,Régions!A:C,3,FALSE)","v":"Hauts-de-France"},80,"CNOP",800012742,800012742,"oui","PHARMACIE  DUFLOS",7,"Rue","JEAN JAURES","80170 ROSIERES-EN-SANTERRE",80170,"Rosières-en-Santerre","Pharmacie d'officine","A"]
[{"$f":"VLOOKUP(B16503,Régions!A:C,3,FALSE)","v":"Hauts-de-France"},80,{"$error":"#N/A"},800013195,{"$error":"#N/A"},{"$error":"#N/A"},"PHARMACIE OUDRHIRI",7,"Rue","ALBERT CAMUS","80480 SALOUËL",80480,"Salouël","Pharmacie d'officine","A"]
[{"$f":"VLOOKUP(B16506,Régions!A:C,3,FALSE)","v":"Hauts-de-France"},80,"PHARMDIRECTFR",800013260,800013260,"oui","PHARMACIE DU BOCAGE","NULL","Rue","DU CHATEAU D'EAU","80260 VILLERS-BOCAGE",80260,"Villers-Bocage","Pharmacie d'officine","A"]
[{"$f":"VLOOKUP(B16513,Régions!A:C,3,FALSE)","v":"Hauts-de-France"},80,"PHARMDIRECTFR",800013443,800013443,"oui","PHARMACIE DEMOULIN",406,"Route","D'ABBEVILLE","80000 AMIENS",80000,"Amiens","Pharmacie d'officine","A"]
[{"$f":"VLOOKUP(B16525,Régions!A:C,3,FALSE)","v":"Hauts-de-France"},80,"CNOP",800013740,800013740,"oui","PHARMACIE MACAIGNE",190,"Rue","Jean Moulin","80000 AMIENS",80000,"Amiens","Pharmacie d'officine","A"]
[{"$f":"VLOOKUP(B16540,Régions!A:C,3,FALSE)","v":"Hauts-de-France"},80,"CNOP",800014110,800014110,"oui","PHARMACIE LAUDREN",1,"Place","VICTOR PAUCHET","80000 AMIENS",80000,"Amiens","Pharmacie d'officine","A"]
[{"$f":"VLOOKUP(B16545,Régions!A:C,3,FALSE)","v":"Hauts-de-France"},80,"CNOP",800014276,800014276,"oui","PHARMACIE LE NAUTILUS",21,"Rue","LEO LAGRANGE","80000 AMIENS",80000,"Amiens","Pharmacie d'officine","A"]
[{"$f":"VLOOKUP(B16557,Régions!A:C,3,FALSE)","v":"Hauts-de-France"},80,"CNOP",800014664,800014664,"oui","PHARMACIE ANNE",4,"Place","DU 11 NOVEMBRE","80290 POIX-DE-PICARDIE",80290,"Poix-de-Picardie","Pharmacie d'officine","A"]
[{"$f":"VLOOKUP(B16560,Régions!A:C,3,FALSE)","v":"Occitanie"},81,"CNOP",810002063,810002063,"oui","PHARMACIE HERAL",7,"Rue","DES OEILLETS","81200 AIGUEFONDE",81200,"Aiguefonde","Pharmacie d'officine","A"]
[{"$f":"VLOOKUP(B16576,Régions!A:C,3,FALSE)","v":"Occitanie"},81,"CNOP",810002626,810002626,"oui","PHARMACIE  LECRIQUE-GELHAY - MERAL -",60,"Boulevard","MARECHAL LANNES","81000 ALBI",81000,"Albi","Pharmacie d'officine","A"]
[{"$f":"VLOOKUP(B16579,Régions!A:C,3,FALSE)","v":"Occitanie"},81,"CNOP",810002725,810002725,"oui","PHARMACIE BOUDOU - ROUZIERE","NULL","Avenue","DE L'EUROPE","81000 ALBI",81000,"Albi","Pharmacie d'officine","A"]
[{"$f":"VLOOKUP(B16586,Régions!A:C,3,FALSE)","v":"Occitanie"},81,"PHARMDIRECTFR",810002915,810002915,"oui","PHARMACIE MONNIE",10,"Place","DU MARCHE","81200 AUSSILLON",81200,"Aussillon","Pharmacie d'officine","A"]
[{"$f":"VLOOKUP(B16598,Régions!A:C,3,FALSE)","v":"Occitanie"},81,{"$error":"#N/A"},810003327,{"$error":"#N/A"},{"$error":"#N/A"},"PHARMACIE CAYROUSE - POMMIER","NULL","Rue","LAFAYETTE","81140 CASTELNAU DE MONTMIRAL",81140,"Castelnau-de-Montmiral","Pharmacie d'officine","A"]
[{"$f":"VLOOKUP(B16610,Régions!A:C,3,FALSE)","v":"Occitanie"},81,"CNOP",810005066,810005066,"oui","PHARMACIE SIDI",10,"Rue","DE BISSEOUS","81100 CASTRES",81100,"Castres","Pharmacie d'officine","A"]
[{"$f":"VLOOKUP(B16621,Régions!A:C,3,FALSE)","v":"Occitanie"},81,{"$error":"#N/A"},810005355,{"$error":"#N/A"},{"$error":"#N/A"},"PHARMACIE ROGER-ROUQUARIES",2,"Place","DE LA LIBERATION","81600 GAILLAC",81600,"Gaillac","Pharmacie d'officine","A"]
[{"$f":"VLOOKUP(B16630,Régions!A:C,3,FALSE)","v":"Occitanie"},81,"CNOP",810005652,810005652,"oui","PHARMACIE D'EN LAURE",37,"Avenue","HENRY SIMON","81290 LABRUGUIERE",81290,"Labruguière","Pharmacie d'officine","A"]
[{"$f":"VLOOKUP(B16637,Régions!A:C,3,FALSE)","v":"Occitanie"},81,"CNOP",810005884,810005884,"oui","PHARMACIE DESQUILBET",10,"Avenue","VICTOR HUGO","81500 LAVAUR",81500,"Lavaur","Pharmacie d'officine","A"]
[{"$f":"VLOOKUP(B16649,Régions!A:C,3,FALSE)","v":"Occitanie"},81,{"$error":"#N/A"},810006320,{"$error":"#N/A"},{"$error":"#N/A"},"PHARMACIE SIPIERRE-GISCLARD","NULL","NULL","LE BOURG","81640 MONESTIES",81640,"Monestiés","Pharmacie d'officine","A"]
[{"$f":"VLOOKUP(B16652,Régions!A:C,3,FALSE)","v":"Occitanie"},81,"CNOP",810006403,810006403,"oui","PHARMACIE SZATNY",1,"Place","LUCIEN FABRE","81190 PAMPELONNE",81190,"Pampelonne","Pharmacie d'officine","A"]
[{"$f":"VLOOKUP(B16659,Régions!A:C,3,FALSE)","v":"Occitanie"},81,{"$error":"#N/A"},810006635,{"$error":"#N/A"},{"$error":"#N/A"},"PHARMACIE DE REALMONT",1,"Rue","VICTOR HUGO","81120 REALMONT",81120,"Réalmont","Pharmacie d'officine","A"]
[{"$f":"VLOOKUP(B16671,Régions!A:C,3,FALSE)","v":"Occitanie"},81,{"$error":"#N/A"},810007005,{"$error":"#N/A"},{"$error":"#N/A"},"PHARMACIE TREMOLIERES - HOANG","NULL","NULL","ZAC LA BAUTE","81990 LE SEQUESTRE",81990,"Le Sequestre","Pharmacie d'officine","A"]
[{"$f":"VLOOKUP(B16683,Régions!A:C,3,FALSE)","v":"Occitanie"},81,"PHARMDIRECTFR",810007336,810007336,"oui","PHARMACIE SAINT-GERMA","NULL","Route","DE SAIX","81290 VIVIERS-LES-MONTAGNES",81290,"Viviers-lès-Montagnes","Pharmacie d'officine","A"]
[{"$f":"VLOOKUP(B16690,Régions!A:C,3,FALSE)","v":"Occitanie"},82,{"$error":"#N/A"},820001774,{"$error":"#N/A"},{"$error":"#N/A"},"PHARMACIE REY","NULL","NULL","LE BOURG","82190 BOURG DE VISA",82190,"Bourg-de-Visa","Pharmacie d'officine","A"]
[{"$f":"VLOOKUP(B16696,Régions!A:C,3,FALSE)","v":"Occitanie"},82,"CNOP",820001931,820001931,"oui","PHARMACIE MAFFRE-LOUARN",1,"Avenue","JEAN JAURES","82300 CAUSSADE",82300,"Caussade","Pharmacie d'officine","A"]
[{"$f":"VLOOKUP(B16710,Régions!A:C,3,FALSE)","v":"Occitanie"},82,"PHARMDIRECTFR",820002400,820002400,"oui","PHARMACIE MANIN - BRENGUES","NULL","Route","NATIONALE","82290 LA-VILLE-DIEU-DU-TEMPLE",82290,"La Ville-Dieu-du-Temple","Pharmacie d'officine","A"]
[{"$f":"VLOOKUP(B16722,Régions!A:C,3,FALSE)","v":"Occitanie"},82,{"$error":"#N/A"},820002715,{"$error":"#N/A"},{"$error":"#N/A"},"PHARMACIE BISSON",315,"Rue","MARCEL GUERRET","82000 MONTAUBAN",82000,"Montauban","Pharmacie d'officine","A"]
[{"$f":"VLOOKUP(B16725,Régions!A:C,3,FALSE)","v":"Occitanie"},82,"CNOP",820002814,820002814,"oui","PHARMACIE PRATS",955,"Chemin","DE SAINT PIERRE","82000 MONTAUBAN",82000,"Montauban","Pharmacie d'officine","A"]
[{"$f":"VLOOKUP(B16732,Régions!A:C,3,FALSE)","v":"Occitanie"},82,"PHARMDIRECTFR",820003044,820003044,"oui","PHARMACIE DE  SAPIAC",360,"Avenue","DE L'ABBAYE","82000 MONTAUBAN",82000,"Montauban","Pharmacie d'officine","A"]
[{"$f":"VLOOKUP(B16744,Régions!A:C,3,FALSE)","v":"Occitanie"},82,"CNOP",820003374,820003374,"oui","PHARMACIE  DU STADE",6,"Avenue","CARNOT","82800 NEGREPELISSE",82800,"Nègrepelisse","Pharmacie d'officine","A"]
[{"$f":"VLOOKUP(B16751,Régions!A:C,3,FALSE)","v":"Occitanie"},82,"CNOP",820005031,820005031,"oui","PHARMACIE DINTILHAC",23,"Boulevard","DU TOUR DE RONDE","82210 SAINT-NICOLAS-DE-LA-GRAVE",82210,"Saint-Nicolas-de-la-Grave","Pharmacie d'officine","A"]
[{"$f":"VLOOKUP(B16763,Régions!A:C,3,FALSE)","v":"Provence-Alpes-Côte d'Azur"},83,"PHARMDIRECTFR",830004297,830004297,"oui","SELURL PHARMACIE STUART",6,"Place","EDOUARD SOLDANI","83460 LES-ARCS",83460,"Les Arcs","Pharmacie d'officine","A"]
[{"$f":"VLOOKUP(B16777,Régions!A:C,3,FALSE)","v":"Provence-Alpes-Côte d'Azur"},83,{"$error":"#N/A"},830004677,{"$error":"#N/A"},{"$error":"#N/A"},"SELARL PHARMACIE DES ILES D'OR",2388,"Route","DES LAVANDIERES","83230 BORMES-LES-MIMOSAS",83230,"Bormes-les-Mimosas","Pharmacie d'officine","A"]
[{"$f":"VLOOKUP(B16783,Régions!A:C,3,FALSE)","v":"Provence-Alpes-Côte d'Azur"},83,{"$error":"#N/A"},830004826,{"$error":"#N/A"},{"$error":"#N/A"},"SELAS PHARMACIE MARQUET",1,"Avenue","MARECHAL FOCH","83170 BRIGNOLES",83170,"Brignoles","Pharmacie d'officine","A"]
[{"$f":"VLOOKUP(B16795,Régions!A:C,3,FALSE)","v":"Provence-Alpes-Côte d'Azur"},83,{"$error":"#N/A"},830005161,{"$error":"#N/A"},{"$error":"#N/A"},"SELARL PHARMACIE SENEQUIER ROUQUIER",9,"Rue","JEAN JAURES","83310 COGOLIN",83310,"Cogolin","Pharmacie d'officine","A"]
[{"$f":"VLOOKUP(B16798,Régions!A:C,3,FALSE)","v":"Provence-Alpes-Côte d'Azur"},83,"PHARMDIRECTFR",830005245,830005245,"oui","SELARL PHARMACIE DE LA POSTE",26,"Avenue","GEORGES CLEMENCEAU","83310 COGOLIN",83310,"Cogolin","Pharmacie d'officine","A"]
[{"$f":"VLOOKUP(B16805,Régions!A:C,3,FALSE)","v":"Provence-Alpes-Côte d'Azur"},83,{"$error":"#N/A"},830005393,{"$error":"#N/A"},{"$error":"#N/A"},"PHARMACIE  MARTIN",42,"Avenue","DU LT JEAN TOUCAS","83260 LA-CRAU",83260,"La Crau","Pharmacie d'officine","A"]
[{"$f":"VLOOKUP(B16817,Régions!A:C,3,FALSE)","v":"Provence-Alpes-Côte d'Azur"},83,{"$error":"#N/A"},830005674,{"$error":"#N/A"},{"$error":"#N/A"},"SELARL PHARMACIE PRINCIPALE",868,"Avenue","Pierre Brossolette","83300 DRAGUIGNAN",83300,"Draguignan","Pharmacie d'officine","A"]
[{"$f":"VLOOKUP(B16824,Régions!A:C,3,FALSE)","v":"Provence-Alpes-Côte d'Azur"},83,{"$error":"#N/A"},830005831,{"$error":"#N/A"},{"$error":"#N/A"},"SELARL PHARMACIE DU COUDON",23,"Avenue","DE LA REPUBLIQUE","83210 FARLÈDE (LA)",83210,"La Farlède","Pharmacie d'officine","A"]
[{"$f":"VLOOKUP(B16836,Régions!A:C,3,FALSE)","v":"Provence-Alpes-Côte d'Azur"},83,{"$error":"#N/A"},830006144,{"$error":"#N/A"},{"$error":"#N/A"},"SELARL GRANDE PHARMACIE DE TASSIGNY",1598,"Avenue","DE LATTRE DE TASSIGNY","83600 FRÉJUS",83600,"Fréjus","Pharmacie d'officine","A"]
[{"$f":"VLOOKUP(B16848,Régions!A:C,3,FALSE)","v":"Provence-Alpes-Côte d'Azur"},83,"CNOP",830006441,830006441,"oui","PHARMACIE CIAMIN-LEBLEME",1376,"Avenue","DE PROVENCE","83600 FRÉJUS",83600,"Fréjus","Pharmacie d'officine","A"]
[{"$f":"VLOOKUP(B16858,Régions!A:C,3,FALSE)","v":"Provence-Alpes-Côte d'Azur"},83,"PHARMDIRECTFR",830006680,830006680,"oui","SELAS PHARMACIE DES BOYERES",119,"Rue","P.REVELLI","83130 GARDE (LA)",83130,"La Garde","Pharmacie d'officine","A"]
[{"$f":"VLOOKUP(B16868,Régions!A:C,3,FALSE)","v":"Provence-Alpes-Côte d'Azur"},83,"CNOP",830006946,830006946,"oui","SELARL BIHANBEG",20,"Avenue","GAMBETTA","83400 HYERES",83400,"Hyères","Pharmacie d'officine","A"]
[{"$f":"VLOOKUP(B16871,Régions!A:C,3,FALSE)","v":"Provence-Alpes-Côte d'Azur"},83,"PHARMDIRECTFR",830007027,830007027,"oui","SELARL PHARMACIE LEPIDI DOOKNA",16,"Avenue","DU GENERAL DE GAULLE - 7 R MASSILLON","83400 HYÈRES",83400,"Hyères","Pharmacie d'officine","A"]
[{"$f":"VLOOKUP(B16878,Régions!A:C,3,FALSE)","v":"Provence-Alpes-Côte d'Azur"},83,"PHARMDIRECTFR",830007191,830007191,"oui","SELARL PHARMACIE FABRE","NULL","Avenue","DU 8 MAI","83400 HYÈRES",83400,"Hyères","Pharmacie d'officine","A"]
[{"$f":"VLOOKUP(B16890,Régions!A:C,3,FALSE)","v":"Provence-Alpes-Côte d'Azur"},83,"PHARMDIRECTFR",830007480,830007480,"oui","SELAS GRANDE PHIE DE LA SALAMANDRE",105,"Avenue","MARECHAL JUIN","83980 LAVANDOU (LE)",83980,"Le Lavandou","Pharmacie d'officine","A"]
[{"$f":"VLOOKUP(B16897,Régions!A:C,3,FALSE)","v":"Provence-Alpes-Côte d'Azur"},83,"CNOP",830007662,830007662,"oui","SELARL  MARTIN PEDRASSI",55,"Rue","JEAN  JAURES","83340 LUC (LE)",83340,"Le Luc","Pharmacie d'officine","A"]
[{"$f":"VLOOKUP(B16909,Régions!A:C,3,FALSE)","v":"Provence-Alpes-Côte d'Azur"},83,{"$error":"#N/A"},830007985,{"$error":"#N/A"},{"$error":"#N/A"},"SELARL PHARMACIE GAY-PARA - BOURDON",102,"Avenue","DE LA RESISTANCE","83190 OLLIOULES",83190,"Ollioules","Pharmacie d'officine","A"]
[{"$f":"VLOOKUP(B16921,Régions!A:C,3,FALSE)","v":"Provence-Alpes-Côte d'Azur"},83,{"$error":"#N/A"},830008306,{"$error":"#N/A"},{"$error":"#N/A"},"SNC PHARMACIE DE LA PLACE",473,"Rue","DE LA LIBERATION","83390 PUGET-VILLE",83390,"Puget-Ville","Pharmacie d'officine","A"]
[{"$f":"VLOOKUP(B16929,Régions!A:C,3,FALSE)","v":"Provence-Alpes-Côte d'Azur"},83,{"$error":"#N/A"},830008504,{"$error":"#N/A"},{"$error":"#N/A"},"SELARL PHARMACIE BAILE",111,"Rue","de la Magnanerie","83520 ROQUEBRUNE-SUR-ARGENS",83520,"Roquebrune-sur-Argens","Pharmacie d'officine","A"]
[{"$f":"VLOOKUP(B16941,Régions!A:C,3,FALSE)","v":"Provence-Alpes-Côte d'Azur"},83,{"$error":"#N/A"},830008801,{"$error":"#N/A"},{"$error":"#N/A"},"SELARL PHARMACIE VIUDES","NULL","Place","JEAN MERMOZ","83120 SAINTE-MAXIME",83120,"Sainte-Maxime","Pharmacie d'officine","A"]
[{"$f":"VLOOKUP(B16948,Régions!A:C,3,FALSE)","v":"Provence-Alpes-Côte d'Azur"},83,{"$error":"#N/A"},830009007,{"$error":"#N/A"},{"$error":"#N/A"},"PHARMACIE JEANJEAN",33,"Rue","ALPHONSE KARR","83700 SAINT-RAPHAËL",83700,"Saint-Raphaël","Pharmacie d'officine","A"]
[{"$f":"VLOOKUP(B16951,Régions!A:C,3,FALSE)","v":"Provence-Alpes-Côte d'Azur"},83,{"$error":"#N/A"},830009072,{"$error":"#N/A"},{"$error":"#N/A"},"SELARL PHARMACIE BOREL ET LOUIS",38,"Place","PIERRE COULLET","83700 SAINT-RAPHAËL",83700,"Saint-Raphaël","Pharmacie d'officine","A"]
[{"$f":"VLOOKUP(B16963,Régions!A:C,3,FALSE)","v":"Provence-Alpes-Côte d'Azur"},83,"CNOP",830009403,830009403,"oui","PHARMACIE MOUTON JEAN-CLAUDE",15,"Rue","Allard","83990 SAINT-TROPEZ",83990,"Saint-Tropez","Pharmacie d'officine","A"]
[{"$f":"VLOOKUP(B16970,Régions!A:C,3,FALSE)","v":"Provence-Alpes-Côte d'Azur"},83,"PHARMDIRECTFR",830009601,830009601,"oui","SELARL FAURE LE DOARE",9,"Place","de la République","83110 SANARY-SUR-MER",83110,"Sanary-sur-Mer","Pharmacie d'officine","A"]
[{"$f":"VLOOKUP(B16982,Régions!A:C,3,FALSE)","v":"Provence-Alpes-Côte d'Azur"},83,{"$error":"#N/A"},830009932,{"$error":"#N/A"},{"$error":"#N/A"},"SELARL  PHARMACIE GOUEZO",5,"Rue","GAMBETTA","83500 LA-SEYNE-SUR-MER",83500,"La Seyne-sur-Mer","Pharmacie d'officine","A"]
[{"$f":"VLOOKUP(B16994,Régions!A:C,3,FALSE)","v":"Provence-Alpes-Côte d'Azur"},83,{"$error":"#N/A"},830010237,{"$error":"#N/A"},{"$error":"#N/A"},"SELARL PHARMACIE DU CATAMARAN",264,"Avenue","PIERRE MENDES FRANCE","83500 SEYNE-SUR-MER (LA)",83500,"La Seyne-sur-Mer","Pharmacie d'officine","A"]
[{"$f":"VLOOKUP(B17001,Régions!A:C,3,FALSE)","v":"Provence-Alpes-Côte d'Azur"},83,{"$error":"#N/A"},830010401,{"$error":"#N/A"},{"$error":"#N/A"},"SELARL PHARMACIE CECCALDI",145,"Boulevard","CABRY","83140 SIX-FOURS-LES-PLAGES",83140,"Six-Fours-les-Plages","Pharmacie d'officine","A"]
[{"$f":"VLOOKUP(B17014,Régions!A:C,3,FALSE)","v":"Provence-Alpes-Côte d'Azur"},83,"CNOP",830010757,830010757,"oui","SELARL PHARMACIE DE LA VALLEE",1,"Avenue","SOUS MARIN CASABIANCA","83210 SOLLIÈS-TOUCAS",83210,"Solliès-Toucas","Pharmacie d'officine","A"]
[{"$f":"VLOOKUP(B17021,Régions!A:C,3,FALSE)","v":"Provence-Alpes-Côte d'Azur"},83,{"$error":"#N/A"},830010922,{"$error":"#N/A"},{"$error":"#N/A"},"PHARMACIE BASTIAN",311,"Avenue","FRANCIS GARNIER","83100 TOULON",83100,"Toulon","Pharmacie d'officine","A"]
[{"$f":"VLOOKUP(B17024,Régions!A:C,3,FALSE)","v":"Provence-Alpes-Côte d'Azur"},83,{"$error":"#N/A"},830011003,{"$error":"#N/A"},{"$error":"#N/A"},"SELAS PHARMACIE LAMALGUE",189,"Boulevard","BAZEILLES","83000 TOULON",83000,"Toulon","Pharmacie d'officine","A"]
[{"$f":"VLOOKUP(B17036,Régions!A:C,3,FALSE)","v":"Provence-Alpes-Côte d'Azur"},83,"PHARMDIRECTFR",830011367,830011367,"oui","SELARL PASQUALI",154,"Avenue","DU 15EME CORPS","83200 TOULON",83200,"Toulon","Pharmacie d'officine","A"]
[{"$f":"VLOOKUP(B17043,Régions!A:C,3,FALSE)","v":"Provence-Alpes-Côte d'Azur"},83,{"$error":"#N/A"},830011557,{"$error":"#N/A"},{"$error":"#N/A"},"SELARL ESTELLE POUTOUX",21,"Boulevard","Delescluze","83200 TOULON",83200,"Toulon","Pharmacie d'officine","A"]
[{"$f":"VLOOKUP(B17055,Régions!A:C,3,FALSE)","v":"Provence-Alpes-Côte d'Azur"},83,{"$error":"#N/A"},830011904,{"$error":"#N/A"},{"$error":"#N/A"},"SELARL PHARMACIE DE CLARET",256,"Avenue","DE CLARET","83000 TOULON",83000,"Toulon","Pharmacie d'officine","A"]
[{"$f":"VLOOKUP(B17062,Régions!A:C,3,FALSE)","v":"Provence-Alpes-Côte d'Azur"},83,"PHARMDIRECTFR",830012084,830012084,"oui","SELARL PHARMACIE HURTADO SAINT ROCH",129,"Avenue","ST ROCH","83000 TOULON",83000,"Toulon","Pharmacie d'officine","A"]
[{"$f":"VLOOKUP(B17074,Régions!A:C,3,FALSE)","v":"Provence-Alpes-Côte d'Azur"},83,{"$error":"#N/A"},830012407,{"$error":"#N/A"},{"$error":"#N/A"},"PHARMACIE TRICOT",325,"Rue","DE NICE","83100 TOULON",83100,"Toulon","Pharmacie d'officine","A"]
[{"$f":"VLOOKUP(B17086,Régions!A:C,3,FALSE)","v":"Provence-Alpes-Côte d'Azur"},83,{"$error":"#N/A"},830012704,{"$error":"#N/A"},{"$error":"#N/A"},"SELARL PHARMACIE DES ARMARIS",1060,"Boulevard","DES ARMARIS","83100 TOULON",83100,"Toulon","Pharmacie d'officine","A"]
[{"$f":"VLOOKUP(B17095,Régions!A:C,3,FALSE)","v":"Provence-Alpes-Côte d'Azur"},83,{"$error":"#N/A"},830012936,{"$error":"#N/A"},{"$error":"#N/A"},"SELARL PHARMACIE SALVAGNAC",1000,"Boulevard","JEAN BAPTISTE ABEL","83000 TOULON",83000,"Toulon","Pharmacie d'officine","A"]
[{"$f":"VLOOKUP(B17097,Régions!A:C,3,FALSE)","v":"Provence-Alpes-Côte d'Azur"},83,{"$error":"#N/A"},830012985,{"$error":"#N/A"},{"$error":"#N/A"},"SELARL PHARMACIE L'HOSTE",9,"Place","HOTEL DE VILLE","83170 TOURVES",83170,"Tourves","Pharmacie d'officine","A"]
[{"$f":"VLOOKUP(B17109,Régions!A:C,3,FALSE)","v":"Provence-Alpes-Côte d'Azur"},83,"PHARMDIRECTFR",830013272,830013272,"oui","SELARL GRANDE PHARMACIE MOUYSSET",28,"Avenue","PASTEUR","83160 LA-VALETTE-DU-VAR",83160,"La Valette-du-Var","Pharmacie d'officine","A"]
[{"$f":"VLOOKUP(B17116,Régions!A:C,3,FALSE)","v":"Provence-Alpes-Côte d'Azur"},83,{"$error":"#N/A"},830015962,{"$error":"#N/A"},{"$error":"#N/A"},"PHARMACIE PERI",14,"Allee","DES PINS & CHE NN1 DIT DU  BRD DE MER","83270 SAINT-CYR-SUR-MER",83270,"Saint-Cyr-sur-Mer","Pharmacie d'officine","A"]
[{"$f":"VLOOKUP(B17128,Régions!A:C,3,FALSE)","v":"Provence-Alpes-Côte d'Azur"},84,{"$error":"#N/A"},840004154,{"$error":"#N/A"},{"$error":"#N/A"},"PHARMACIE VILALTA BELLART",1741,"Route","DE MARSEILLE","84140 AVIGNON",84140,"Avignon","Pharmacie d'officine","A"]
[{"$f":"VLOOKUP(B17135,Régions!A:C,3,FALSE)","v":"Provence-Alpes-Côte d'Azur"},84,{"$error":"#N/A"},840004683,{"$error":"#N/A"},{"$error":"#N/A"},"SELARL PHARMACIE CHOITEL JALBERT",25,"Rue","de la République","84000 AVIGNON",84000,"Avignon","Pharmacie d'officine","A"]
[{"$f":"VLOOKUP(B17147,Régions!A:C,3,FALSE)","v":"Provence-Alpes-Côte d'Azur"},84,{"$error":"#N/A"},840005490,{"$error":"#N/A"},{"$error":"#N/A"},"SARL RIVAL",130,"Cours","DE LA REPUBLIQUE","84330 CAROMB",84330,"Caromb","Pharmacie d'officine","A"]
[{"$f":"VLOOKUP(B17159,Régions!A:C,3,FALSE)","v":"Provence-Alpes-Côte d'Azur"},84,"CNOP",840007447,840007447,"oui","SELARL PHARMACIE TREMOLIERES",16,"Boulevard","DE LA REPUBLIQUE","84350 COURTHÉZON",84350,"Courthézon","Pharmacie d'officine","A"]
[{"$f":"VLOOKUP(B17166,Régions!A:C,3,FALSE)","v":"Provence-Alpes-Côte d'Azur"},84,{"$error":"#N/A"},840008171,{"$error":"#N/A"},{"$error":"#N/A"},"SELARL LA PHARMACIE DE POURTOULES",633,"Boulevard","Édouard Daladier","84100 ORANGE",84100,"Orange","Pharmacie d'officine","A"]
[{"$f":"VLOOKUP(B17170,Régions!A:C,3,FALSE)","v":"Provence-Alpes-Côte d'Azur"},84,{"$error":"#N/A"},840008270,{"$error":"#N/A"},{"$error":"#N/A"},"SARL PHARMACIE BRES",400,"Avenue","DES CASTANES","84210 PERNES-LES-FONTAINES",84210,"Pernes-les-Fontaines","Pharmacie d'officine","A"]
[{"$f":"VLOOKUP(B17182,Régions!A:C,3,FALSE)","v":"Provence-Alpes-Côte d'Azur"},84,"PHARMDIRECTFR",840008585,840008585,"oui","SELARL PHARMACIE DU COURS",1,"Cours","VICTOR HUGO","84250 THOR (LE)",84250,"Le Thor","Pharmacie d'officine","A"]
[{"$f":"VLOOKUP(B17189,Régions!A:C,3,FALSE)","v":"Provence-Alpes-Côte d'Azur"},84,{"$error":"#N/A"},840008767,{"$error":"#N/A"},{"$error":"#N/A"},"SARL PHARMACIE DEFERT",63,"Avenue","DE LA TRILLADE","84000 AVIGNON",84000,"Avignon","Pharmacie d'officine","A"]
[{"$f":"VLOOKUP(B17201,Régions!A:C,3,FALSE)","v":"Provence-Alpes-Côte d'Azur"},84,"CNOP",840009211,840009211,"oui","SELARL PHIE BLONDEL ET VAN DE WIELE",113,"Avenue","DE LA LIBERATION","84450 SAINT-SATURNIN-LÈS-AVIGNON",84450,"Saint-Saturnin-lès-Avignon","Pharmacie d'officine","A"]
[{"$f":"VLOOKUP(B17208,Régions!A:C,3,FALSE)","v":"Provence-Alpes-Côte d'Azur"},84,"CNOP",840009393,840009393,"oui","SARL P DU LUBERON ANNE BROCHE ASVISIO",145,"Avenue","des Tilleuls","84480 BONNIEUX",84480,"Bonnieux","Pharmacie d'officine","A"]
[{"$f":"VLOOKUP(B17220,Régions!A:C,3,FALSE)","v":"Provence-Alpes-Côte d'Azur"},84,"PHARMDIRECTFR",840009740,840009740,"oui","SELARL CASTELLAS PHARMA",1015,"Chemin","DU CASTELLAS","84200 CARPENTRAS",84200,"Carpentras","Pharmacie d'officine","A"]
[{"$f":"VLOOKUP(B17232,Régions!A:C,3,FALSE)","v":"Provence-Alpes-Côte d'Azur"},84,"PHARMDIRECTFR",840010235,840010235,"oui","SELARL PHARMACIE DEMOULIN - HATET",3,"Place","DU CLOS","84570 MORMOIRON",84570,"Mormoiron","Pharmacie d'officine","A"]
[{"$f":"VLOOKUP(B17239,Régions!A:C,3,FALSE)","v":"Provence-Alpes-Côte d'Azur"},84,{"$error":"#N/A"},840010862,{"$error":"#N/A"},{"$error":"#N/A"},"SELAS PHARMACIE ROCHE","NULL","Boulevard","NAQUET","84200 CARPENTRAS",84200,"Carpentras","Pharmacie d'officine","A"]
[{"$f":"VLOOKUP(B17251,Régions!A:C,3,FALSE)","v":"Provence-Alpes-Côte d'Azur"},84,{"$error":"#N/A"},840012645,{"$error":"#N/A"},{"$error":"#N/A"},"SELAS PHARMACIE CASALTA",6,"Rue","PAUL PAMARD","84000 AVIGNON",84000,"Avignon","Pharmacie d'officine","A"]
[{"$f":"VLOOKUP(B17259,Régions!A:C,3,FALSE)","v":"Provence-Alpes-Côte d'Azur"},84,"PHARMDIRECTFR",840013676,840013676,"oui","PHARMACIE TRITTO - CONQUET","NULL","Route","DE CAMARET","84830 SERIGNAN-DU-COMTAT",84830,"Sérignan-du-Comtat","Pharmacie d'officine","A"]
[{"$f":"VLOOKUP(B17262,Régions!A:C,3,FALSE)","v":"Provence-Alpes-Côte d'Azur"},84,"CNOP",840013833,840013833,"non","EURL PHARMACIE DU ROCHER","NULL","Avenue","JEAN MOULIN","84550 MORNAS",84550,"Mornas","Pharmacie d'officine","A"]
[{"$f":"VLOOKUP(B17274,Régions!A:C,3,FALSE)","v":"Provence-Alpes-Côte d'Azur"},84,{"$error":"#N/A"},840014203,{"$error":"#N/A"},{"$error":"#N/A"},"SELARL PHARMACIE KARIM EL OUAZANI",1060,"Avenue","DE LA TRILLADE","84000 AVIGNON",84000,"Avignon","Pharmacie d'officine","A"]
[{"$f":"VLOOKUP(B17281,Régions!A:C,3,FALSE)","v":"Provence-Alpes-Côte d'Azur"},84,{"$error":"#N/A"},840014385,{"$error":"#N/A"},{"$error":"#N/A"},"SARL PHARMACIE FAURE",10,"Route","DE GRIGNAN","84600 GRILLON",84600,"Grillon","Pharmacie d'officine","A"]
[{"$f":"VLOOKUP(B17293,Régions!A:C,3,FALSE)","v":"Provence-Alpes-Côte d'Azur"},84,{"$error":"#N/A"},840014674,{"$error":"#N/A"},{"$error":"#N/A"},"SELARL PHARMACIE MANGIN",185,"Chemin","de la Grange des Roues","84700 SORGUES",84700,"Sorgues","Pharmacie d'officine","A"]
[{"$f":"VLOOKUP(B17305,Régions!A:C,3,FALSE)","v":"Provence-Alpes-Côte d'Azur"},84,{"$error":"#N/A"},840014963,{"$error":"#N/A"},{"$error":"#N/A"},"SELARL PHARMACIE CHEMALY - RICOME",308,"Avenue","DE LA LIBERATION","84400 APT",84400,"Apt","Pharmacie d'officine","A"]
[{"$f":"VLOOKUP(B17312,Régions!A:C,3,FALSE)","v":"Provence-Alpes-Côte d'Azur"},84,{"$error":"#N/A"},840015176,{"$error":"#N/A"},{"$error":"#N/A"},"SELARL PHARMACIE DES JARDINS",1263,"Boulevard","JEAN GUIGUES","84120 PERTUIS",84120,"Pertuis","Pharmacie d'officine","A"]
[{"$f":"VLOOKUP(B17315,Régions!A:C,3,FALSE)","v":"Provence-Alpes-Côte d'Azur"},84,{"$error":"#N/A"},840017263,{"$error":"#N/A"},{"$error":"#N/A"},"SELARL PHARMACIE DE LA TOUR",21,"Boulevard","DE LA REPUBLIQUE","84240 LA-TOUR-D'AIGUES",84240,"La Tour-d'Aigues","Pharmacie d'officine","A"]
[{"$f":"VLOOKUP(B17332,Régions!A:C,3,FALSE)","v":"Pays de la Loire"},85,"CNOP",850014531,850014531,"oui","PHARMACIE NIOGRET",10,"Rue","Georges Clémenceau","85390 BAZOGES-EN-PAREDS",85390,"Bazoges-en-Pareds","Pharmacie d'officine","A"]
[{"$f":"VLOOKUP(B17335,Régions!A:C,3,FALSE)","v":"Pays de la Loire"},85,"CNOP",850014564,850014564,"oui","PHARMACIE HAUDEBOURG LIBEAU",8,"NULL","GRANDE PLACE","85230 BEAUVOIR-SUR-MER",85230,"Beauvoir-sur-Mer","Pharmacie d'officine","A"]
[{"$f":"VLOOKUP(B17347,Régions!A:C,3,FALSE)","v":"Pays de la Loire"},85,{"$error":"#N/A"},850014705,{"$error":"#N/A"},{"$error":"#N/A"},"PHARMACIE BENVENUTI","NULL","Boulevard","LUCIEN DODIN","85300 CHALLANS",85300,"Challans","Pharmacie d'officine","A"]
[{"$f":"VLOOKUP(B17354,Régions!A:C,3,FALSE)","v":"Pays de la Loire"},85,{"$error":"#N/A"},850014770,{"$error":"#N/A"},{"$error":"#N/A"},"PHARMACIE   DU  MOULINET",35,"Avenue","Marechal de Lattre de Tassigny","85110 CHANTONNAY",85110,"Chantonnay","Pharmacie d'officine","A"]
[{"$f":"VLOOKUP(B17366,Régions!A:C,3,FALSE)","v":"Pays de la Loire"},85,"CNOP",850014903,850014903,"oui","PHARMACIE ROUXEL-ARSICAULT","NULL","Place","DU DR BRECHOTEAU","85220 COEX",85220,"Coëx","Pharmacie d'officine","A"]
[{"$f":"VLOOKUP(B17378,Régions!A:C,3,FALSE)","v":"Pays de la Loire"},85,"CNOP",850015025,850015025,"oui","PHARMACIE DU MARCHÉ",29,"Rue","GEORGES CLEMENCEAU","85200 FONTENAY-LE-COMTE",85200,"Fontenay-le-Comte","Pharmacie d'officine","A"]
[{"$f":"VLOOKUP(B17385,Régions!A:C,3,FALSE)","v":"Pays de la Loire"},85,{"$error":"#N/A"},850015108,{"$error":"#N/A"},{"$error":"#N/A"},"PHARMACIE  DES MOULINS",70,"Avenue","du Président Georges Pompidou","85200 FONTENAY-LE-COMTE",85200,"Fontenay-le-Comte","Pharmacie d'officine","A"]
[{"$f":"VLOOKUP(B17388,Régions!A:C,3,FALSE)","v":"Pays de la Loire"},85,"PHARMDIRECTFR",850015132,850015132,"oui","PHARMACIE GROSBOIS - BLANDEAU",14,"Place","DU MARCHE","85130 LA-GAUBRETIERE",85130,"La Gaubretière","Pharmacie d'officine","A"]
[{"$f":"VLOOKUP(B17403,Régions!A:C,3,FALSE)","v":"Pays de la Loire"},85,{"$error":"#N/A"},850015314,{"$error":"#N/A"},{"$error":"#N/A"},"EURL PHARMACIE DES PICTONS",33,"Rue","DU DOCTEUR DAROUX","85420 MAILLEZAIS",85420,"Maillezais","Pharmacie d'officine","A"]
[{"$f":"VLOOKUP(B17408,Régions!A:C,3,FALSE)","v":"Pays de la Loire"},85,"PHARMDIRECTFR",850015363,850015363,"oui","FOX PHARMA",45,"Rue","SAINT JACQUES","85600 MONTAIGU-VENDEE",85600,"Montaigu-Vendée","Pharmacie d'officine","A"]
[{"$f":"VLOOKUP(B17420,Régions!A:C,3,FALSE)","v":"Pays de la Loire"},85,"PHARMDIRECTFR",850015488,850015488,"oui","PHARMACIE DUBOIS",21,"NULL","GRANDE RUE","85330 NOIRMOUTIER-EN-L'ÎLE",85330,"Noirmoutier-en-l'Île","Pharmacie d'officine","A"]
[{"$f":"VLOOKUP(B17427,Régions!A:C,3,FALSE)","v":"Pays de la Loire"},85,"PHARMDIRECTFR",850015561,850015561,"oui","PHARMACIE BARTHELEMY SELARL",1,"Rue","MARIE CURIE","85170 POIRÉ-SUR-VIE (LE)",85170,"Le Poiré-sur-Vie","Pharmacie d'officine","A"]
[{"$f":"VLOOKUP(B17439,Régions!A:C,3,FALSE)","v":"Pays de la Loire"},85,{"$error":"#N/A"},850015694,{"$error":"#N/A"},{"$error":"#N/A"},"PHARMACIE COUTINHO DE ALMEIDA",20,"Rue","RAYMOND POINCARE","85000 ROCHE-SUR-YON (LA)",85000,"La Roche-sur-Yon","Pharmacie d'officine","A"]
[{"$f":"VLOOKUP(B17446,Régions!A:C,3,FALSE)","v":"Pays de la Loire"},85,{"$error":"#N/A"},850015793,{"$error":"#N/A"},{"$error":"#N/A"},"SELARL PHARMACIE GRARE",65,"Avenue","D'AQUITAINE","85100 LES SABLES-D'OLONNE",85100,"Les Sables-d'Olonne","Pharmacie d'officine","A"]
[{"$f":"VLOOKUP(B17458,Régions!A:C,3,FALSE)","v":"Pays de la Loire"},85,"CNOP",850015934,850015934,"oui","PHARMACIE CHATEIGNER",14,"Rue","DU MARCHE","85310 RIVES DE L YON",85310,"Rives de l'Yon","Pharmacie d'officine","A"]
[{"$f":"VLOOKUP(B17461,Régions!A:C,3,FALSE)","v":"Pays de la Loire"},85,{"$error":"#N/A"},850015975,{"$error":"#N/A"},{"$error":"#N/A"},"PHARMACIE VERHAEGHE",80,"Rue","DU VILLEBON","85230 SAINT-GERVAIS",85230,"Saint-Gervais","Pharmacie d'officine","A"]
[{"$f":"VLOOKUP(B17477,Régions!A:C,3,FALSE)","v":"Pays de la Loire"},85,"PHARMDIRECTFR",850016148,850016148,"oui","PHARMACIE MARCHAND-CAQUINEAU","NULL","Place","REVERSEAU","85580 SAINT-MICHEL-EN-L'HERM",85580,"Saint-Michel-en-l'Herm","Pharmacie d'officine","A"]
[{"$f":"VLOOKUP(B17488,Régions!A:C,3,FALSE)","v":"Pays de la Loire"},85,"PHARMDIRECTFR",850016254,850016254,"oui","PHARMACIE MENDES",45,"Rue","GEORGES CLEMENCEAU","85770 VIX",85770,"Vix","Pharmacie d'officine","A"]
[{"$f":"VLOOKUP(B17493,Régions!A:C,3,FALSE)","v":"Pays de la Loire"},85,"PHARMDIRECTFR",850016312,850016312,"oui","PHARMACIE SAVARIS",2,"Rue","DE SAUMUR","85500 HERBIERS (LES)",85500,"Les Herbiers","Pharmacie d'officine","A"]
[{"$f":"VLOOKUP(B17500,Régions!A:C,3,FALSE)","v":"Pays de la Loire"},85,"CNOP",850016387,850016387,"non","PHARMACIE CHOGNOT",12,"Rue","DE L'YSER","85270 SAINT-HILAIRE-DE-RIEZ",85270,"Saint-Hilaire-de-Riez","Pharmacie d'officine","A"]
[{"$f":"VLOOKUP(B17512,Régions!A:C,3,FALSE)","v":"Pays de la Loire"},85,{"$error":"#N/A"},850019761,{"$error":"#N/A"},{"$error":"#N/A"},"PHARMACIE  SEGUIN",1,"Place","DU MARCHE","85630 BARBATRE",85630,"Barbâtre","Pharmacie d'officine","A"]
[{"$f":"VLOOKUP(B17519,Régions!A:C,3,FALSE)","v":"Pays de la Loire"},85,"PHARMDIRECTFR",850022120,850022120,"oui","PHARMACIE SAUPIN","NULL","Porte","DU LITTORAL","85190 AIZENAY",85190,"Aizenay","Pharmacie d'officine","A"]
[{"$f":"VLOOKUP(B17531,Régions!A:C,3,FALSE)","v":"Nouvelle-Aquitaine"},86,{"$error":"#N/A"},860005974,{"$error":"#N/A"},{"$error":"#N/A"},"PHARMACIE NOUVELLE",14,"Place","DES ALISIERS","86550 MIGNALOUX-BEAUVOIR",86550,"Mignaloux-Beauvoir","Pharmacie d'officine","A"]
[{"$f":"VLOOKUP(B17534,Régions!A:C,3,FALSE)","v":"Nouvelle-Aquitaine"},86,"CNOP",860006113,860006113,"oui","PHARMACIE ROUGER - ROUGER",233,"Rue","FAUBOURG DU PONT NEUF","86000 POITIERS",86000,"Poitiers","Pharmacie d'officine","A"]
[{"$f":"VLOOKUP(B17550,Régions!A:C,3,FALSE)","v":"Nouvelle-Aquitaine"},86,"CNOP",860786433,860786433,"oui","PHARMACIE TAKACS",5,"Route","DE CIVRAY","86350 USSON DU POITOU",86350,"Usson-du-Poitou","Pharmacie d'officine","A"]
[{"$f":"VLOOKUP(B17559,Régions!A:C,3,FALSE)","v":"Nouvelle-Aquitaine"},86,"PHARMDIRECTFR",860786524,860786524,"oui","PHARMACIE DE LA VALLEE",20,"Route","de Poitiers","86360 MONTAMISE",86360,"Montamisé","Pharmacie d'officine","A"]
[{"$f":"VLOOKUP(B17570,Régions!A:C,3,FALSE)","v":"Nouvelle-Aquitaine"},86,"PHARMDIRECTFR",860786698,860786698,"oui","PHARMACIE CHAPUIS - ROUSSEAU",4,"Place","PHILIPPE LE BEL","86000 POITIERS",86000,"Poitiers","Pharmacie d'officine","A"]
[{"$f":"VLOOKUP(B17573,Régions!A:C,3,FALSE)","v":"Nouvelle-Aquitaine"},86,"CNOP",860786722,860786722,"oui","PHARMACIE   BERNARD",29,"Route","DE CIVRAY","86160 GENCAY",86160,"Gençay","Pharmacie d'officine","A"]
[{"$f":"VLOOKUP(B17585,Régions!A:C,3,FALSE)","v":"Nouvelle-Aquitaine"},86,"CNOP",860786896,860786896,"oui","PHARMACIE MACOUIN",1,"Place","DU MARQUIS DE SCEVOLLES","86330 SAINT-JEAN-DE-SAUVES",86330,"Saint-Jean-de-Sauves","Pharmacie d'officine","A"]
[{"$f":"VLOOKUP(B17592,Régions!A:C,3,FALSE)","v":"Nouvelle-Aquitaine"},86,{"$error":"#N/A"},860787019,{"$error":"#N/A"},{"$error":"#N/A"},"PHARMACIE DARNICHE - COUGNEE",53,"Boulevard","BLOSSAC","86100 CHÂTELLERAULT",86100,"Châtellerault","Pharmacie d'officine","A"]
[{"$f":"VLOOKUP(B17604,Régions!A:C,3,FALSE)","v":"Nouvelle-Aquitaine"},86,"CNOP",860787142,860787142,"oui","SELARL PHARMACIE CHASSERIAU",2,"Rue","DU MARCHE NOTRE DAME","86000 POITIERS",86000,"Poitiers","Pharmacie d'officine","A"]
[{"$f":"VLOOKUP(B17607,Régions!A:C,3,FALSE)","v":"Nouvelle-Aquitaine"},86,{"$error":"#N/A"},860787183,{"$error":"#N/A"},{"$error":"#N/A"},"PHARMACIE DES COURONNERIES",60,"Place","DE PROVENCE","86000 POITIERS",86000,"Poitiers","Pharmacie d'officine","A"]
[{"$f":"VLOOKUP(B17623,Régions!A:C,3,FALSE)","v":"Nouvelle-Aquitaine"},86,"CNOP",860787340,860787340,"oui","PHARMACIE CHAMPAGNE-FAUX",34,"Boulevard","ANATOLE FRANCE","86530 NAINTRE",86530,"Naintré","Pharmacie d'officine","A"]
[{"$f":"VLOOKUP(B17626,Régions!A:C,3,FALSE)","v":"Nouvelle-Aquitaine"},86,{"$error":"#N/A"},860787381,{"$error":"#N/A"},{"$error":"#N/A"},"PHARMACIE MEME-DELHUMEAU",24,"Rue","DE BIGNOUX","86000 POITIERS",86000,"Poitiers","Pharmacie d'officine","A"]
[{"$f":"VLOOKUP(B17640,Régions!A:C,3,FALSE)","v":"Nouvelle-Aquitaine"},86,{"$error":"#N/A"},860787597,{"$error":"#N/A"},{"$error":"#N/A"},"PHARMACIE BERLAND",13,"Place","DU 28 AOUT 1944","86230 SAINT-GERVAIS-LES-TROIS-CLOCHERS",86230,"Saint-Gervais-les-Trois-Clochers","Pharmacie d'officine","A"]
[{"$f":"VLOOKUP(B17646,Régions!A:C,3,FALSE)","v":"Nouvelle-Aquitaine"},86,{"$error":"#N/A"},860787670,{"$error":"#N/A"},{"$error":"#N/A"},"PHARMACIE  BOUET",4,"Rue","DE ST ROMAIN","86220 DANGE-SAINT-ROMAIN",86220,"Dangé-Saint-Romain","Pharmacie d'officine","A"]
[{"$f":"VLOOKUP(B17658,Régions!A:C,3,FALSE)","v":"Nouvelle-Aquitaine"},86,{"$error":"#N/A"},860790302,{"$error":"#N/A"},{"$error":"#N/A"},"PHARMACIE GOZE-HENNE",15,"Rue","DES ARCHES","86580 POUZIOUX-LA-JARRIE",86580,"Vouneuil-sous-Biard","Pharmacie d'officine","A"]
[{"$f":"VLOOKUP(B17665,Régions!A:C,3,FALSE)","v":"Nouvelle-Aquitaine"},86,"PHARMDIRECTFR",860790567,860790567,"oui","PHARMACIE GIANSANTI",4,"Place","COLIGNY","86330 MONCONTOUR",86330,"Moncontour","Pharmacie d'officine","A"]
[{"$f":"VLOOKUP(B17677,Régions!A:C,3,FALSE)","v":"Nouvelle-Aquitaine"},87,"PHARMDIRECTFR",870010444,870010444,"oui","PHARMACIE PAILLER",8,"Place","DU PALAIS","87300 BELLAC",87300,"Bellac","Pharmacie d'officine","A"]
[{"$f":"VLOOKUP(B17680,Régions!A:C,3,FALSE)","v":"Nouvelle-Aquitaine"},87,{"$error":"#N/A"},870010576,{"$error":"#N/A"},{"$error":"#N/A"},"S","NULL","Centre commercial","de Boisseuil","87220 BOISSEUIL",87220,"Boisseuil","Pharmacie d'officine","A"]
[{"$f":"VLOOKUP(B17696,Régions!A:C,3,FALSE)","v":"Nouvelle-Aquitaine"},87,{"$error":"#N/A"},870011012,{"$error":"#N/A"},{"$error":"#N/A"},"SELARL DALLOT",49,"Avenue","DE LIMOGES","87270 COUZEIX",87270,"Couzeix","Pharmacie d'officine","A"]
[{"$f":"VLOOKUP(B17699,Régions!A:C,3,FALSE)","v":"Nouvelle-Aquitaine"},87,{"$error":"#N/A"},870011095,{"$error":"#N/A"},{"$error":"#N/A"},"SELARL PHARMACIE DU DORAT",31,"Place","CHARLES DE GAULLE","87210 LE-DORAT",87210,"Le Dorat","Pharmacie d'officine","A"]
[{"$f":"VLOOKUP(B17715,Régions!A:C,3,FALSE)","v":"Nouvelle-Aquitaine"},87,"PHARMDIRECTFR",870011541,870011541,"oui","PHARMACIE DES BANCS",1,"Place","DES BANCS","87000 LIMOGES",87000,"Limoges","Pharmacie d'officine","A"]
[{"$f":"VLOOKUP(B17725,Régions!A:C,3,FALSE)","v":"Nouvelle-Aquitaine"},87,"CNOP",870011814,870011814,"oui","PHARMACIE  BERNARDAUD",1,"Place","FOURNIER","87000 LIMOGES",87000,"Limoges","Pharmacie d'officine","A"]
[{"$f":"VLOOKUP(B17731,Régions!A:C,3,FALSE)","v":"Nouvelle-Aquitaine"},87,{"$error":"#N/A"},870011962,{"$error":"#N/A"},{"$error":"#N/A"},"PHARMACIE QUILLARD",95,"Rue","ABBE PIERRE","87100 LIMOGES",87100,"Limoges","Pharmacie d'officine","A"]
[{"$f":"VLOOKUP(B17738,Régions!A:C,3,FALSE)","v":"Nouvelle-Aquitaine"},87,"PHARMDIRECTFR",870012143,870012143,"oui","PHARMACIE JACQUET",70,"Avenue","DU ROUSSILLON","87000 LIMOGES",87000,"Limoges","Pharmacie d'officine","A"]
[{"$f":"VLOOKUP(B17750,Régions!A:C,3,FALSE)","v":"Nouvelle-Aquitaine"},87,{"$error":"#N/A"},870012465,{"$error":"#N/A"},{"$error":"#N/A"},"PHARMACIE DE LA GARE DES BENEDICTINS",5,"Rue","ARISTIDE BRIAND","87100 LIMOGES",87100,"Limoges","Pharmacie d'officine","A"]
[{"$f":"VLOOKUP(B17757,Régions!A:C,3,FALSE)","v":"Nouvelle-Aquitaine"},87,"CNOP",870012630,870012630,"oui","PHARMACIE  BEAUDROUET",52,"Rue","DEGAS","87100 LIMOGES",87100,"Limoges","Pharmacie d'officine","A"]
[{"$f":"VLOOKUP(B17769,Régions!A:C,3,FALSE)","v":"Nouvelle-Aquitaine"},87,"CNOP",870012994,870012994,"oui","PHARMACIE JANDEAUX",2,"Rue","RHIN ET DANUBE","87280 LIMOGES",87280,"Limoges","Pharmacie d'officine","A"]
[{"$f":"VLOOKUP(B17772,Régions!A:C,3,FALSE)","v":"Nouvelle-Aquitaine"},87,"PHARMDIRECTFR",870013125,870013125,"oui","PHARMACIE VALADE","NULL","Place","ALBERT PESTOUR","87380 MAGNAC BOURG",87380,"Magnac-Bourg","Pharmacie d'officine","A"]
[{"$f":"VLOOKUP(B17788,Régions!A:C,3,FALSE)","v":"Nouvelle-Aquitaine"},87,"PHARMDIRECTFR",870013513,870013513,"oui","PHARMACIE L'HORTOLARY",14,"Avenue","DU PRESIDENT SADI CARNOT","87350 PANAZOL",87350,"Panazol","Pharmacie d'officine","A"]
[{"$f":"VLOOKUP(B17796,Régions!A:C,3,FALSE)","v":"Nouvelle-Aquitaine"},87,"CNOP",870013760,870013760,"oui","PHARMACIE AUGRIS","NULL","Place","MAISON DIEU","87200 SAINT-BRICE-SUR-VIENNE",87200,"Saint-Brice-sur-Vienne","Pharmacie d'officine","A"]
[{"$f":"VLOOKUP(B17804,Régions!A:C,3,FALSE)","v":"Nouvelle-Aquitaine"},87,"PHARMDIRECTFR",870013992,870013992,"oui","PHARMACIE DU VAL DE GORRE",26,"Rue","Jean Jaurès","87310 SAINT-LAURENT-SUR-GORRE",87310,"Saint-Laurent-sur-Gorre","Pharmacie d'officine","A"]
[{"$f":"VLOOKUP(B17811,Régions!A:C,3,FALSE)","v":"Nouvelle-Aquitaine"},87,{"$error":"#N/A"},870014214,{"$error":"#N/A"},{"$error":"#N/A"},"PHARMACIE GILLET-CHAMPCOMMUNAL",17,"Rue","DU COMMERCE","87160 SAINT-SULPICE-LES-FEUILLES",87160,"Saint-Sulpice-les-Feuilles","Pharmacie d'officine","A"]
[{"$f":"VLOOKUP(B17823,Régions!A:C,3,FALSE)","v":"Grand Est"},88,"PHARMDIRECTFR",880001912,880001912,"oui","PHARMACIE THIRION",8,"Rue","DU 11 NOVEMBRE","88520 BAN-DE-LAVELINE",88520,"Ban-de-Laveline","Pharmacie d'officine","A"]
[{"$f":"VLOOKUP(B17830,Régions!A:C,3,FALSE)","v":"Grand Est"},88,"CNOP",880002134,880002134,"oui","PHARMACIE LAURAIN",37,"NULL","GRANDE RUE","88110 CELLES-SUR-PLAINE",88110,"Celles-sur-Plaine","Pharmacie d'officine","A"]
[{"$f":"VLOOKUP(B17842,Régions!A:C,3,FALSE)","v":"Grand Est"},88,{"$error":"#N/A"},880002423,{"$error":"#N/A"},{"$error":"#N/A"},"SELARL BLONDEAU THIERIOT",63,"NULL","GRANDE RUE","88630 COUSSEY",88630,"Coussey","Pharmacie d'officine","A"]
[{"$f":"VLOOKUP(B17845,Régions!A:C,3,FALSE)","v":"Grand Est"},88,"CNOP",880002506,880002506,"oui","PHARMACIE SCHIOCHET",4,"Rue","DE LA LIBERATION","88460 DOCELLES",88460,"Docelles","Pharmacie d'officine","A"]
[{"$f":"VLOOKUP(B17861,Régions!A:C,3,FALSE)","v":"Grand Est"},88,"CNOP",880002951,880002951,"oui","SELARL PIERRON",108,"Faubourg","D'AMBRAIL","88000 EPINAL",88000,"Épinal","Pharmacie d'officine","A"]
[{"$f":"VLOOKUP(B17864,Régions!A:C,3,FALSE)","v":"Grand Est"},88,{"$error":"#N/A"},880003033,{"$error":"#N/A"},{"$error":"#N/A"},"PHARMACIE  RIMOLA",18,"Route","DE LA CHENALE","88240 FONTENOY-LE-CHATEAU",88240,"Fontenoy-le-Château","Pharmacie d'officine","A"]
[{"$f":"VLOOKUP(B17877,Régions!A:C,3,FALSE)","v":"Grand Est"},88,{"$error":"#N/A"},880003421,{"$error":"#N/A"},{"$error":"#N/A"},"PHARMACIE OMARINI",74,"Rue","DE LA XAVEE","88220 HADOL",88220,"Hadol","Pharmacie d'officine","A"]
[{"$f":"VLOOKUP(B17884,Régions!A:C,3,FALSE)","v":"Grand Est"},88,{"$error":"#N/A"},880003686,{"$error":"#N/A"},{"$error":"#N/A"},"PHARMACIE FLECHON",27,"Rue","GERMINI","88500 MIRECOURT",88500,"Mirecourt","Pharmacie d'officine","A"]
[{"$f":"VLOOKUP(B17896,Régions!A:C,3,FALSE)","v":"Grand Est"},88,"CNOP",880004072,880004072,"oui","PHARMACIE DEL FABRO",10,"Rue","ABEL FERRY","88700 RAMBERVILLERS",88700,"Rambervillers","Pharmacie d'officine","A"]
[{"$f":"VLOOKUP(B17903,Régions!A:C,3,FALSE)","v":"Grand Est"},88,{"$error":"#N/A"},880004270,{"$error":"#N/A"},{"$error":"#N/A"},"PHARMACIE DELAHAYE - HOUTMANN",21,"Rue","DES CAPUCINS","88200 REMIREMONT",88200,"Remiremont","Pharmacie d'officine","A"]
[{"$f":"VLOOKUP(B17915,Régions!A:C,3,FALSE)","v":"Grand Est"},88,"PHARMDIRECTFR",880004601,880004601,"oui","PHARMACIE MARQUAIRE",39,"Rue","SAINT CHARLES","88100 SAINT-DIE-DES-VOSGES",88100,"Saint-Dié-des-Vosges","Pharmacie d'officine","A"]
[{"$f":"VLOOKUP(B17918,Régions!A:C,3,FALSE)","v":"Grand Est"},88,"PHARMDIRECTFR",880004700,880004700,"oui","PHARMACIE  MICHEL",18,"Rue","THIERS","88100 ST DIE DES VOSGES",88100,"Saint-Dié-des-Vosges","Pharmacie d'officine","A"]
[{"$f":"VLOOKUP(B17934,Régions!A:C,3,FALSE)","v":"Grand Est"},88,"PHARMDIRECTFR",880005103,880005103,"non","PHARMACIE ROMARY",26,"Rue","CHARLES DE GAULLE","88160 LE-THILLOT",88160,"Le Thillot","Pharmacie d'officine","A"]
[{"$f":"VLOOKUP(B17937,Régions!A:C,3,FALSE)","v":"Grand Est"},88,"CNOP",880005186,880005186,"oui","PHARMACIE  GENAY",270,"Rue","DU C D 44","88220 URIMENIL",88220,"Uriménil","Pharmacie d'officine","A"]
[{"$f":"VLOOKUP(B17948,Régions!A:C,3,FALSE)","v":"Grand Est"},88,"PHARMDIRECTFR",880005574,880005574,"oui","PHARMACIE GROSSETETE",1036,"Rue","D'EPINAL","88000 DOGNEVILLE",88000,"Dogneville","Pharmacie d'officine","A"]
[{"$f":"VLOOKUP(B17957,Régions!A:C,3,FALSE)","v":"Bourgogne-Franche-Comté"},89,"PHARMDIRECTFR",890003502,890003502,"oui","PHARMACIE PRINCIPALE - PHIE MORISSET",14,"Place","CHARLES SURUGUE","89000 AUXERRE",89000,"Auxerre","Pharmacie d'officine","A"]
[{"$f":"VLOOKUP(B17969,Régions!A:C,3,FALSE)","v":"Bourgogne-Franche-Comté"},89,"PHARMDIRECTFR",890003973,890003973,"oui","PHARMACIE DE CERISIERS",24,"Rue","DU GENERAL DE GAULLE","89320 CERISIERS",89320,"Cerisiers","Pharmacie d'officine","A"]
[{"$f":"VLOOKUP(B17976,Régions!A:C,3,FALSE)","v":"Bourgogne-Franche-Comté"},89,"PHARMDIRECTFR",890004237,890004237,"oui","PHARMACIE SAUER",7,"Rue","ALFRED DE LA LOGE","89660 CHATEL-CENSOIR",89660,"Châtel-Censoir","Pharmacie d'officine","A"]
[{"$f":"VLOOKUP(B17988,Régions!A:C,3,FALSE)","v":"Bourgogne-Franche-Comté"},89,"PHARMDIRECTFR",890004567,890004567,"oui","PHARMACIE DU MARCHÉ",14,"Quai","RAGOBERT","89300 JOIGNY",89300,"Joigny","Pharmacie d'officine","A"]
[{"$f":"VLOOKUP(B17991,Régions!A:C,3,FALSE)","v":"Bourgogne-Franche-Comté"},89,{"$error":"#N/A"},890004666,{"$error":"#N/A"},{"$error":"#N/A"},"PHARMACIE DE L'HOPITAL",14,"Avenue","GAMBETTA","89300 JOIGNY",89300,"Joigny","Pharmacie d'officine","A"]
[{"$f":"VLOOKUP(B18007,Régions!A:C,3,FALSE)","v":"Bourgogne-Franche-Comté"},89,"CNOP",890005101,890005101,"oui","PHARMACIE PREVOT-CONSEIL",6,"Rue","GRANDE","89240 POURRAIN",89240,"Pourrain","Pharmacie d'officine","A"]
[{"$f":"VLOOKUP(B18010,Régions!A:C,3,FALSE)","v":"Bourgogne-Franche-Comté"},89,"CNOP",890005234,890005234,"oui","PHARMACIE DELAUNAY",36,"Rue","DE PARIS","89100 ST CLEMENT",89100,"Saint-Clément","Pharmacie d'officine","A"]
[{"$f":"VLOOKUP(B18017,Régions!A:C,3,FALSE)","v":"Bourgogne-Franche-Comté"},89,"CNOP",890005457,890005457,"oui","PHARMACIE  FROMENTIN-GEORGE","NULL","Rue","DE LA ROCHE","89520 SAINT-SAUVEUR-EN-PUISAYE",89520,"Saint-Sauveur-en-Puisaye","Pharmacie d'officine","A"]
[{"$f":"VLOOKUP(B18033,Régions!A:C,3,FALSE)","v":"Bourgogne-Franche-Comté"},89,"PHARMDIRECTFR",890005903,890005903,"oui","PHARMACIE JALEF",10,"Route","DE SENS","89260 THORIGNY-SUR-OREUSE",89260,"Thorigny-sur-Oreuse","Pharmacie d'officine","A"]
[{"$f":"VLOOKUP(B18042,Régions!A:C,3,FALSE)","v":"Bourgogne-Franche-Comté"},89,"CNOP",890006182,890006182,"oui","PHARMACIE FERRAND",6,"Place","DE LA LIBERTE","89190 VILLENEUVE-L'ARCHEVEQUE",89190,"Villeneuve-l'Archevêque","Pharmacie d'officine","A"]
[{"$f":"VLOOKUP(B18049,Régions!A:C,3,FALSE)","v":"Bourgogne-Franche-Comté"},89,"PHARMDIRECTFR",890006596,890006596,"oui","PHARMACIE LANCIAUX-BOUHADDANE",11,"NULL","GRANDE RUE","89100 GRON",89100,"Gron","Pharmacie d'officine","A"]
[{"$f":"VLOOKUP(B18061,Régions!A:C,3,FALSE)","v":"Bourgogne-Franche-Comté"},90,{"$error":"#N/A"},900001280,{"$error":"#N/A"},{"$error":"#N/A"},"PHARMACIE LAMBALOT-CHALOT",27,"Rue","DE LUXEMBOURG","90000 BELFORT",90000,"Belfort","Pharmacie d'officine","A"]
[{"$f":"VLOOKUP(B18068,Régions!A:C,3,FALSE)","v":"Bourgogne-Franche-Comté"},90,"PHARMDIRECTFR",900001496,900001496,"oui","PHARMACIE CONRAD",36,"Boulevard","KENNEDY","90000 BELFORT",90000,"Belfort","Pharmacie d'officine","A"]
[{"$f":"VLOOKUP(B18080,Régions!A:C,3,FALSE)","v":"Bourgogne-Franche-Comté"},90,{"$error":"#N/A"},900001843,{"$error":"#N/A"},{"$error":"#N/A"},"PHARMACIE CHANTERANNE",20,"Faubourg","D'ALSACE","90100 DELLE",90100,"Delle","Pharmacie d'officine","A"]
[{"$f":"VLOOKUP(B18083,Régions!A:C,3,FALSE)","v":"Bourgogne-Franche-Comté"},90,"CNOP",900001926,900001926,"oui","PHARMACIE LAVIRON",1,"Rue","BARBIER","90350 EVETTE-SALBERT",90350,"Évette-Salbert","Pharmacie d'officine","A"]
[{"$f":"VLOOKUP(B18090,Régions!A:C,3,FALSE)","v":"Bourgogne-Franche-Comté"},90,"CNOP",900002130,900002130,"oui","PHARMACIE BELORGEY",7,"Rue","ARISTIDE BRIAND","90300 OFFEMONT",90300,"Offemont","Pharmacie d'officine","A"]
[{"$f":"VLOOKUP(B18102,Régions!A:C,3,FALSE)","v":"Ile-de-France"},91,{"$error":"#N/A"},910005172,{"$error":"#N/A"},{"$error":"#N/A"},"PHARMACIE DU MARCHÉ",25,"Place","DU MARCHE","91290 ARPAJON",91290,"Arpajon","Pharmacie d'officine","A"]
[{"$f":"VLOOKUP(B18108,Régions!A:C,3,FALSE)","v":"Ile-de-France"},91,{"$error":"#N/A"},910005321,{"$error":"#N/A"},{"$error":"#N/A"},"PHARMACIE ZOUHRY",9,"Avenue","de Morangis","91200 ATHIS-MONS",91200,"Athis-Mons","Pharmacie d'officine","A"]
[{"$f":"VLOOKUP(B18122,Régions!A:C,3,FALSE)","v":"Ile-de-France"},91,{"$error":"#N/A"},910005750,{"$error":"#N/A"},{"$error":"#N/A"},"PHARMACIE XENIDIS - BRIARD","NULL","Rue","DU CLOS DE LA FERME","91070 BONDOUFLE",91070,"Bondoufle","Pharmacie d'officine","A"]
[{"$f":"VLOOKUP(B18134,Régions!A:C,3,FALSE)","v":"Ile-de-France"},91,{"$error":"#N/A"},910006071,{"$error":"#N/A"},{"$error":"#N/A"},"PHARMACIE DECHANET-PINSON",10,"Boulevard","DE LA REPUBLIQUE","91220 BRETIGNY-SUR-ORGE",91220,"Brétigny-sur-Orge","Pharmacie d'officine","A"]
[{"$f":"VLOOKUP(B18141,Régions!A:C,3,FALSE)","v":"Ile-de-France"},91,{"$error":"#N/A"},910006253,{"$error":"#N/A"},{"$error":"#N/A"},"PHARMACIE  NHEAN",7,"Avenue","CHARLES DE GAULLE","91800 BRUNOY",91800,"Brunoy","Pharmacie d'officine","A"]
[{"$f":"VLOOKUP(B18153,Régions!A:C,3,FALSE)","v":"Ile-de-France"},91,{"$error":"#N/A"},910006683,{"$error":"#N/A"},{"$error":"#N/A"},"PHARMACIE STUTZ","NULL","Place","DE LA LIBERATION","91380 CHILLY-MAZARIN",91380,"Chilly-Mazarin","Pharmacie d'officine","A"]
[{"$f":"VLOOKUP(B18156,Régions!A:C,3,FALSE)","v":"Ile-de-France"},91,"PHARMDIRECTFR",910006766,910006766,"oui","PHARMACIE CHOUFFOT",18,"Rue","DE LA PASSERELLE","91380 CHILLY-MAZARIN",91380,"Chilly-Mazarin","Pharmacie d'officine","A"]
[{"$f":"VLOOKUP(B18163,Régions!A:C,3,FALSE)","v":"Ile-de-France"},91,{"$error":"#N/A"},910006972,{"$error":"#N/A"},{"$error":"#N/A"},"PHARMACIE ACHELLE-LYDENNE",115,"Rue","DE LA PAPETERIE","91100 CORBEIL ESSONNES",91100,"Corbeil-Essonnes","Pharmacie d'officine","A"]
[{"$f":"VLOOKUP(B18175,Régions!A:C,3,FALSE)","v":"Ile-de-France"},91,{"$error":"#N/A"},910007384,{"$error":"#N/A"},{"$error":"#N/A"},"PHARMACIE  COQUAND","NULL","NULL","NULL","91410 DOURDAN",91410,"Dourdan","Pharmacie d'officine","A"]
[{"$f":"VLOOKUP(B18189,Régions!A:C,3,FALSE)","v":"Ile-de-France"},91,{"$error":"#N/A"},910007772,{"$error":"#N/A"},{"$error":"#N/A"},"PHARMACIE DAMBRINE-DESONAY",12,"Rue","DE LA CROIX D'EGLY","91520 EGLY",91520,"Égly","Pharmacie d'officine","A"]
[{"$f":"VLOOKUP(B18195,Régions!A:C,3,FALSE)","v":"Ile-de-France"},91,"CNOP",910007970,910007970,"oui","PHARMACIE CHAVENON","NULL","NULL","GRANDE RUE","91360 EPINAY-SUR-ORGE",91360,"Épinay-sur-Orge","Pharmacie d'officine","A"]
[{"$f":"VLOOKUP(B18207,Régions!A:C,3,FALSE)","v":"Ile-de-France"},91,"PHARMDIRECTFR",910008317,910008317,"oui","PHARMACIE OUARDY",21,"Cours","BLAISE PASCAL","91000 EVRY-COURCOURONNES",91000,"Évry-Courcouronnes","Pharmacie d'officine","A"]
[{"$f":"VLOOKUP(B18214,Régions!A:C,3,FALSE)","v":"Ile-de-France"},91,{"$error":"#N/A"},910008473,{"$error":"#N/A"},{"$error":"#N/A"},"PHARMACIE DES LOGES",16,"Place","JULES VALLES","91000 EVRY-COURCOURONNES",91000,"Évry-Courcouronnes","Pharmacie d'officine","A"]
[{"$f":"VLOOKUP(B18226,Régions!A:C,3,FALSE)","v":"Ile-de-France"},91,"CNOP",910008820,910008820,"oui","PHARMACIE  MOUNOLOU",1,"Place","MARCHE NEUF","91190 GIF-SUR-YVETTE",91190,"Gif-sur-Yvette","Pharmacie d'officine","A"]
[{"$f":"VLOOKUP(B18229,Régions!A:C,3,FALSE)","v":"Ile-de-France"},91,"CNOP",910008903,910008903,"oui","PHARMACIE GUICHET-CHIEREGATO",8,"Mail","Pierre Potier","91190 GIF-SUR-YVETTE",91190,"Gif-sur-Yvette","Pharmacie d'officine","A"]
[{"$f":"VLOOKUP(B18236,Régions!A:C,3,FALSE)","v":"Ile-de-France"},91,{"$error":"#N/A"},910009257,{"$error":"#N/A"},{"$error":"#N/A"},"PHARMACIE FAYOLLE-CHIVOT",67,"Avenue","DE LA REPUBLIQUE","91430 IGNY",91430,"Igny","Pharmacie d'officine","A"]
[{"$f":"VLOOKUP(B18248,Régions!A:C,3,FALSE)","v":"Ile-de-France"},91,{"$error":"#N/A"},910009554,{"$error":"#N/A"},{"$error":"#N/A"},"PHARMACIE GIMENEZ",16,"Place","DU GENERAL DE GAULLE","91470 LIMOURS",91470,"Limours","Pharmacie d'officine","A"]
[{"$f":"VLOOKUP(B18255,Régions!A:C,3,FALSE)","v":"Ile-de-France"},91,{"$error":"#N/A"},910009752,{"$error":"#N/A"},{"$error":"#N/A"},"PHARMACIE KITTAYASO",12,"Rue","DU DOCTEUR ROUX","91160 LONGJUMEAU",91160,"Longjumeau","Pharmacie d'officine","A"]
[{"$f":"VLOOKUP(B18270,Régions!A:C,3,FALSE)","v":"Ile-de-France"},91,{"$error":"#N/A"},910010297,{"$error":"#N/A"},{"$error":"#N/A"},"PHARMACIE BEN RHOUMA",15,"Place","DE FRANCE","91300 MASSY",91300,"Massy","Pharmacie d'officine","A"]
[{"$f":"VLOOKUP(B18280,Régions!A:C,3,FALSE)","v":"Ile-de-France"},91,{"$error":"#N/A"},910010594,{"$error":"#N/A"},{"$error":"#N/A"},"SELAS PHARMACIE LIEZ-MARTINS",2,"Rue","JEAN JACQUES ROUSSEAU","91660 LE MEREVILLOIS",91660,"Le Mérévillois","Pharmacie d'officine","A"]
[{"$f":"VLOOKUP(B18287,Régions!A:C,3,FALSE)","v":"Ile-de-France"},91,{"$error":"#N/A"},910010826,{"$error":"#N/A"},{"$error":"#N/A"},"PHARMACIE PRÉVOST",110,"Avenue","de la République","91230 MONTGERON",91230,"Montgeron","Pharmacie d'officine","A"]
[{"$f":"VLOOKUP(B18299,Régions!A:C,3,FALSE)","v":"Ile-de-France"},91,{"$error":"#N/A"},910011162,{"$error":"#N/A"},{"$error":"#N/A"},"SELARL  KLG PHARMA","NULL","Place","MARCEL SEMBAT","91390 MORSANG-SUR-ORGE",91390,"Morsang-sur-Orge","Pharmacie d'officine","A"]
[{"$f":"VLOOKUP(B18302,Régions!A:C,3,FALSE)","v":"Ile-de-France"},91,{"$error":"#N/A"},910011261,{"$error":"#N/A"},{"$error":"#N/A"},"PHARMACIE DEPLAND",60,"Chemin","DE LA GARENNE","91290 LA-NORVILLE",91290,"La Norville","Pharmacie d'officine","A"]
[{"$f":"VLOOKUP(B18309,Régions!A:C,3,FALSE)","v":"Ile-de-France"},91,{"$error":"#N/A"},910011477,{"$error":"#N/A"},{"$error":"#N/A"},"PHARMACIE CHADOUTAUD",2,"Place","DE LA REPUBLIQUE","91400 ORSAY",91400,"Orsay","Pharmacie d'officine","A"]
[{"$f":"VLOOKUP(B18321,Régions!A:C,3,FALSE)","v":"Ile-de-France"},91,"CNOP",910011840,910011840,"oui","PHARMACIE VALLET - CHARLES",9,"Avenue","GILBERT FERGANT","91220 LE PLESSIS PATE",91220,"Le Plessis-Pâté","Pharmacie d'officine","A"]
[{"$f":"VLOOKUP(B18328,Régions!A:C,3,FALSE)","v":"Ile-de-France"},91,{"$error":"#N/A"},910012061,{"$error":"#N/A"},{"$error":"#N/A"},"PHARMACIE BOUZINA",38,"Rue","GEORGES SAND","91130 RIS-ORANGIS",91130,"Ris-Orangis","Pharmacie d'officine","A"]
[{"$f":"VLOOKUP(B18340,Régions!A:C,3,FALSE)","v":"Ile-de-France"},91,"CNOP",910012426,910012426,"oui","PHARMACIE BELIN-PROUST",173,"Avenue","GABRIEL PERI","91700 SAINTE-GENEVIEVE-DES-BOIS",91700,"Sainte-Geneviève-des-Bois","Pharmacie d'officine","A"]
[{"$f":"VLOOKUP(B18345,Régions!A:C,3,FALSE)","v":"Ile-de-France"},91,{"$error":"#N/A"},910012541,{"$error":"#N/A"},{"$error":"#N/A"},"PHARMACIE DANG",105,"Avenue","DU PRESIDENT ALLENDE","91700 SAINTE-GENEVIEVE-DES-BOIS",91700,"Sainte-Geneviève-des-Bois","Pharmacie d'officine","A"]
[{"$f":"VLOOKUP(B18360,Régions!A:C,3,FALSE)","v":"Ile-de-France"},91,"CNOP",910013044,910013044,"oui","PHARMACIE COLLARD-SKURA",14,"Rue","DE LA DIVISION LECLERC","91160 SAULX-LES-CHARTREUX",91160,"Saulx-les-Chartreux","Pharmacie d'officine","A"]
[{"$f":"VLOOKUP(B18372,Régions!A:C,3,FALSE)","v":"Ile-de-France"},91,"PHARMDIRECTFR",910013424,910013424,"oui","PHARMACIE ZINCK",11,"Boulevard","DE VANDEUL","91450 SOISY-SUR-SEINE",91450,"Soisy-sur-Seine","Pharmacie d'officine","A"]
[{"$f":"VLOOKUP(B18379,Régions!A:C,3,FALSE)","v":"Ile-de-France"},91,{"$error":"#N/A"},910013614,{"$error":"#N/A"},{"$error":"#N/A"},"PHARMACIE VERCELOT",56,"Rue","DU GENERAL LECLERC","91710 VERT-LE-PETIT",91710,"Vert-le-Petit","Pharmacie d'officine","A"]
[{"$f":"VLOOKUP(B18382,Régions!A:C,3,FALSE)","v":"Ile-de-France"},91,{"$error":"#N/A"},910013713,{"$error":"#N/A"},{"$error":"#N/A"},"PHARMACIE LOUATI",60,"Avenue","HENRI BARBUSSE","91270 VIGNEUX-SUR-SEINE",91270,"Vigneux-sur-Seine","Pharmacie d'officine","A"]
[{"$f":"VLOOKUP(B18394,Régions!A:C,3,FALSE)","v":"Ile-de-France"},91,{"$error":"#N/A"},910014091,{"$error":"#N/A"},{"$error":"#N/A"},"PHARMACIE MINOSIO",2,"Avenue","PAUL DOUMER","91360 VILLEMOISSON SUR ORGE",91360,"Villemoisson-sur-Orge","Pharmacie d'officine","A"]
[{"$f":"VLOOKUP(B18401,Régions!A:C,3,FALSE)","v":"Ile-de-France"},91,{"$error":"#N/A"},910014265,{"$error":"#N/A"},{"$error":"#N/A"},"PHARMACIE AMMAR-SABATHIER",159,"Boulevard","GABRIEL PERI","91170 VIRY CHATILLON",91170,"Viry-Châtillon","Pharmacie d'officine","A"]
[{"$f":"VLOOKUP(B18413,Régions!A:C,3,FALSE)","v":"Ile-de-France"},91,"PHARMDIRECTFR",910014612,910014612,"oui","PHARMACIE BRUNET",9,"Place","GAMBETTA","91330 YERRES",91330,"Yerres","Pharmacie d'officine","A"]
[{"$f":"VLOOKUP(B18426,Régions!A:C,3,FALSE)","v":"Ile-de-France"},91,"PHARMDIRECTFR",910017482,910017482,"oui","PHARMACIE DU ROND POINT",3,"Avenue","CHARLES DE GAULLE","91220 BRÉTIGNY-SUR-ORGE",91220,"Brétigny-sur-Orge","Pharmacie d'officine","A"]
[{"$f":"VLOOKUP(B18433,Régions!A:C,3,FALSE)","v":"Ile-de-France"},91,"CNOP",910021682,910021682,"oui","PHARMACIE TAYEB",16,"Place","DU PLESSIS-SAUCOURT","91250 TIGERY",91250,"Tigery","Pharmacie d'officine","A"]
[{"$f":"VLOOKUP(B18445,Régions!A:C,3,FALSE)","v":"Ile-de-France"},92,{"$error":"#N/A"},920007994,{"$error":"#N/A"},{"$error":"#N/A"},"PHARMACIE KRASUSKI",9,"Rue","DE L'EGLISE","92160 ANTONY",92160,"Antony","Pharmacie d'officine","A"]
[{"$f":"VLOOKUP(B18452,Régions!A:C,3,FALSE)","v":"Ile-de-France"},92,"PHARMDIRECTFR",920008190,920008190,"oui","PHARMACIE CHAU",69,"Avenue","RAYMOND  ARON","92160 ANTONY",92160,"Antony","Pharmacie d'officine","A"]
[{"$f":"VLOOKUP(B18455,Régions!A:C,3,FALSE)","v":"Ile-de-France"},92,{"$error":"#N/A"},920008281,{"$error":"#N/A"},{"$error":"#N/A"},"PHARMACIE DRIGHES",126,"Avenue","D'ARGENTEUIL","92600 ASNIERES-SUR-SEINE",92600,"Asnières-sur-Seine","Pharmacie d'officine","A"]
[{"$f":"VLOOKUP(B18467,Régions!A:C,3,FALSE)","v":"Ile-de-France"},92,{"$error":"#N/A"},920008729,{"$error":"#N/A"},{"$error":"#N/A"},"PHARMACIE RAJABALY",45,"Avenue","DU PONANT","92390 VILLENEUVE-LA-GARENNE",92390,"Villeneuve-la-Garenne","Pharmacie d'officine","A"]
[{"$f":"VLOOKUP(B18474,Régions!A:C,3,FALSE)","v":"Ile-de-France"},92,{"$error":"#N/A"},920008893,{"$error":"#N/A"},{"$error":"#N/A"},"PHARMACIE JEHL",5,"Rue","HENRI MARTIN","92600 ASNIERES-SUR-SEINE",92600,"Asnières-sur-Seine","Pharmacie d'officine","A"]
[{"$f":"VLOOKUP(B18486,Régions!A:C,3,FALSE)","v":"Ile-de-France"},92,"CNOP",920009180,920009180,"oui","PHARMACIE RIHAOUI",11,"Rue","DE TURIN","92220 BAGNEUX",92220,"Bagneux","Pharmacie d'officine","A"]
[{"$f":"VLOOKUP(B18498,Régions!A:C,3,FALSE)","v":"Ile-de-France"},92,"CNOP",920009511,920009511,"oui","PHARMACIE VINCK-ROSSELLO",1,"Place","DE LA GARE DES VALLEES","92270 BOIS-COLOMBES",92270,"Bois-Colombes","Pharmacie d'officine","A"]
[{"$f":"VLOOKUP(B18507,Régions!A:C,3,FALSE)","v":"Ile-de-France"},92,"CNOP",920009776,920009776,"oui","PHARMACIE DAHAN",38,"Avenue","JEAN BAPTISTE CLEMENT","92100 BOULOGNE-BILLANCOURT",92100,"Boulogne-Billancourt","Pharmacie d'officine","A"]
[{"$f":"VLOOKUP(B18518,Régions!A:C,3,FALSE)","v":"Ile-de-France"},92,{"$error":"#N/A"},920010121,{"$error":"#N/A"},{"$error":"#N/A"},"PHARMACIE ROCHA MONTEIRO",60,"Avenue","PIERRE GRENIER","92100 BOULOGNE-BILLANCOURT",92100,"Boulogne-Billancourt","Pharmacie d'officine","A"]
[{"$f":"VLOOKUP(B18525,Régions!A:C,3,FALSE)","v":"Ile-de-France"},92,{"$error":"#N/A"},920010600,{"$error":"#N/A"},{"$error":"#N/A"},"SELARL PHARMACIE RHIN ET DANUBE",21,"Rond point","RHIN ET DANUBE","92100 BOULOGNE-BILLANCOURT",92100,"Boulogne-Billancourt","Pharmacie d'officine","A"]
[{"$f":"VLOOKUP(B18528,Régions!A:C,3,FALSE)","v":"Ile-de-France"},92,"CNOP",920010741,920010741,"oui","PHARMACIE DEPREZ-SOUVERAIN","NULL","Avenue","ANGLE  E.ZOLA ET P. LEFAUCHEUX","92100 BOULOGNE BILLANCOURT",92100,"Boulogne-Billancourt","Pharmacie d'officine","A"]
[{"$f":"VLOOKUP(B18540,Régions!A:C,3,FALSE)","v":"Ile-de-France"},92,{"$error":"#N/A"},920011111,{"$error":"#N/A"},{"$error":"#N/A"},"PHARMACIE LEMAIRE",135,"Avenue","DU GENERAL LECLERC","92340 BOURG LA REINE",92340,"Bourg-la-Reine","Pharmacie d'officine","A"]
[{"$f":"VLOOKUP(B18547,Régions!A:C,3,FALSE)","v":"Ile-de-France"},92,{"$error":"#N/A"},920011343,{"$error":"#N/A"},{"$error":"#N/A"},"PHARMACIE ROBINSON",11,"Avenue","DU PLESSIS","92290 CHÂTENAY-MALABRY",92290,"Châtenay-Malabry","Pharmacie d'officine","A"]
[{"$f":"VLOOKUP(B18559,Régions!A:C,3,FALSE)","v":"Ile-de-France"},92,{"$error":"#N/A"},920011715,{"$error":"#N/A"},{"$error":"#N/A"},"PHARMACIE DU MARCHÉ",29,"Rue","DE JOUY","92370 CHAVILLE",92370,"Chaville","Pharmacie d'officine","A"]
[{"$f":"VLOOKUP(B18566,Régions!A:C,3,FALSE)","v":"Ile-de-France"},92,{"$error":"#N/A"},920011913,{"$error":"#N/A"},{"$error":"#N/A"},"PHARMACIE DEBELMAS - DOUDARD",12,"Rue","HEBERT","92140 CLAMART",92140,"Clamart","Pharmacie d'officine","A"]
[{"$f":"VLOOKUP(B18578,Régions!A:C,3,FALSE)","v":"Ile-de-France"},92,{"$error":"#N/A"},920012291,{"$error":"#N/A"},{"$error":"#N/A"},"PHARMACIE ZAIDAN",58,"Avenue","ADOLPHE SCHNEIDER","92140 CLAMART",92140,"Clamart","Pharmacie d'officine","A"]
[{"$f":"VLOOKUP(B18591,Régions!A:C,3,FALSE)","v":"Ile-de-France"},92,{"$error":"#N/A"},920012630,{"$error":"#N/A"},{"$error":"#N/A"},"PHARMACIE ROCHE",2,"Place","MARTYRS OCCUP. ALLEMANDE","92110 CLICHY",92110,"Clichy","Pharmacie d'officine","A"]
[{"$f":"VLOOKUP(B18598,Régions!A:C,3,FALSE)","v":"Ile-de-France"},92,{"$error":"#N/A"},920012861,{"$error":"#N/A"},{"$error":"#N/A"},"PHARMACIEN COHEN",53,"Rue","DU BOURNARD","92700 COLOMBES",92700,"Colombes","Pharmacie d'officine","A"]
[{"$f":"VLOOKUP(B18601,Régions!A:C,3,FALSE)","v":"Ile-de-France"},92,{"$error":"#N/A"},920012994,{"$error":"#N/A"},{"$error":"#N/A"},"PHARMACIE BOUALI",71,"Rue","GABRIEL PERI","92700 COLOMBES",92700,"Colombes","Pharmacie d'officine","A"]
[{"$f":"VLOOKUP(B18613,Régions!A:C,3,FALSE)","v":"Ile-de-France"},92,{"$error":"#N/A"},920013414,{"$error":"#N/A"},{"$error":"#N/A"},"PHIE OLLIVIER - KERTING - TRONCHE",71,"Rue","ST DENIS","92700 COLOMBES",92700,"Colombes","Pharmacie d'officine","A"]
[{"$f":"VLOOKUP(B18620,Régions!A:C,3,FALSE)","v":"Ile-de-France"},92,"CNOP",920013612,920013612,"oui","PHARMACIE SAULOUP-BOCQUILLON",30,"Galerie","DES DAMIERS","92400 COURBEVOIE",92400,"Courbevoie","Pharmacie d'officine","A"]
[{"$f":"VLOOKUP(B18632,Régions!A:C,3,FALSE)","v":"Ile-de-France"},92,{"$error":"#N/A"},920013943,{"$error":"#N/A"},{"$error":"#N/A"}," PHARMACIE SAINTE MARIE",11,"Rue","SAINTE  MARIE","92400 COURBEVOIE",92400,"Courbevoie","Pharmacie d'officine","A"]
[{"$f":"VLOOKUP(B18639,Régions!A:C,3,FALSE)","v":"Ile-de-France"},92,{"$error":"#N/A"},920014115,{"$error":"#N/A"},{"$error":"#N/A"},"PHARMACIE ELARCHI",70,"Rue","BOUCICAUT","92260 FONTENAY-AUX-ROSES",92260,"Fontenay-aux-Roses","Pharmacie d'officine","A"]
[{"$f":"VLOOKUP(B18651,Régions!A:C,3,FALSE)","v":"Ile-de-France"},92,{"$error":"#N/A"},920014545,{"$error":"#N/A"},{"$error":"#N/A"},"PHARMACIE  KHOURY",112,"Avenue","DU GENERAL DE GAULLE","92250 LA-GARENNE-COLOMBES",92250,"La Garenne-Colombes","Pharmacie d'officine","A"]
[{"$f":"VLOOKUP(B18663,Régions!A:C,3,FALSE)","v":"Ile-de-France"},92,{"$error":"#N/A"},920014925,{"$error":"#N/A"},{"$error":"#N/A"},"PHARMACIE DU VILLAGE",5,"Place","JEAN GRANDEL","92230 GENNEVILLIERS",92230,"Gennevilliers","Pharmacie d'officine","A"]
[{"$f":"VLOOKUP(B18671,Régions!A:C,3,FALSE)","v":"Ile-de-France"},92,{"$error":"#N/A"},920015161,{"$error":"#N/A"},{"$error":"#N/A"},"PHARMACIE DABI",27,"Rue","LASSERRE","92130 ISSY-LES-MOULINEAUX",92130,"Issy-les-Moulineaux","Pharmacie d'officine","A"]
[{"$f":"VLOOKUP(B18674,Régions!A:C,3,FALSE)","v":"Ile-de-France"},92,{"$error":"#N/A"},920015245,{"$error":"#N/A"},{"$error":"#N/A"},"PHARMACIE KHEMTEMOURIAN",19,"Rue","ERNEST RENAN","92130 ISSY-LES-MOULINEAUX",92130,"Issy-les-Moulineaux","Pharmacie d'officine","A"]
[{"$f":"VLOOKUP(B18686,Régions!A:C,3,FALSE)","v":"Ile-de-France"},92,{"$error":"#N/A"},920015575,{"$error":"#N/A"},{"$error":"#N/A"},"SELARL PHARMACIE BENDAYAN",116,"Boulevard","GALLIENI","92130 ISSY-LES-MOULINEAUX",92130,"Issy-les-Moulineaux","Pharmacie d'officine","A"]
[{"$f":"VLOOKUP(B18693,Régions!A:C,3,FALSE)","v":"Ile-de-France"},92,{"$error":"#N/A"},920015781,{"$error":"#N/A"},{"$error":"#N/A"},"PHARMACIE SUISSA - TORDJMANN",20,"Avenue","DE L'EUROPE","92300 LEVALLOIS-PERRET",92300,"Levallois-Perret","Pharmacie d'officine","A"]
[{"$f":"VLOOKUP(B18705,Régions!A:C,3,FALSE)","v":"Ile-de-France"},92,{"$error":"#N/A"},920016177,{"$error":"#N/A"},{"$error":"#N/A"},"PHARMACIE BOUKOBZA",73,"Rue","VICTOR HUGO","92300 LEVALLOIS-PERRET",92300,"Levallois-Perret","Pharmacie d'officine","A"]
[{"$f":"VLOOKUP(B18712,Régions!A:C,3,FALSE)","v":"Ile-de-France"},92,{"$error":"#N/A"},920016391,{"$error":"#N/A"},{"$error":"#N/A"},"PHARMACIE TREUSSARD - HERNANDEZ",20,"Avenue","PIERRE BROSSOLETTE","92240 MALAKOFF",92240,"Malakoff","Pharmacie d'officine","A"]
[{"$f":"VLOOKUP(B18724,Régions!A:C,3,FALSE)","v":"Ile-de-France"},92,"PHARMDIRECTFR",920016847,920016847,"oui","PHARMACIE COTTARD",3,"Place","DE STALINGRAD","92190 MEUDON",92190,"Meudon","Pharmacie d'officine","A"]
[{"$f":"VLOOKUP(B18736,Régions!A:C,3,FALSE)","v":"Ile-de-France"},92,{"$error":"#N/A"},920017241,{"$error":"#N/A"},{"$error":"#N/A"},"SELARL  PHARMACIE CENTRALE",9,"Avenue","DE LA MARNE","92120 MONTROUGE",92120,"Montrouge","Pharmacie d'officine","A"]
[{"$f":"VLOOKUP(B18744,Régions!A:C,3,FALSE)","v":"Ile-de-France"},92,{"$error":"#N/A"},920017514,{"$error":"#N/A"},{"$error":"#N/A"},"PHARMACIE BENEZRA",15,"Rue","DE COURBEVOIE","92000 NANTERRE",92000,"Nanterre","Pharmacie d'officine","A"]
[{"$f":"VLOOKUP(B18747,Régions!A:C,3,FALSE)","v":"Ile-de-France"},92,{"$error":"#N/A"},920017613,{"$error":"#N/A"},{"$error":"#N/A"},"PHARMACIE MACHELON - BRACONNIER","NULL","Avenue","DU GENERAL LECLERC","92000 NANTERRE",92000,"Nanterre","Pharmacie d'officine","A"]
[{"$f":"VLOOKUP(B18763,Régions!A:C,3,FALSE)","v":"Ile-de-France"},92,"PHARMDIRECTFR",920018165,920018165,"oui","PHARMACIE LE BOURHIS",123,"Rue","DE SURESNES","92000 NANTERRE",92000,"Nanterre","Pharmacie d'officine","A"]
[{"$f":"VLOOKUP(B18766,Régions!A:C,3,FALSE)","v":"Ile-de-France"},92,"CNOP",920018314,920018314,"oui","PHARMACIE BILGRAER PHILIPPE",82,"Avenue","CHARLES DE GAULLE","92200 NEUILLY-SUR-SEINE",92200,"Neuilly-sur-Seine","Pharmacie d'officine","A"]
[{"$f":"VLOOKUP(B18778,Régions!A:C,3,FALSE)","v":"Ile-de-France"},92,{"$error":"#N/A"},920018611,{"$error":"#N/A"},{"$error":"#N/A"},"PHARMACIE LEGAT",209,"Avenue","DU ROULE - 8 PLACE DU GENERAL","92200 NEUILLY-SUR-SEINE",92200,"Neuilly-sur-Seine","Pharmacie d'officine","A"]
[{"$f":"VLOOKUP(B18785,Régions!A:C,3,FALSE)","v":"Ile-de-France"},92,{"$error":"#N/A"},920018793,{"$error":"#N/A"},{"$error":"#N/A"},"SELAS PHARMACIE DE  L'HORLOGE",54,"Rue","DE SABLONVILLE","92200 NEUILLY-SUR-SEINE",92200,"Neuilly-sur-Seine","Pharmacie d'officine","A"]
[{"$f":"VLOOKUP(B18797,Régions!A:C,3,FALSE)","v":"Ile-de-France"},92,"CNOP",920019130,920019130,"oui","PHARMACIE ROCHET-DE SALVAGE","NULL","NULL","NULL","92800 PUTEAUX",92800,"Puteaux","Pharmacie d'officine","A"]
[{"$f":"VLOOKUP(B18809,Régions!A:C,3,FALSE)","v":"Ile-de-France"},92,{"$error":"#N/A"},920019510,{"$error":"#N/A"},{"$error":"#N/A"},"PHARMACIE  ROUSSEL",2,"Place","DE LA DEFENSE","92800 PUTEAUX",92800,"Puteaux","Pharmacie d'officine","A"]
[{"$f":"VLOOKUP(B18815,Régions!A:C,3,FALSE)","v":"Ile-de-France"},92,"PHARMDIRECTFR",920019692,920019692,"oui","PHARMACIE LALANNE - MARTIN",165,"Avenue","DU 18 JUIN 1940","92500 RUEIL-MALMAISON",92500,"Rueil-Malmaison","Pharmacie d'officine","A"]
[{"$f":"VLOOKUP(B18820,Régions!A:C,3,FALSE)","v":"Ile-de-France"},92,{"$error":"#N/A"},920019825,{"$error":"#N/A"},{"$error":"#N/A"},"PHARMACIE BRONSARD",48,"Avenue","DE FOUILLEUSE","92500 RUEIL-MALMAISON",92500,"Rueil-Malmaison","Pharmacie d'officine","A"]
[{"$f":"VLOOKUP(B18836,Régions!A:C,3,FALSE)","v":"Ile-de-France"},92,"CNOP",920020351,920020351,"oui","PHARMACIE DADRE-DARGAUD",160,"Boulevard","DE LA REPUBLIQUE","92210 SAINT-CLOUD",92210,"Saint-Cloud","Pharmacie d'officine","A"]
[{"$f":"VLOOKUP(B18839,Régions!A:C,3,FALSE)","v":"Ile-de-France"},92,{"$error":"#N/A"},920020435,{"$error":"#N/A"},{"$error":"#N/A"},"PHARMACIE DES  BLAGIS",51,"Rue","DE BAGNEUX","92330 SCEAUX",92330,"Sceaux","Pharmacie d'officine","A"]
[{"$f":"VLOOKUP(B18851,Régions!A:C,3,FALSE)","v":"Ile-de-France"},92,"CNOP",920020732,920020732,"oui","PHARMACIE SIBONI",124,"NULL","GRANDE RUE","92310 SEVRES",92310,"Sèvres","Pharmacie d'officine","A"]
[{"$f":"VLOOKUP(B18858,Régions!A:C,3,FALSE)","v":"Ile-de-France"},92,{"$error":"#N/A"},920020922,{"$error":"#N/A"},{"$error":"#N/A"},"PHARMACIE BRATAN",28,"Avenue","EDOUARD VAILLANT","92150 SURESNES",92150,"Suresnes","Pharmacie d'officine","A"]
[{"$f":"VLOOKUP(B18870,Régions!A:C,3,FALSE)","v":"Ile-de-France"},92,{"$error":"#N/A"},920021235,{"$error":"#N/A"},{"$error":"#N/A"},"PHARMACIE SANTE PLUS IDF",42,"Rue","MARY BESSEYRE","92170 VANVES",92170,"Vanves","Pharmacie d'officine","A"]
[{"$f":"VLOOKUP(B18877,Régions!A:C,3,FALSE)","v":"Ile-de-France"},92,"PHARMDIRECTFR",920021417,920021417,"oui","PHARMACIE SIOUFFI-LAMOTHE",51,"Allee","DES GRANDES FERMES","92420 VAUCRESSON",92420,"Vaucresson","Pharmacie d'officine","A"]
[{"$f":"VLOOKUP(B18889,Régions!A:C,3,FALSE)","v":"Ile-de-France"},92,{"$error":"#N/A"},920025046,{"$error":"#N/A"},{"$error":"#N/A"},"PHARMACIE LIEU",17,"Rue","JACQUES DAGUERRE","92500 RUEIL-MALMAISON",92500,"Rueil-Malmaison","Pharmacie d'officine","A"]
[{"$f":"VLOOKUP(B18900,Régions!A:C,3,FALSE)","v":"Ile-de-France"},93,"PHARMDIRECTFR",930004353,930004353,"oui","PHARMACIE NGO",52,"Rue","HEURTAULT","93300 AUBERVILLIERS",93300,"Aubervilliers","Pharmacie d'officine","A"]
[{"$f":"VLOOKUP(B18909,Régions!A:C,3,FALSE)","v":"Ile-de-France"},93,{"$error":"#N/A"},930004734,{"$error":"#N/A"},{"$error":"#N/A"},"PHARMACIE PARINOR","NULL","NULL","LE HAUT DE GALLY","93600 AULNAY-SOUS-BOIS",93600,"Aulnay-sous-Bois","Pharmacie d'officine","A"]
[{"$f":"VLOOKUP(B18912,Régions!A:C,3,FALSE)","v":"Ile-de-France"},93,{"$error":"#N/A"},930004817,{"$error":"#N/A"},{"$error":"#N/A"},"PHARMACIE CHICHE",2,"Avenue","ANATOLE FRANCE","93600 AULNAY-SOUS-BOIS",93600,"Aulnay-sous-Bois","Pharmacie d'officine","A"]
[{"$f":"VLOOKUP(B18924,Régions!A:C,3,FALSE)","v":"Ile-de-France"},93,{"$error":"#N/A"},930005202,{"$error":"#N/A"},{"$error":"#N/A"},"PHARMACIE CARO",62,"Rue","MAXIMILIEN ROBESPIERRE","93600 AULNAY-SOUS-BOIS",93600,"Aulnay-sous-Bois","Pharmacie d'officine","A"]
[{"$f":"VLOOKUP(B18931,Régions!A:C,3,FALSE)","v":"Ile-de-France"},93,"CNOP",930005483,930005483,"oui","PHARMACIE NHY-PHAM",10,"Rue","JEAN BAPTISTE CLEMENT","93170 BAGNOLET",93170,"Bagnolet","Pharmacie d'officine","A"]
[{"$f":"VLOOKUP(B18943,Régions!A:C,3,FALSE)","v":"Ile-de-France"},93,{"$error":"#N/A"},930005806,{"$error":"#N/A"},{"$error":"#N/A"},"PHARMACIE DEBOUA",37,"Rue","PIERRE SEMARD","93150 BLANC-MESNIL (LE)",93150,"Le Blanc-Mesnil","Pharmacie d'officine","A"]
[{"$f":"VLOOKUP(B18950,Régions!A:C,3,FALSE)","v":"Ile-de-France"},93,{"$error":"#N/A"},930005970,{"$error":"#N/A"},{"$error":"#N/A"},"PHARMACIE OUBLLA",20,"Rue","MAURICE AUDIN","93150 BLANC-MESNIL (LE)",93150,"Le Blanc-Mesnil","Pharmacie d'officine","A"]
[{"$f":"VLOOKUP(B18962,Régions!A:C,3,FALSE)","v":"Ile-de-France"},93,{"$error":"#N/A"},930006317,{"$error":"#N/A"},{"$error":"#N/A"},"PHARMACIE MAKEBA",19,"Rue","MIRIAM MAKEBA","93000 BOBIGNY",93000,"Bobigny","Pharmacie d'officine","A"]
[{"$f":"VLOOKUP(B18965,Régions!A:C,3,FALSE)","v":"Ile-de-France"},93,{"$error":"#N/A"},930006416,{"$error":"#N/A"},{"$error":"#N/A"},"PHARMACIE BERREBY",2,"Rue","DE LA REPUBLIQUE","93000 BOBIGNY",93000,"Bobigny","Pharmacie d'officine","A"]
[{"$f":"VLOOKUP(B18981,Régions!A:C,3,FALSE)","v":"Ile-de-France"},93,"CNOP",930006986,930006986,"oui","PHARMACIE MEIMOUN",19,"Avenue","FRANCIS DE PRESSENSE","93350 LE-BOURGET",93350,"Le Bourget","Pharmacie d'officine","A"]
[{"$f":"VLOOKUP(B18985,Régions!A:C,3,FALSE)","v":"Ile-de-France"},93,{"$error":"#N/A"},930007133,{"$error":"#N/A"},{"$error":"#N/A"},"SELAS PHARMACIE DES DEUX COMMUNES",173,"Allee","DE MONTFERMEIL","93390 CLICHY-SOUS-BOIS",93390,"Clichy-sous-Bois","Pharmacie d'officine","A"]
[{"$f":"VLOOKUP(B18997,Régions!A:C,3,FALSE)","v":"Ile-de-France"},93,{"$error":"#N/A"},930007521,{"$error":"#N/A"},{"$error":"#N/A"},"PHARMACIE HEAP",67,"Avenue","PAUL VAILLANT COUTURIER","93120 LA-COURNEUVE",93120,"La Courneuve","Pharmacie d'officine","A"]
[{"$f":"VLOOKUP(B19004,Régions!A:C,3,FALSE)","v":"Ile-de-France"},93,{"$error":"#N/A"},930007752,{"$error":"#N/A"},{"$error":"#N/A"},"PHARMACIE  FATEALY",2,"Avenue","DE LA DIVISION LECLERC","93700 DRANCY",93700,"Drancy","Pharmacie d'officine","A"]
[{"$f":"VLOOKUP(B19016,Régions!A:C,3,FALSE)","v":"Ile-de-France"},93,"CNOP",930008073,930008073,"oui","PHARMACIE MORIN - ROUSSELOT",34,"Rue","ROGER SALENGRO","93700 DRANCY",93700,"Drancy","Pharmacie d'officine","A"]
[{"$f":"VLOOKUP(B19023,Régions!A:C,3,FALSE)","v":"Ile-de-France"},93,"CNOP",930008321,930008321,"oui","PHARMACIE SCHUEHMACHER",33,"Avenue","GALLIENI","93800 EPINAY-SUR-SEINE",93800,"Épinay-sur-Seine","Pharmacie d'officine","A"]
[{"$f":"VLOOKUP(B19035,Régions!A:C,3,FALSE)","v":"Ile-de-France"},93,"PHARMDIRECTFR",930008750,930008750,"oui","PHARMACIE VO",1,"Avenue","EMILE COSSONNEAU - 21 AV HTE C","93220 GAGNY",93220,"Gagny","Pharmacie d'officine","A"]
[{"$f":"VLOOKUP(B19038,Régions!A:C,3,FALSE)","v":"Ile-de-France"},93,{"$error":"#N/A"},930008867,{"$error":"#N/A"},{"$error":"#N/A"},"PHARMACIE NEIL",21,"Avenue","JEAN JAURES","93220 GAGNY",93220,"Gagny","Pharmacie d'officine","A"]
[{"$f":"VLOOKUP(B19052,Régions!A:C,3,FALSE)","v":"Ile-de-France"},93,{"$error":"#N/A"},930009303,{"$error":"#N/A"},{"$error":"#N/A"},"PHARMACIE ENNOUCHI",119,"Avenue","CESAR COLLAVERI","93190 LIVRY-GARGAN",93190,"Livry-Gargan","Pharmacie d'officine","A"]
[{"$f":"VLOOKUP(B19058,Régions!A:C,3,FALSE)","v":"Ile-de-France"},93,{"$error":"#N/A"},930009535,{"$error":"#N/A"},{"$error":"#N/A"},"PHARMACIE EVOUNA BELINGA",17,"Boulevard","MARX DORMOY","93190 LIVRY-GARGAN",93190,"Livry-Gargan","Pharmacie d'officine","A"]
[{"$f":"VLOOKUP(B19074,Régions!A:C,3,FALSE)","v":"Ile-de-France"},93,{"$error":"#N/A"},930010061,{"$error":"#N/A"},{"$error":"#N/A"},"PHARMACIE LECONTE",15,"Rue","DES LUMIERES","93100 MONTREUIL",93100,"Montreuil","Pharmacie d'officine","A"]
[{"$f":"VLOOKUP(B19077,Régions!A:C,3,FALSE)","v":"Ile-de-France"},93,{"$error":"#N/A"},930010426,{"$error":"#N/A"},{"$error":"#N/A"},"PHARMACIE MALONGA",14,"Place","LE MORILLON","93100 MONTREUIL",93100,"Montreuil","Pharmacie d'officine","A"]
[{"$f":"VLOOKUP(B19089,Régions!A:C,3,FALSE)","v":"Ile-de-France"},93,"CNOP",930011085,930011085,"oui","PHARMACIE BRAUD - HAMDAN",1,"Avenue","DE LA RESISTANCE","93100 MONTREUIL",93100,"Montreuil","Pharmacie d'officine","A"]
[{"$f":"VLOOKUP(B19096,Régions!A:C,3,FALSE)","v":"Ile-de-France"},93,{"$error":"#N/A"},930011317,{"$error":"#N/A"},{"$error":"#N/A"},"PHARMACIE TUBIANA",9,"Boulevard","GALLIENI","93360 NEUILLY-PLAISANCE",93360,"Neuilly-Plaisance","Pharmacie d'officine","A"]
[{"$f":"VLOOKUP(B19108,Régions!A:C,3,FALSE)","v":"Ile-de-France"},93,{"$error":"#N/A"},930011705,{"$error":"#N/A"},{"$error":"#N/A"},"PHARMACIE FAZILY ABAS",10,"Rue","PAUL ET CAMILLE THOMOUX","93330 NEUILLY-SUR-MARNE",93330,"Neuilly-sur-Marne","Pharmacie d'officine","A"]
[{"$f":"VLOOKUP(B19111,Régions!A:C,3,FALSE)","v":"Ile-de-France"},93,{"$error":"#N/A"},930011770,{"$error":"#N/A"},{"$error":"#N/A"},"PHARMACIE  DU CHAMPY","NULL","Allee","DU BATAILLON HILDEVE","93160 NOISY LE GRAND",93160,"Noisy-le-Grand","Pharmacie d'officine","A"]
[{"$f":"VLOOKUP(B19127,Régions!A:C,3,FALSE)","v":"Ile-de-France"},93,{"$error":"#N/A"},930012232,{"$error":"#N/A"},{"$error":"#N/A"},"PHARMACIE HARITHARAN",220,"Rue","DE BREMENT","93130 NOISY LE SEC",93130,"Noisy-le-Sec","Pharmacie d'officine","A"]
[{"$f":"VLOOKUP(B19137,Régions!A:C,3,FALSE)","v":"Ile-de-France"},93,{"$error":"#N/A"},930012521,{"$error":"#N/A"},{"$error":"#N/A"},"PHARMACIE LOULIDI",55,"Rue","HOCHE","93500 PANTIN",93500,"Pantin","Pharmacie d'officine","A"]
[{"$f":"VLOOKUP(B19147,Régions!A:C,3,FALSE)","v":"Ile-de-France"},93,{"$error":"#N/A"},930012786,{"$error":"#N/A"},{"$error":"#N/A"},"PHARMACIE DU RER PANTIN",13,"Avenue","Edouard Vaillant","93500 PANTIN",93500,"Pantin","Pharmacie d'officine","A"]
[{"$f":"VLOOKUP(B19150,Régions!A:C,3,FALSE)","v":"Ile-de-France"},93,{"$error":"#N/A"},930012851,{"$error":"#N/A"},{"$error":"#N/A"},"PHARMACIE BENDRIHEM",112,"Avenue","DE ROME","93320 PAVILLONS-SOUS-BOIS (LES)",93320,"Les Pavillons-sous-Bois","Pharmacie d'officine","A"]
[{"$f":"VLOOKUP(B19162,Régions!A:C,3,FALSE)","v":"Ile-de-France"},93,{"$error":"#N/A"},930013222,{"$error":"#N/A"},{"$error":"#N/A"},"PHARMACIE KHAUV -  KHUN",52,"Rue","ANDRÉ JOINEAU","93310 LE PRE ST GERVAIS",93310,"Le Pré-Saint-Gervais","Pharmacie d'officine","A"]
[{"$f":"VLOOKUP(B19169,Régions!A:C,3,FALSE)","v":"Ile-de-France"},93,"CNOP",930013453,930013453,"oui","PHARMACIE BLONDEL-WOLF",4,"Rond point","DE MONTFERMEIL","93340 LE-RAINCY",93340,"Le Raincy","Pharmacie d'officine","A"]
[{"$f":"VLOOKUP(B19181,Régions!A:C,3,FALSE)","v":"Ile-de-France"},93,"PHARMDIRECTFR",930013834,930013834,"oui","PHARMACIE FITOUSSI",10,"Avenue","du Général de Gaulle","93110 ROSNY-SOUS-BOIS",93110,"Rosny-sous-Bois","Pharmacie d'officine","A"]
[{"$f":"VLOOKUP(B19188,Régions!A:C,3,FALSE)","v":"Ile-de-France"},93,{"$error":"#N/A"},930014055,{"$error":"#N/A"},{"$error":"#N/A"},"PHARMACIE LETTERI",57,"Rue","DU RHIN","93110 ROSNY-SOUS-BOIS",93110,"Rosny-sous-Bois","Pharmacie d'officine","A"]
[{"$f":"VLOOKUP(B19200,Régions!A:C,3,FALSE)","v":"Ile-de-France"},93,{"$error":"#N/A"},930014436,{"$error":"#N/A"},{"$error":"#N/A"},"SELAS  GRANDE PHARMACIE DU MARCHE",123,"Rue","GABRIEL PERI","93200 SAINT-DENIS",93200,"Saint-Denis","Pharmacie d'officine","A"]
[{"$f":"VLOOKUP(B19208,Régions!A:C,3,FALSE)","v":"Ile-de-France"},93,{"$error":"#N/A"},930014683,{"$error":"#N/A"},{"$error":"#N/A"},"PHARMACIE GUILLOCHON",36,"Rue","DE LA REPUBLIQUE","93200 SAINT-DENIS",93200,"Saint-Denis","Pharmacie d'officine","A"]
[{"$f":"VLOOKUP(B19220,Régions!A:C,3,FALSE)","v":"Ile-de-France"},93,{"$error":"#N/A"},930015037,{"$error":"#N/A"},{"$error":"#N/A"},"PHARMACIE AMRY-BRAHIM",2,"Rue","EMILE ZOLA","93400 SAINT-OUEN-SUR-SEINE",93400,"Saint-Ouen-sur-Seine","Pharmacie d'officine","A"]
[{"$f":"VLOOKUP(B19223,Régions!A:C,3,FALSE)","v":"Ile-de-France"},93,"CNOP",930015102,930015102,"oui","PHARMACIE VALS FAERBER",63,"Avenue","GABRIEL PERI","93400 SAINT-OUEN-SUR-SEINE",93400,"Saint-Ouen-sur-Seine","Pharmacie d'officine","A"]
[{"$f":"VLOOKUP(B19235,Régions!A:C,3,FALSE)","v":"Ile-de-France"},93,{"$error":"#N/A"},930015466,{"$error":"#N/A"},{"$error":"#N/A"},"PHARMACIE BIGA",92,"Avenue","DE LIVRY","93270 SEVRAN",93270,"Sevran","Pharmacie d'officine","A"]
[{"$f":"VLOOKUP(B19242,Régions!A:C,3,FALSE)","v":"Ile-de-France"},93,"CNOP",930015722,930015722,"oui","PHARMACIE COUET - MOREAU",2,"Rue","CARNOT","93240 STAINS",93240,"Stains","Pharmacie d'officine","A"]
[{"$f":"VLOOKUP(B19254,Régions!A:C,3,FALSE)","v":"Ile-de-France"},93,{"$error":"#N/A"},930016100,{"$error":"#N/A"},{"$error":"#N/A"},"PHARMACIE THERET",78,"Avenue","HENRI BARBUSSE","93290 TREMBLAY-EN-FRANCE",93290,"Tremblay-en-France","Pharmacie d'officine","A"]
[{"$f":"VLOOKUP(B19261,Régions!A:C,3,FALSE)","v":"Ile-de-France"},93,{"$error":"#N/A"},930016373,{"$error":"#N/A"},{"$error":"#N/A"},"PHARMACIE GOND",6,"Avenue","DETOUCHE","93250 VILLEMOMBLE",93250,"Villemomble","Pharmacie d'officine","A"]
[{"$f":"VLOOKUP(B19273,Régions!A:C,3,FALSE)","v":"Ile-de-France"},93,{"$error":"#N/A"},930016803,{"$error":"#N/A"},{"$error":"#N/A"},"PHARMACIE BAGUET",27,"Avenue","HENRI BARBUSSE","93420 VILLEPINTE",93420,"Villepinte","Pharmacie d'officine","A"]
[{"$f":"VLOOKUP(B19276,Régions!A:C,3,FALSE)","v":"Ile-de-France"},93,"PHARMDIRECTFR",930016886,930016886,"oui","PHARMACIE GAPESIE TCHAMKAM",46,"Avenue","ROGER SALENGRO","93430 VILLETANEUSE",93430,"Villetaneuse","Pharmacie d'officine","A"]
[{"$f":"VLOOKUP(B19289,Régions!A:C,3,FALSE)","v":"Ile-de-France"},94,{"$error":"#N/A"},940005382,{"$error":"#N/A"},{"$error":"#N/A"},"PHARMACIE HAMARD",27,"Rue","ETIENNE DOLET","94140 ALFORTVILLE",94140,"Alfortville","Pharmacie d'officine","A"]
[{"$f":"VLOOKUP(B19296,Régions!A:C,3,FALSE)","v":"Ile-de-France"},94,{"$error":"#N/A"},940005655,{"$error":"#N/A"},{"$error":"#N/A"},"SELARL PHARMACIE M.ISSOUFALY",4,"Sentier","DE VILLIERS","94140 ALFORTVILLE",94140,"Alfortville","Pharmacie d'officine","A"]
[{"$f":"VLOOKUP(B19308,Régions!A:C,3,FALSE)","v":"Ile-de-France"},94,{"$error":"#N/A"},940006083,{"$error":"#N/A"},{"$error":"#N/A"},"PHARMACIE REPUBLIQUE",1,"Allee","DU DOCTEUR ROUX","94380 BONNEUIL-SUR-MARNE",94380,"Bonneuil-sur-Marne","Pharmacie d'officine","A"]
[{"$f":"VLOOKUP(B19315,Régions!A:C,3,FALSE)","v":"Ile-de-France"},94,{"$error":"#N/A"},940006307,{"$error":"#N/A"},{"$error":"#N/A"},"PHARMACIE LEVY-AMZALLAG",91,"Avenue","ARISTIDE BRIAND","94230 CACHAN",94230,"Cachan","Pharmacie d'officine","A"]
[{"$f":"VLOOKUP(B19327,Régions!A:C,3,FALSE)","v":"Ile-de-France"},94,"CNOP",940006703,940006703,"oui","PHARMACIE MOYA LOPEZ",2,"Rue","Rodin","94500 CHAMPIGNY-SUR-MARNE",94500,"Champigny-sur-Marne","Pharmacie d'officine","A"]
[{"$f":"VLOOKUP(B19334,Régions!A:C,3,FALSE)","v":"Ile-de-France"},94,{"$error":"#N/A"},940006950,{"$error":"#N/A"},{"$error":"#N/A"},"PHARMACIE MAHIEU - SZTARK",64,"Rue","JEAN JAURES","94500 CHAMPIGNY-SUR-MARNE",94500,"Champigny-sur-Marne","Pharmacie d'officine","A"]
[{"$f":"VLOOKUP(B19346,Régions!A:C,3,FALSE)","v":"Ile-de-France"},94,{"$error":"#N/A"},940007305,{"$error":"#N/A"},{"$error":"#N/A"},"PHARMACIE CASTRO",58,"Quai","DES CARRIERES","94220 CHARENTON-LE-PONT",94220,"Charenton-le-Pont","Pharmacie d'officine","A"]
[{"$f":"VLOOKUP(B19349,Régions!A:C,3,FALSE)","v":"Ile-de-France"},94,{"$error":"#N/A"},940007404,{"$error":"#N/A"},{"$error":"#N/A"},"PHARMACIE DU MARCHÉ",68,"Rue","DE PARIS","94220 CHARENTON-LE-PONT",94220,"Charenton-le-Pont","Pharmacie d'officine","A"]
[{"$f":"VLOOKUP(B19365,Régions!A:C,3,FALSE)","v":"Ile-de-France"},94,{"$error":"#N/A"},940007917,{"$error":"#N/A"},{"$error":"#N/A"},"PHARMACIE GORLIER",54,"Avenue","D'ALFORTVILLE","94600 CHOISY-LE-ROI",94600,"Choisy-le-Roi","Pharmacie d'officine","A"]
[{"$f":"VLOOKUP(B19374,Régions!A:C,3,FALSE)","v":"Ile-de-France"},94,"PHARMDIRECTFR",940008204,940008204,"oui","PHARMACIE GUOI",1,"Place","DE L'ABBAYE","94000 CRETEIL",94000,"Créteil","Pharmacie d'officine","A"]
[{"$f":"VLOOKUP(B19376,Régions!A:C,3,FALSE)","v":"Ile-de-France"},94,{"$error":"#N/A"},940008253,{"$error":"#N/A"},{"$error":"#N/A"},"PHARMACIE BERDAH-BEMBARON",2,"Rue","CALMETTE","94000 CRETEIL",94000,"Créteil","Pharmacie d'officine","A"]
[{"$f":"VLOOKUP(B19388,Régions!A:C,3,FALSE)","v":"Ile-de-France"},94,{"$error":"#N/A"},940008550,{"$error":"#N/A"},{"$error":"#N/A"},"PHARMACIE DU LAC",10,"Avenue","DU GL PIERRE BILLOTTE","94000 CRETEIL",94000,"Créteil","Pharmacie d'officine","A"]
[{"$f":"VLOOKUP(B19400,Régions!A:C,3,FALSE)","v":"Ile-de-France"},94,"CNOP",940008907,940008907,"oui","PHARMACIE DELSET - TAVERNA",18,"Rue","DU CDT JEAN DUHAIL","94120 FONTENAY SOUS BOIS",94120,"Fontenay-sous-Bois","Pharmacie d'officine","A"]
[{"$f":"VLOOKUP(B19407,Régions!A:C,3,FALSE)","v":"Ile-de-France"},94,{"$error":"#N/A"},940009137,{"$error":"#N/A"},{"$error":"#N/A"},"PHARMACIE TAIEB-MELLOUL",73,"Avenue","DE LA REPUBLIQUE","94120 FONTENAY-SOUS-BOIS",94120,"Fontenay-sous-Bois","Pharmacie d'officine","A"]
[{"$f":"VLOOKUP(B19419,Régions!A:C,3,FALSE)","v":"Ile-de-France"},94,{"$error":"#N/A"},940009582,{"$error":"#N/A"},{"$error":"#N/A"},"PHARMACIE CADI SOUSSI",24,"Rue","CHARLES FREROT","94250 GENTILLY",94250,"Gentilly","Pharmacie d'officine","A"]
[{"$f":"VLOOKUP(B19422,Régions!A:C,3,FALSE)","v":"Ile-de-France"},94,"CNOP",940009707,940009707,"oui","PHARMACIE FREREJOUAND",127,"Avenue","PAUL VAILLANT COUTURIER","94250 GENTILLY",94250,"Gentilly","Pharmacie d'officine","A"]
[{"$f":"VLOOKUP(B19438,Régions!A:C,3,FALSE)","v":"Ile-de-France"},94,{"$error":"#N/A"},940010242,{"$error":"#N/A"},{"$error":"#N/A"},"PHARMACIE BENDJEDDOU",8,"Place","DU GENERAL DE GAULLE","94200 IVRY SUR SEINE",94200,"Ivry-sur-Seine","Pharmacie d'officine","A"]
[{"$f":"VLOOKUP(B19445,Régions!A:C,3,FALSE)","v":"Ile-de-France"},94,{"$error":"#N/A"},940010481,{"$error":"#N/A"},{"$error":"#N/A"},"PHARMACIE NGUYEN",166,"Boulevard","DE STALINGRAD","94200 IVRY-SUR-SEINE",94200,"Ivry-sur-Seine","Pharmacie d'officine","A"]
[{"$f":"VLOOKUP(B19449,Régions!A:C,3,FALSE)","v":"Ile-de-France"},94,"CNOP",940010580,940010580,"oui","PHARMACIE NGUYEN KY DUNG-NGUYEN",16,"Avenue","DE VERDUN","94200 IVRY-SUR-SEINE",94200,"Ivry-sur-Seine","Pharmacie d'officine","A"]
[{"$f":"VLOOKUP(B19461,Régions!A:C,3,FALSE)","v":"Ile-de-France"},94,"CNOP",940010994,940010994,"non","PHARMACIE ATTUIL",12,"Rue","DU GENERAL LECLERC","94270 KREMLIN-BICÊTRE (LE)",94270,"Le Kremlin-Bicêtre","Pharmacie d'officine","A"]
[{"$f":"VLOOKUP(B19473,Régions!A:C,3,FALSE)","v":"Ile-de-France"},94,{"$error":"#N/A"},940011364,{"$error":"#N/A"},{"$error":"#N/A"},"PHARMACIE DU PONT",1,"Avenue","DU GENERAL LECLERC","94700 MAISONS-ALFORT",94700,"Maisons-Alfort","Pharmacie d'officine","A"]
[{"$f":"VLOOKUP(B19480,Régions!A:C,3,FALSE)","v":"Ile-de-France"},94,"PHARMDIRECTFR",940011612,940011612,"oui","PHARMACIE YOUK",141,"Rue","MARC SANGNIER","94700 MAISONS-ALFORT",94700,"Maisons-Alfort","Pharmacie d'officine","A"]
[{"$f":"VLOOKUP(B19492,Régions!A:C,3,FALSE)","v":"Ile-de-France"},94,"CNOP",940011893,940011893,"oui","PHARMACIE LOUIS JOSEPH",44,"Rue","DES HEROS NOGENTAIS","94130 NOGENT-SUR-MARNE",94130,"Nogent-sur-Marne","Pharmacie d'officine","A"]
[{"$f":"VLOOKUP(B19495,Régions!A:C,3,FALSE)","v":"Ile-de-France"},94,"CNOP",940012040,940012040,"oui","SELARL PHARMACIE DU BOULEVARD",147,"Boulevard","DE STRASBOURG","94130 NOGENT-SUR-MARNE",94130,"Nogent-sur-Marne","Pharmacie d'officine","A"]
[{"$f":"VLOOKUP(B19511,Régions!A:C,3,FALSE)","v":"Ile-de-France"},94,{"$error":"#N/A"},940012693,{"$error":"#N/A"},{"$error":"#N/A"},"PHARMACIE TEBOUL",12,"Place","ROBERT BELVAUX","94170 PERREUX-SUR-MARNE (LE)",94170,"Le Perreux-sur-Marne","Pharmacie d'officine","A"]
[{"$f":"VLOOKUP(B19514,Régions!A:C,3,FALSE)","v":"Ile-de-France"},94,{"$error":"#N/A"},940012776,{"$error":"#N/A"},{"$error":"#N/A"},"PHARMACIE GOLVAN-TOUABET",72,"Avenue","ARDOUIN","94420 PLESSIS-TREVISE (LE)",94420,"Le Plessis-Trévise","Pharmacie d'officine","A"]
[{"$f":"VLOOKUP(B19526,Régions!A:C,3,FALSE)","v":"Ile-de-France"},94,"PHARMDIRECTFR",940013162,940013162,"oui","PHARMACIE JEANNE D'ARC",2,"Rue","JEANNE D'ARC","94160 SAINT-MANDE",94160,"Saint-Mandé","Pharmacie d'officine","A"]
[{"$f":"VLOOKUP(B19534,Régions!A:C,3,FALSE)","v":"Ile-de-France"},94,"CNOP",940013394,940013394,"oui","PHARMACIE ATTIA",2,"Rue","DESGENETTES","94100 SAINT-MAUR-DES-FOSSES",94100,"Saint-Maur-des-Fossés","Pharmacie d'officine","A"]
[{"$f":"VLOOKUP(B19546,Régions!A:C,3,FALSE)","v":"Ile-de-France"},94,"CNOP",940013774,940013774,"oui","PHARMACIE VANPOUCKE",90,"Avenue","DU BAC","94210 LA-VARENNE-SAINT-HILAIRE",94210,"Saint-Maur-des-Fossés","Pharmacie d'officine","A"]
[{"$f":"VLOOKUP(B19553,Régions!A:C,3,FALSE)","v":"Ile-de-France"},94,{"$error":"#N/A"},940013964,{"$error":"#N/A"},{"$error":"#N/A"},"PHARMACIE MORALI-FELLOUS",5,"Rue","DU MARECHAL LECLERC","94410 SAINT-MAURICE",94410,"Saint-Maurice","Pharmacie d'officine","A"]
[{"$f":"VLOOKUP(B19565,Régions!A:C,3,FALSE)","v":"Ile-de-France"},94,"CNOP",940014327,940014327,"oui","PHARMACIE BELLE EPINE","NULL","Centre","COMMERCIAL BELLE EPINE 185","94320 THIAIS",94320,"Thiais","Pharmacie d'officine","A"]
[{"$f":"VLOOKUP(B19572,Régions!A:C,3,FALSE)","v":"Ile-de-France"},94,{"$error":"#N/A"},940014525,{"$error":"#N/A"},{"$error":"#N/A"},"PHARMACIE MAZOUNI-AL ZIN",53,"Rue","Hélène Muller","94320 THIAIS",94320,"Thiais","Pharmacie d'officine","A"]
[{"$f":"VLOOKUP(B19584,Régions!A:C,3,FALSE)","v":"Ile-de-France"},94,{"$error":"#N/A"},940014897,{"$error":"#N/A"},{"$error":"#N/A"},"PHARMACIE ZINOUNE",42,"Avenue","KARL MARX","94800 VILLEJUIF",94800,"Villejuif","Pharmacie d'officine","A"]
[{"$f":"VLOOKUP(B19587,Régions!A:C,3,FALSE)","v":"Ile-de-France"},94,{"$error":"#N/A"},940014962,{"$error":"#N/A"},{"$error":"#N/A"},"PHARMACIE CANDES - PRADEL",69,"Avenue","DE PARIS","94800 VILLEJUIF",94800,"Villejuif","Pharmacie d'officine","A"]
[{"$f":"VLOOKUP(B19594,Régions!A:C,3,FALSE)","v":"Ile-de-France"},94,{"$error":"#N/A"},940015191,{"$error":"#N/A"},{"$error":"#N/A"},"SELARL PHARMACIE  AICHE",69,"Rue","DU GENERAL DE GAULLE","94290 VILLENEUVE-LE-ROI",94290,"Villeneuve-le-Roi","Pharmacie d'officine","A"]
[{"$f":"VLOOKUP(B19611,Régions!A:C,3,FALSE)","v":"Ile-de-France"},94,"CNOP",940015696,940015696,"oui","PHARMACIE OFFNER-PRUVOT",16,"Place","DE LA GARE","94350 VILLIERS-SUR-MARNE",94350,"Villiers-sur-Marne","Pharmacie d'officine","A"]
[{"$f":"VLOOKUP(B19619,Régions!A:C,3,FALSE)","v":"Ile-de-France"},94,"CNOP",940015910,940015910,"oui","PHARMACIE SEBBANE - SASPORTES",1,"Rue","DEFRANCE - 2 RUE DU COMMANDANT MOWAT","94300 VINCENNES",94300,"Vincennes","Pharmacie d'officine","A"]
[{"$f":"VLOOKUP(B19626,Régions!A:C,3,FALSE)","v":"Ile-de-France"},94,"CNOP",940016090,940016090,"oui","PHARMACIE CROSNIER-CATTEAU",18,"Avenue","GEORGES CLEMENCEAU","94300 VINCENNES",94300,"Vincennes","Pharmacie d'officine","A"]
[{"$f":"VLOOKUP(B19638,Régions!A:C,3,FALSE)","v":"Ile-de-France"},94,{"$error":"#N/A"},940016397,{"$error":"#N/A"},{"$error":"#N/A"},"PHARMACIE BENMANSOUR",39,"Rue","ANSELME RONDENAY","94400 VITRY-SUR-SEINE",94400,"Vitry-sur-Seine","Pharmacie d'officine","A"]
[{"$f":"VLOOKUP(B19645,Régions!A:C,3,FALSE)","v":"Ile-de-France"},94,{"$error":"#N/A"},940016595,{"$error":"#N/A"},{"$error":"#N/A"},"PHARMACIE MALKI",101,"Rue","DU GENIE","94400 VITRY SUR SEINE",94400,"Vitry-sur-Seine","Pharmacie d'officine","A"]
[{"$f":"VLOOKUP(B19657,Régions!A:C,3,FALSE)","v":"Ile-de-France"},94,{"$error":"#N/A"},940016975,{"$error":"#N/A"},{"$error":"#N/A"},"PHARMACIE ROBIN",34,"Avenue","YOURI GAGARINE","94400 VITRY-SUR-SEINE",94400,"Vitry-sur-Seine","Pharmacie d'officine","A"]
[{"$f":"VLOOKUP(B19660,Régions!A:C,3,FALSE)","v":"Ile-de-France"},94,{"$error":"#N/A"},940018310,{"$error":"#N/A"},{"$error":"#N/A"},"PHARMACIE SEDIAME",83,"Avenue","DE VERDUN ANGLE 2 RUE DE BUISS","94000 CRETEIL",94000,"Créteil","Pharmacie d'officine","A"]
[{"$f":"VLOOKUP(B19667,Régions!A:C,3,FALSE)","v":"Ile-de-France"},94,"CNOP",940019334,940019334,"oui","PHARMACIE BELHASSEN-BALARD",3,"Rue","SADI CARNOT","94880 NOISEAU",94880,"Noiseau","Pharmacie d'officine","A"]
[{"$f":"VLOOKUP(B19682,Régions!A:C,3,FALSE)","v":"Ile-de-France"},95,"CNOP",950004556,950004556,"oui","PHARMACIE ESSAYOUTI-CHMANI",17,"Rue","DU DOCTEUR LERAY","95100 ARGENTEUIL",95100,"Argenteuil","Pharmacie d'officine","A"]
[{"$f":"VLOOKUP(B19687,Régions!A:C,3,FALSE)","v":"Ile-de-France"},95,{"$error":"#N/A"},950004721,{"$error":"#N/A"},{"$error":"#N/A"},"PHARMACIE KIHOUBA",298,"Avenue","JEAN JAURES","95100 ARGENTEUIL",95100,"Argenteuil","Pharmacie d'officine","A"]
[{"$f":"VLOOKUP(B19699,Régions!A:C,3,FALSE)","v":"Ile-de-France"},95,{"$error":"#N/A"},950005066,{"$error":"#N/A"},{"$error":"#N/A"},"PHARMACIE SIMO FOTSO",157,"Rue","PAUL VAILLANT COUTURIER","95100 ARGENTEUIL",95100,"Argenteuil","Pharmacie d'officine","A"]
[{"$f":"VLOOKUP(B19711,Régions!A:C,3,FALSE)","v":"Ile-de-France"},95,"PHARMDIRECTFR",950005470,950005470,"oui","PHARMACIE MAILLARD",2,"Rue","ALBERT 1ER","95260 BEAUMONT SUR OISE",95260,"Beaumont-sur-Oise","Pharmacie d'officine","A"]
[{"$f":"VLOOKUP(B19718,Régions!A:C,3,FALSE)","v":"Ile-de-France"},95,{"$error":"#N/A"},950005686,{"$error":"#N/A"},{"$error":"#N/A"},"SELARL PHARMACIE CHAKI HARRANE",66,"Rue","EDOUARD VAILLANT","95870 BEZONS",95870,"Bezons","Pharmacie d'officine","A"]
[{"$f":"VLOOKUP(B19730,Régions!A:C,3,FALSE)","v":"Ile-de-France"},95,{"$error":"#N/A"},950005983,{"$error":"#N/A"},{"$error":"#N/A"},"SELARL EKONDA",25,"NULL","GRANDE RUE","95710 BRAY-ET-LU",95710,"Bray-et-Lû","Pharmacie d'officine","A"]
[{"$f":"VLOOKUP(B19733,Régions!A:C,3,FALSE)","v":"Ile-de-France"},95,"PHARMDIRECTFR",950006072,950006072,"oui","PHARMACIE TRAN",14,"Place","DES TOULEUSES","95000 CERGY",95000,"Cergy","Pharmacie d'officine","A"]
[{"$f":"VLOOKUP(B19740,Régions!A:C,3,FALSE)","v":"Ile-de-France"},95,{"$error":"#N/A"},950006304,{"$error":"#N/A"},{"$error":"#N/A"}," PHARMACIE MONDETOUR",10,"Cours","DES CHAPITEAUX","95800 CERGY",95800,"Cergy","Pharmacie d'officine","A"]
[{"$f":"VLOOKUP(B19752,Régions!A:C,3,FALSE)","v":"Ile-de-France"},95,"CNOP",950006635,950006635,"oui","SELURL PHARMACIE DU MARTRAY",50,"Boulevard","CLEMENCEAU","95240 CORMEILLES-EN-PARISIS",95240,"Cormeilles-en-Parisis","Pharmacie d'officine","A"]
[{"$f":"VLOOKUP(B19763,Régions!A:C,3,FALSE)","v":"Ile-de-France"},95,{"$error":"#N/A"},950006957,{"$error":"#N/A"},{"$error":"#N/A"},"PHARMACIE LUMBROSO",14,"Rue","DE LA MAIRIE","95330 DOMONT",95330,"Domont","Pharmacie d'officine","A"]
[{"$f":"VLOOKUP(B19772,Régions!A:C,3,FALSE)","v":"Ile-de-France"},95,{"$error":"#N/A"},950007237,{"$error":"#N/A"},{"$error":"#N/A"},"PHARMACIE CARLES-PONCE MARCHANTE",15,"Rue","DU MARECHAL LECLERC","95440 ECOUEN",95440,"Écouen","Pharmacie d'officine","A"]
[{"$f":"VLOOKUP(B19784,Régions!A:C,3,FALSE)","v":"Ile-de-France"},95,"CNOP",950007583,950007583,"oui","PHARMACIE ARNOUX-MACLIN",61,"Rue","DE LA MARNE","95610 ERAGNY",95610,"Éragny","Pharmacie d'officine","A"]
[{"$f":"VLOOKUP(B19791,Régions!A:C,3,FALSE)","v":"Ile-de-France"},95,{"$error":"#N/A"},950007807,{"$error":"#N/A"},{"$error":"#N/A"},"SELARL PHARMACIE BENAISA",35,"Rue","DE  STALINGRAD","95120 ERMONT",95120,"Ermont","Pharmacie d'officine","A"]
[{"$f":"VLOOKUP(B19803,Régions!A:C,3,FALSE)","v":"Ile-de-France"},95,{"$error":"#N/A"},950008250,{"$error":"#N/A"},{"$error":"#N/A"},"PHARMACIE GUG",10,"NULL","GRANDE RUE","95740 FREPILLON",95740,"Frépillon","Pharmacie d'officine","A"]
[{"$f":"VLOOKUP(B19806,Régions!A:C,3,FALSE)","v":"Ile-de-France"},95,{"$error":"#N/A"},950008334,{"$error":"#N/A"},{"$error":"#N/A"},"SELAS PHARMACIE EL QOTNI","NULL","NULL","CCAL ARC EN CIEL","95140 GARGES LES GONESSE",95140,"Garges-lès-Gonesse","Pharmacie d'officine","A"]
[{"$f":"VLOOKUP(B19813,Régions!A:C,3,FALSE)","v":"Ile-de-France"},95,{"$error":"#N/A"},950008516,{"$error":"#N/A"},{"$error":"#N/A"},"PHARMACIE SEBIANE","NULL","Boulevard","DE LA MUETTE","95140 GARGES-LES-GONESSE",95140,"Garges-lès-Gonesse","Pharmacie d'officine","A"]
[{"$f":"VLOOKUP(B19825,Régions!A:C,3,FALSE)","v":"Ile-de-France"},95,{"$error":"#N/A"},950008953,{"$error":"#N/A"},{"$error":"#N/A"},"PHARMACIE DERRIEUX",2,"Place","DE LA CHARMEUSE","95190 GOUSSAINVILLE",95190,"Goussainville","Pharmacie d'officine","A"]
[{"$f":"VLOOKUP(B19834,Régions!A:C,3,FALSE)","v":"Ile-de-France"},95,"PHARMDIRECTFR",950009233,950009233,"oui","PHARMACIE ECANVIL",42,"Avenue","de la Plaine des Sports","95000 CERGY",95000,"Cergy","Pharmacie d'officine","A"]
[{"$f":"VLOOKUP(B19845,Régions!A:C,3,FALSE)","v":"Ile-de-France"},95,{"$error":"#N/A"},950009571,{"$error":"#N/A"},{"$error":"#N/A"},"PHARMACIE DES SILOS",25,"Avenue","Charles de Gaulle","95380 LOUVRES",95380,"Louvres","Pharmacie d'officine","A"]
[{"$f":"VLOOKUP(B19857,Régions!A:C,3,FALSE)","v":"Ile-de-France"},95,{"$error":"#N/A"},950009936,{"$error":"#N/A"},{"$error":"#N/A"},"PHARMACIE VILLEMONT",7,"Avenue","VICTOR HUGO","95630 MERIEL",95630,"Mériel","Pharmacie d'officine","A"]
[{"$f":"VLOOKUP(B19864,Régions!A:C,3,FALSE)","v":"Ile-de-France"},95,{"$error":"#N/A"},950010231,{"$error":"#N/A"},{"$error":"#N/A"},"PHARMACIE ADJAL",147,"Boulevard","VICTOR BORDIER","95370 MONTIGNY-LES-CORNEILLES",95370,"Montigny-lès-Cormeilles","Pharmacie d'officine","A"]
[{"$f":"VLOOKUP(B19876,Régions!A:C,3,FALSE)","v":"Ile-de-France"},95,"CNOP",950010611,950010611,"oui","PHARMACIE PECQUET",23,"Rue","PIERRE PILON","95690 NESLES-LA-VALLEE",95690,"Nesles-la-Vallée","Pharmacie d'officine","A"]
[{"$f":"VLOOKUP(B19883,Régions!A:C,3,FALSE)","v":"Ile-de-France"},95,"PHARMDIRECTFR",950010793,950010793,"oui","PHARMACIE BARDET",1,"Rue","GUICHARD","95620 PARMAIN",95620,"Parmain","Pharmacie d'officine","A"]
[{"$f":"VLOOKUP(B19886,Régions!A:C,3,FALSE)","v":"Ile-de-France"},95,"PHARMDIRECTFR",950010892,950010892,"oui","PHARMACIE DO PHAM",12,"Avenue","JEAN JAURES","95340 PERSAN",95340,"Persan","Pharmacie d'officine","A"]
[{"$f":"VLOOKUP(B19898,Régions!A:C,3,FALSE)","v":"Ile-de-France"},95,"CNOP",950011262,950011262,"oui","PHARMACIE CROISY-TOURAT",57,"Rue","DE GISORS","95300 PONTOISE",95300,"Pontoise","Pharmacie d'officine","A"]
[{"$f":"VLOOKUP(B19905,Régions!A:C,3,FALSE)","v":"Ile-de-France"},95,{"$error":"#N/A"},950011445,{"$error":"#N/A"},{"$error":"#N/A"},"LA CENTRALE DE SAINT BRICE",44,"Rue","DE PARIS","95350 SAINT-BRICE-SOUS-FORÊT",95350,"Saint-Brice-sous-Forêt","Pharmacie d'officine","A"]
[{"$f":"VLOOKUP(B19919,Régions!A:C,3,FALSE)","v":"Ile-de-France"},95,"PHARMDIRECTFR",950011841,950011841,"oui","PHARMACIE POIRE","NULL","Rue","DU GENERAL DE GAULLE","95310 SAINT-OUEN-L'AUMONE",95310,"Saint-Ouen-l'Aumône","Pharmacie d'officine","A"]
[{"$f":"VLOOKUP(B19930,Régions!A:C,3,FALSE)","v":"Ile-de-France"},95,{"$error":"#N/A"},950012112,{"$error":"#N/A"},{"$error":"#N/A"},"PHARMACIE DE LA POSTE",86,"Boulevard","DU GENERAL DE GAULLE","95110 SANNOIS",95110,"Sannois","Pharmacie d'officine","A"]
[{"$f":"VLOOKUP(B19937,Régions!A:C,3,FALSE)","v":"Ile-de-France"},95,"CNOP",950012310,950012310,"oui","PHARMACIE PETITPREZ",9,"Boulevard","ALBERT CAMUS","95200 SARCELLES",95200,"Sarcelles","Pharmacie d'officine","A"]
[{"$f":"VLOOKUP(B19949,Régions!A:C,3,FALSE)","v":"Ile-de-France"},95,"CNOP",950012674,950012674,"oui","PHARMACIE PLAT",34,"Rue","PIERRE BROSSOLETTE","95200 SARCELLES",95200,"Sarcelles","Pharmacie d'officine","A"]
[{"$f":"VLOOKUP(B19956,Régions!A:C,3,FALSE)","v":"Ile-de-France"},95,{"$error":"#N/A"},950012831,{"$error":"#N/A"},{"$error":"#N/A"},"GRANDE PHARMACIE DE L'AVENUE",25,"Avenue","DE PARIS","95230 SOISY-SOUS-MONTMORENCY",95230,"Soisy-sous-Montmorency","Pharmacie d'officine","A"]
[{"$f":"VLOOKUP(B19959,Régions!A:C,3,FALSE)","v":"Ile-de-France"},95,"CNOP",950012914,950012914,"oui","PHARMACIE CHATELAIN-MARCOU","NULL","Rue","DE LA LIBERTE","95470 SURVILLIERS",95470,"Survilliers","Pharmacie d'officine","A"]
[{"$f":"VLOOKUP(B19971,Régions!A:C,3,FALSE)","v":"Ile-de-France"},95,{"$error":"#N/A"},950013292,{"$error":"#N/A"},{"$error":"#N/A"},"SELAS PHARMACIE BUSSIE-FAMILLE",1,"Place","DE LA BUSSIE","95490 VAUREAL",95490,"Vauréal","Pharmacie d'officine","A"]
[{"$f":"VLOOKUP(B19978,Régions!A:C,3,FALSE)","v":"Ile-de-France"},95,{"$error":"#N/A"},950013474,{"$error":"#N/A"},{"$error":"#N/A"},"SELARL PHARMACIE DU MARCHE",24,"Rue","DU GENERAL ARCHINARD","95400 VILLIERS-LE-BEL",95400,"Villiers-le-Bel","Pharmacie d'officine","A"]
[{"$f":"VLOOKUP(B19990,Régions!A:C,3,FALSE)","v":"Ile-de-France"},95,"CNOP",950015917,950015917,"oui","PHARMACIE BENIBGHI-LACHGAR",23,"Avenue","DU 8 MAI 1945","95200 SARCELLES",95200,"Sarcelles","Pharmacie d'officine","A"]
[{"$f":"VLOOKUP(B20000,Régions!A:C,3,FALSE)","v":{"$error":"#N/A"}},97,{"$error":"#N/A"},970103354,{"$error":"#N/A"},{"$error":"#N/A"},"PHARMACIE AZAR","NULL","Rue","SAINTE ANNE","97160 LE MOULE",97160,"Le Moule","Pharmacie d'officine","EA"]
[{"$f":"VLOOKUP(B20010,Régions!A:C,3,FALSE)","v":{"$error":"#N/A"}},97,{"$error":"#N/A"},970104634,{"$error":"#N/A"},{"$error":"#N/A"},"PHARMACIE MAILLY",0,"Centre commercial","LES FLAMBOYANTS","97130 CAPESTERRE BELLE EAU",97130,"Capesterre-Belle-Eau","Pharmacie d'officine","EA"]
[{"$f":"VLOOKUP(B20022,Régions!A:C,3,FALSE)","v":{"$error":"#N/A"}},97,"CNOP",970106050,970106050,"oui","PHARMACIE  MAUREAUX-LAMOTHE","NULL","NULL","DESMARAIS","97100 BASSE TERRE",97100,"Basse-Terre","Pharmacie d'officine","EA"]
[{"$f":"VLOOKUP(B20029,Régions!A:C,3,FALSE)","v":{"$error":"#N/A"}},97,{"$error":"#N/A"},970106142,{"$error":"#N/A"},{"$error":"#N/A"},"PHARMACIE LEDUCQ",30,"Rue","PAUL LACAVE","97130 CAPESTERRE BELLE EAU",97130,"Capesterre-Belle-Eau","Pharmacie d'officine","EA"]
[{"$f":"VLOOKUP(B20032,Régions!A:C,3,FALSE)","v":{"$error":"#N/A"}},97,{"$error":"#N/A"},970106183,{"$error":"#N/A"},{"$error":"#N/A"},"CARMENTINE",6,"Residence","BUDON","97128 GOYAVE",97128,"Goyave","Pharmacie d'officine","EA"]
[{"$f":"VLOOKUP(B20044,Régions!A:C,3,FALSE)","v":{"$error":"#N/A"}},97,{"$error":"#N/A"},970106316,{"$error":"#N/A"},{"$error":"#N/A"},"PHARMACIE BANGOU","NULL","NULL","PLACE TRICOLORE","97115 STE ROSE",97115,"Sainte-Rose","Pharmacie d'officine","EA"]
[{"$f":"VLOOKUP(B20051,Régions!A:C,3,FALSE)","v":{"$error":"#N/A"}},97,{"$error":"#N/A"},970106399,{"$error":"#N/A"},{"$error":"#N/A"},"PHARMACIE DE GRAND CAMP LA ROCADE","NULL","NULL","LA ROCADE","97139 LES ABYMES",97139,"Les Abymes","Pharmacie d'officine","EA"]
[{"$f":"VLOOKUP(B20063,Régions!A:C,3,FALSE)","v":{"$error":"#N/A"}},97,"CNOP",970106514,970106514,"oui","PHARMACIE MAURICE",30,"Avenue","PATRICK SAINT ELOI","97139 LES ABYMES",97139,"Les Abymes","Pharmacie d'officine","EA"]
[{"$f":"VLOOKUP(B20071,Régions!A:C,3,FALSE)","v":{"$error":"#N/A"}},97,{"$error":"#N/A"},970106621,{"$error":"#N/A"},{"$error":"#N/A"},"PHARMACIE DU PELICAN",10,"Boulevard","DU GENERAL DE GAULLE","97190 LE-GOSIER",97190,"Le Gosier","Pharmacie d'officine","EA"]
[{"$f":"VLOOKUP(B20083,Régions!A:C,3,FALSE)","v":{"$error":"#N/A"}},97,"PHARMDIRECTFR",970106787,970106787,"oui","PHARMACIE DU CAPITOLE","NULL","Angle","DES RUES BRAGELONE ET DEBARCADAIRE","97111 MORNE A L EAU",97111,"Morne-à-l'Eau","Pharmacie d'officine","EA"]
[{"$f":"VLOOKUP(B20095,Régions!A:C,3,FALSE)","v":{"$error":"#N/A"}},97,{"$error":"#N/A"},970106910,{"$error":"#N/A"},{"$error":"#N/A"},"PHARMACIE GIRARD","NULL","Rue","DES CITES UNIES","97166 POINTE-À-PITRE CEDEX",97166,"Pointe-à-Pitre","Pharmacie d'officine","EA"]
[{"$f":"VLOOKUP(B20102,Régions!A:C,3,FALSE)","v":{"$error":"#N/A"}},97,{"$error":"#N/A"},970106993,{"$error":"#N/A"},{"$error":"#N/A"},"PHARMACIE TABAR-NOUVAL",10,"Rue","LEONARD","97110 POINTE-À-PITRE",97110,"Pointe-à-Pitre","Pharmacie d'officine","EA"]
[{"$f":"VLOOKUP(B20105,Régions!A:C,3,FALSE)","v":{"$error":"#N/A"}},97,{"$error":"#N/A"},970107033,{"$error":"#N/A"},{"$error":"#N/A"},"SNC PHARMACIE ROUX - POUJOL - ROMEUF",3,"Rue","DE LA REPUBLIQUE","97133 SAINT BARTHELEMY",97133,"Saint-Barthélemy","Pharmacie d'officine","EA"]
[{"$f":"VLOOKUP(B20117,Régions!A:C,3,FALSE)","v":{"$error":"#N/A"}},97,{"$error":"#N/A"},970107892,{"$error":"#N/A"},{"$error":"#N/A"},"PHARMACIE GRONIER - PIERRE","NULL","Zone d amenagement concerte","DE DAMENCOURT","97160 MOULE (LE)",97160,"Le Moule","Pharmacie d'officine","EA"]
[{"$f":"VLOOKUP(B20124,Régions!A:C,3,FALSE)","v":{"$error":"#N/A"}},97,"PHARMDIRECTFR",970108627,970108627,"oui","PHARMACIE MONTOUT","NULL","Residence","BEL ILET","97190 LE GOSIER",97190,"Le Gosier","Pharmacie d'officine","EA"]
[{"$f":"VLOOKUP(B20136,Régions!A:C,3,FALSE)","v":{"$error":"#N/A"}},97,{"$error":"#N/A"},970108742,{"$error":"#N/A"},{"$error":"#N/A"},"PHARMACIE GUY LEDUCQ",5,"Boulevard","FRANCKLYN LAURENCE","97150 SAINT MARTIN",97150,"Saint-Martin","Pharmacie d'officine","EA"]
[{"$f":"VLOOKUP(B20143,Régions!A:C,3,FALSE)","v":{"$error":"#N/A"}},97,{"$error":"#N/A"},970109443,{"$error":"#N/A"},{"$error":"#N/A"},"PHARMACIE MANIERE","NULL","Zone d amenagement concerte","DE BELLEVUE","97150 SAINT MARTIN",97150,"Saint-Martin","Pharmacie d'officine","EA"]
[{"$f":"VLOOKUP(B20156,Régions!A:C,3,FALSE)","v":{"$error":"#N/A"}},97,{"$error":"#N/A"},970203311,{"$error":"#N/A"},{"$error":"#N/A"},"PHARMACIE MARIANNE MELGARD","NULL","Boulevard","LOUIS LANDA","97280 LE VAUCLIN",97280,"Le Vauclin","Pharmacie d'officine","EA"]
[{"$f":"VLOOKUP(B20168,Régions!A:C,3,FALSE)","v":{"$error":"#N/A"}},97,{"$error":"#N/A"},970204442,{"$error":"#N/A"},{"$error":"#N/A"},"PHARMACIE DELPHA","NULL","Centre commercial","LA SOURCE","97224 DUCOS",97224,"Ducos","Pharmacie d'officine","EA"]
[{"$f":"VLOOKUP(B20175,Régions!A:C,3,FALSE)","v":{"$error":"#N/A"}},97,{"$error":"#N/A"},970204517,{"$error":"#N/A"},{"$error":"#N/A"},"PHARMACIE HELENON RICHARD",34,"Avenue","JEAN JAURES","97200 FORT-DE-FRANCE",97200,"Fort-de-France","Pharmacie d'officine","EA"]
[{"$f":"VLOOKUP(B20178,Régions!A:C,3,FALSE)","v":{"$error":"#N/A"}},97,{"$error":"#N/A"},970204541,{"$error":"#N/A"},{"$error":"#N/A"},"PHARMACIE FREDERIC PETIT",123,"Rue","FRANCOIS ARAGO","97200 FORT-DE-FRANCE",97200,"Fort-de-France","Pharmacie d'officine","EA"]
[{"$f":"VLOOKUP(B20194,Régions!A:C,3,FALSE)","v":{"$error":"#N/A"}},97,{"$error":"#N/A"},970204756,{"$error":"#N/A"},{"$error":"#N/A"},"PHARMACIE DJEM BEBEY",111,"Rue","VICTOR SEVERE","97200 FORT-DE-FRANCE",97200,"Fort-de-France","Pharmacie d'officine","EA"]
[{"$f":"VLOOKUP(B20197,Régions!A:C,3,FALSE)","v":{"$error":"#N/A"}},97,{"$error":"#N/A"},970204780,{"$error":"#N/A"},{"$error":"#N/A"},"PHARMACIE HAYOT - ALBUKERQUE","NULL","Angle","DES RUES SCHOELCHER ET PERRINO","97206 FORT-DE-FRANCE CEDEX",97206,"Fort-de-France","Pharmacie d'officine","EA"]
[{"$f":"VLOOKUP(B20209,Régions!A:C,3,FALSE)","v":{"$error":"#N/A"}},97,{"$error":"#N/A"},970204921,{"$error":"#N/A"},{"$error":"#N/A"},"PHARMACIE SAID",6,"Rue","JULES FERRY","97213 GROS-MORNE",97213,"Gros-Morne","Pharmacie d'officine","EA"]
[{"$f":"VLOOKUP(B20216,Régions!A:C,3,FALSE)","v":{"$error":"#N/A"}},97,{"$error":"#N/A"},970205019,{"$error":"#N/A"},{"$error":"#N/A"},"PHARMACIE MONAN-ZAMY","NULL","Centre","MEDICAL LA PLAINE","97232 LAMENTIN (LE)",97232,"Le Lamentin","Pharmacie d'officine","EA"]
[{"$f":"VLOOKUP(B20227,Régions!A:C,3,FALSE)","v":{"$error":"#N/A"}},97,{"$error":"#N/A"},970205142,{"$error":"#N/A"},{"$error":"#N/A"},"PHARMACIE DERIS",22,"Rue","ANDRE ALIKER","97260 LE MORNE ROUGE",97260,"Le Morne-Rouge","Pharmacie d'officine","EA"]
[{"$f":"VLOOKUP(B20233,Régions!A:C,3,FALSE)","v":{"$error":"#N/A"}},97,{"$error":"#N/A"},970205217,{"$error":"#N/A"},{"$error":"#N/A"},"PHARMACIE  DE L'ESPACE SUD",66,"Rue","JOINVILLE SAINT PRIX","97215 RIVIERE SALEE",97215,"Rivière-Salée","Pharmacie d'officine","EA"]
[{"$f":"VLOOKUP(B20234,Régions!A:C,3,FALSE)","v":{"$error":"#N/A"}},97,{"$error":"#N/A"},970205225,{"$error":"#N/A"},{"$error":"#N/A"},"PHARMACIE ROSE",79,"NULL","RUE SCHOELCHER","97215 RIVIERE SALEE",97215,"Rivière-Salée","Pharmacie d'officine","EA"]
[{"$f":"VLOOKUP(B20235,Régions!A:C,3,FALSE)","v":{"$error":"#N/A"}},97,{"$error":"#N/A"},970205233,{"$error":"#N/A"},{"$error":"#N/A"},"PHARMACIE BIGON","NULL","Bourg","DU VERT PRE","97231 LE-ROBERT",97231,"Le Robert","Pharmacie d'officine","EA"]
[{"$f":"VLOOKUP(B20236,Régions!A:C,3,FALSE)","v":{"$error":"#N/A"}},97,{"$error":"#N/A"},970205241,{"$error":"#N/A"},{"$error":"#N/A"},"PHARMACIE DE LA MANSARDE","NULL","Allee","DES LAURIERS","97231 LE ROBERT",97231,"Le Robert","Pharmacie d'officine","EA"]
[{"$f":"VLOOKUP(B20237,Régions!A:C,3,FALSE)","v":{"$error":"#N/A"}},97,{"$error":"#N/A"},970205258,{"$error":"#N/A"},{"$error":"#N/A"},"PHARMACIE GAILLARD",30,"Rue","SCHOELCHER","97231 LE-ROBERT",97231,"Le Robert","Pharmacie d'officine","EA"]
[{"$f":"VLOOKUP(B20238,Régions!A:C,3,FALSE)","v":{"$error":"#N/A"}},97,"CNOP",970205266,970205266,"oui","PHARMACIE PHILIPBERT",46,"Rue","DU COURBARIL","97231 LE-ROBERT",97231,"Le Robert","Pharmacie d'officine","EA"]
[{"$f":"VLOOKUP(B20239,Régions!A:C,3,FALSE)","v":{"$error":"#N/A"}},97,"PHARMDIRECTFR",970205274,970205274,"oui","PHARMACIE PLACIDE","NULL","Quartier","MANSARDE","97231 LE-ROBERT",97231,"Le Robert","Pharmacie d'officine","EA"]
[{"$f":"VLOOKUP(B20240,Régions!A:C,3,FALSE)","v":{"$error":"#N/A"}},97,{"$error":"#N/A"},970205282,{"$error":"#N/A"},{"$error":"#N/A"},"PHARMACIE JESSIE LUCIEN",3,"Rue","LUCIEN BELLUS","97231 LE-ROBERT",97231,"Le Robert","Pharmacie d'officine","EA"]
[{"$f":"VLOOKUP(B20241,Régions!A:C,3,FALSE)","v":{"$error":"#N/A"}},97,{"$error":"#N/A"},970205290,{"$error":"#N/A"},{"$error":"#N/A"},"PHARMACIE ESCUDIE-PERRIN","NULL","NULL","NULL","97233 SCHOËLCHER",97233,"Schoelcher","Pharmacie d'officine","EA"]
[{"$f":"VLOOKUP(B20242,Régions!A:C,3,FALSE)","v":{"$error":"#N/A"}},97,"CNOP",970205308,970205308,"oui","PHARMACIE MSR TERREVILLE","NULL","Zone d amenagement concerte","DE TERREVILLE","97233 SCHOELCHER",97233,"Schoelcher","Pharmacie d'officine","EA"]
[{"$f":"VLOOKUP(B20243,Régions!A:C,3,FALSE)","v":{"$error":"#N/A"}},97,"PHARMDIRECTFR",970205316,970205316,"oui","PHARMACIE DUDOGNON","NULL","NULL","NULL","97233 SCHOELCHER",97233,"Schoelcher","Pharmacie d'officine","EA"]
[{"$f":"VLOOKUP(B20244,Régions!A:C,3,FALSE)","v":{"$error":"#N/A"}},97,{"$error":"#N/A"},970205324,{"$error":"#N/A"},{"$error":"#N/A"},"PHARMACIE  DAVILA","NULL","Centre","MEDICAL SAINTE MARIE","97233 SCHOELCHER",97233,"Schoelcher","Pharmacie d'officine","EA"]
[{"$f":"VLOOKUP(B20245,Régions!A:C,3,FALSE)","v":{"$error":"#N/A"}},97,"PHARMDIRECTFR",970205332,970205332,"oui","PHARMACIE MICHEL","NULL","Voie","PRINCIPALE DU HAMEAU DE FOND L","97233 SCHOËLCHER",97233,"Schoelcher","Pharmacie d'officine","EA"]
[{"$f":"VLOOKUP(B20246,Régions!A:C,3,FALSE)","v":{"$error":"#N/A"}},97,{"$error":"#N/A"},970205340,{"$error":"#N/A"},{"$error":"#N/A"},"PHARMACIE CLUNY","NULL","NULL","NULL","97233 SCHOËLCHER",97233,"Schoelcher","Pharmacie d'officine","EA"]
[{"$f":"VLOOKUP(B20247,Régions!A:C,3,FALSE)","v":{"$error":"#N/A"}},97,"CNOP",970205357,970205357,"oui","PHARMACIE  DONARDIM","NULL","Residence","LES PLEIADES TRITON","97233 SCHOËLCHER",97233,"Schoelcher","Pharmacie d'officine","EA"]
[{"$f":"VLOOKUP(B20248,Régions!A:C,3,FALSE)","v":{"$error":"#N/A"}},97,"PHARMDIRECTFR",970205365,970205365,"oui","ELV PHARMA","NULL","Anse","MADAME","97233 SCHOËLCHER",97233,"Schoelcher","Pharmacie d'officine","EA"]
[{"$f":"VLOOKUP(B20249,Régions!A:C,3,FALSE)","v":{"$error":"#N/A"}},97,{"$error":"#N/A"},970205373,{"$error":"#N/A"},{"$error":"#N/A"},"PHARMACIE DE L'EGLISE",9,"Rue","GUEYDON","97270 SAINT-ESPRIT",97270,"Saint-Esprit","Pharmacie d'officine","EA"]
[{"$f":"VLOOKUP(B20250,Régions!A:C,3,FALSE)","v":{"$error":"#N/A"}},97,{"$error":"#N/A"},970205381,{"$error":"#N/A"},{"$error":"#N/A"},"PHARMACIE  NICOLAS",19,"Rue","DU CAPITAINE PIERRE-ROSE","97270 SAINT-ESPRIT",97270,"Saint-Esprit","Pharmacie d'officine","EA"]
[{"$f":"VLOOKUP(B20251,Régions!A:C,3,FALSE)","v":{"$error":"#N/A"}},97,{"$error":"#N/A"},970205399,{"$error":"#N/A"},{"$error":"#N/A"},"PHARMACIE VILLERONCE",16,"Rue","GUEYDON","97270 ST ESPRIT",97270,"Saint-Esprit","Pharmacie d'officine","EA"]
[{"$f":"VLOOKUP(B20252,Régions!A:C,3,FALSE)","v":{"$error":"#N/A"}},97,{"$error":"#N/A"},970205407,{"$error":"#N/A"},{"$error":"#N/A"},"PHARMACIE  BOULIKI","NULL","Rue","EUGENE MAILLARD","97212 SAINT-JOSEPH",97212,"Saint-Joseph","Pharmacie d'officine","EA"]
[{"$f":"VLOOKUP(B20253,Régions!A:C,3,FALSE)","v":{"$error":"#N/A"}},97,"CNOP",970205415,970205415,"oui","SELAS PHARMACIE MSR DU STADE","NULL","Lieu dit","BELLE ETOILE NORD","97212 ST JOSEPH",97212,"Saint-Joseph","Pharmacie d'officine","EA"]
[{"$f":"VLOOKUP(B20254,Régions!A:C,3,FALSE)","v":{"$error":"#N/A"}},97,{"$error":"#N/A"},970205431,{"$error":"#N/A"},{"$error":"#N/A"},"PHARMACIE BRAVO","NULL","Place","FELIX BOISSON","97250 SAINT-PIERRE",97250,"Saint-Pierre","Pharmacie d'officine","EA"]
[{"$f":"VLOOKUP(B20255,Régions!A:C,3,FALSE)","v":{"$error":"#N/A"}},97,{"$error":"#N/A"},970205456,{"$error":"#N/A"},{"$error":"#N/A"},"PHARMACIE  NOUGUIER",3,"Place","ABBE MORLAND","97227 STE ANNE",97227,"Sainte-Anne","Pharmacie d'officine","EA"]
[{"$f":"VLOOKUP(B20256,Régions!A:C,3,FALSE)","v":{"$error":"#N/A"}},97,{"$error":"#N/A"},970205464,{"$error":"#N/A"},{"$error":"#N/A"},"PHARMACIE JUDAIS","NULL","Place","DE LA MAIRIE","97228 SAINTE-LUCE",97228,"Sainte-Luce","Pharmacie d'officine","EA"]
[{"$f":"VLOOKUP(B20257,Régions!A:C,3,FALSE)","v":{"$error":"#N/A"}},97,"PHARMDIRECTFR",970205472,970205472,"oui","PHARMACIE  HONORE","NULL","Rue","SCHOELCHER","97228 SAINTE-LUCE",97228,"Sainte-Luce","Pharmacie d'officine","EA"]
[{"$f":"VLOOKUP(B20258,Régions!A:C,3,FALSE)","v":{"$error":"#N/A"}},97,{"$error":"#N/A"},970205480,{"$error":"#N/A"},{"$error":"#N/A"},"PHARMACIE MAUCLERE","NULL","NULL","NULL","97230 SAINTE-MARIE",97230,"Sainte-Marie","Pharmacie d'officine","EA"]
[{"$f":"VLOOKUP(B20259,Régions!A:C,3,FALSE)","v":{"$error":"#N/A"}},97,{"$error":"#N/A"},970205498,{"$error":"#N/A"},{"$error":"#N/A"},"PHARMACIE DE L'OCEAN",81,"Rue","SCHOELCHER","97230 SAINTE-MARIE",97230,"Sainte-Marie","Pharmacie d'officine","EA"]
[{"$f":"VLOOKUP(B20260,Régions!A:C,3,FALSE)","v":{"$error":"#N/A"}},97,{"$error":"#N/A"},970205506,{"$error":"#N/A"},{"$error":"#N/A"},"PHARMACIE MAUGEE","NULL","Rue","SCHOELCHER","97230 STE MARIE",97230,"Sainte-Marie","Pharmacie d'officine","EA"]
[{"$f":"VLOOKUP(B20261,Régions!A:C,3,FALSE)","v":{"$error":"#N/A"}},97,{"$error":"#N/A"},970205514,{"$error":"#N/A"},{"$error":"#N/A"},"PHARMACIE  FERGE","NULL","Centre commercial","LASSALLE","97230 STE MARIE",97230,"Sainte-Marie","Pharmacie d'officine","EA"]
[{"$f":"VLOOKUP(B20262,Régions!A:C,3,FALSE)","v":{"$error":"#N/A"}},97,{"$error":"#N/A"},970205522,{"$error":"#N/A"},{"$error":"#N/A"},"PHARMACIE CATIN","NULL","Quartier","UNION","97230 STE MARIE",97230,"Sainte-Marie","Pharmacie d'officine","EA"]
[{"$f":"VLOOKUP(B20263,Régions!A:C,3,FALSE)","v":{"$error":"#N/A"}},97,{"$error":"#N/A"},970205548,{"$error":"#N/A"},{"$error":"#N/A"},"PHARMACIE DU TOMBOLO",25,"Rue","SCHOELCHER","97230 SAINTE-MARIE",97230,"Sainte-Marie","Pharmacie d'officine","EA"]
[{"$f":"VLOOKUP(B20264,Régions!A:C,3,FALSE)","v":{"$error":"#N/A"}},97,{"$error":"#N/A"},970205555,{"$error":"#N/A"},{"$error":"#N/A"},"PHARMACIE MATHIEU",7,"Rue","JOSEPH LAGROSILLIERE","97220 TRINITE (LA)",97220,"La Trinité","Pharmacie d'officine","EA"]
[{"$f":"VLOOKUP(B20265,Régions!A:C,3,FALSE)","v":{"$error":"#N/A"}},97,"PHARMDIRECTFR",970205563,970205563,"oui","PHARMACIE PASTEUR",2,"Rue","JOSEPH LAGROSILLIERE","97220 TRINITE (LA)",97220,"La Trinité","Pharmacie d'officine","EA"]
[{"$f":"VLOOKUP(B20266,Régions!A:C,3,FALSE)","v":{"$error":"#N/A"}},97,{"$error":"#N/A"},970205571,{"$error":"#N/A"},{"$error":"#N/A"},"PHARMACIE NAJJAR",23,"Rue","VICTOR HUGO","97220 TRINITE (LA)",97220,"La Trinité","Pharmacie d'officine","EA"]
[{"$f":"VLOOKUP(B20267,Régions!A:C,3,FALSE)","v":{"$error":"#N/A"}},97,{"$error":"#N/A"},970205597,{"$error":"#N/A"},{"$error":"#N/A"},"PHARMACIE PASCREAU",1,"NULL","LA CRIQUE","97220 LA TRINITE",97220,"La Trinité","Pharmacie d'officine","EA"]
[{"$f":"VLOOKUP(B20268,Régions!A:C,3,FALSE)","v":{"$error":"#N/A"}},97,{"$error":"#N/A"},970205605,{"$error":"#N/A"},{"$error":"#N/A"},"PHARMACIE DE LA POINTE DU BOUT","NULL","NULL","MARINA","97229 LES TROIS ILETS",97229,"Les Trois-Îlets","Pharmacie d'officine","EA"]
[{"$f":"VLOOKUP(B20269,Régions!A:C,3,FALSE)","v":{"$error":"#N/A"}},97,{"$error":"#N/A"},970205621,{"$error":"#N/A"},{"$error":"#N/A"},"PHARMACIE FOUGEROUSE",16,"Rue","DES BANANIERS","97229 TROIS-ÎLETS (LES)",97229,"Les Trois-Îlets","Pharmacie d'officine","EA"]
[{"$f":"VLOOKUP(B20270,Régions!A:C,3,FALSE)","v":{"$error":"#N/A"}},97,{"$error":"#N/A"},970205639,{"$error":"#N/A"},{"$error":"#N/A"},"PHARMACIE FONROSE","NULL","Rue","VICTOR HUGO","97280 LE-VAUCLIN",97280,"Le Vauclin","Pharmacie d'officine","EA"]
[{"$f":"VLOOKUP(B20271,Régions!A:C,3,FALSE)","v":{"$error":"#N/A"}},97,"CNOP",970205647,970205647,"oui","PHARMACIE BELLE SANTE","NULL","Rue","VICTOR HUGO","97280 LE-VAUCLIN",97280,"Le Vauclin","Pharmacie d'officine","EA"]
[{"$f":"VLOOKUP(B20272,Régions!A:C,3,FALSE)","v":{"$error":"#N/A"}},97,{"$error":"#N/A"},970206447,{"$error":"#N/A"},{"$error":"#N/A"},"PHARMACIE  DES RAISINIERS","NULL","Lotissement","B 12 GROS RAISINS","97228 SAINTE-LUCE",97228,"Sainte-Luce","Pharmacie d'officine","EA"]
[{"$f":"VLOOKUP(B20273,Régions!A:C,3,FALSE)","v":{"$error":"#N/A"}},97,{"$error":"#N/A"},970207007,{"$error":"#N/A"},{"$error":"#N/A"},"PHARMACIE LOOS-SAMYDE","NULL","Zone industrielle","CANAL PETITE COCOTTE","97224 DUCOS",97224,"Ducos","Pharmacie d'officine","EA"]
[{"$f":"VLOOKUP(B20274,Régions!A:C,3,FALSE)","v":{"$error":"#N/A"}},97,"PHARMDIRECTFR",970208005,970208005,"oui","PHARMACIE DANIEL","NULL","Quartier","DESFARGES","97211 RIVIÈRE-PILOTE",97211,"Rivière-Pilote","Pharmacie d'officine","EA"]
[{"$f":"VLOOKUP(B20275,Régions!A:C,3,FALSE)","v":{"$error":"#N/A"}},97,"PHARMDIRECTFR",970208153,970208153,"oui","PHARMACIE FLECHON","NULL","Lotissement","MANIBA","97222 CASE PILOTE",97222,"Case-Pilote","Pharmacie d'officine","EA"]
[{"$f":"VLOOKUP(B20276,Régions!A:C,3,FALSE)","v":{"$error":"#N/A"}},97,{"$error":"#N/A"},970208518,{"$error":"#N/A"},{"$error":"#N/A"},"PHARMACIE POUVREAU","NULL","Quartier","BELLE ETOILE","97212 SAINT JOSEPH",97212,"Saint-Joseph","Pharmacie d'officine","EA"]
[{"$f":"VLOOKUP(B20277,Régions!A:C,3,FALSE)","v":{"$error":"#N/A"}},97,{"$error":"#N/A"},970208724,{"$error":"#N/A"},{"$error":"#N/A"},"PHARMACIE ROSEMAIN","NULL","Lieu dit","TRIANON NORD","97240 FRANCOIS (LE)",97240,"Le François","Pharmacie d'officine","EA"]
[{"$f":"VLOOKUP(B20278,Régions!A:C,3,FALSE)","v":{"$error":"#N/A"}},97,"PHARMDIRECTFR",970208781,970208781,"oui","PHARMACIE LA JOSSEAUD","NULL","Quartier","JOSSEAUD","97211 RIVIERE-PILOTE",97211,"Rivière-Pilote","Pharmacie d'officine","EA"]
[{"$f":"VLOOKUP(B20279,Régions!A:C,3,FALSE)","v":{"$error":"#N/A"}},97,{"$error":"#N/A"},970208815,{"$error":"#N/A"},{"$error":"#N/A"},"PHARMACIE DJEM-LAURENCE","NULL","Quartier","POINTE  LYNCH","97231 LE-ROBERT",97231,"Le Robert","Pharmacie d'officine","EA"]
[{"$f":"VLOOKUP(B20280,Régions!A:C,3,FALSE)","v":{"$error":"#N/A"}},97,{"$error":"#N/A"},970208849,{"$error":"#N/A"},{"$error":"#N/A"},"PHARMACIE COUFFE","NULL","Route","NATIONALE 4 - BOURG","97213 GROS-MORNE",97213,"Gros-Morne","Pharmacie d'officine","EA"]
[{"$f":"VLOOKUP(B20281,Régions!A:C,3,FALSE)","v":{"$error":"#N/A"}},97,{"$error":"#N/A"},970208872,{"$error":"#N/A"},{"$error":"#N/A"},"PHARMACIE ZECLER","NULL","NULL","NULL","97212 ST JOSEPH",97212,"Saint-Joseph","Pharmacie d'officine","EA"]
[{"$f":"VLOOKUP(B20282,Régions!A:C,3,FALSE)","v":{"$error":"#N/A"}},97,{"$error":"#N/A"},970209854,{"$error":"#N/A"},{"$error":"#N/A"},"PHARMACIE DU BALISIER","NULL","Lieu dit","LA GASCHETTE","97231 LE-ROBERT",97231,"Le Robert","Pharmacie d'officine","EA"]
[{"$f":"VLOOKUP(B20283,Régions!A:C,3,FALSE)","v":{"$error":"#N/A"}},97,"PHARMDIRECTFR",970300778,970300778,"oui","PHARMACIE BADJI",88,"Avenue","FRANÇOIS MITTERRAND","97317 APATOU",97317,"Apatou","Pharmacie d'officine","EA"]
[{"$f":"VLOOKUP(B20284,Régions!A:C,3,FALSE)","v":{"$error":"#N/A"}},97,"PHARMDIRECTFR",970300802,970300802,"oui","PHARMACIE DAVID","NULL","Avenue","HECTOR BERLIOZ","97310 KOUROU",97310,"Kourou","Pharmacie d'officine","EA"]
[{"$f":"VLOOKUP(B20285,Régions!A:C,3,FALSE)","v":{"$error":"#N/A"}},97,"CNOP",970300836,970300836,"oui","PHARMACIE DE L'ANSE","NULL","Rond point","GASTON MONNERVILLE","97310 KOUROU",97310,"Kourou","Pharmacie d'officine","EA"]
[{"$f":"VLOOKUP(B20286,Régions!A:C,3,FALSE)","v":{"$error":"#N/A"}},97,"PHARMDIRECTFR",970300851,970300851,"oui","PHARMACIE LEDY","NULL","Route","NATIONALE 1   TONATE","97355 MACOURIA TONATE",97355,"Macouria","Pharmacie d'officine","EA"]
[{"$f":"VLOOKUP(B20287,Régions!A:C,3,FALSE)","v":{"$error":"#N/A"}},97,{"$error":"#N/A"},970300885,{"$error":"#N/A"},{"$error":"#N/A"},"PHARMACIE LESCA","NULL","Angle","DES RUES BERVILLE GAZEL & ST J","97360 MANA",97360,"Mana","Pharmacie d'officine","EA"]
[{"$f":"VLOOKUP(B20288,Régions!A:C,3,FALSE)","v":{"$error":"#N/A"}},97,"CNOP",970300901,970300901,"oui","PHARMACIE JEAN VINCENT","NULL","Route","TROUBIRAN","97300 CAYENNE",97300,"Cayenne","Pharmacie d'officine","EA"]
[{"$f":"VLOOKUP(B20289,Régions!A:C,3,FALSE)","v":{"$error":"#N/A"}},97,{"$error":"#N/A"},970301040,{"$error":"#N/A"},{"$error":"#N/A"},"PHARMACIE DE LA PÉPINIÈRE",6,"Avenue","JOSEPH SYMPHORIEN","97320 SAINT-LAURENT-DU-MARONI",97320,"Saint-Laurent-du-Maroni","Pharmacie d'officine","EA"]
[{"$f":"VLOOKUP(B20290,Régions!A:C,3,FALSE)","v":{"$error":"#N/A"}},97,"PHARMDIRECTFR",970301065,970301065,"oui","PHARMACIE  DE LA RHUMERIE","NULL","Lotissement","LA RHUMERIE","97351 MATOURY",97351,"Matoury","Pharmacie d'officine","EA"]
[{"$f":"VLOOKUP(B20291,Régions!A:C,3,FALSE)","v":{"$error":"#N/A"}},97,"PHARMDIRECTFR",970301081,970301081,"oui","PHARMACIE DJEREHE",36,"Rue","DU LIEUTENANT COLONEL CHANDON","97320 SAINT-LAURENT-DU-MARONI",97320,"Saint-Laurent-du-Maroni","Pharmacie d'officine","EA"]
[{"$f":"VLOOKUP(B20292,Régions!A:C,3,FALSE)","v":{"$error":"#N/A"}},97,{"$error":"#N/A"},970301214,{"$error":"#N/A"},{"$error":"#N/A"},"PHARMACIE PEFOURA",3494,"Route","DE MONTABO","97300 CAYENNE",97300,"Cayenne","Pharmacie d'officine","EA"]
[{"$f":"VLOOKUP(B20293,Régions!A:C,3,FALSE)","v":{"$error":"#N/A"}},97,{"$error":"#N/A"},970301230,{"$error":"#N/A"},{"$error":"#N/A"},"PHARMACIE JANSEN","NULL","Lotissement","EMILIO PASCAL N 80","97313 SAINT-GEORGES-OYAPOC",97313,"Saint-Georges","Pharmacie d'officine","EA"]
[{"$f":"VLOOKUP(B20294,Régions!A:C,3,FALSE)","v":{"$error":"#N/A"}},97,"PHARMDIRECTFR",970301453,970301453,"oui","PHARMACIE  VOLTAIRE","NULL","Angle","RUE SAMUEL ET AVENUE VOLTAIRE","97300 CAYENNE",97300,"Cayenne","Pharmacie d'officine","EA"]
[{"$f":"VLOOKUP(B20295,Régions!A:C,3,FALSE)","v":{"$error":"#N/A"}},97,{"$error":"#N/A"},970301503,{"$error":"#N/A"},{"$error":"#N/A"},"PHIE MICHEL FREMOND-PHARMACIE CAYENNE",26,"Angle","R 14 ET 22 JUIN 1962 & 1 AV. R","97300 CAYENNE",97300,"Cayenne","Pharmacie d'officine","EA"]
[{"$f":"VLOOKUP(B20296,Régions!A:C,3,FALSE)","v":{"$error":"#N/A"}},97,"PHARMDIRECTFR",970301537,970301537,"oui","PHARMACIE SUBLET","NULL","Angle","DES RUES DE LA LIBERTE & VICTOR CEIDE","97351 MATOURY",97351,"Matoury","Pharmacie d'officine","EA"]
[{"$f":"VLOOKUP(B20297,Régions!A:C,3,FALSE)","v":{"$error":"#N/A"}},97,{"$error":"#N/A"},970302386,{"$error":"#N/A"},{"$error":"#N/A"},"PHARMACIE  NERON","NULL","NULL","NULL","97300 CAYENNE",97300,"Cayenne","Pharmacie d'officine","EA"]
[{"$f":"VLOOKUP(B20298,Régions!A:C,3,FALSE)","v":{"$error":"#N/A"}},97,{"$error":"#N/A"},970302394,{"$error":"#N/A"},{"$error":"#N/A"},"PHARMACIE  ZAHIRI","NULL","Angle","R FELIX EBOUE 20 &AV GAL DE GA","97300 CAYENNE",97300,"Cayenne","Pharmacie d'officine","EA"]
[{"$f":"VLOOKUP(B20299,Régions!A:C,3,FALSE)","v":{"$error":"#N/A"}},97,{"$error":"#N/A"},970302402,{"$error":"#N/A"},{"$error":"#N/A"},"PHARMACIE MAM LAM FOUCK-PAUILLAC",950,"Avenue","GASTON MONNERVILLE","97354 REMIRE MONTJOLY",97354,"Remire-Montjoly","Pharmacie d'officine","EA"]
[{"$f":"VLOOKUP(B20300,Régions!A:C,3,FALSE)","v":{"$error":"#N/A"}},97,"PHARMDIRECTFR",970302451,970302451,"oui","PHARMACIE DES MOUCAYAS",116,"Lotissement","LES MOUCAYAS","97351 MATOURY",97351,"Matoury","Pharmacie d'officine","EA"]
[{"$f":"VLOOKUP(B20301,Régions!A:C,3,FALSE)","v":{"$error":"#N/A"}},97,{"$error":"#N/A"},970302519,{"$error":"#N/A"},{"$error":"#N/A"},"PHARMACIE AHMED",16,"Rue","FRANCOIS ARAGO","97300 CAYENNE",97300,"Cayenne","Pharmacie d'officine","EA"]
[{"$f":"VLOOKUP(B20302,Régions!A:C,3,FALSE)","v":{"$error":"#N/A"}},97,"PHARMDIRECTFR",970302956,970302956,"oui","PHARMACIE DE LA MADELEINE",38,"Avenue","DES FLAMBOYANTS","97300 CAYENNE",97300,"Cayenne","Pharmacie d'officine","EA"]
[{"$f":"VLOOKUP(B20303,Régions!A:C,3,FALSE)","v":{"$error":"#N/A"}},97,{"$error":"#N/A"},970303061,{"$error":"#N/A"},{"$error":"#N/A"},"PHARMACIE SIMONEAU","NULL","Angle","R MALOUET N° 23 & LIEUT. BRASS","97300 CAYENNE",97300,"Cayenne","Pharmacie d'officine","EA"]
[{"$f":"VLOOKUP(B20304,Régions!A:C,3,FALSE)","v":{"$error":"#N/A"}},97,{"$error":"#N/A"},970303079,{"$error":"#N/A"},{"$error":"#N/A"},"PHARMACIE LONG HIM NAM","NULL","Cite","MEDAN","97300 CAYENNE",97300,"Cayenne","Pharmacie d'officine","EA"]
[{"$f":"VLOOKUP(B20305,Régions!A:C,3,FALSE)","v":{"$error":"#N/A"}},97,"PHARMDIRECTFR",970303087,970303087,"oui","SELAS LES HIBISCUS","NULL","NULL","ROUTE DE LA ROCADE","97300 CAYENNE",97300,"Cayenne","Pharmacie d'officine","EA"]
[{"$f":"VLOOKUP(B20306,Régions!A:C,3,FALSE)","v":{"$error":"#N/A"}},97,{"$error":"#N/A"},970303095,{"$error":"#N/A"},{"$error":"#N/A"},"BADUEL",1361,"Route","de Baduel","97300 CAYENNE",97300,"Cayenne","Pharmacie d'officine","EA"]
[{"$f":"VLOOKUP(B20307,Régions!A:C,3,FALSE)","v":{"$error":"#N/A"}},97,{"$error":"#N/A"},970303103,{"$error":"#N/A"},{"$error":"#N/A"},"PHARMACIE BOURDIN",30,"Rue","RENÉ BARTHÉLÉMY","97300 CAYENNE",97300,"Cayenne","Pharmacie d'officine","EA"]
[{"$f":"VLOOKUP(B20308,Régions!A:C,3,FALSE)","v":{"$error":"#N/A"}},97,{"$error":"#N/A"},970303111,{"$error":"#N/A"},{"$error":"#N/A"},"PHARMACIE DE GAULLE",23,"Avenue","DU GENERAL DE GAULLE","97321 CAYENNE CEDEX",97321,"Cayenne","Pharmacie d'officine","EA"]
[{"$f":"VLOOKUP(B20309,Régions!A:C,3,FALSE)","v":{"$error":"#N/A"}},97,"PHARMDIRECTFR",970303137,970303137,"oui","PHARMACIE COLIBRI","NULL","Quartier","SIMAROUBA","97310 KOUROU",97310,"Kourou","Pharmacie d'officine","EA"]
[{"$f":"VLOOKUP(B20310,Régions!A:C,3,FALSE)","v":{"$error":"#N/A"}},97,{"$error":"#N/A"},970303145,{"$error":"#N/A"},{"$error":"#N/A"},"PHARMACIE  MARSOLLIER",1,"Rue","GUIDIGLO","97310 KOUROU",97310,"Kourou","Pharmacie d'officine","EA"]
[{"$f":"VLOOKUP(B20311,Régions!A:C,3,FALSE)","v":{"$error":"#N/A"}},97,{"$error":"#N/A"},970303152,{"$error":"#N/A"},{"$error":"#N/A"},"PHARMACIE DE LA PLACE DES AMERIQUES","NULL","Place","DES AMERIQUES C92A","97310 KOUROU",97310,"Kourou","Pharmacie d'officine","EA"]
[{"$f":"VLOOKUP(B20312,Régions!A:C,3,FALSE)","v":{"$error":"#N/A"}},97,{"$error":"#N/A"},970303160,{"$error":"#N/A"},{"$error":"#N/A"},"PHARMACIE  DU LARIVOT","NULL","Route","NATIONALE 1   CD 19","97351 MATOURY",97351,"Matoury","Pharmacie d'officine","EA"]
[{"$f":"VLOOKUP(B20313,Régions!A:C,3,FALSE)","v":{"$error":"#N/A"}},97,{"$error":"#N/A"},970303178,{"$error":"#N/A"},{"$error":"#N/A"},"PHARMACIE DE MONTJOLY",267,"Route","DE MONTJOLY","97354 REMIRE MONTJOLY",97354,"Remire-Montjoly","Pharmacie d'officine","EA"]
[{"$f":"VLOOKUP(B20314,Régions!A:C,3,FALSE)","v":{"$error":"#N/A"}},97,"PHARMDIRECTFR",970303186,970303186,"oui","PHARMACIE THOMAS-ROBIN LOE-MIE",30,"Rue","DES PIONNIERS   LES GRENADILLE","97354 REMIRE MONTJOLY",97354,"Remire-Montjoly","Pharmacie d'officine","EA"]
[{"$f":"VLOOKUP(B20315,Régions!A:C,3,FALSE)","v":{"$error":"#N/A"}},97,"PHARMDIRECTFR",970303194,970303194,"oui","PHARMACIE BERTHAUD",27,"Avenue","DU GENERAL DE GAULLE","97320 SAINT-LAURENT-DU-MARONI",97320,"Saint-Laurent-du-Maroni","Pharmacie d'officine","EA"]
[{"$f":"VLOOKUP(B20316,Régions!A:C,3,FALSE)","v":{"$error":"#N/A"}},97,{"$error":"#N/A"},970303202,{"$error":"#N/A"},{"$error":"#N/A"},"PHARMACIE TAFIAL",14,"Avenue","HECTOR RIVIEREZ","97320 ST LAURENT DU MARONI",97320,"Saint-Laurent-du-Maroni","Pharmacie d'officine","EA"]
[{"$f":"VLOOKUP(B20317,Régions!A:C,3,FALSE)","v":{"$error":"#N/A"}},97,{"$error":"#N/A"},970303210,{"$error":"#N/A"},{"$error":"#N/A"},"PHARMACIE DECOLLAS",57,"Rue","DU CALVAIRE","97315 SINNAMARY",97315,"Sinnamary","Pharmacie d'officine","EA"]
[{"$f":"VLOOKUP(B20318,Régions!A:C,3,FALSE)","v":{"$error":"#N/A"}},97,{"$error":"#N/A"},970303558,{"$error":"#N/A"},{"$error":"#N/A"},"PHARMACIE DUSAUSOY","NULL","NULL","NULL","97320 ST LAURENT DU MARONI",97320,"Saint-Laurent-du-Maroni","Pharmacie d'officine","EA"]
[{"$f":"VLOOKUP(B20319,Régions!A:C,3,FALSE)","v":{"$error":"#N/A"}},97,"PHARMDIRECTFR",970303624,970303624,"oui","PHARMACIE NERON",46,"NULL","COGNEAU LAMIRANDE","97351 MATOURY",97351,"Matoury","Pharmacie d'officine","EA"]
[{"$f":"VLOOKUP(B20320,Régions!A:C,3,FALSE)","v":{"$error":"#N/A"}},97,{"$error":"#N/A"},970304333,{"$error":"#N/A"},{"$error":"#N/A"},"PHARMACIE MVOGO","NULL","Route","DE MONTJOLY","97354 REMIRE MONTJOLY",97354,"Remire-Montjoly","Pharmacie d'officine","EA"]
[{"$f":"VLOOKUP(B20321,Régions!A:C,3,FALSE)","v":{"$error":"#N/A"}},97,{"$error":"#N/A"},970304507,{"$error":"#N/A"},{"$error":"#N/A"},"PHARMACIE DE L'HYPER","NULL","Centre commercial","HYPER U","97300 CAYENNE",97300,"Cayenne","Pharmacie d'officine","EA"]
[{"$f":"VLOOKUP(B20322,Régions!A:C,3,FALSE)","v":{"$error":"#N/A"}},97,{"$error":"#N/A"},970304606,{"$error":"#N/A"},{"$error":"#N/A"},"PHARMACIE DICK","NULL","NULL","RESIDENCE MAIRE","97351 MATOURY",97351,"Matoury","Pharmacie d'officine","EA"]
[{"$f":"VLOOKUP(B20323,Régions!A:C,3,FALSE)","v":{"$error":"#N/A"}},97,"PHARMDIRECTFR",970304671,970304671,"oui","PHARMACIE  ALBANO",5,"Avenue","PRIPRI SOULA","97355 MACOURIA #",97355,"Macouria","Pharmacie d'officine","EA"]
[{"$f":"VLOOKUP(B20324,Régions!A:C,3,FALSE)","v":{"$error":"#N/A"}},97,{"$error":"#N/A"},970304705,{"$error":"#N/A"},{"$error":"#N/A"},"PHARMACIE LEBON",357,"Route","DE REMIRE","97354 REMIRE MONTJOLY",97354,"Remire-Montjoly","Pharmacie d'officine","EA"]
[{"$f":"VLOOKUP(B20325,Régions!A:C,3,FALSE)","v":{"$error":"#N/A"}},97,"PHARMDIRECTFR",970304721,970304721,"oui","PHARMACIE  LOE-MIE",28,"Rue","LOUIS BLANC","97300 CAYENNE",97300,"Cayenne","Pharmacie d'officine","EA"]
[{"$f":"VLOOKUP(B20326,Régions!A:C,3,FALSE)","v":{"$error":"#N/A"}},97,{"$error":"#N/A"},970304754,{"$error":"#N/A"},{"$error":"#N/A"},"PHARMACIE MARNET-NTAB",51,"Allee","DU LAC BLEU","97320 ST LAURENT DU MARONI",97320,"Saint-Laurent-du-Maroni","Pharmacie d'officine","EA"]
[{"$f":"VLOOKUP(B20327,Régions!A:C,3,FALSE)","v":{"$error":"#N/A"}},97,"PHARMDIRECTFR",970304770,970304770,"oui","PHARMACIE AREL-GOLITIN","NULL","Avenue","DE L'ANSE","97310 KOUROU",97310,"Kourou","Pharmacie d'officine","EA"]
[{"$f":"VLOOKUP(B20328,Régions!A:C,3,FALSE)","v":{"$error":"#N/A"}},97,{"$error":"#N/A"},970305371,{"$error":"#N/A"},{"$error":"#N/A"},"PHARMACIE MANANTSARA",4051,"Avenue","PAUL CASTAING","97320 ST LAURENT DU MARONI",97320,"Saint-Laurent-du-Maroni","Pharmacie d'officine","EA"]
[{"$f":"VLOOKUP(B20329,Régions!A:C,3,FALSE)","v":{"$error":"#N/A"}},97,"PHARMDIRECTFR",970305470,970305470,"oui","PHARMACIE AKPOVI",4,"Place","EMILE ZOLA","97320 ST LAURENT DU MARONI",97320,"Saint-Laurent-du-Maroni","Pharmacie d'officine","EA"]
[{"$f":"VLOOKUP(B20330,Régions!A:C,3,FALSE)","v":{"$error":"#N/A"}},97,{"$error":"#N/A"},970305686,{"$error":"#N/A"},{"$error":"#N/A"},"PHARMACIE MARTINEZ",4,"Avenue","Léonard Domerger",97370,97370,"Maripasoula","Pharmacie d'officine","EA"]
[{"$f":"VLOOKUP(B20331,Régions!A:C,3,FALSE)","v":{"$error":"#N/A"}},97,{"$error":"#N/A"},970306163,{"$error":"#N/A"},{"$error":"#N/A"},"PHARMACIE DE CABASSOU",2,"Route","de la Crique Fouillee","97354 REMIRE-MONTJOLY",97354,"Remire-Montjoly","Pharmacie d'officine","EA"]
[{"$f":"VLOOKUP(B20332,Régions!A:C,3,FALSE)","v":{"$error":"#N/A"}},97,"PHARMDIRECTFR",970402699,970402699,"oui","PHARMACIE COOLEN",1019,"Chemin","DU CENTRE","97440 SAINT-ANDRE",97440,"Saint-André","Pharmacie d'officine","EA"]
[{"$f":"VLOOKUP(B20333,Régions!A:C,3,FALSE)","v":{"$error":"#N/A"}},97,"CNOP",970402798,970402798,"oui","PHARMACIE PILLET","NULL","Route","DE FATIMA - LE BERNICA","97435 SAINT-GILLES-LES-HAUTS",97435,"Saint-Paul","Pharmacie d'officine","EA"]
[{"$f":"VLOOKUP(B20334,Régions!A:C,3,FALSE)","v":{"$error":"#N/A"}},97,{"$error":"#N/A"},970403598,{"$error":"#N/A"},{"$error":"#N/A"},"PHARMACIE POINTE DES CHATEAUX",2,"Rue","des Cocotiers","97436 SAINT-LEU",97436,"Saint-Leu","Pharmacie d'officine","EA"]
[{"$f":"VLOOKUP(B20335,Régions!A:C,3,FALSE)","v":{"$error":"#N/A"}},97,"CNOP",970403788,970403788,"oui","PHARMACIE BALUSTRE",80,"Chemin","JEAN BAPTISTE HUET","97430 LE-TAMPON",97430,"Le Tampon","Pharmacie d'officine","EA"]
[{"$f":"VLOOKUP(B20336,Régions!A:C,3,FALSE)","v":{"$error":"#N/A"}},97,"CNOP",970403895,970403895,"oui","PHARMACIE BASTIDE",826,"Chemin","RAVINE CREUSE","97440 SAINT-ANDRE",97440,"Saint-André","Pharmacie d'officine","EA"]
[{"$f":"VLOOKUP(B20337,Régions!A:C,3,FALSE)","v":{"$error":"#N/A"}},97,{"$error":"#N/A"},970403911,{"$error":"#N/A"},{"$error":"#N/A"},"PHARMACIE BRAUER",261,"Rue","DU LYCEE","97440 SAINT-ANDRE",97440,"Saint-André","Pharmacie d'officine","EA"]
[{"$f":"VLOOKUP(B20338,Régions!A:C,3,FALSE)","v":{"$error":"#N/A"}},97,"PHARMDIRECTFR",970403945,970403945,"oui","DL PHARMA",227,"Rue","N 2 PETIT ST PIERRE","97437 SAINTE-ANNE",97437,"Saint-Benoît","Pharmacie d'officine","EA"]
[{"$f":"VLOOKUP(B20339,Régions!A:C,3,FALSE)","v":{"$error":"#N/A"}},97,"PHARMDIRECTFR",970403994,970403994,"oui","PHARMACIE CHECKOURI",14,"Chemin","AGENOR","97440 SAINT-ANDRE",97440,"Saint-André","Pharmacie d'officine","EA"]
[{"$f":"VLOOKUP(B20340,Régions!A:C,3,FALSE)","v":{"$error":"#N/A"}},97,"CNOP",970404026,970404026,"oui","PHARMACIE THIRIFAYS",3,"Rue","DES JAMBLONS","97450 ST LOUIS",97450,"Saint-Louis","Pharmacie d'officine","EA"]
[{"$f":"VLOOKUP(B20341,Régions!A:C,3,FALSE)","v":{"$error":"#N/A"}},97,"PHARMDIRECTFR",970404042,970404042,"oui","PHARMACIE BERAUD - POUJOL","NULL","Residence","DU LAGON","97434 SAINT-GILLES-LES-BAINS",97434,"Saint-Paul","Pharmacie d'officine","EA"]
[{"$f":"VLOOKUP(B20342,Régions!A:C,3,FALSE)","v":{"$error":"#N/A"}},97,"PHARMDIRECTFR",970404075,970404075,"oui","ELA VETYVER",24,"NULL","C. D. 29","97410 ST PIERRE",97410,"Saint-Pierre","Pharmacie d'officine","EA"]
[{"$f":"VLOOKUP(B20343,Régions!A:C,3,FALSE)","v":{"$error":"#N/A"}},97,"CNOP",970404091,970404091,"oui","PHARMACIE MENUZZO",12,"Chemin","RECHERCHANT","97432 RAVINE DES CABRIS",97432,"Saint-Pierre","Pharmacie d'officine","EA"]
[{"$f":"VLOOKUP(B20344,Régions!A:C,3,FALSE)","v":{"$error":"#N/A"}},97,"PHARMDIRECTFR",970404125,970404125,"oui","PHARMACIE DE LA RESERVE",20,"Rue","BARDEAUX","97438 STE MARIE",97438,"Sainte-Marie","Pharmacie d'officine","EA"]
[{"$f":"VLOOKUP(B20345,Régions!A:C,3,FALSE)","v":{"$error":"#N/A"}},97,"PHARMDIRECTFR",970404141,970404141,"oui","PHARMACIE TEPIC",12,"Chemin","PANON","97441 SAINTE-SUZANNE",97441,"Sainte-Suzanne","Pharmacie d'officine","EA"]
[{"$f":"VLOOKUP(B20346,Régions!A:C,3,FALSE)","v":{"$error":"#N/A"}},97,"PHARMDIRECTFR",970404174,970404174,"oui","PHARMACIE ANDREANI",429,"Rue","HUBERT DELISLE","97430 LE TAMPON",97430,"Le Tampon","Pharmacie d'officine","EA"]
[{"$f":"VLOOKUP(B20347,Régions!A:C,3,FALSE)","v":{"$error":"#N/A"}},97,"PHARMDIRECTFR",970404190,970404190,"oui","PHARMACIE DU GRAND BLEU",80,"NULL","ROUTE NATIONALE","97442 ST PHILIPPE",97442,"Saint-Philippe","Pharmacie d'officine","EA"]
[{"$f":"VLOOKUP(B20348,Régions!A:C,3,FALSE)","v":{"$error":"#N/A"}},97,{"$error":"#N/A"},970404265,{"$error":"#N/A"},{"$error":"#N/A"},"PHARMACIE MONTMESSIN","NULL","Avenue","DE L'EUROPE","97430 LE-TAMPON",97430,"Le Tampon","Pharmacie d'officine","EA"]
[{"$f":"VLOOKUP(B20349,Régions!A:C,3,FALSE)","v":{"$error":"#N/A"}},97,"PHARMDIRECTFR",970404315,970404315,"oui","PHARMACIE LEONG SHE",342,"Route","DE JEAN PETIT","97480 SAINT-JOSEPH",97480,"Saint-Joseph","Pharmacie d'officine","EA"]
[{"$f":"VLOOKUP(B20350,Régions!A:C,3,FALSE)","v":{"$error":"#N/A"}},97,{"$error":"#N/A"},970404331,{"$error":"#N/A"},{"$error":"#N/A"},"YODAWAN PHARMA",62,"Rue","RAYMOND MONDON","97419 LA-POSSESSION",97419,"La Possession","Pharmacie d'officine","EA"]
[{"$f":"VLOOKUP(B20351,Régions!A:C,3,FALSE)","v":{"$error":"#N/A"}},97,"CNOP",970404422,970404422,"oui","PHARMACIE MARTEIL",21,"Rue","CHARLES GUILLOCHET","97460 SAINT-PAUL",97460,"Saint-Paul","Pharmacie d'officine","EA"]
[{"$f":"VLOOKUP(B20352,Régions!A:C,3,FALSE)","v":{"$error":"#N/A"}},97,"PHARMDIRECTFR",970404455,970404455,"oui","PHARMACIE LOMET",1,"NULL","ROCADE DE L'OASIS","97400 ST DENIS",97400,"Saint-Denis","Pharmacie d'officine","EA"]
[{"$f":"VLOOKUP(B20353,Régions!A:C,3,FALSE)","v":{"$error":"#N/A"}},97,"PHARMDIRECTFR",970404471,970404471,"oui","PHARMACIE DU PORTAIL",1,"Rue","DES BAIES ROSES","97424 LE-PITON-SAINT-LEU",97424,"Saint-Leu","Pharmacie d'officine","EA"]
[{"$f":"VLOOKUP(B20354,Régions!A:C,3,FALSE)","v":{"$error":"#N/A"}},97,"CNOP",970404596,970404596,"oui","PHARMACIE DUBOIS",19,"Place","DES COQUILLAGES","97434 SAINT-GILLES LES BAINS",97434,"Saint-Paul","Pharmacie d'officine","EA"]
[{"$f":"VLOOKUP(B20355,Régions!A:C,3,FALSE)","v":{"$error":"#N/A"}},97,"PHARMDIRECTFR",970404794,970404794,"oui","PHARMACIE FONTAINE",17,"Avenue","DU DOMAINE AZUR","97438 SAINTE-MARIE",97438,"Sainte-Marie","Pharmacie d'officine","EA"]
[{"$f":"VLOOKUP(B20356,Régions!A:C,3,FALSE)","v":{"$error":"#N/A"}},97,"PHARMDIRECTFR",970404927,970404927,"oui","PHARMACIE  QUARTIER FRANCAIS",20,"Rond point","DES METIERS","97441 SAINTE-SUZANNE",97441,"Sainte-Suzanne","Pharmacie d'officine","EA"]
[{"$f":"VLOOKUP(B20357,Régions!A:C,3,FALSE)","v":{"$error":"#N/A"}},97,"PHARMDIRECTFR",970404943,970404943,"oui","LA PHARMACIE VERTE",72,"Rue","LEONUS BENARD","97450 SAINT-LOUIS",97450,"Saint-Louis","Pharmacie d'officine","EA"]
[{"$f":"VLOOKUP(B20358,Régions!A:C,3,FALSE)","v":{"$error":"#N/A"}},97,"PHARMDIRECTFR",970405056,970405056,"oui","PHARMACIE ZEHNACKER",3,"Rue","Terrain l'Avion","97435 SAINT-PAUL",97435,"Saint-Paul","Pharmacie d'officine","EA"]
[{"$f":"VLOOKUP(B20359,Régions!A:C,3,FALSE)","v":{"$error":"#N/A"}},97,"PHARMDIRECTFR",970405080,970405080,"oui","SELARL PHARMACIE DES  CANOTS",115,"Route","DES CANOTS","97427 L-ETANG-SALE",97427,"L'Étang-Salé","Pharmacie d'officine","EA"]
[{"$f":"VLOOKUP(B20360,Régions!A:C,3,FALSE)","v":{"$error":"#N/A"}},97,"PHARMDIRECTFR",970405502,970405502,"oui","PHARMACIE  HOARAU",33,"Rue","PAUL DEMANGE","97429 PETITE ILE",97429,"Petite-Île","Pharmacie d'officine","EA"]
[{"$f":"VLOOKUP(B20361,Régions!A:C,3,FALSE)","v":{"$error":"#N/A"}},97,"PHARMDIRECTFR",970405536,970405536,"oui","PHARMACIE CHU YAN FUI",183,"Chemin","CHALET","97430 LE TAMPON",97430,"Le Tampon","Pharmacie d'officine","EA"]
[{"$f":"VLOOKUP(B20362,Régions!A:C,3,FALSE)","v":{"$error":"#N/A"}},97,"PHARMDIRECTFR",970405551,970405551,"oui","PHARMACIE DES MANGUIERS",11,"Rue","SALVADOR ALLENDE","97419 LA-POSSESSION",97419,"La Possession","Pharmacie d'officine","EA"]
[{"$f":"VLOOKUP(B20363,Régions!A:C,3,FALSE)","v":{"$error":"#N/A"}},97,"PHARMDIRECTFR",970405874,970405874,"oui","PHARMACIE BUISSON PHARMACIE GRAND EST","NULL","Avenue","MAHATMA GANDHI","97441 SAINTE-SUZANNE",97441,"Sainte-Suzanne","Pharmacie d'officine","EA"]
[{"$f":"VLOOKUP(B20364,Régions!A:C,3,FALSE)","v":{"$error":"#N/A"}},97,"CNOP",970405957,970405957,"oui","PHARMACIE FARES",16,"Avenue","de la Palestine","97419 LA POSSESSION",97419,"La Possession","Pharmacie d'officine","EA"]
[{"$f":"VLOOKUP(B20365,Régions!A:C,3,FALSE)","v":{"$error":"#N/A"}},97,{"$error":"#N/A"},970406609,{"$error":"#N/A"},{"$error":"#N/A"},"PHARMACIE NOUVELLE DE LA VANILLE",120,"Rue","MANES","97438 STE MARIE",97438,"Sainte-Marie","Pharmacie d'officine","EA"]
[{"$f":"VLOOKUP(B20366,Régions!A:C,3,FALSE)","v":{"$error":"#N/A"}},97,"PHARMDIRECTFR",970406666,970406666,"oui","PHARMACIE EL BEGHDADI",1631,"Avenue","ILE DE FRANCE","97440 SAINT-ANDRE",97440,"Saint-André","Pharmacie d'officine","EA"]
[{"$f":"VLOOKUP(B20367,Régions!A:C,3,FALSE)","v":{"$error":"#N/A"}},97,"PHARMDIRECTFR",970406757,970406757,"oui","PHARMACIE PANONNAISE",21,"Route","NATIONALE 2","97412 BRAS PANON",97412,"Bras-Panon","Pharmacie d'officine","EA"]
[{"$f":"VLOOKUP(B20368,Régions!A:C,3,FALSE)","v":{"$error":"#N/A"}},97,"PHARMDIRECTFR",970406963,970406963,"oui","PHARMACIE  DE ROQUEFEUIL",11,"Avenue","DE LA GRANDE OURSE","97434 SAINT-GILLES-LES-BAINS",97434,"Saint-Paul","Pharmacie d'officine","EA"]
[{"$f":"VLOOKUP(B20369,Régions!A:C,3,FALSE)","v":{"$error":"#N/A"}},97,"PHARMDIRECTFR",970406997,970406997,"oui","PHARMACIE THEODOLY LANNES",28,"Rue","ROLAND GARROS","97411 BOIS-DE-NEFLES",97411,"Saint-Paul","Pharmacie d'officine","EA"]
[{"$f":"VLOOKUP(B20370,Régions!A:C,3,FALSE)","v":{"$error":"#N/A"}},97,"PHARMDIRECTFR",970407094,970407094,"oui","PHARMACIE GUENE",750,"Rue","DE LA GARE","97440 SAINT-ANDRE",97440,"Saint-André","Pharmacie d'officine","EA"]
[{"$f":"VLOOKUP(B20371,Régions!A:C,3,FALSE)","v":{"$error":"#N/A"}},97,"PHARMDIRECTFR",970407284,970407284,"oui","PHARMACIE PECHABRIER",12,"Rue","ANDRE LETOULLEC","97419 LA-POSSESSION",97419,"La Possession","Pharmacie d'officine","EA"]
[{"$f":"VLOOKUP(B20372,Régions!A:C,3,FALSE)","v":{"$error":"#N/A"}},97,"PHARMDIRECTFR",970407797,970407797,"oui","LE RUISSEAU","NULL","Chemin","MERLO","97425 LES AVIRONS",97425,"Les Avirons","Pharmacie d'officine","EA"]
[{"$f":"VLOOKUP(B20373,Régions!A:C,3,FALSE)","v":{"$error":"#N/A"}},97,"PHARMDIRECTFR",970463766,970463766,"oui","PHARMACIE MARINO",20,"Rue","LECONTE DE LISLE","97450 SAINT-LOUIS",97450,"Saint-Louis","Pharmacie d'officine","EA"]
[{"$f":"VLOOKUP(B20374,Régions!A:C,3,FALSE)","v":{"$error":"#N/A"}},97,"PHARMDIRECTFR",970463774,970463774,"oui","PHARMACIE RAJABALY",26,"Rue","DE LA SOURCE","97400 SAINT-DENIS",97400,"Saint-Denis","Pharmacie d'officine","EA"]
[{"$f":"VLOOKUP(B20375,Régions!A:C,3,FALSE)","v":{"$error":"#N/A"}},97,"PHARMDIRECTFR",970463782,970463782,"oui","PHARMACIE VI-FANE",118,"Rue","DU GENERAL DE GAULLE","97400 SAINT-DENIS",97400,"Saint-Denis","Pharmacie d'officine","EA"]
[{"$f":"VLOOKUP(B20376,Régions!A:C,3,FALSE)","v":{"$error":"#N/A"}},97,"PHARMDIRECTFR",970463790,970463790,"oui","PHARMACIE  BONNET","NULL","Boulevard","JEAN JAURES","97490 STE CLOTILDE",97490,"Saint-Denis","Pharmacie d'officine","EA"]
[{"$f":"VLOOKUP(B20377,Régions!A:C,3,FALSE)","v":{"$error":"#N/A"}},97,"CNOP",970463808,970463808,"oui","PHARMACIE SANY - ROUZAUD",267,"Route","NATIONALE 2","97470 ST BENOIT",97470,"Saint-Benoît","Pharmacie d'officine","EA"]
[{"$f":"VLOOKUP(B20378,Régions!A:C,3,FALSE)","v":{"$error":"#N/A"}},97,"PHARMDIRECTFR",970463816,970463816,"oui","PHARMACIE DU JARDIN DE L'ETAT",42,"Rue","DE PARIS","97400 SAINT-DENIS",97400,"Saint-Denis","Pharmacie d'officine","EA"]
[{"$f":"VLOOKUP(B20379,Régions!A:C,3,FALSE)","v":{"$error":"#N/A"}},97,"CNOP",970463832,970463832,"oui","PHARMACIE PAYET",12,"Chemin","ANTOINE ARAGOT","97410 SAINT-PIERRE",97410,"Saint-Pierre","Pharmacie d'officine","EA"]
[{"$f":"VLOOKUP(B20380,Régions!A:C,3,FALSE)","v":{"$error":"#N/A"}},97,"PHARMDIRECTFR",970463840,970463840,"oui","PHARMACIE PHILIPPE",39,"Rue","ADRIEN LAGOURGUE","97424 LE-PITON-SAINT-LEU",97424,"Saint-Leu","Pharmacie d'officine","EA"]
[{"$f":"VLOOKUP(B20381,Régions!A:C,3,FALSE)","v":{"$error":"#N/A"}},97,"CNOP",970463857,970463857,"oui","PHARMACIE  JETSHAN",24,"Rue","CHARLES BAUDELAIRE","97480 SAINT-JOSEPH",97480,"Saint-Joseph","Pharmacie d'officine","EA"]
[{"$f":"VLOOKUP(B20382,Régions!A:C,3,FALSE)","v":{"$error":"#N/A"}},97,{"$error":"#N/A"},970463865,{"$error":"#N/A"},{"$error":"#N/A"},"PHARMA'PROD",408,"Rue","SAINT LOUIS","97460 SAINT-PAUL",97460,"Saint-Paul","Pharmacie d'officine","EA"]
[{"$f":"VLOOKUP(B20383,Régions!A:C,3,FALSE)","v":{"$error":"#N/A"}},97,{"$error":"#N/A"},970463873,{"$error":"#N/A"},{"$error":"#N/A"},"PHARMACIE BARANDE -  NARBONI",6,"Rue","ROGER PAYET","97490 SAINTE-CLOTILDE",97490,"Saint-Denis","Pharmacie d'officine","EA"]
[{"$f":"VLOOKUP(B20384,Régions!A:C,3,FALSE)","v":{"$error":"#N/A"}},97,"PHARMDIRECTFR",970463881,970463881,"oui","GM PHARMA",22,"Rue","2 FONTAINES RIV. DES PLUIES","97438 STE MARIE",97438,"Sainte-Marie","Pharmacie d'officine","EA"]
[{"$f":"VLOOKUP(B20385,Régions!A:C,3,FALSE)","v":{"$error":"#N/A"}},97,"CNOP",970463899,970463899,"oui","PHARMACIE BEDIER",201,"Rue","JEAN ALBANY","97422 LA SALINE",97422,"Saint-Paul","Pharmacie d'officine","EA"]
[{"$f":"VLOOKUP(B20386,Régions!A:C,3,FALSE)","v":{"$error":"#N/A"}},97,"PHARMDIRECTFR",970463907,970463907,"oui","PHARMACIE DES DEUX RIVES",2,"Rue","GUY NASSAU","97441 STE SUZANNE",97441,"Sainte-Suzanne","Pharmacie d'officine","EA"]
[{"$f":"VLOOKUP(B20387,Régions!A:C,3,FALSE)","v":{"$error":"#N/A"}},97,"PHARMDIRECTFR",970463915,970463915,"oui","PHARMACIE VAUBAN",2,"Boulevard","DORET","97400 SAINT-DENIS",97400,"Saint-Denis","Pharmacie d'officine","EA"]
[{"$f":"VLOOKUP(B20388,Régions!A:C,3,FALSE)","v":{"$error":"#N/A"}},97,"PHARMDIRECTFR",970463923,970463923,"oui","PHARMACIE BENARD",92,"Rue","RAPHAEL BARQUISSEAU FLEURIMONT","97460 SAINT-PAUL",97460,"Saint-Paul","Pharmacie d'officine","EA"]
[{"$f":"VLOOKUP(B20389,Régions!A:C,3,FALSE)","v":{"$error":"#N/A"}},97,{"$error":"#N/A"},970463949,{"$error":"#N/A"},{"$error":"#N/A"},"PHARMACIE DES BAMBOUS",77,"NULL","LIGNE DES BAMBOUS","97432 RAVINE-DES-CABRIS",97432,"Saint-Pierre","Pharmacie d'officine","EA"]
[{"$f":"VLOOKUP(B20390,Régions!A:C,3,FALSE)","v":{"$error":"#N/A"}},97,"PHARMDIRECTFR",970463956,970463956,"oui","PHARMACIE DES  PALMISTES",2,"Rue","DU COMMERCE","97431 LA-PLAINE-DES-PALMISTES",97431,"La Plaine-des-Palmistes","Pharmacie d'officine","EA"]
[{"$f":"VLOOKUP(B20391,Régions!A:C,3,FALSE)","v":{"$error":"#N/A"}},97,{"$error":"#N/A"},970463964,{"$error":"#N/A"},{"$error":"#N/A"},"PHARMACIE DE LA POSTE SAINT-DENIS",89,"Rue","JULIETTE DODU","97400 SAINT-DENIS",97400,"Saint-Denis","Pharmacie d'officine","EA"]
[{"$f":"VLOOKUP(B20392,Régions!A:C,3,FALSE)","v":{"$error":"#N/A"}},97,{"$error":"#N/A"},970463972,{"$error":"#N/A"},{"$error":"#N/A"},"PHARMACIE APPADOO",47,"Avenue","PIERRE MENDES FRANCE","97441 SAINTE-SUZANNE",97441,"Sainte-Suzanne","Pharmacie d'officine","EA"]
[{"$f":"VLOOKUP(B20393,Régions!A:C,3,FALSE)","v":{"$error":"#N/A"}},97,"PHARMDIRECTFR",970463980,970463980,"oui","PHARMACIE BOURGEOIS-LOYER",257,"Rue","DE LA CRESSONNIERE","97440 ST ANDRE",97440,"Saint-André","Pharmacie d'officine","EA"]
[{"$f":"VLOOKUP(B20394,Régions!A:C,3,FALSE)","v":{"$error":"#N/A"}},97,{"$error":"#N/A"},970463998,{"$error":"#N/A"},{"$error":"#N/A"},"SAGAPHARM",144,"Rue","GEORGES POMPIDOU","97433 SALAZIE",97433,"Salazie","Pharmacie d'officine","EA"]
[{"$f":"VLOOKUP(B20395,Régions!A:C,3,FALSE)","v":{"$error":"#N/A"}},97,"PHARMDIRECTFR",970464004,970464004,"oui","SELARL PHARMACIE DES FLEURS JAUNES",48,"Rue","DU PERE CASTAGNAN","97433 SALAZIE",97433,"Salazie","Pharmacie d'officine","EA"]
[{"$f":"VLOOKUP(B20396,Régions!A:C,3,FALSE)","v":{"$error":"#N/A"}},97,"PHARMDIRECTFR",970464012,970464012,"oui","PHARMACIE DES LAVES DE PITON",451,"NULL","ROUTE NATIONALE 2","97439 STE ROSE",97439,"Sainte-Rose","Pharmacie d'officine","EA"]
[{"$f":"VLOOKUP(B20397,Régions!A:C,3,FALSE)","v":{"$error":"#N/A"}},97,"PHARMDIRECTFR",970464020,970464020,"oui","PHARMACIE DES THERMES DE CILAOS",45,"Rue","du Père Boiteau","97413 CILAOS",97413,"Cilaos","Pharmacie d'officine","EA"]
[{"$f":"VLOOKUP(B20398,Régions!A:C,3,FALSE)","v":{"$error":"#N/A"}},97,"CNOP",970464038,970464038,"oui","PHARMACIE BAREL-CUVELIER",59,"Rue","MARIUS ET ARY LEBLOND","97430 LE-TAMPON",97430,"Le Tampon","Pharmacie d'officine","EA"]
[{"$f":"VLOOKUP(B20399,Régions!A:C,3,FALSE)","v":{"$error":"#N/A"}},97,{"$error":"#N/A"},970464046,{"$error":"#N/A"},{"$error":"#N/A"},"PHARMACIE GAUDIOT",259,"Rue","HUBERT DELISLE","97430 LE-TAMPON",97430,"Le Tampon","Pharmacie d'officine","EA"]
[{"$f":"VLOOKUP(B20400,Régions!A:C,3,FALSE)","v":{"$error":"#N/A"}},97,{"$error":"#N/A"},970464053,{"$error":"#N/A"},{"$error":"#N/A"},"DYONISIENNE D'EXPLOITATION",68,"Rue","PASTEUR","97400 SAINT-DENIS",97400,"Saint-Denis","Pharmacie d'officine","EA"]
[{"$f":"VLOOKUP(B20401,Régions!A:C,3,FALSE)","v":{"$error":"#N/A"}},97,"CNOP",970464061,970464061,"oui","PHARMACIE  RAMAHARO",43,"Route","DU MOUFIA","97490 SAINTE-CLOTILDE",97490,"Saint-Denis","Pharmacie d'officine","EA"]
[{"$f":"VLOOKUP(B20402,Régions!A:C,3,FALSE)","v":{"$error":"#N/A"}},97,"PHARMDIRECTFR",970464079,970464079,"oui","PHARMACIE  DU COLOSSE",5,"Rue","DU LAVOIR","97440 SAINT-ANDRE",97440,"Saint-André","Pharmacie d'officine","EA"]
[{"$f":"VLOOKUP(B20403,Régions!A:C,3,FALSE)","v":{"$error":"#N/A"}},97,"PHARMDIRECTFR",970464087,970464087,"oui","PHARMACIE CHANE MUI JEAN-MARC",270,"Rue","RAPHAEL BABET","97480 SAINT-JOSEPH",97480,"Saint-Joseph","Pharmacie d'officine","EA"]
[{"$f":"VLOOKUP(B20404,Régions!A:C,3,FALSE)","v":{"$error":"#N/A"}},97,{"$error":"#N/A"},970464095,{"$error":"#N/A"},{"$error":"#N/A"},"PHARMACIE HINZELIN ET PELUCHONNEAU",1,"Rue","Monseigneur Mondon","97400 SAINT-DENIS",97400,"Saint-Denis","Pharmacie d'officine","EA"]
[{"$f":"VLOOKUP(B20405,Régions!A:C,3,FALSE)","v":{"$error":"#N/A"}},97,"PHARMDIRECTFR",970464103,970464103,"oui","PHARMACIE SALOMEZ",48,"Rue","DU PERE MAITRE","97432 RAVINE-DES-CABRIS",97432,"Saint-Pierre","Pharmacie d'officine","EA"]
[{"$f":"VLOOKUP(B20406,Régions!A:C,3,FALSE)","v":{"$error":"#N/A"}},97,"PHARMDIRECTFR",970464111,970464111,"oui","PHARMACIE LES AMBAVILLES",236,"Rue","HUBERT DELISLE","97430 LE-TAMPON",97430,"Le Tampon","Pharmacie d'officine","EA"]
[{"$f":"VLOOKUP(B20407,Régions!A:C,3,FALSE)","v":{"$error":"#N/A"}},97,"CNOP",970464129,970464129,"oui","PHARMACIE POTA",2,"Avenue","PASTEUR","97420 LE-PORT",97420,"Le Port","Pharmacie d'officine","EA"]
[{"$f":"VLOOKUP(B20408,Régions!A:C,3,FALSE)","v":{"$error":"#N/A"}},97,"CNOP",970464137,970464137,"oui","PHARMACIE  NGUYEN",138,"Rue","LOUIS LAGOURGUE","97438 SAINTE-MARIE",97438,"Sainte-Marie","Pharmacie d'officine","EA"]
[{"$f":"VLOOKUP(B20409,Régions!A:C,3,FALSE)","v":{"$error":"#N/A"}},97,"PHARMDIRECTFR",970464145,970464145,"oui","PHARMACIE PICHANE",57,"Rue","AMIRAL BOUVET","97470 SAINT-BENOÎT",97470,"Saint-Benoît","Pharmacie d'officine","EA"]
[{"$f":"VLOOKUP(B20410,Régions!A:C,3,FALSE)","v":{"$error":"#N/A"}},97,{"$error":"#N/A"},970464152,{"$error":"#N/A"},{"$error":"#N/A"},"PHARMACIE DEPOIX",15,"Rue","PAUL ELUARD","97420 LE-PORT",97420,"Le Port","Pharmacie d'officine","EA"]
[{"$f":"VLOOKUP(B20411,Régions!A:C,3,FALSE)","v":{"$error":"#N/A"}},97,{"$error":"#N/A"},970464160,{"$error":"#N/A"},{"$error":"#N/A"},"PHARMACIE CHAN OU TEUNG",77,"Avenue","PRINCIPALE","97450 SAINT-LOUIS",97450,"Saint-Louis","Pharmacie d'officine","EA"]
[{"$f":"VLOOKUP(B20412,Régions!A:C,3,FALSE)","v":{"$error":"#N/A"}},97,"PHARMDIRECTFR",970464178,970464178,"oui","PHARMACIE THIMBO",295,"Rue","LABOURDONNAIS","97429 PETITE-ÎLE",97429,"Petite-Île","Pharmacie d'officine","EA"]
[{"$f":"VLOOKUP(B20413,Régions!A:C,3,FALSE)","v":{"$error":"#N/A"}},97,"PHARMDIRECTFR",970464186,970464186,"oui","PHARMACIE BOIVIN",157,"Rue","DES POINSETIAS","97430 LE TAMPON",97430,"Le Tampon","Pharmacie d'officine","EA"]
[{"$f":"VLOOKUP(B20414,Régions!A:C,3,FALSE)","v":{"$error":"#N/A"}},97,"PHARMDIRECTFR",970464194,970464194,"oui","PHARMACIE  DE LA BRETAGNE",160,"Route","GABRIEL MACE","97490 STE CLOTILDE",97490,"Saint-Denis","Pharmacie d'officine","EA"]
[{"$f":"VLOOKUP(B20415,Régions!A:C,3,FALSE)","v":{"$error":"#N/A"}},97,"PHARMDIRECTFR",970464202,970464202,"oui","PHARMACIE CHEUNG LUNG",41,"Allee","DES TOPAZES","97400 ST DENIS",97400,"Saint-Denis","Pharmacie d'officine","EA"]
[{"$f":"VLOOKUP(B20416,Régions!A:C,3,FALSE)","v":{"$error":"#N/A"}},97,"PHARMDIRECTFR",970464210,970464210,"oui","PHARMACIE VERDIER CROUZET",13,"Rue","PENTE NICOLE","97421 LA RIVIERE",97421,"Saint-Louis","Pharmacie d'officine","EA"]
[{"$f":"VLOOKUP(B20417,Régions!A:C,3,FALSE)","v":{"$error":"#N/A"}},97,"PHARMDIRECTFR",970464228,970464228,"oui","PHARMACIE COLLET - PHARMACIE VANILLA",15,"Route","NATIONALE","97412 BRAS-PANON",97412,"Bras-Panon","Pharmacie d'officine","EA"]
[{"$f":"VLOOKUP(B20418,Régions!A:C,3,FALSE)","v":{"$error":"#N/A"}},97,{"$error":"#N/A"},970464236,{"$error":"#N/A"},{"$error":"#N/A"},"PHARMACIE VI-FANE",1,"Boulevard","DE LA PROVIDENCE","97400 ST DENIS",97400,"Saint-Denis","Pharmacie d'officine","EA"]
[{"$f":"VLOOKUP(B20419,Régions!A:C,3,FALSE)","v":{"$error":"#N/A"}},97,"CNOP",970464244,970464244,"oui","PHARMACIE CORRE",73,"Chemin","DU RUISSEAU BLANC","97417 LA-MONTAGNE",97417,"Saint-Denis","Pharmacie d'officine","EA"]
[{"$f":"VLOOKUP(B20420,Régions!A:C,3,FALSE)","v":{"$error":"#N/A"}},97,{"$error":"#N/A"},970464251,{"$error":"#N/A"},{"$error":"#N/A"},"SARL PHARMACIE DE SAINT-FRANCOIS",122,"Route","DE SAINT FRANCOIS","97400 SAINT-DENIS",97400,"Saint-Denis","Pharmacie d'officine","EA"]
[{"$f":"VLOOKUP(B20421,Régions!A:C,3,FALSE)","v":{"$error":"#N/A"}},97,"PHARMDIRECTFR",970464277,970464277,"oui","PHARMACIE DU TAMARINIER",121,"Avenue","RAYMOND BARRE","97427 L ETANG SALE",97427,"L'Étang-Salé","Pharmacie d'officine","EA"]
[{"$f":"VLOOKUP(B20422,Régions!A:C,3,FALSE)","v":{"$error":"#N/A"}},97,"CNOP",970464285,970464285,"oui","PHARMACIE DE BOIS D'OLIVES",1,"Allee","des Bois Noirs","97432 SAINT-PIERRE",97432,"Saint-Pierre","Pharmacie d'officine","EA"]
[{"$f":"VLOOKUP(B20423,Régions!A:C,3,FALSE)","v":{"$error":"#N/A"}},97,{"$error":"#N/A"},970464293,{"$error":"#N/A"},{"$error":"#N/A"},"PHARMACIE  COULOMB","NULL","Angle","AV RAYMOND VERGES&R SALVADOR A","97420 LE-PORT",97420,"Le Port","Pharmacie d'officine","EA"]
[{"$f":"VLOOKUP(B20424,Régions!A:C,3,FALSE)","v":{"$error":"#N/A"}},97,"PHARMDIRECTFR",970464301,970464301,"oui","PHARMACIE DU BUTOR",111,"Rue","RAPHAEL BABET","97480 SAINT-JOSEPH",97480,"Saint-Joseph","Pharmacie d'officine","EA"]
[{"$f":"VLOOKUP(B20425,Régions!A:C,3,FALSE)","v":{"$error":"#N/A"}},97,"CNOP",970464319,970464319,"oui","PHARMACIE BAUMGARTNER",199,"Avenue","DE BOURBON","97440 SAINT-ANDRE",97440,"Saint-André","Pharmacie d'officine","EA"]
[{"$f":"VLOOKUP(B20426,Régions!A:C,3,FALSE)","v":{"$error":"#N/A"}},97,{"$error":"#N/A"},970464327,{"$error":"#N/A"},{"$error":"#N/A"},"PHARMACIE DE L'OCEAN INDIEN",133,"Avenue","MAHATMA GANDHI","97441 SAINTE-SUZANNE",97441,"Sainte-Suzanne","Pharmacie d'officine","EA"]
[{"$f":"VLOOKUP(B20427,Régions!A:C,3,FALSE)","v":{"$error":"#N/A"}},97,"PHARMDIRECTFR",970464335,970464335,"oui","PHARMACIE ANELLI",87,"Rue","LOUISE ET JOUAN","97423 LE-GUILLAUME",97423,"Saint-Paul","Pharmacie d'officine","EA"]
[{"$f":"VLOOKUP(B20428,Régions!A:C,3,FALSE)","v":{"$error":"#N/A"}},97,"PHARMDIRECTFR",970464343,970464343,"oui","PHARMACIE CHHUN",176,"Rue","MARCEL PAGNOL","97480 SAINT-JOSEPH",97480,"Saint-Joseph","Pharmacie d'officine","EA"]
[{"$f":"VLOOKUP(B20429,Régions!A:C,3,FALSE)","v":{"$error":"#N/A"}},97,{"$error":"#N/A"},970464350,{"$error":"#N/A"},{"$error":"#N/A"},"PHARMACIE MAURICE ET BLANCO",52,"Rue","DU COMMERCE","97460 SAINT-PAUL",97460,"Saint-Paul","Pharmacie d'officine","EA"]
[{"$f":"VLOOKUP(B20430,Régions!A:C,3,FALSE)","v":{"$error":"#N/A"}},97,"PHARMDIRECTFR",970464368,970464368,"oui","PHARMACIE  DAOUT",75,"Place","DU KARTING","97490 STE CLOTILDE",97490,"Saint-Denis","Pharmacie d'officine","EA"]
[{"$f":"VLOOKUP(B20431,Régions!A:C,3,FALSE)","v":{"$error":"#N/A"}},97,{"$error":"#N/A"},970464376,{"$error":"#N/A"},{"$error":"#N/A"},"GRANDE PHARMACIE DE SAINT BENOIT",37,"Avenue","J. MONNET","97470 SAINT-BENOÎT",97470,"Saint-Benoît","Pharmacie d'officine","EA"]
[{"$f":"VLOOKUP(B20432,Régions!A:C,3,FALSE)","v":{"$error":"#N/A"}},97,"PHARMDIRECTFR",970464384,970464384,"oui","PHARMACIE CROSSE ET BAROUDEL-MAGNE",86,"Rue","Joseph Hubert","97435 SAINT-PAUL",97435,"Saint-Paul","Pharmacie d'officine","EA"]
[{"$f":"VLOOKUP(B20433,Régions!A:C,3,FALSE)","v":{"$error":"#N/A"}},97,{"$error":"#N/A"},970464392,{"$error":"#N/A"},{"$error":"#N/A"},"PHARMACIE FAUTREL",427,"Rue","DE CAMBUSTON","97440 SAINT-ANDRE",97440,"Saint-André","Pharmacie d'officine","EA"]
[{"$f":"VLOOKUP(B20434,Régions!A:C,3,FALSE)","v":{"$error":"#N/A"}},97,"PHARMDIRECTFR",970464400,970464400,"oui","PHARMACIE FERRAND-GUILBOT",105,"Rue","DU GENERAL DE GAULLE","97434 SAINT-GILLES-LES-BAINS",97434,"Saint-Paul","Pharmacie d'officine","EA"]
[{"$f":"VLOOKUP(B20435,Régions!A:C,3,FALSE)","v":{"$error":"#N/A"}},97,{"$error":"#N/A"},970464418,{"$error":"#N/A"},{"$error":"#N/A"},"PHARMACIE MOREL",1,"Rue","DE LA CHAPELLE","97480 ST JOSEPH",97480,"Saint-Joseph","Pharmacie d'officine","EA"]
[{"$f":"VLOOKUP(B20436,Régions!A:C,3,FALSE)","v":{"$error":"#N/A"}},97,"PHARMDIRECTFR",970464426,970464426,"oui","PHARMACIE THOMAS",8,"Rue","DES BONS ENFANTS","97410 SAINT-PIERRE",97410,"Saint-Pierre","Pharmacie d'officine","EA"]
[{"$f":"VLOOKUP(B20437,Régions!A:C,3,FALSE)","v":{"$error":"#N/A"}},97,"PHARMDIRECTFR",970464434,970464434,"oui","PHARMACIE DU CENTRE - LA RIVIERE",105,"Rue","MONSEIGNEUR DE BEAUMONT","97421 LA-RIVIERE",97421,"Saint-Louis","Pharmacie d'officine","EA"]
[{"$f":"VLOOKUP(B20438,Régions!A:C,3,FALSE)","v":{"$error":"#N/A"}},97,"PHARMDIRECTFR",970464442,970464442,"oui","PHARMACIE JEANNE D'ARC",56,"Rue","DU GENERAL DE GAULLE","97420 LE PORT",97420,"Le Port","Pharmacie d'officine","EA"]
[{"$f":"VLOOKUP(B20439,Régions!A:C,3,FALSE)","v":{"$error":"#N/A"}},97,{"$error":"#N/A"},970464459,{"$error":"#N/A"},{"$error":"#N/A"},"PHARMACIE DU BOIS COURT",5,"Rue","RAPHAEL DOUYERE","97418 LA-PLAINE-DES-CAFRES",97418,"Le Tampon","Pharmacie d'officine","EA"]
[{"$f":"VLOOKUP(B20440,Régions!A:C,3,FALSE)","v":{"$error":"#N/A"}},97,{"$error":"#N/A"},970464467,{"$error":"#N/A"},{"$error":"#N/A"},"PHARMACIE DE LA RIVIERE DES PLUIES",127,"Rue","ROGER PAYET","97438 SAINTE-MARIE",97438,"Sainte-Marie","Pharmacie d'officine","EA"]
[{"$f":"VLOOKUP(B20441,Régions!A:C,3,FALSE)","v":{"$error":"#N/A"}},97,{"$error":"#N/A"},970464475,{"$error":"#N/A"},{"$error":"#N/A"}," PHARMAPOINTE",4,"Rue","ALSACE LORRAINE","97420 LE PORT",97420,"Le Port","Pharmacie d'officine","EA"]
[{"$f":"VLOOKUP(B20442,Régions!A:C,3,FALSE)","v":{"$error":"#N/A"}},97,"PHARMDIRECTFR",970464483,970464483,"oui","PHARMACIE LAMBLIN",154,"Chemin","DEPARTEMENTAL 13","97436 SAINT-LEU",97436,"Saint-Leu","Pharmacie d'officine","EA"]
[{"$f":"VLOOKUP(B20443,Régions!A:C,3,FALSE)","v":{"$error":"#N/A"}},97,"PHARMDIRECTFR",970464491,970464491,"oui","PHARMACIE DU SACRE COEUR","NULL","Route","du Sacre Coeur","97420 LE PORT",97420,"Le Port","Pharmacie d'officine","EA"]
[{"$f":"VLOOKUP(B20444,Régions!A:C,3,FALSE)","v":{"$error":"#N/A"}},97,"PHARMDIRECTFR",970464509,970464509,"oui","PHARMACIE GOVINDEN",38,"Avenue","OCTAVE BENARD","97427 ETANG-SALE (L')",97427,"L'Étang-Salé","Pharmacie d'officine","EA"]
[{"$f":"VLOOKUP(B20445,Régions!A:C,3,FALSE)","v":{"$error":"#N/A"}},97,"PHARMDIRECTFR",970464517,970464517,"oui","PHARMACIE  HIRDJEE",155,"Route","DES ANANAS","97490 STE CLOTILDE",97490,"Saint-Denis","Pharmacie d'officine","EA"]
[{"$f":"VLOOKUP(B20446,Régions!A:C,3,FALSE)","v":{"$error":"#N/A"}},97,"CNOP",970464525,970464525,"oui","PHARMACIE GRUSON",2,"Avenue","DE LATTRE DE TASSIGNY","97490 SAINTE-CLOTILDE",97490,"Saint-Denis","Pharmacie d'officine","EA"]
[{"$f":"VLOOKUP(B20447,Régions!A:C,3,FALSE)","v":{"$error":"#N/A"}},97,"PHARMDIRECTFR",970464533,970464533,"oui","PHARMACIE GRAND SUD","NULL","Zone d amenagement concerte","Les Grègues II","97480 SAINT-JOSEPH",97480,"Saint-Joseph","Pharmacie d'officine","EA"]
[{"$f":"VLOOKUP(B20448,Régions!A:C,3,FALSE)","v":{"$error":"#N/A"}},97,"CNOP",970464541,970464541,"oui","PHARMACIE MAZARS",27,"Rue","MAURY","97480 SAINT-JOSEPH",97480,"Saint-Joseph","Pharmacie d'officine","EA"]
[{"$f":"VLOOKUP(B20449,Régions!A:C,3,FALSE)","v":{"$error":"#N/A"}},97,"PHARMDIRECTFR",970464558,970464558,"oui","PHARMACIE GUEUX",130,"Rue","MONTROUGE","97460 SAINT-PAUL",97460,"Saint-Paul","Pharmacie d'officine","EA"]
[{"$f":"VLOOKUP(B20450,Régions!A:C,3,FALSE)","v":{"$error":"#N/A"}},97,{"$error":"#N/A"},970464566,{"$error":"#N/A"},{"$error":"#N/A"},"PHARMACIE BURNEL",190,"Rue","HUBERT DELISLE","97430 LE-TAMPON",97430,"Le Tampon","Pharmacie d'officine","EA"]
[{"$f":"VLOOKUP(B20451,Régions!A:C,3,FALSE)","v":{"$error":"#N/A"}},97,"PHARMDIRECTFR",970464574,970464574,"oui","PHARMACIE THOMAS",7,"Avenue","LUC DONAT","97410 ST PIERRE",97410,"Saint-Pierre","Pharmacie d'officine","EA"]
[{"$f":"VLOOKUP(B20452,Régions!A:C,3,FALSE)","v":{"$error":"#N/A"}},97,"CNOP",970464582,970464582,"oui","PHARMACIE BROQUIN",251,"Rue","MARIUS ET ARY LEBLOND","97430 LE TAMPON",97430,"Le Tampon","Pharmacie d'officine","EA"]
[{"$f":"VLOOKUP(B20453,Régions!A:C,3,FALSE)","v":{"$error":"#N/A"}},97,{"$error":"#N/A"},970464590,{"$error":"#N/A"},{"$error":"#N/A"},"PHARMACIE BOURBON",116,"Rue","MARECHAL LECLERC","97400 SAINT-DENIS",97400,"Saint-Denis","Pharmacie d'officine","EA"]
[{"$f":"VLOOKUP(B20454,Régions!A:C,3,FALSE)","v":{"$error":"#N/A"}},97,"PHARMDIRECTFR",970464608,970464608,"oui","PHARMA 2 A",109,"Rue","ARCHAMBAUD","97410 SAINT-PIERRE",97410,"Saint-Pierre","Pharmacie d'officine","EA"]
[{"$f":"VLOOKUP(B20455,Régions!A:C,3,FALSE)","v":{"$error":"#N/A"}},97,"PHARMDIRECTFR",970464616,970464616,"oui","PHARMACIE KER CHAUDRON",28,"Avenue","Joseph Bedier","97490 SAINT-DENIS",97490,"Saint-Denis","Pharmacie d'officine","EA"]
[{"$f":"VLOOKUP(B20456,Régions!A:C,3,FALSE)","v":{"$error":"#N/A"}},97,"PHARMDIRECTFR",970464624,970464624,"oui","PHARMACIE  POMPON",254,"Rue","JEAN ALBANY","97422 LA SALINE",97422,"Saint-Paul","Pharmacie d'officine","EA"]
[{"$f":"VLOOKUP(B20457,Régions!A:C,3,FALSE)","v":{"$error":"#N/A"}},97,"PHARMDIRECTFR",970464632,970464632,"oui","PHARMACIE LOUPY",35,"Boulevard","JAWAHARLAL NEHRU","97400 ST DENIS",97400,"Saint-Denis","Pharmacie d'officine","EA"]
[{"$f":"VLOOKUP(B20458,Régions!A:C,3,FALSE)","v":{"$error":"#N/A"}},97,"CNOP",970464640,970464640,"oui","PHARMACIE  LODEY",43,"Avenue","PRESIDENT MITTERAND","97410 SAINT-PIERRE",97410,"Saint-Pierre","Pharmacie d'officine","EA"]
[{"$f":"VLOOKUP(B20459,Régions!A:C,3,FALSE)","v":{"$error":"#N/A"}},97,{"$error":"#N/A"},970464657,{"$error":"#N/A"},{"$error":"#N/A"},"PHARMACIE HOAREAU",86,"Avenue","RICO CARPAYE","97420 LE-PORT",97420,"Le Port","Pharmacie d'officine","EA"]
[{"$f":"VLOOKUP(B20460,Régions!A:C,3,FALSE)","v":{"$error":"#N/A"}},97,"PHARMDIRECTFR",970464665,970464665,"oui","PHARMACIE DE LA MAIRIE",193,"Avenue","ILE DE FRANCE","97440 ST ANDRE",97440,"Saint-André","Pharmacie d'officine","EA"]
[{"$f":"VLOOKUP(B20461,Régions!A:C,3,FALSE)","v":{"$error":"#N/A"}},97,"PHARMDIRECTFR",970464673,970464673,"oui","PHARMACIE DIDOUAN",3,"Rue","JOSEPH SUACOT","97429 PETITE-ÎLE",97429,"Petite-Île","Pharmacie d'officine","EA"]
[{"$f":"VLOOKUP(B20462,Régions!A:C,3,FALSE)","v":{"$error":"#N/A"}},97,"PHARMDIRECTFR",970464681,970464681,"oui","PHARMACIE BRACHELET-DURAND",1,"Chemin","L'EVEQUE","97422 LA-SALINE",97422,"Saint-Paul","Pharmacie d'officine","EA"]
[{"$f":"VLOOKUP(B20463,Régions!A:C,3,FALSE)","v":{"$error":"#N/A"}},97,"PHARMDIRECTFR",970464699,970464699,"oui","PHARMACIE  SAINTE THERESE",30,"Rue","KARL MARX","97419 LA-POSSESSION",97419,"La Possession","Pharmacie d'officine","EA"]
[{"$f":"VLOOKUP(B20464,Régions!A:C,3,FALSE)","v":{"$error":"#N/A"}},97,"CNOP",970464707,970464707,"oui","PHARMACIE HOAREAU",46,"Rue","GEORGES PAULIN","97421 LA-RIVIERE",97421,"Saint-Louis","Pharmacie d'officine","EA"]
[{"$f":"VLOOKUP(B20465,Régions!A:C,3,FALSE)","v":{"$error":"#N/A"}},97,"PHARMDIRECTFR",970464715,970464715,"oui","SELARL METAIS RIFLEU",16,"Rue","LOUISE MICHEL","97419 LA-POSSESSION",97419,"La Possession","Pharmacie d'officine","EA"]
[{"$f":"VLOOKUP(B20466,Régions!A:C,3,FALSE)","v":{"$error":"#N/A"}},97,"PHARMDIRECTFR",970464723,970464723,"oui","PHARMACIE HO MOUYE",318,"Rue","DU MARECHAL LECLERC","97400 SAINT-DENIS",97400,"Saint-Denis","Pharmacie d'officine","EA"]
[{"$f":"VLOOKUP(B20467,Régions!A:C,3,FALSE)","v":{"$error":"#N/A"}},97,"PHARMDIRECTFR",970464731,970464731,"oui","PHARMACIE HO POON SUNG",40,"Rue","DE LA REPUBLIQUE","97438 SAINTE-MARIE",97438,"Sainte-Marie","Pharmacie d'officine","EA"]
[{"$f":"VLOOKUP(B20468,Régions!A:C,3,FALSE)","v":{"$error":"#N/A"}},97,"CNOP",970464749,970464749,"oui","PHARMACIE BONJOUR",2,"Chemin","MOULIN A CAFE","97432 RAVINE-DES-CABRIS",97432,"Saint-Pierre","Pharmacie d'officine","EA"]
[{"$f":"VLOOKUP(B20469,Régions!A:C,3,FALSE)","v":{"$error":"#N/A"}},97,"PHARMDIRECTFR",970464756,970464756,"oui","PHARMACIE GEIGER",13,"Rue","DES CAMELIAS","97400 SAINT-DENIS",97400,"Saint-Denis","Pharmacie d'officine","EA"]
[{"$f":"VLOOKUP(B20470,Régions!A:C,3,FALSE)","v":{"$error":"#N/A"}},97,"PHARMDIRECTFR",970464764,970464764,"oui","PHARMACIE INGLES-ROZES",21,"Rue","HUBERT DELISLE","97430 LE-TAMPON",97430,"Le Tampon","Pharmacie d'officine","EA"]
[{"$f":"VLOOKUP(B20471,Régions!A:C,3,FALSE)","v":{"$error":"#N/A"}},97,"PHARMDIRECTFR",970464772,970464772,"oui","OFFICINE DES HAUTS SAINT LEU",199,"Rue","ALEXANDRE BEGUE","97416 LA-CHALOUPE",97416,"Saint-Leu","Pharmacie d'officine","EA"]
[{"$f":"VLOOKUP(B20472,Régions!A:C,3,FALSE)","v":{"$error":"#N/A"}},97,"CNOP",970464780,970464780,"oui","PHARMACIE ROBIN",32,"Rue","EMMANUEL TEXER","97419 LA-POSSESSION",97419,"La Possession","Pharmacie d'officine","EA"]
[{"$f":"VLOOKUP(B20473,Régions!A:C,3,FALSE)","v":{"$error":"#N/A"}},97,{"$error":"#N/A"},970464798,{"$error":"#N/A"},{"$error":"#N/A"},"PHARMACIE YIP FA",265,"Route","DE CILAOS","97421 LA-RIVIERE",97421,"Saint-Louis","Pharmacie d'officine","EA"]
[{"$f":"VLOOKUP(B20474,Régions!A:C,3,FALSE)","v":{"$error":"#N/A"}},97,"PHARMDIRECTFR",970464806,970464806,"oui","PHARMACIE DE LA GARE",315,"Rue","de la Gare","97440 SAINT-ANDRE",97440,"Saint-André","Pharmacie d'officine","EA"]
[{"$f":"VLOOKUP(B20475,Régions!A:C,3,FALSE)","v":{"$error":"#N/A"}},97,"PHARMDIRECTFR",970464814,970464814,"oui","PHARMACIE FELETOU",85,"Avenue","RAYMOND BARRE","97427 L-ETANG-SALE",97427,"L'Étang-Salé","Pharmacie d'officine","EA"]
[{"$f":"VLOOKUP(B20476,Régions!A:C,3,FALSE)","v":{"$error":"#N/A"}},97,"PHARMDIRECTFR",970464830,970464830,"oui","PHARMACIE  GAUTHIER",144,"Route","NATIONALE 2","97437 SAINTE-ANNE",97437,"Saint-Benoît","Pharmacie d'officine","EA"]
[{"$f":"VLOOKUP(B20477,Régions!A:C,3,FALSE)","v":{"$error":"#N/A"}},97,"PHARMDIRECTFR",970464848,970464848,"oui","PHARMACIE SOLE CONTOUR",9,"Avenue","PIERRE MENDES FRANCE","97441 SAINTE-SUZANNE",97441,"Sainte-Suzanne","Pharmacie d'officine","EA"]
[{"$f":"VLOOKUP(B20478,Régions!A:C,3,FALSE)","v":{"$error":"#N/A"}},97,"CNOP",970464855,970464855,"oui","PHARMACIE LA ROSA",126,"Rue","LUC LORION","97410 SAINT-PIERRE",97410,"Saint-Pierre","Pharmacie d'officine","EA"]
[{"$f":"VLOOKUP(B20479,Régions!A:C,3,FALSE)","v":{"$error":"#N/A"}},97,{"$error":"#N/A"},970464863,{"$error":"#N/A"},{"$error":"#N/A"},"PHARMACIE BEDIER",41,"Rue","MARECHAL LECLERC","97400 SAINT-DENIS",97400,"Saint-Denis","Pharmacie d'officine","EA"]
[{"$f":"VLOOKUP(B20480,Régions!A:C,3,FALSE)","v":{"$error":"#N/A"}},97,"PHARMDIRECTFR",970464871,970464871,"oui","PHARMACIE GRAFFIN",72,"Rue","MARIUS ET ARY LEBLOND","97460 SAINT-PAUL",97460,"Saint-Paul","Pharmacie d'officine","EA"]
[{"$f":"VLOOKUP(B20481,Régions!A:C,3,FALSE)","v":{"$error":"#N/A"}},97,"PHARMDIRECTFR",970464889,970464889,"oui","PHARMACIE LAURET",1,"Boulevard","DE VERDUN","97420 LE-PORT",97420,"Le Port","Pharmacie d'officine","EA"]
[{"$f":"VLOOKUP(B20482,Régions!A:C,3,FALSE)","v":{"$error":"#N/A"}},97,{"$error":"#N/A"},970464897,{"$error":"#N/A"},{"$error":"#N/A"},"SELARL PHARMACIE AUDARD",6,"Rue","AZEMA","97412 BRAS-PANON",97412,"Bras-Panon","Pharmacie d'officine","EA"]
[{"$f":"VLOOKUP(B20483,Régions!A:C,3,FALSE)","v":{"$error":"#N/A"}},97,"PHARMDIRECTFR",970464905,970464905,"oui","PHARMACIE LECHAT",174,"Rue","ROGER PAYET","97438 SAINTE-MARIE",97438,"Sainte-Marie","Pharmacie d'officine","EA"]
[{"$f":"VLOOKUP(B20484,Régions!A:C,3,FALSE)","v":{"$error":"#N/A"}},97,"PHARMDIRECTFR",970464913,970464913,"oui","PHARMACIE LECLER DE MAISONCELLE TIREL","NULL","NULL","ANGLE CD 11 - CD 25","97424 LE-PITON",97424,"Saint-Leu","Pharmacie d'officine","EA"]
[{"$f":"VLOOKUP(B20485,Régions!A:C,3,FALSE)","v":{"$error":"#N/A"}},97,"PHARMDIRECTFR",970464921,970464921,"oui","PHARMACIE LECLER",107,"Rue","GENERAL LAMBERT","97436 SAINT-LEU",97436,"Saint-Leu","Pharmacie d'officine","EA"]
[{"$f":"VLOOKUP(B20486,Régions!A:C,3,FALSE)","v":{"$error":"#N/A"}},97,{"$error":"#N/A"},970464939,{"$error":"#N/A"},{"$error":"#N/A"},"PHARMACIE MEHEUST",18,"Avenue","LECONTE DE LISLE","97490 SAINTE-CLOTILDE",97490,"Saint-Denis","Pharmacie d'officine","EA"]
[{"$f":"VLOOKUP(B20487,Régions!A:C,3,FALSE)","v":{"$error":"#N/A"}},97,"CNOP",970464947,970464947,"oui","PHARMACIE DE L'HORIZON",2,"Rue","DES CORSAIRES","97490 STE CLOTILDE",97490,"Saint-Denis","Pharmacie d'officine","EA"]
[{"$f":"VLOOKUP(B20488,Régions!A:C,3,FALSE)","v":{"$error":"#N/A"}},97,"CNOP",970464954,970464954,"oui","PHARMACIE LESPORT",24,"Rue","des Flamboyants","97430 LE TAMPON",97430,"Le Tampon","Pharmacie d'officine","EA"]
[{"$f":"VLOOKUP(B20489,Régions!A:C,3,FALSE)","v":{"$error":"#N/A"}},97,"PHARMDIRECTFR",970464962,970464962,"oui","PHARMACIE BORIE",150,"Route","DU BOIS DE NEFLES","97490 SAINTE-CLOTILDE",97490,"Saint-Denis","Pharmacie d'officine","EA"]
[{"$f":"VLOOKUP(B20490,Régions!A:C,3,FALSE)","v":{"$error":"#N/A"}},97,"PHARMDIRECTFR",970464970,970464970,"oui","PHARMACIE JASMIN",76,"Rue","JEAN CHATEL","97400 SAINT-DENIS",97400,"Saint-Denis","Pharmacie d'officine","EA"]
[{"$f":"VLOOKUP(B20491,Régions!A:C,3,FALSE)","v":{"$error":"#N/A"}},97,"CNOP",970464988,970464988,"oui","PHARMACIE LO KING FUNG",3,"Rue","DE L'EGLISE","97450 SAINT-LOUIS",97450,"Saint-Louis","Pharmacie d'officine","EA"]
[{"$f":"VLOOKUP(B20492,Régions!A:C,3,FALSE)","v":{"$error":"#N/A"}},97,"PHARMDIRECTFR",970464996,970464996,"oui","PHARMACIE HAMMERER - TOMASINI",1,"Rue","MACABIT","97434 ST GILLES LES BAINS",97434,"Saint-Paul","Pharmacie d'officine","EA"]
[{"$f":"VLOOKUP(B20493,Régions!A:C,3,FALSE)","v":{"$error":"#N/A"}},97,"PHARMDIRECTFR",970465001,970465001,"oui","PHARMACIE LOUPY",1,"Rue","DES GOYAVES","97490 SAINTE-CLOTILDE",97490,"Saint-Denis","Pharmacie d'officine","EA"]
[{"$f":"VLOOKUP(B20494,Régions!A:C,3,FALSE)","v":{"$error":"#N/A"}},97,"PHARMDIRECTFR",970465019,970465019,"oui","PHARMACIE SIDAMBAROM",112,"Rue","MONTHYON","97400 ST DENIS",97400,"Saint-Denis","Pharmacie d'officine","EA"]
[{"$f":"VLOOKUP(B20495,Régions!A:C,3,FALSE)","v":{"$error":"#N/A"}},97,"PHARMDIRECTFR",970465027,970465027,"oui","PHARMACIE COURTOIS",19,"Rue","DE LA REPUBLIQUE","97400 SAINT-DENIS",97400,"Saint-Denis","Pharmacie d'officine","EA"]
[{"$f":"VLOOKUP(B20496,Régions!A:C,3,FALSE)","v":{"$error":"#N/A"}},97,"PHARMDIRECTFR",970465035,970465035,"oui","PHARMACIE BESSIERE",47,"Rue","LABOURDONNAIS","97400 ST DENIS",97400,"Saint-Denis","Pharmacie d'officine","EA"]
[{"$f":"VLOOKUP(B20497,Régions!A:C,3,FALSE)","v":{"$error":"#N/A"}},97,"CNOP",970465043,970465043,"oui","PHARMACIE CHOPRA",1,"Route","DU CRATERE","97470 ST BENOIT",97470,"Saint-Benoît","Pharmacie d'officine","EA"]
[{"$f":"VLOOKUP(B20498,Régions!A:C,3,FALSE)","v":{"$error":"#N/A"}},97,"PHARMDIRECTFR",970465050,970465050,"oui","PHARMACIE  DES TROIS MARES",34,"Rue","CHARLES BAUDELAIRE","97430 LE-TAMPON",97430,"Le Tampon","Pharmacie d'officine","EA"]
[{"$f":"VLOOKUP(B20499,Régions!A:C,3,FALSE)","v":{"$error":"#N/A"}},97,"PHARMDIRECTFR",970465068,970465068,"oui","PHARMACIE HAMITOUCHE - E2 DRUGSTORE",2,"Rue","DU COMMERCE","97414 ENTRE DEUX",97414,"Entre-Deux","Pharmacie d'officine","EA"]
[{"$f":"VLOOKUP(B20500,Régions!A:C,3,FALSE)","v":{"$error":"#N/A"}},97,"PHARMDIRECTFR",970465076,970465076,"oui","PHARMACIE  TREGOUET",149,"Avenue","FRANCOIS MITTERRAND","97410 SAINT-PIERRE",97410,"Saint-Pierre","Pharmacie d'officine","EA"]
[{"$f":"VLOOKUP(B20501,Régions!A:C,3,FALSE)","v":{"$error":"#N/A"}},97,"PHARMDIRECTFR",970465084,970465084,"oui","PHARMACIE ROUQUETTE",2,"Rue","BOYER DE LA GIRODAY","97490 STE CLOTILDE",97490,"Saint-Denis","Pharmacie d'officine","EA"]
[{"$f":"VLOOKUP(B20502,Régions!A:C,3,FALSE)","v":{"$error":"#N/A"}},97,"PHARMDIRECTFR",970465092,970465092,"oui","LA PHARMACIE VACOA",24,"Rue","LECONTE DE LISLE","97442 SAINT-PHILIPPE",97442,"Saint-Philippe","Pharmacie d'officine","EA"]
[{"$f":"VLOOKUP(B20503,Régions!A:C,3,FALSE)","v":{"$error":"#N/A"}},97,"PHARMDIRECTFR",970465100,970465100,"oui","PHARMACIE MASSIAU",2,"Rue","SAINT JOSEPH OUVRIER","97400 SAINT-DENIS",97400,"Saint-Denis","Pharmacie d'officine","EA"]
[{"$f":"VLOOKUP(B20504,Régions!A:C,3,FALSE)","v":{"$error":"#N/A"}},97,{"$error":"#N/A"},970465118,{"$error":"#N/A"},{"$error":"#N/A"},"PHARMACIE CAILL",63,"Rue","DU GENERAL DE GAULLE","97433 SALAZIE",97433,"Salazie","Pharmacie d'officine","EA"]
[{"$f":"VLOOKUP(B20505,Régions!A:C,3,FALSE)","v":{"$error":"#N/A"}},97,"PHARMDIRECTFR",970465126,970465126,"oui","PHARMACIE HAUER - LABASSE",19,"Rue","ADRIEN LAGOURGUE","97424 LE-PITON-SAINT-LEU",97424,"Saint-Leu","Pharmacie d'officine","EA"]
[{"$f":"VLOOKUP(B20506,Régions!A:C,3,FALSE)","v":{"$error":"#N/A"}},97,{"$error":"#N/A"},970465134,{"$error":"#N/A"},{"$error":"#N/A"},"PHARMACIE MICHEL",236,"Rue","RAPHAEL BABET","97480 SAINT-JOSEPH",97480,"Saint-Joseph","Pharmacie d'officine","EA"]
[{"$f":"VLOOKUP(B20507,Régions!A:C,3,FALSE)","v":{"$error":"#N/A"}},97,"PHARMDIRECTFR",970465142,970465142,"oui","PHARMACIE PRINCIPALE",16,"Rue","MARIUS ET ARY LEBLOND","97460 SAINT-PAUL",97460,"Saint-Paul","Pharmacie d'officine","EA"]
[{"$f":"VLOOKUP(B20508,Régions!A:C,3,FALSE)","v":{"$error":"#N/A"}},97,"PHARMDIRECTFR",970465159,970465159,"oui","PHARMACIE PLAINE DES CAFRES",106,"Rue","JEAN DEFOS DU RAU","97418 LA PLAINE DES CAFRES",97418,"Le Tampon","Pharmacie d'officine","EA"]
[{"$f":"VLOOKUP(B20509,Régions!A:C,3,FALSE)","v":{"$error":"#N/A"}},97,"PHARMDIRECTFR",970465175,970465175,"oui","PHARMACIE MARIANI GROSSET",26,"Rue","FRANCOIS DE MAHY","97420 LE-PORT",97420,"Le Port","Pharmacie d'officine","EA"]
[{"$f":"VLOOKUP(B20510,Régions!A:C,3,FALSE)","v":{"$error":"#N/A"}},97,"PHARMDIRECTFR",970465183,970465183,"oui","PHARMACIE DU BOSQUET",4,"Rue","du Bosquet","97490 SAINT-DENIS",97490,"Saint-Denis","Pharmacie d'officine","EA"]
[{"$f":"VLOOKUP(B20511,Régions!A:C,3,FALSE)","v":{"$error":"#N/A"}},97,"PHARMDIRECTFR",970465191,970465191,"oui","PHARMACIE PEERALLY-PETIT II",86,"Rue","LAMBERT","97450 SAINT-LOUIS",97450,"Saint-Louis","Pharmacie d'officine","EA"]
[{"$f":"VLOOKUP(B20512,Régions!A:C,3,FALSE)","v":{"$error":"#N/A"}},97,"PHARMDIRECTFR",970465217,970465217,"oui","PHARMACIE XAVIER - SMC PHARMA",6,"Chemin","DES GOYAVES","97470 ST BENOIT",97470,"Saint-Benoît","Pharmacie d'officine","EA"]
[{"$f":"VLOOKUP(B20513,Régions!A:C,3,FALSE)","v":{"$error":"#N/A"}},97,"PHARMDIRECTFR",970465225,970465225,"oui","PHARMACIE FINET",48,"Rue","JOSEPH HUBERT","97435 ST GILLES LES HAUTS",97435,"Saint-Paul","Pharmacie d'officine","EA"]
[{"$f":"VLOOKUP(B20514,Régions!A:C,3,FALSE)","v":{"$error":"#N/A"}},97,"PHARMDIRECTFR",970465233,970465233,"oui","PHARMACIE BERRIN",22,"Rue","LECONTE DELISLE","97480 SAINT-JOSEPH",97480,"Saint-Joseph","Pharmacie d'officine","EA"]
[{"$f":"VLOOKUP(B20515,Régions!A:C,3,FALSE)","v":{"$error":"#N/A"}},97,"PHARMDIRECTFR",970465241,970465241,"oui","PHARMACIE APOSTOLOFF",303,"Avenue","DU BEAU PAYS","97438 STE MARIE",97438,"Sainte-Marie","Pharmacie d'officine","EA"]
[{"$f":"VLOOKUP(B20516,Régions!A:C,3,FALSE)","v":{"$error":"#N/A"}},97,"PHARMDIRECTFR",970465258,970465258,"oui","PHARMACIE KINOO",155,"Chaussee","ROYALE","97460 SAINT-PAUL",97460,"Saint-Paul","Pharmacie d'officine","EA"]
[{"$f":"VLOOKUP(B20517,Régions!A:C,3,FALSE)","v":{"$error":"#N/A"}},97,"PHARMDIRECTFR",970465266,970465266,"oui","PHARMACIE PLANTE",61,"Chemin","DES COMBAVAS","97411 BOIS-DE-NEFLES-SAINT-PAUL",97411,"Saint-Paul","Pharmacie d'officine","EA"]
[{"$f":"VLOOKUP(B20518,Régions!A:C,3,FALSE)","v":{"$error":"#N/A"}},97,"PHARMDIRECTFR",970465274,970465274,"oui","PHARMACIE SEMEL ET GIRARD",228,"Avenue","du Général de Gaulle","97410 SAINT-PIERRE",97410,"Saint-Pierre","Pharmacie d'officine","EA"]
[{"$f":"VLOOKUP(B20519,Régions!A:C,3,FALSE)","v":{"$error":"#N/A"}},97,"PHARMDIRECTFR",970465282,970465282,"oui","PHARMACIE MAILLOT - THEODOLY LANNES",39,"Rue","SARDA GARRIGA","97419 LA-POSSESSION",97419,"La Possession","Pharmacie d'officine","EA"]
[{"$f":"VLOOKUP(B20520,Régions!A:C,3,FALSE)","v":{"$error":"#N/A"}},97,"PHARMDIRECTFR",970465290,970465290,"oui","PHARMACIE DE PLATEAU CAILLOU",42,"Avenue","PAUL JULIUS BENARD","97460 SAINT-PAUL",97460,"Saint-Paul","Pharmacie d'officine","EA"]
[{"$f":"VLOOKUP(B20521,Régions!A:C,3,FALSE)","v":{"$error":"#N/A"}},97,"PHARMDIRECTFR",970465308,970465308,"oui","FDM PHARM",60,"Boulevard","HUBERT DELISLE","97410 SAINT-PIERRE",97410,"Saint-Pierre","Pharmacie d'officine","EA"]
[{"$f":"VLOOKUP(B20522,Régions!A:C,3,FALSE)","v":{"$error":"#N/A"}},97,{"$error":"#N/A"},970465316,{"$error":"#N/A"},{"$error":"#N/A"},"PHARMACIE LENY",70,"Route","NATIONALE 2","97412 BRAS-PANON",97412,"Bras-Panon","Pharmacie d'officine","EA"]
[{"$f":"VLOOKUP(B20523,Régions!A:C,3,FALSE)","v":{"$error":"#N/A"}},97,"CNOP",970465324,970465324,"oui","PHARMACIE DIFFINE",216,"Rue","GEORGES POMPIDOU","97430 LE-TAMPON",97430,"Le Tampon","Pharmacie d'officine","EA"]
[{"$f":"VLOOKUP(B20524,Régions!A:C,3,FALSE)","v":{"$error":"#N/A"}},97,"CNOP",970465332,970465332,"oui","PHARMACIE  DES 600",161,"Rue","HUBERT DELISLE","97430 LE-TAMPON",97430,"Le Tampon","Pharmacie d'officine","EA"]
[{"$f":"VLOOKUP(B20525,Régions!A:C,3,FALSE)","v":{"$error":"#N/A"}},97,"CNOP",970465340,970465340,"oui","PHARMACIE  DURAND",60,"Rue","DU GENERAL DE GAULLE","97425 AVIRONS (LES)",97425,"Les Avirons","Pharmacie d'officine","EA"]
[{"$f":"VLOOKUP(B20526,Régions!A:C,3,FALSE)","v":{"$error":"#N/A"}},97,"CNOP",970465357,970465357,"oui","PHARMACIE  ROQUES",82,"Rue","DES BONS ENFANTS","97410 SAINT-PIERRE",97410,"Saint-Pierre","Pharmacie d'officine","EA"]
[{"$f":"VLOOKUP(B20527,Régions!A:C,3,FALSE)","v":{"$error":"#N/A"}},97,"PHARMDIRECTFR",970465365,970465365,"oui","PHARMACIE SAUTRON",279,"Rue","MARIUS ET ARY LEBLOND","97430 LE-TAMPON",97430,"Le Tampon","Pharmacie d'officine","EA"]
[{"$f":"VLOOKUP(B20528,Régions!A:C,3,FALSE)","v":{"$error":"#N/A"}},97,"CNOP",970465373,970465373,"oui","PHARMACIE REGNIER",5,"Impasse","FRANCOIS MAURIAC","97430 LE TAMPON",97430,"Le Tampon","Pharmacie d'officine","EA"]
[{"$f":"VLOOKUP(B20529,Régions!A:C,3,FALSE)","v":{"$error":"#N/A"}},97,"CNOP",970465381,970465381,"oui","PHARMACIE TANG TING",70,"Rue","VOLTAIRE - LES MAKES","97421 LA-RIVIERE",97421,"Saint-Louis","Pharmacie d'officine","EA"]
[{"$f":"VLOOKUP(B20530,Régions!A:C,3,FALSE)","v":{"$error":"#N/A"}},97,"PHARMDIRECTFR",970465399,970465399,"oui","PHARMACIE SIDAMBAROM-SEVAGAMY",67,"Rue","DU GENERAL DE GAULLE","97434 SAINT-GILLES-LES-BAINS",97434,"Saint-Paul","Pharmacie d'officine","EA"]
[{"$f":"VLOOKUP(B20531,Régions!A:C,3,FALSE)","v":{"$error":"#N/A"}},97,{"$error":"#N/A"},970465407,{"$error":"#N/A"},{"$error":"#N/A"},"PHARMACIE BAILLIF",51,"Rue","JACQUES DUCLOS","97419 LA-POSSESSION",97419,"La Possession","Pharmacie d'officine","EA"]
[{"$f":"VLOOKUP(B20532,Régions!A:C,3,FALSE)","v":{"$error":"#N/A"}},97,"PHARMDIRECTFR",970465415,970465415,"oui","PHARMACIE MANDJEE TAHORA",86,"Avenue","LECONTE DE LISLE","97490 SAINTE-CLOTILDE",97490,"Saint-Denis","Pharmacie d'officine","EA"]
[{"$f":"VLOOKUP(B20533,Régions!A:C,3,FALSE)","v":{"$error":"#N/A"}},97,{"$error":"#N/A"},970465423,{"$error":"#N/A"},{"$error":"#N/A"},"PHARMACIE MARCHETTI",127,"Rue","MONTHYON","97400 SAINT-DENIS",97400,"Saint-Denis","Pharmacie d'officine","EA"]
[{"$f":"VLOOKUP(B20534,Régions!A:C,3,FALSE)","v":{"$error":"#N/A"}},97,"PHARMDIRECTFR",970465431,970465431,"oui","PHARMACIE STIEGLITZ",25,"Route","DES PALMIERS","97417 LA-MONTAGNE",97417,"Saint-Denis","Pharmacie d'officine","EA"]
[{"$f":"VLOOKUP(B20535,Régions!A:C,3,FALSE)","v":{"$error":"#N/A"}},97,"PHARMDIRECTFR",970465449,970465449,"oui","PHIE PIERRESTEGUY-THEODOLY LANNES",39,"Rue","DE L'EGLISE","97411 BOIS-DE-NEFLES-SAINT-PAUL",97411,"Saint-Paul","Pharmacie d'officine","EA"]
[{"$f":"VLOOKUP(B20536,Régions!A:C,3,FALSE)","v":{"$error":"#N/A"}},97,"CNOP",970465456,970465456,"oui","PHARMACIE GEFFLOT","NULL","Rue","DU PERE FAVRON","97410 SAINT-PIERRE",97410,"Saint-Pierre","Pharmacie d'officine","EA"]
[{"$f":"VLOOKUP(B20537,Régions!A:C,3,FALSE)","v":{"$error":"#N/A"}},97,{"$error":"#N/A"},970465464,{"$error":"#N/A"},{"$error":"#N/A"},"PHARMACIE AKHOUN TIMOL",2606,"Chemin","PATELIN","97440 SAINT-ANDRE",97440,"Saint-André","Pharmacie d'officine","EA"]
[{"$f":"VLOOKUP(B20538,Régions!A:C,3,FALSE)","v":{"$error":"#N/A"}},97,"PHARMDIRECTFR",970465472,970465472,"oui","PHARMACIE TRAN-VIET-TAM",51,"Avenue","JEAN JAURES","97470 SAINT-BENOÎT",97470,"Saint-Benoît","Pharmacie d'officine","EA"]
[{"$f":"VLOOKUP(B20539,Régions!A:C,3,FALSE)","v":{"$error":"#N/A"}},97,"CNOP",970465480,970465480,"oui","PHARMACIE STROMBONI",113,"Rue","MARIUS ARY LEBLOND","97410 SAINT-PIERRE",97410,"Saint-Pierre","Pharmacie d'officine","EA"]
[{"$f":"VLOOKUP(B20540,Régions!A:C,3,FALSE)","v":{"$error":"#N/A"}},97,"CNOP",970465498,970465498,"oui","PHARMACIE HARLIN-MARQUET",4,"Rue","DU MARCHE","97450 SAINT-LOUIS",97450,"Saint-Louis","Pharmacie d'officine","EA"]
[{"$f":"VLOOKUP(B20541,Régions!A:C,3,FALSE)","v":{"$error":"#N/A"}},97,"PHARMDIRECTFR",970465506,970465506,"oui","PHARMACIE VALLY",12,"Rue","KARL MARX","97420 LE-PORT",97420,"Le Port","Pharmacie d'officine","EA"]
[{"$f":"VLOOKUP(B20542,Régions!A:C,3,FALSE)","v":{"$error":"#N/A"}},97,"PHARMDIRECTFR",970465514,970465514,"oui","PHARMACIE COJONDESOLEYEN",28,"NULL","CHEMIN DES COMBAVAS","97411 BOIS DE NEFLES ST PAUL",97411,"Saint-Paul","Pharmacie d'officine","EA"]
[{"$f":"VLOOKUP(B20543,Régions!A:C,3,FALSE)","v":{"$error":"#N/A"}},97,"PHARMDIRECTFR",970465522,970465522,"oui","PHARMACIE NAVOROZALY",168,"NULL","A, ROUTE NATIONALE 2","97439 STE ROSE",97439,"Sainte-Rose","Pharmacie d'officine","EA"]
[{"$f":"VLOOKUP(B20544,Régions!A:C,3,FALSE)","v":{"$error":"#N/A"}},97,{"$error":"#N/A"},970465530,{"$error":"#N/A"},{"$error":"#N/A"},"PHARMACIE JIVA",146,"Chemin","DU PERE RAIMBAULT","97417 LA-MONTAGNE",97417,"Saint-Denis","Pharmacie d'officine","EA"]
[{"$f":"VLOOKUP(B20545,Régions!A:C,3,FALSE)","v":{"$error":"#N/A"}},97,"PHARMDIRECTFR",970465548,970465548,"oui","PHARMACIE RAZANABOLOLONA",404,"Avenue","DE L'ILE DE FRANCE","97440 SAINT-ANDRE",97440,"Saint-André","Pharmacie d'officine","EA"]
[{"$f":"VLOOKUP(B20546,Régions!A:C,3,FALSE)","v":{"$error":"#N/A"}},97,"CNOP",970465555,970465555,"oui","PHARMACIE CHON-SEN","NULL","NULL","1 CD 3","97410 SAINT-PIERRE",97410,"Saint-Pierre","Pharmacie d'officine","EA"]
[{"$f":"VLOOKUP(B20547,Régions!A:C,3,FALSE)","v":{"$error":"#N/A"}},97,{"$error":"#N/A"},970465563,{"$error":"#N/A"},{"$error":"#N/A"},"PHARMACIE D'ABORD",86,"Avenue","PDT MITTERRAND","97410 ST PIERRE",97410,"Saint-Pierre","Pharmacie d'officine","EA"]
[{"$f":"VLOOKUP(B20548,Régions!A:C,3,FALSE)","v":{"$error":"#N/A"}},97,"CNOP",970465571,970465571,"oui","PHARMACIE  PATEL",45,"Rue","MARIUS ET ARY LEBLOND","97410 SAINT-PIERRE",97410,"Saint-Pierre","Pharmacie d'officine","EA"]
[{"$f":"VLOOKUP(B20549,Régions!A:C,3,FALSE)","v":{"$error":"#N/A"}},97,"PHARMDIRECTFR",970465589,970465589,"oui","PHARMACIE ZAMPIERO",392,"Avenue","DE BOURBON","97440 SAINT-ANDRE",97440,"Saint-André","Pharmacie d'officine","EA"]
[{"$f":"VLOOKUP(B20550,Régions!A:C,3,FALSE)","v":{"$error":"#N/A"}},97,"PHARMDIRECTFR",970465597,970465597,"oui","PHARMACIE SAINT LAURENT",73,"Rue","ROMAIN ROLLAND","97419 LA-POSSESSION",97419,"La Possession","Pharmacie d'officine","EA"]
[{"$f":"VLOOKUP(B20551,Régions!A:C,3,FALSE)","v":{"$error":"#N/A"}},97,{"$error":"#N/A"},970465605,{"$error":"#N/A"},{"$error":"#N/A"},"PHARMACIE SENANT",122,"Avenue","PIERRE MENDES FRANCE","97441 SAINTE-SUZANNE",97441,"Sainte-Suzanne","Pharmacie d'officine","EA"]
[{"$f":"VLOOKUP(B20552,Régions!A:C,3,FALSE)","v":{"$error":"#N/A"}},97,"PHARMDIRECTFR",970465613,970465613,"oui","PHARMACIE CHEUNG TOI CHEUNG",7,"Rue","DU GENERAL DE GAULLE","97426 LES-TROIS-BASSINS",97426,"Les Trois-Bassins","Pharmacie d'officine","EA"]
[{"$f":"VLOOKUP(B20553,Régions!A:C,3,FALSE)","v":{"$error":"#N/A"}},97,"PHARMDIRECTFR",970465621,970465621,"oui","PHARMACIE CHOW WING BOM - BELCOUR",4,"Rue","GEORGES POMPIDOU","97470 SAINT-BENOÎT",97470,"Saint-Benoît","Pharmacie d'officine","EA"]
[{"$f":"VLOOKUP(B20554,Régions!A:C,3,FALSE)","v":{"$error":"#N/A"}},97,"PHARMDIRECTFR",970465639,970465639,"oui","PHARMACIE  FERRAND",38,"Route","DE SAVANNA","97460 ST PAUL",97460,"Saint-Paul","Pharmacie d'officine","EA"]
[{"$f":"VLOOKUP(B20555,Régions!A:C,3,FALSE)","v":{"$error":"#N/A"}},97,{"$error":"#N/A"},970465647,{"$error":"#N/A"},{"$error":"#N/A"},"GAUTIER-GAUTIER",120,"Avenue","PRINCIPALE","97450 SAINT-LOUIS",97450,"Saint-Louis","Pharmacie d'officine","EA"]
[{"$f":"VLOOKUP(B20556,Régions!A:C,3,FALSE)","v":{"$error":"#N/A"}},97,{"$error":"#N/A"},970465662,{"$error":"#N/A"},{"$error":"#N/A"},"PHARMACIE MARODON - DUMAS - GOERTZ PHARMACIE DE LA TRINITE",10,"Avenue","JEAN-PAUL II","97400 SAINT-DENIS",97400,"Saint-Denis","Pharmacie d'officine","EA"]
[{"$f":"VLOOKUP(B20557,Régions!A:C,3,FALSE)","v":{"$error":"#N/A"}},97,{"$error":"#N/A"},970465670,{"$error":"#N/A"},{"$error":"#N/A"},"SVLH PHARMA",3,"Rue","DES MERLES","97425 LES AVIRONS",97425,"Les Avirons","Pharmacie d'officine","EA"]
[{"$f":"VLOOKUP(B20558,Régions!A:C,3,FALSE)","v":{"$error":"#N/A"}},97,"PHARMDIRECTFR",970465688,970465688,"oui","PHARMACIE CHAUSSALET",235,"Chemin","NEUF PONT D'YVES","97430 LE-TAMPON",97430,"Le Tampon","Pharmacie d'officine","EA"]
[{"$f":"VLOOKUP(B20559,Régions!A:C,3,FALSE)","v":{"$error":"#N/A"}},97,{"$error":"#N/A"},970465696,{"$error":"#N/A"},{"$error":"#N/A"},"PHARMACIE TURPIN-LEBON",9,"Rue","DE LA COMPAGNIE","97400 SAINT-DENIS",97400,"Saint-Denis","Pharmacie d'officine","EA"]
[{"$f":"VLOOKUP(B20560,Régions!A:C,3,FALSE)","v":{"$error":"#N/A"}},97,"PHARMDIRECTFR",970465704,970465704,"oui","PHARMACIE THOMAS",16,"Rue","LOUIS BRUNET","97470 SAINT-BENOÎT",97470,"Saint-Benoît","Pharmacie d'officine","EA"]
[{"$f":"VLOOKUP(B20561,Régions!A:C,3,FALSE)","v":{"$error":"#N/A"}},97,{"$error":"#N/A"},970465712,{"$error":"#N/A"},{"$error":"#N/A"},"PHARMACIE AH SING",120,"Rue","JEAN CHATEL","97476 SAINT-DENIS CEDEX",97476,"Saint-Denis","Pharmacie d'officine","EA"]
[{"$f":"VLOOKUP(B20562,Régions!A:C,3,FALSE)","v":{"$error":"#N/A"}},97,"PHARMDIRECTFR",970465720,970465720,"oui","PHARMACIE BARAU",44,"Chemin","DE LA BRETELLE","97435 SAINT-GILLES-LES-HAUTS",97435,"Saint-Paul","Pharmacie d'officine","EA"]
[{"$f":"VLOOKUP(B20563,Régions!A:C,3,FALSE)","v":{"$error":"#N/A"}},97,"PHARMDIRECTFR",970465738,970465738,"oui","PHARMACIE  GAUBERT",30,"Rue","DE LA REPUBLIQUE","97438 SAINTE-MARIE",97438,"Sainte-Marie","Pharmacie d'officine","EA"]
[{"$f":"VLOOKUP(B20564,Régions!A:C,3,FALSE)","v":{"$error":"#N/A"}},97,"PHARMDIRECTFR",970465746,970465746,"oui","PHARMACIE DERAND",32,"Rue","Michel Ange","97438 SAINTE-MARIE",97438,"Sainte-Marie","Pharmacie d'officine","EA"]
[{"$f":"VLOOKUP(B20565,Régions!A:C,3,FALSE)","v":{"$error":"#N/A"}},97,"PHARMDIRECTFR",970465753,970465753,"oui","PHARMACIE NATIVEL",4,"Rue","DU GENERAL LAMBERT","97480 SAINT-JOSEPH",97480,"Saint-Joseph","Pharmacie d'officine","EA"]
[{"$f":"VLOOKUP(B20566,Régions!A:C,3,FALSE)","v":{"$error":"#N/A"}},97,{"$error":"#N/A"},970465761,{"$error":"#N/A"},{"$error":"#N/A"},"PHARMACIE DU CENTRE",36,"Rue","Georges Pompidou","97470 SAINT-BENOIT",97470,"Saint-Benoît","Pharmacie d'officine","EA"]
[{"$f":"VLOOKUP(B20567,Régions!A:C,3,FALSE)","v":{"$error":"#N/A"}},97,"PHARMDIRECTFR",970465894,970465894,"oui","PHARMACIE DU  PLATE",262,"Route","HUBERT DELISLE","97424 LE-PITON",97424,"Saint-Leu","Pharmacie d'officine","EA"]
[{"$f":"VLOOKUP(B20568,Régions!A:C,3,FALSE)","v":{"$error":"#N/A"}},97,"CNOP",970465902,970465902,"oui","PHARMACIE DES ALOES",62,"Avenue","DE LA REPUBLIQUE","97440 SAINT-ANDRE",97440,"Saint-André","Pharmacie d'officine","EA"]
[{"$f":"VLOOKUP(B20569,Régions!A:C,3,FALSE)","v":{"$error":"#N/A"}},97,"PHARMDIRECTFR",970465928,970465928,"oui","PHARMACIE HEO HSIEN KAI-AH TIOCK",11,"Avenue","PASTEUR","97450 ST LOUIS",97450,"Saint-Louis","Pharmacie d'officine","EA"]
[{"$f":"VLOOKUP(B20570,Régions!A:C,3,FALSE)","v":{"$error":"#N/A"}},97,"PHARMDIRECTFR",970465936,970465936,"oui","PHARMACIE  LIGNE PARADIS",105,"Route","LIGNE PARADIS","97410 SAINT-PIERRE",97410,"Saint-Pierre","Pharmacie d'officine","EA"]
[{"$f":"VLOOKUP(B20571,Régions!A:C,3,FALSE)","v":{"$error":"#N/A"}},97,"PHARMDIRECTFR",970465944,970465944,"oui","PHARMACIE DES CHOCAS",3,"Rue","FRANCOIS DE MAHY","97426 LES TROIS BASSINS",97426,"Les Trois-Bassins","Pharmacie d'officine","EA"]
[{"$f":"VLOOKUP(B20572,Régions!A:C,3,FALSE)","v":{"$error":"#N/A"}},97,"PHARMDIRECTFR",970465951,970465951,"oui","PHARMACIE DU PITON DES GOYAVES",126,"Rue","DES PLATANES","97429 PETITE-ÎLE",97429,"Petite-Île","Pharmacie d'officine","EA"]
[{"$f":"VLOOKUP(B20573,Régions!A:C,3,FALSE)","v":{"$error":"#N/A"}},97,"PHARMDIRECTFR",970465969,970465969,"oui","PHARMACIE FILLOT - BEDIER",7,"Avenue","RICO CARPAYE","97420 LE-PORT",97420,"Le Port","Pharmacie d'officine","EA"]
[{"$f":"VLOOKUP(B20574,Régions!A:C,3,FALSE)","v":{"$error":"#N/A"}},97,"CNOP",970465977,970465977,"oui","PHARMACIE BOSVIEL - ROUSSE","NULL","Boulevard","DE BREST","97420 LE-PORT",97420,"Le Port","Pharmacie d'officine","EA"]
[{"$f":"VLOOKUP(B20575,Régions!A:C,3,FALSE)","v":{"$error":"#N/A"}},97,"CNOP",970465985,970465985,"oui","PHARMACIE CLEMENTZ",163,"Rue","DU GENERAL LAMBERT","97436 SAINT-LEU",97436,"Saint-Leu","Pharmacie d'officine","EA"]
[{"$f":"VLOOKUP(B20576,Régions!A:C,3,FALSE)","v":{"$error":"#N/A"}},97,"PHARMDIRECTFR",970466009,970466009,"oui","PHARMACIE AZEMAR",1,"Chemin","des Fleurs","97423 SAINT-PAUL",97423,"Saint-Paul","Pharmacie d'officine","EA"]
[{"$f":"VLOOKUP(B20577,Régions!A:C,3,FALSE)","v":{"$error":"#N/A"}},97,{"$error":"#N/A"},970500161,{"$error":"#N/A"},{"$error":"#N/A"},"PHARMACIE DIPITO",3,"Rue","AMIRAL MUSELIER","97500 SAINT-PIERRE",97500,"Saint-Pierre","Pharmacie d'officine","EA"]
[{"$f":"VLOOKUP(B20578,Régions!A:C,3,FALSE)","v":{"$error":"#N/A"}},98,{"$error":"#N/A"},980500060,{"$error":"#N/A"},{"$error":"#N/A"},"PHARMACIE LETISSIER","NULL","Rue","DU STADE","97600 MAMOUDZOU",97600,"Mamoudzou","Pharmacie d'officine","EA"]
[{"$f":"VLOOKUP(B20579,Régions!A:C,3,FALSE)","v":{"$error":"#N/A"}},98,{"$error":"#N/A"},980500086,{"$error":"#N/A"},{"$error":"#N/A"},"PHARMACIE ZAROUR",6,"Place","DU MARCHE","97600 MAMOUDZOU",97600,"Mamoudzou","Pharmacie d'officine","EA"]
[{"$f":"VLOOKUP(B20580,Régions!A:C,3,FALSE)","v":{"$error":"#N/A"}},98,"CNOP",980500102,980500102,"oui","PHARMACIE EAP",18,"Rue","DU COMMERCE","97615 DZAOUDZI",97615,"Dzaoudzi","Pharmacie d'officine","EA"]
[{"$f":"VLOOKUP(B20581,Régions!A:C,3,FALSE)","v":{"$error":"#N/A"}},98,{"$error":"#N/A"},980500128,{"$error":"#N/A"},{"$error":"#N/A"},"PHARMACIE OBONO ONDO ANTCHANDIE",35,"Route","DEPARTEMENTALE N°3","97600 MAMOUDZOU",97600,"Mamoudzou","Pharmacie d'officine","EA"]
[{"$f":"VLOOKUP(B20582,Régions!A:C,3,FALSE)","v":{"$error":"#N/A"}},98,"PHARMDIRECTFR",980500144,980500144,"oui","PHARMACIE CHARAFOUDINE","NULL","Zone d amenagement concerte","du Soleil Levant","97600 MAMOUDZOU",97600,"Mamoudzou","Pharmacie d'officine","EA"]
[{"$f":"VLOOKUP(B20583,Régions!A:C,3,FALSE)","v":{"$error":"#N/A"}},98,{"$error":"#N/A"},980500169,{"$error":"#N/A"},{"$error":"#N/A"},"PHARMACIE MOUGIN","NULL","Route","NATIONALE - BORNE 62","97620 CHIRONGUI",97620,"Chirongui","Pharmacie d'officine","EA"]
[{"$f":"VLOOKUP(B20584,Régions!A:C,3,FALSE)","v":{"$error":"#N/A"}},98,"CNOP",980500185,980500185,"oui","PHARMACIE KADRI","NULL","NULL","RN 2","97600 MAMOUDZOU",97600,"Mamoudzou","Pharmacie d'officine","EA"]
[{"$f":"VLOOKUP(B20585,Régions!A:C,3,FALSE)","v":{"$error":"#N/A"}},98,{"$error":"#N/A"},980500227,{"$error":"#N/A"},{"$error":"#N/A"},"PHARMACIE BOUSSAIDI",76,"Route","NATIONALE","97615 PAMANDZI",97615,"Pamandzi","Pharmacie d'officine","EA"]
[{"$f":"VLOOKUP(B20586,Régions!A:C,3,FALSE)","v":{"$error":"#N/A"}},98,"PHARMDIRECTFR",980500243,980500243,"oui","PHARMACIE DU CENTRE","NULL","Rue","DE L'HOPITAL","97600 MAMOUDZOU",97600,"Mamoudzou","Pharmacie d'officine","EA"]
[{"$f":"VLOOKUP(B20587,Régions!A:C,3,FALSE)","v":{"$error":"#N/A"}},98,{"$error":"#N/A"},980500359,{"$error":"#N/A"},{"$error":"#N/A"},"PHARMACIE ANCENYS",1,"Route","NATIONALE","97600 MAMOUDZOU",97600,"Mamoudzou","Pharmacie d'officine","EA"]
[{"$f":"VLOOKUP(B20588,Régions!A:C,3,FALSE)","v":{"$error":"#N/A"}},98,"PHARMDIRECTFR",980500383,980500383,"oui","PHARMACIE  DE COMBANI",1,"Rue","DECASE - COMBANI","97680 TSINGONI",97680,"Tsingoni","Pharmacie d'officine","EA"]
[{"$f":"VLOOKUP(B20589,Régions!A:C,3,FALSE)","v":{"$error":"#N/A"}},98,"PHARMDIRECTFR",980500409,980500409,"oui","PHARMACIE BROQUAIRE","NULL","NULL","CARREFOUR de CHICONI","97640 SADA",97640,"Sada","Pharmacie d'officine","EA"]
[{"$f":"VLOOKUP(B20590,Régions!A:C,3,FALSE)","v":{"$error":"#N/A"}},98,"PHARMDIRECTFR",980500425,980500425,"oui","PHARMACIE NAVARRON","NULL","Route","DE BANDRABOUA","97650 BANDRABOUA",97650,"Bandraboua","Pharmacie d'officine","EA"]
[{"$f":"VLOOKUP(B20591,Régions!A:C,3,FALSE)","v":{"$error":"#N/A"}},98,"PHARMDIRECTFR",980500466,980500466,"oui","PHARMACIE WALZ",1,"Rue","100 VILLAS","97600 KOUNGOU",97600,"Koungou","Pharmacie d'officine","EA"]
[{"$f":"VLOOKUP(B20592,Régions!A:C,3,FALSE)","v":{"$error":"#N/A"}},98,"PHARMDIRECTFR",980500508,980500508,"oui","PHARMACIE DES DAUPHINS",102,"Boulevard","Mze Mandela","97660 DEMBENI",97660,"Dembeni","Pharmacie d'officine","EA"]
[{"$f":"VLOOKUP(B20593,Régions!A:C,3,FALSE)","v":{"$error":"#N/A"}},98,"PHARMDIRECTFR",980500524,980500524,"oui","PHARMACIE SERALY",37,"Rue","CHABADI -M'TSAPERE","97600 MAMOUDZOU",97600,"Mamoudzou","Pharmacie d'officine","EA"]
[{"$f":"VLOOKUP(B20594,Régions!A:C,3,FALSE)","v":{"$error":"#N/A"}},98,{"$error":"#N/A"},980500649,{"$error":"#N/A"},{"$error":"#N/A"},"PHARMACIE BEL","NULL","Rue","DU COLLEGE","97660 BANDRELE",97660,"Bandrele","Pharmacie d'officine","EA"]
[{"$f":"VLOOKUP(B20595,Régions!A:C,3,FALSE)","v":{"$error":"#N/A"}},98,"PHARMDIRECTFR",980501001,980501001,"oui","PHARMACIE KARIBU",4,"Avenue","du président Jacques Chirac","97640 SADA",97640,"Sada","Pharmacie d'officine","EA"]
[{"$f":"VLOOKUP(B20596,Régions!A:C,3,FALSE)","v":{"$error":"#N/A"}},98,"PHARMDIRECTFR",980501100,980501100,"oui","PHARMACIE MANTA",1,"Rue","BACAR RIDJALI","97650 M TSANGAMOUJI",97650,"M'Tsangamouji","Pharmacie d'officine","EA"]
[{"$f":"VLOOKUP(B20597,Régions!A:C,3,FALSE)","v":{"$error":"#N/A"}},98,{"$error":"#N/A"},980501126,{"$error":"#N/A"},{"$error":"#N/A"},"PHARMACIE MERABET",185,"Rue","Zaliha Said","97630 MTSAMBORO",97630,"Mtsamboro","Pharmacie d'officine","EA"]
[{"$f":"VLOOKUP(B20598,Régions!A:C,3,FALSE)","v":{"$error":"#N/A"}},98,{"$error":"#N/A"},980501308,{"$error":"#N/A"},{"$error":"#N/A"},"PHARMACIE DE KOUNGOU",1,"Rue","KALIMI","97600 KOUNGOU",97600,"Koungou","Pharmacie d'officine","EA"]
[{"$f":"VLOOKUP(B20599,Régions!A:C,3,FALSE)","v":{"$error":"#N/A"}},98,"PHARMDIRECTFR",980501340,980501340,"oui","PHARMACIE DUCLOS",26,"Boulevard","de Caroni","97620 BOUENI",97620,"Bouéni","Pharmacie d'officine","EA"]
[{"$f":"VLOOKUP(B20600,Régions!A:C,3,FALSE)","v":{"$error":"#N/A"}},98,"PHARMDIRECTFR",980501779,980501779,"oui","PHARMACIE  VANILLE","NULL","Rond point","Mega","97600 MAMOUDZOU",97600,"Mamoudzou","Pharmacie d'officine","EA"]
[{"$f":"VLOOKUP(B20601,Régions!A:C,3,FALSE)","v":{"$error":"#N/A"}},98,"PHARMDIRECTFR",980502173,980502173,"oui","PHARMACIE SAID",559,"NULL","Route nationale 2","97660 DEMBENI",97660,"Dembeni","Pharmacie d'officine","EA"]
[{"$f":"VLOOKUP(B20602,Régions!A:C,3,FALSE)","v":"Corse"},"2A","CNOP","2A0000956","2A0000956","oui","SELARL PHARMACIE RITORNU","NULL","NULL","LA LISCIA","20111 CALCATOGGIO",20111,"Calcatoggio","Pharmacie d'officine","A"]
[{"$f":"VLOOKUP(B20603,Régions!A:C,3,FALSE)","v":"Corse"},"2A","PHARMDIRECTFR","2A0000972","2A0000972","oui","PHARMACIE BARBAZZA",66,"Cours","NAPOLEON","20000 AJACCIO",20000,"Ajaccio","Pharmacie d'officine","A"]
[{"$f":"VLOOKUP(B20604,Régions!A:C,3,FALSE)","v":"Corse"},"2A","PHARMDIRECTFR","2A0001004","2A0001004","oui","SELAS  PHARMACIE DU STADE","NULL","Chemin","ACQUALONGA","20167 AJACCIO",20167,"Ajaccio","Pharmacie d'officine","A"]
[{"$f":"VLOOKUP(B20605,Régions!A:C,3,FALSE)","v":"Corse"},"2A",{"$error":"#N/A"},"2A0001020",{"$error":"#N/A"},{"$error":"#N/A"},"PHARMACIE GALLONI D'ISTRIA",9,"Cours","SOEUR AMELIE","20100 SARTÈNE",20100,"Sartène","Pharmacie d'officine","A"]
[{"$f":"VLOOKUP(B20606,Régions!A:C,3,FALSE)","v":"Corse"},"2A",{"$error":"#N/A"},"2A0001103",{"$error":"#N/A"},{"$error":"#N/A"},"PHARMACIE BIANCHI","NULL","Quartier","ST-JEAN","20130 CARGÈSE",20130,"Cargèse","Pharmacie d'officine","A"]
[{"$f":"VLOOKUP(B20607,Régions!A:C,3,FALSE)","v":"Corse"},"2A","PHARMDIRECTFR","2A0001137","2A0001137","oui","PHARMACIE DU RUPPIONE","NULL","Rond point","DE L'ISOLELLA","20166 PIETROSELLA",20166,"Pietrosella","Pharmacie d'officine","A"]
[{"$f":"VLOOKUP(B20608,Régions!A:C,3,FALSE)","v":"Corse"},"2A","PHARMDIRECTFR","2A0001152","2A0001152","oui","SELARL PHARMACIE DE PREMONT",4,"Cours","NAPOLEON","20000 AJACCIO",20000,"Ajaccio","Pharmacie d'officine","A"]
[{"$f":"VLOOKUP(B20609,Régions!A:C,3,FALSE)","v":"Corse"},"2A",{"$error":"#N/A"},"2A0001186",{"$error":"#N/A"},{"$error":"#N/A"},"SARL PHARMACIE NERI","NULL","NULL","LES MARINES DE PORTICCIO","20166 GROSSETO PRUGNA",20166,"Grosseto-Prugna","Pharmacie d'officine","A"]
[{"$f":"VLOOKUP(B20610,Régions!A:C,3,FALSE)","v":"Corse"},"2A",{"$error":"#N/A"},"2A0001202",{"$error":"#N/A"},{"$error":"#N/A"},"SELAS PHARMACIE DE BONIFACIO",87,"Quai","COMPARETTI","20169 BONIFACIO",20169,"Bonifacio","Pharmacie d'officine","A"]
[{"$f":"VLOOKUP(B20611,Régions!A:C,3,FALSE)","v":"Corse"},"2A",{"$error":"#N/A"},"2A0001236",{"$error":"#N/A"},{"$error":"#N/A"},"SELARL PHARMACIE DE VICO","NULL","Cours","Danielle CASANOVA","20160 VICO",20160,"Vico","Pharmacie d'officine","A"]
[{"$f":"VLOOKUP(B20612,Régions!A:C,3,FALSE)","v":"Corse"},"2A","CNOP","2A0001251","2A0001251","oui","SELARL PHARMACIE DE LA GRAVONA","NULL","Lieu dit","Confina","20167 PERI",20167,"Peri","Pharmacie d'officine","A"]
[{"$f":"VLOOKUP(B20613,Régions!A:C,3,FALSE)","v":"Corse"},"2A","CNOP","2A0001285","2A0001285","oui","SELAS PHARMACIE DU FINOSELLO","NULL","Avenue","MARECHAL LYAUTEY","20090 AJACCIO",20090,"Ajaccio","Pharmacie d'officine","A"]
[{"$f":"VLOOKUP(B20614,Régions!A:C,3,FALSE)","v":"Corse"},"2A","CNOP","2A0001301","2A0001301","oui","SARL PHARMACIE DE TALLANO","NULL","NULL","NULL","20112 SAINTE-LUCIE-DE-TALLANO",20112,"Sainte-Lucie-de-Tallano","Pharmacie d'officine","A"]
[{"$f":"VLOOKUP(B20615,Régions!A:C,3,FALSE)","v":"Corse"},"2A",{"$error":"#N/A"},"2A0001335",{"$error":"#N/A"},{"$error":"#N/A"},"SELARL PHARMACIE DES QUATRE CHEMINS","NULL","NULL","LES QUATRE CHEMINS","20137 PORTO VECCHIO",20137,"Porto-Vecchio","Pharmacie d'officine","A"]
[{"$f":"VLOOKUP(B20616,Régions!A:C,3,FALSE)","v":"Corse"},"2A","CNOP","2A0001350","2A0001350","oui","PH COLONNA D'ISTRIA DE C - DE PERETTI","NULL","Residence","Rocade Padules","20090 AJACCIO",20090,"Ajaccio","Pharmacie d'officine","A"]
[{"$f":"VLOOKUP(B20617,Régions!A:C,3,FALSE)","v":"Corse"},"2A",{"$error":"#N/A"},"2A0001400",{"$error":"#N/A"},{"$error":"#N/A"},"SELARL PHARMACIE SAINT-JEAN",21,"Boulevard","Dominique Paoli","20000 AJACCIO",20000,"Ajaccio","Pharmacie d'officine","A"]
[{"$f":"VLOOKUP(B20618,Régions!A:C,3,FALSE)","v":"Corse"},"2A","CNOP","2A0001434","2A0001434","oui","SELARL PHARMACIE ORSINI","NULL","Route","NATIONALE  198 - SOLENZARA","20145 SARI-SOLENZARA",20145,"Sari-Solenzara","Pharmacie d'officine","A"]
[{"$f":"VLOOKUP(B20619,Régions!A:C,3,FALSE)","v":"Corse"},"2A",{"$error":"#N/A"},"2A0001467",{"$error":"#N/A"},{"$error":"#N/A"},"SELARL PHARMACIE DE LA MARINE","NULL","Quai","PASCAL PAOLI","20137 PORTO-VECCHIO",20137,"Porto-Vecchio","Pharmacie d'officine","A"]
[{"$f":"VLOOKUP(B20620,Régions!A:C,3,FALSE)","v":"Corse"},"2A","CNOP","2A0001483","2A0001483","oui","SELAS  LUCCHINI",10,"Avenue","Maréchal Moncey","20000 AJACCIO",20000,"Ajaccio","Pharmacie d'officine","A"]
[{"$f":"VLOOKUP(B20621,Régions!A:C,3,FALSE)","v":"Corse"},"2A",{"$error":"#N/A"},"2A0001517",{"$error":"#N/A"},{"$error":"#N/A"},"SELARL PHARMACIE MARCAGGI","NULL","Immeuble","RINICCIO","20118 VICO",20118,"Coggia","Pharmacie d'officine","A"]
[{"$f":"VLOOKUP(B20622,Régions!A:C,3,FALSE)","v":"Corse"},"2A","PHARMDIRECTFR","2A0001566","2A0001566","oui","SELARL PHARMACIE DES SALINES","NULL","Cours","du Prince Imperial","20090 AJACCIO",20090,"Ajaccio","Pharmacie d'officine","A"]
[{"$f":"VLOOKUP(B20623,Régions!A:C,3,FALSE)","v":"Corse"},"2A",{"$error":"#N/A"},"2A0001582",{"$error":"#N/A"},{"$error":"#N/A"},"SELEURL PHARMACIE DES PLAGES","NULL","Boulevard","TINO ROSSI","20000 AJACCIO",20000,"Ajaccio","Pharmacie d'officine","A"]
[{"$f":"VLOOKUP(B20624,Régions!A:C,3,FALSE)","v":"Corse"},"2A","PHARMDIRECTFR","2A0001616","2A0001616","oui","SARL PHARMACIE DE PORTO","NULL","Chemin","vers la Marine","20150 OTA",20150,"Ota","Pharmacie d'officine","A"]
[{"$f":"VLOOKUP(B20625,Régions!A:C,3,FALSE)","v":"Corse"},"2A",{"$error":"#N/A"},"2A0001632",{"$error":"#N/A"},{"$error":"#N/A"},"SELARL PHARMACIE BELLILCHI - BRANCA","NULL","Route","DE CALVI","20167 ALATA",20167,"Alata","Pharmacie d'officine","A"]
[{"$f":"VLOOKUP(B20626,Régions!A:C,3,FALSE)","v":"Corse"},"2A","PHARMDIRECTFR","2A0001657","2A0001657","oui","PHARMACIE PARAVISINI-PINELLI",4,"Avenue","DU 1ER CONSUL","20000 AJACCIO",20000,"Ajaccio","Pharmacie d'officine","A"]
[{"$f":"VLOOKUP(B20627,Régions!A:C,3,FALSE)","v":"Corse"},"2A","CNOP","2A0001673","2A0001673","oui","PHARMACIE GAZANO","NULL","Lieu dit","COMMUNU","20129 BASTELICACCIA",20129,"Bastelicaccia","Pharmacie d'officine","A"]
[{"$f":"VLOOKUP(B20628,Régions!A:C,3,FALSE)","v":"Corse"},"2A",{"$error":"#N/A"},"2A0001715",{"$error":"#N/A"},{"$error":"#N/A"},"SELARL PHARMACIE DE L'AQUEDUC","NULL","Parc","Activite Mezzavia 2","20167 AJACCIO",20167,"Ajaccio","Pharmacie d'officine","A"]
[{"$f":"VLOOKUP(B20629,Régions!A:C,3,FALSE)","v":"Corse"},"2A",{"$error":"#N/A"},"2A0001731",{"$error":"#N/A"},{"$error":"#N/A"},"SELARL PHARMACIE BARTOLI","NULL","NULL","POGGIARELLI","20144 ZONZA",20144,"Zonza","Pharmacie d'officine","A"]
[{"$f":"VLOOKUP(B20630,Régions!A:C,3,FALSE)","v":"Corse"},"2A",{"$error":"#N/A"},"2A0001764",{"$error":"#N/A"},{"$error":"#N/A"},"PHARMACIE COQUARD-GIUSTINIANI","NULL","Lieu dit","MOLINI - AGOSTA PLAGE","20166 PORTICCIO",20166,"Albitreccia","Pharmacie d'officine","A"]
[{"$f":"VLOOKUP(B20631,Régions!A:C,3,FALSE)","v":"Corse"},"2A","PHARMDIRECTFR","2A0001780","2A0001780","oui","SELARL PHARMACIE PRINCIPALE",65,"Cours","NAPOLEON","20000 AJACCIO",20000,"Ajaccio","Pharmacie d'officine","A"]
[{"$f":"VLOOKUP(B20632,Régions!A:C,3,FALSE)","v":"Corse"},"2A","PHARMDIRECTFR","2A0001814","2A0001814","oui","SELARL PHARMACIE FRANCESCHINI",53,"Cours","NAPOLEON","20000 AJACCIO",20000,"Ajaccio","Pharmacie d'officine","A"]
[{"$f":"VLOOKUP(B20633,Régions!A:C,3,FALSE)","v":"Corse"},"2A",{"$error":"#N/A"},"2A0001830",{"$error":"#N/A"},{"$error":"#N/A"},"SELAS PHARMASUD","NULL","Route","D'ARCA","20137 PORTO-VECCHIO",20137,"Porto-Vecchio","Pharmacie d'officine","A"]
[{"$f":"VLOOKUP(B20634,Régions!A:C,3,FALSE)","v":"Corse"},"2A",{"$error":"#N/A"},"2A0001863",{"$error":"#N/A"},{"$error":"#N/A"},"SELAS PHARMACIE BUJOLI-GUIDICELLI","NULL","Avenue","NOEL FRANCHINI","20000 AJACCIO",20000,"Ajaccio","Pharmacie d'officine","A"]
[{"$f":"VLOOKUP(B20635,Régions!A:C,3,FALSE)","v":"Corse"},"2A",{"$error":"#N/A"},"2A0001897",{"$error":"#N/A"},{"$error":"#N/A"},"PHARMACIE PIETRI",109,"Cours","NAPOLEON","20090 AJACCIO",20090,"Ajaccio","Pharmacie d'officine","A"]
[{"$f":"VLOOKUP(B20636,Régions!A:C,3,FALSE)","v":"Corse"},"2A","PHARMDIRECTFR","2A0001913","2A0001913","oui","SELASU PHARMACIE LANFRANCHI",2,"Avenue","DU PREMIER CONSUL","20000 AJACCIO",20000,"Ajaccio","Pharmacie d'officine","A"]
[{"$f":"VLOOKUP(B20637,Régions!A:C,3,FALSE)","v":"Corse"},"2A",{"$error":"#N/A"},"2A0001947",{"$error":"#N/A"},{"$error":"#N/A"},"SELARL  PHARMACIE DE LA POSTE",11,"Cours","NAPOLEON","20179 AJACCIO",20179,"Ajaccio","Pharmacie d'officine","A"]
[{"$f":"VLOOKUP(B20638,Régions!A:C,3,FALSE)","v":"Corse"},"2A","CNOP","2A0001962","2A0001962","oui","SELARL PHARMACIE PHARMAVENIR",48,"Cours","NAPOLEON","20000 AJACCIO",20000,"Ajaccio","Pharmacie d'officine","A"]
[{"$f":"VLOOKUP(B20639,Régions!A:C,3,FALSE)","v":"Corse"},"2A",{"$error":"#N/A"},"2A0001996",{"$error":"#N/A"},{"$error":"#N/A"},"SELARL PHARMACIE ALBERT 1ER",12,"Boulevard","ALBERT 1ER","20000 AJACCIO",20000,"Ajaccio","Pharmacie d'officine","A"]
[{"$f":"VLOOKUP(B20640,Régions!A:C,3,FALSE)","v":"Corse"},"2A","CNOP","2A0002010","2A0002010","oui","PHARMACIE RENOUX - BARGETON","NULL","Avenue","MARECHAL JUIN","20090 AJACCIO",20090,"Ajaccio","Pharmacie d'officine","A"]
[{"$f":"VLOOKUP(B20641,Régions!A:C,3,FALSE)","v":"Corse"},"2A","CNOP","2A0002044","2A0002044","oui","PHARMACIE LEHMANN",30,"Cite","DES CANNES","20090 AJACCIO",20090,"Ajaccio","Pharmacie d'officine","A"]
[{"$f":"VLOOKUP(B20642,Régions!A:C,3,FALSE)","v":"Corse"},"2A",{"$error":"#N/A"},"2A0002093",{"$error":"#N/A"},{"$error":"#N/A"},"PHARMACIE MARCAGGI",27,"Cours","NAPOLEON","20000 AJACCIO",20000,"Ajaccio","Pharmacie d'officine","A"]
[{"$f":"VLOOKUP(B20643,Régions!A:C,3,FALSE)","v":"Corse"},"2A","CNOP","2A0002127","2A0002127","oui","SELAS PHARMACIE NOUVELLE",1,"Rue","DU GENERAL DE GAULLE","20137 PORTO-VECCHIO",20137,"Porto-Vecchio","Pharmacie d'officine","A"]
[{"$f":"VLOOKUP(B20644,Régions!A:C,3,FALSE)","v":"Corse"},"2A",{"$error":"#N/A"},"2A0002143",{"$error":"#N/A"},{"$error":"#N/A"},"PHARMACIE POLI","NULL","Avenue","du Mont Thabor","20090 AJACCIO",20090,"Ajaccio","Pharmacie d'officine","A"]
[{"$f":"VLOOKUP(B20645,Régions!A:C,3,FALSE)","v":"Corse"},"2A",{"$error":"#N/A"},"2A0002176",{"$error":"#N/A"},{"$error":"#N/A"},"SELARL PHARMACIE U PIRATU","NULL","NULL","NULL","20170 LEVIE",20170,"Levie","Pharmacie d'officine","A"]
[{"$f":"VLOOKUP(B20646,Régions!A:C,3,FALSE)","v":"Corse"},"2A",{"$error":"#N/A"},"2A0002192",{"$error":"#N/A"},{"$error":"#N/A"},"SELARL PHARMACIE OTTAVI",30,"Cours","LUCIEN BONAPARTE","20000 AJACCIO",20000,"Ajaccio","Pharmacie d'officine","A"]
[{"$f":"VLOOKUP(B20647,Régions!A:C,3,FALSE)","v":"Corse"},"2A","CNOP","2A0002226","2A0002226","oui","PHARMACIE PAOLETTI-PANTALACCI",7,"Cours","NAPOLEON","20000 AJACCIO",20000,"Ajaccio","Pharmacie d'officine","A"]
[{"$f":"VLOOKUP(B20648,Régions!A:C,3,FALSE)","v":"Corse"},"2A","CNOP","2A0002242","2A0002242","oui","SELAS PHARMACIE PASTINELLI","NULL","Rue","JEAN NICOLI","20100 SARTÈNE",20100,"Sartène","Pharmacie d'officine","A"]
[{"$f":"VLOOKUP(B20649,Régions!A:C,3,FALSE)","v":"Corse"},"2A","CNOP","2A0002291","2A0002291","oui","SELEURL PHARMACIE OTTAVY SYLVAIN","NULL","NULL","EFFRICO","20167 SARROLA-CARCOPINO",20167,"Sarrola-Carcopino","Pharmacie d'officine","A"]
[{"$f":"VLOOKUP(B20650,Régions!A:C,3,FALSE)","v":"Corse"},"2A","PHARMDIRECTFR","2A0002325","2A0002325","oui","EURL PHARMACIE DELPOUX","NULL","NULL","Avenue Guillaume Tollinchi","20190 SANTA-MARIA-SICHE",20190,"Santa-Maria-Siché","Pharmacie d'officine","A"]
[{"$f":"VLOOKUP(B20651,Régions!A:C,3,FALSE)","v":"Corse"},"2A","CNOP","2A0002341","2A0002341","oui","SELARL  PHARMACIE CASABIANCA ET FILS",4,"Cours","GRANDVAL","20000 AJACCIO",20000,"Ajaccio","Pharmacie d'officine","A"]
[{"$f":"VLOOKUP(B20652,Régions!A:C,3,FALSE)","v":"Corse"},"2A","CNOP","2A0002374","2A0002374","oui","PHARMACIE CARREGA","NULL","Avenue"," STEPHANOPOLI DE COMNENE","20000 AJACCIO",20000,"Ajaccio","Pharmacie d'officine","A"]
[{"$f":"VLOOKUP(B20653,Régions!A:C,3,FALSE)","v":"Corse"},"2A","PHARMDIRECTFR","2A0002390","2A0002390","oui","PHARMACIE ROUX","NULL","Lieu dit","FICA TORTA","20114 FIGARI",20114,"Figari","Pharmacie d'officine","A"]
[{"$f":"VLOOKUP(B20654,Régions!A:C,3,FALSE)","v":"Corse"},"2A","PHARMDIRECTFR","2A0002424","2A0002424","oui","SELARL PHARMACIE DU PORT",5,"Avenue","NAPOLEON III","20110 PROPRIANO",20110,"Propriano","Pharmacie d'officine","A"]
[{"$f":"VLOOKUP(B20655,Régions!A:C,3,FALSE)","v":"Corse"},"2A",{"$error":"#N/A"},"2A0002440",{"$error":"#N/A"},{"$error":"#N/A"},"SELAS PHARMACIE DU VALINCO","NULL","NULL","PLE D'ACTIVITE SANTA GIULIA","20110 PROPRIANO",20110,"Propriano","Pharmacie d'officine","A"]
[{"$f":"VLOOKUP(B20656,Régions!A:C,3,FALSE)","v":"Corse"},"2A",{"$error":"#N/A"},"2A0002465",{"$error":"#N/A"},{"$error":"#N/A"},"PHARMACIE TOMASI-BORTOLI","NULL","Lieu dit","CINTRONE","20140 SERRA DI FERRO",20140,"Serra-di-Ferro","Pharmacie d'officine","A"]
[{"$f":"VLOOKUP(B20657,Régions!A:C,3,FALSE)","v":"Corse"},"2A",{"$error":"#N/A"},"2A0002481",{"$error":"#N/A"},{"$error":"#N/A"},"SELAS PHARMACIE DU TARAVO","NULL","Route","NATIONALE 196","20140 PETRETO-BICCHISANO",20140,"Petreto-Bicchisano","Pharmacie d'officine","A"]
[{"$f":"VLOOKUP(B20658,Régions!A:C,3,FALSE)","v":"Corse"},"2A",{"$error":"#N/A"},"2A0002515",{"$error":"#N/A"},{"$error":"#N/A"},"SELARL PHARMACIE D'OLMETO","NULL","Cours","BALISONI","20113 OLMETO",20113,"Olmeto","Pharmacie d'officine","A"]
[{"$f":"VLOOKUP(B20659,Régions!A:C,3,FALSE)","v":"Corse"},"2A","PHARMDIRECTFR","2A0002531","2A0002531","oui","SELAS PHARMACIE DU VAZZIO","NULL","Route","du Dr J Paul de Rocca Serra","20090 AJACCIO",20090,"Ajaccio","Pharmacie d'officine","A"]
[{"$f":"VLOOKUP(B20660,Régions!A:C,3,FALSE)","v":"Corse"},"2A",{"$error":"#N/A"},"2A0002671",{"$error":"#N/A"},{"$error":"#N/A"},"SELARL PHARMACIE DES ALIZES","NULL","Boulevard","Louis Campi","20090 AJACCIO",20090,"Ajaccio","Pharmacie d'officine","A"]
[{"$f":"VLOOKUP(B20661,Régions!A:C,3,FALSE)","v":"Corse"},"2A",{"$error":"#N/A"},"2A0002804",{"$error":"#N/A"},{"$error":"#N/A"},"SELARL PHARMACIE NESTOR","NULL","Place","DE L'EGLISE","20167 AFA",20167,"Afa","Pharmacie d'officine","A"]
[{"$f":"VLOOKUP(B20662,Régions!A:C,3,FALSE)","v":"Corse"},"2A",{"$error":"#N/A"},"2A0002812",{"$error":"#N/A"},{"$error":"#N/A"},"SELARL PHARMACIE DU SOLEIL",38,"Route","DE SARTENE","20090 AJACCIO",20090,"Ajaccio","Pharmacie d'officine","A"]
[{"$f":"VLOOKUP(B20663,Régions!A:C,3,FALSE)","v":"Corse"},"2B","CNOP","2B0001028","2B0001028","oui","SELARL PHARMACIE BROCHE -  ROSELLINI","NULL","Boulevard","DE FOGATA","20220 ÎLE-ROUSSE (L')",20220,"L'Île-Rousse","Pharmacie d'officine","A"]
[{"$f":"VLOOKUP(B20664,Régions!A:C,3,FALSE)","v":"Corse"},"2B","CNOP","2B0001325","2B0001325","oui","SELEURL PHARMACIE PORT TOGA","NULL","Galerie","MARCHANDE","20200 BASTIA",20200,"Bastia","Pharmacie d'officine","A"]
[{"$f":"VLOOKUP(B20665,Régions!A:C,3,FALSE)","v":"Corse"},"2B",{"$error":"#N/A"},"2B0001374",{"$error":"#N/A"},{"$error":"#N/A"},"SELARL PHARMACIE ALBANO-MORETTI",1,"Rue","Case Nove","20214 CALENZANA",20214,"Calenzana","Pharmacie d'officine","A"]
[{"$f":"VLOOKUP(B20666,Régions!A:C,3,FALSE)","v":"Corse"},"2B",{"$error":"#N/A"},"2B0001390",{"$error":"#N/A"},{"$error":"#N/A"},"SELEURL PHARMACIE SIMONI","NULL","Residence","CASTEL VERDE","20230 SAN-NICOLAO",20230,"San-Nicolao","Pharmacie d'officine","A"]
[{"$f":"VLOOKUP(B20667,Régions!A:C,3,FALSE)","v":"Corse"},"2B",{"$error":"#N/A"},"2B0002281",{"$error":"#N/A"},{"$error":"#N/A"},"SELARL PHARMACIE DE LA MARANA","NULL","Lieu dit","PINETO","20290 BORGO",20290,"Borgo","Pharmacie d'officine","A"]
[{"$f":"VLOOKUP(B20668,Régions!A:C,3,FALSE)","v":"Corse"},"2B","CNOP","2B0002307","2B0002307","oui","SELAS PHARMACIE DU POLYGONE","NULL","Centre commercial","Montesoro","20600 BASTIA",20600,"Bastia","Pharmacie d'officine","A"]
[{"$f":"VLOOKUP(B20669,Régions!A:C,3,FALSE)","v":"Corse"},"2B","CNOP","2B0002315","2B0002315","oui","SELEURL PHARMACIE DE CALACUCCIA","NULL","Lieu dit","COSTA  AL MOLINO","20224 CALACUCCIA",20224,"Calacuccia","Pharmacie d'officine","A"]
[{"$f":"VLOOKUP(B20670,Régions!A:C,3,FALSE)","v":"Corse"},"2B",{"$error":"#N/A"},"2B0002323",{"$error":"#N/A"},{"$error":"#N/A"},"SELARL PHARMACIE DE LUCCIANA","NULL","Lieu dit","CROCETTA","20290 LUCCIANA",20290,"Lucciana","Pharmacie d'officine","A"]
[{"$f":"VLOOKUP(B20671,Régions!A:C,3,FALSE)","v":"Corse"},"2B",{"$error":"#N/A"},"2B0002331",{"$error":"#N/A"},{"$error":"#N/A"},"SELARL LANIELLA PHARMA","NULL","Lieu dit","LANIELLA","20260 CALVI",20260,"Calvi","Pharmacie d'officine","A"]
[{"$f":"VLOOKUP(B20672,Régions!A:C,3,FALSE)","v":"Corse"},"2B",{"$error":"#N/A"},"2B0002356",{"$error":"#N/A"},{"$error":"#N/A"},"PHARMACIE CACHARD","NULL","NULL","NULL","20226 BELGODÈRE",20226,"Belgodère","Pharmacie d'officine","A"]
[{"$f":"VLOOKUP(B20673,Régions!A:C,3,FALSE)","v":"Corse"},"2B",{"$error":"#N/A"},"2B0002364",{"$error":"#N/A"},{"$error":"#N/A"},"SELAS PHARMACIE LESCHI - VINCENTI","NULL","Residence","DU PORT","20217 ST FLORENT",20217,"Saint-Florent","Pharmacie d'officine","A"]
[{"$f":"VLOOKUP(B20674,Régions!A:C,3,FALSE)","v":"Corse"},"2B","CNOP","2B0002372","2B0002372","oui","SELARL PHARMACIE SANTA MARIA","NULL","Avenue","de la Libération","20600 BASTIA",20600,"Bastia","Pharmacie d'officine","A"]
[{"$f":"VLOOKUP(B20675,Régions!A:C,3,FALSE)","v":"Corse"},"2B","PHARMDIRECTFR","2B0002380","2B0002380","oui","PHARMACIE CASABIANCA-FAZI JACQUELINE","NULL","Lieu dit","TRAVO","20240 VENTISERI",20240,"Ventiseri","Pharmacie d'officine","A"]
[{"$f":"VLOOKUP(B20676,Régions!A:C,3,FALSE)","v":"Corse"},"2B",{"$error":"#N/A"},"2B0002406",{"$error":"#N/A"},{"$error":"#N/A"},"PHARMACIE SALGUES-LEVY","NULL","Route","DU CAP LE NAPOLEON","20200 VILLE-DI-PIETRABUGNO",20200,"Ville-di-Pietrabugno","Pharmacie d'officine","A"]
[{"$f":"VLOOKUP(B20677,Régions!A:C,3,FALSE)","v":"Corse"},"2B",{"$error":"#N/A"},"2B0002414",{"$error":"#N/A"},{"$error":"#N/A"},"PHARMACIE GAZIELLO","NULL","Route","Royale","20600 BASTIA",20600,"Bastia","Pharmacie d'officine","A"]
[{"$f":"VLOOKUP(B20678,Régions!A:C,3,FALSE)","v":"Corse"},"2B","CNOP","2B0002422","2B0002422","oui","SELARL PHARMACIE SAINT-PIERRE","NULL","Route","D'AGLIANI-MONTESORO","20600 BASTIA",20600,"Bastia","Pharmacie d'officine","A"]
[{"$f":"VLOOKUP(B20679,Régions!A:C,3,FALSE)","v":"Corse"},"2B",{"$error":"#N/A"},"2B0002430",{"$error":"#N/A"},{"$error":"#N/A"},"EURL LA PHARMACIE DU MARCHE",4,"Rue","NEUVE ST ROCH","20200 BASTIA",20200,"Bastia","Pharmacie d'officine","A"]
[{"$f":"VLOOKUP(B20680,Régions!A:C,3,FALSE)","v":"Corse"},"2B",{"$error":"#N/A"},"2B0002455",{"$error":"#N/A"},{"$error":"#N/A"},"SELARL COLONNA DE LECA","NULL","NULL","NULL","20600 FURIANI",20600,"Furiani","Pharmacie d'officine","A"]
[{"$f":"VLOOKUP(B20681,Régions!A:C,3,FALSE)","v":"Corse"},"2B",{"$error":"#N/A"},"2B0002463",{"$error":"#N/A"},{"$error":"#N/A"},"SELARL PHARMACIE ALFONSI - BASTIA SUD","NULL","Immeuble","BEARN","20600 BASTIA",20600,"Bastia","Pharmacie d'officine","A"]
[{"$f":"VLOOKUP(B20682,Régions!A:C,3,FALSE)","v":"Corse"},"2B",{"$error":"#N/A"},"2B0002471",{"$error":"#N/A"},{"$error":"#N/A"},"SELASU PHARMACIE DU FANGO",11,"Avenue","JEAN ZUCCARELLI","20200 BASTIA",20200,"Bastia","Pharmacie d'officine","A"]
[{"$f":"VLOOKUP(B20683,Régions!A:C,3,FALSE)","v":"Corse"},"2B","CNOP","2B0002497","2B0002497","oui","SELARL PHARMACIE DE PIETRANERA",17,"Route","du cap corse","20200 SAN-MARTINO-DI-LOTA",20200,"San-Martino-di-Lota","Pharmacie d'officine","A"]
[{"$f":"VLOOKUP(B20684,Régions!A:C,3,FALSE)","v":"Corse"},"2B",{"$error":"#N/A"},"2B0002505",{"$error":"#N/A"},{"$error":"#N/A"},"SELAS PHARMACIE DOMINICI",1244,"Avenue","Sampiero Corso","20600 BASTIA",20600,"Bastia","Pharmacie d'officine","A"]
[{"$f":"VLOOKUP(B20685,Régions!A:C,3,FALSE)","v":"Corse"},"2B","CNOP","2B0002513","2B0002513","oui","PHARMACIE DUSSOL",19,"Boulevard","PAOLI","20200 BASTIA",20200,"Bastia","Pharmacie d'officine","A"]
[{"$f":"VLOOKUP(B20686,Régions!A:C,3,FALSE)","v":"Corse"},"2B","CNOP","2B0002521","2B0002521","oui","PHARMACIE  STEFANI - PAPI","NULL","Place","NEUVE ARENA","20215 VESCOVATO",20215,"Vescovato","Pharmacie d'officine","A"]
[{"$f":"VLOOKUP(B20687,Régions!A:C,3,FALSE)","v":"Corse"},"2B","CNOP","2B0002547","2B0002547","oui","PHARMACIE FOATELLI - SARES","NULL","Route","nationale 198","20213 PENTA-DI-CASINCA",20213,"Penta-di-Casinca","Pharmacie d'officine","A"]
[{"$f":"VLOOKUP(B20688,Régions!A:C,3,FALSE)","v":"Corse"},"2B",{"$error":"#N/A"},"2B0002554",{"$error":"#N/A"},{"$error":"#N/A"},"SELAS  PHARMACIE FRANCESCHINI","NULL","Immeuble","LES ARCADES","20217 ST FLORENT",20217,"Saint-Florent","Pharmacie d'officine","A"]
[{"$f":"VLOOKUP(B20689,Régions!A:C,3,FALSE)","v":"Corse"},"2B",{"$error":"#N/A"},"2B0002562",{"$error":"#N/A"},{"$error":"#N/A"},"SELAS PHARMACIE DU PALAIS",10,"Boulevard","PAOLI","20200 BASTIA",20200,"Bastia","Pharmacie d'officine","A"]
[{"$f":"VLOOKUP(B20690,Régions!A:C,3,FALSE)","v":"Corse"},"2B",{"$error":"#N/A"},"2B0002570",{"$error":"#N/A"},{"$error":"#N/A"},"PHARMACIE GIUSTI-OTTAVIANI","NULL","Lieu dit","INCRUCCIATA","20239 MURATO",20239,"Murato","Pharmacie d'officine","A"]
[{"$f":"VLOOKUP(B20691,Régions!A:C,3,FALSE)","v":"Corse"},"2B",{"$error":"#N/A"},"2B0002604",{"$error":"#N/A"},{"$error":"#N/A"},"SELARL  PHARMACIE CENTRALE",1,"Route","DE PIETRAMAGGIORE","20260 CALVI",20260,"Calvi","Pharmacie d'officine","A"]
[{"$f":"VLOOKUP(B20692,Régions!A:C,3,FALSE)","v":"Corse"},"2B",{"$error":"#N/A"},"2B0002612",{"$error":"#N/A"},{"$error":"#N/A"},"SELARL PHARMACIE DU GOLFE","NULL","Route","NATIONALE 197","20260 LUMIO",20260,"Lumio","Pharmacie d'officine","A"]
[{"$f":"VLOOKUP(B20693,Régions!A:C,3,FALSE)","v":"Corse"},"2B","PHARMDIRECTFR","2B0002646","2B0002646","oui","SELARL  PHARMACIE DE CASAMOZZA","NULL","Lieu dit","CASAMOZZA","20290 LUCCIANA",20290,"Lucciana","Pharmacie d'officine","A"]
[{"$f":"VLOOKUP(B20694,Régions!A:C,3,FALSE)","v":"Corse"},"2B","PHARMDIRECTFR","2B0002653","2B0002653","oui","PHARMACIE GHILINI-ARNOS","NULL","Boulevard","Benoite Danesi","20200 BASTIA",20200,"Bastia","Pharmacie d'officine","A"]
[{"$f":"VLOOKUP(B20695,Régions!A:C,3,FALSE)","v":"Corse"},"2B","CNOP","2B0002661","2B0002661","oui","SELAS PHARMACIE ALFONSI BIGUGLIA","NULL","Residence","FLORAL","20620 BIGUGLIA",20620,"Biguglia","Pharmacie d'officine","A"]
[{"$f":"VLOOKUP(B20696,Régions!A:C,3,FALSE)","v":"Corse"},"2B",{"$error":"#N/A"},"2B0002687",{"$error":"#N/A"},{"$error":"#N/A"},"PHARMACIE SPAZZOLA",19,"Cours","PAOLI","20250 CORTE",20250,"Corte","Pharmacie d'officine","A"]
[{"$f":"VLOOKUP(B20697,Régions!A:C,3,FALSE)","v":"Corse"},"2B","CNOP","2B0002695","2B0002695","oui","PHARMACIE PARIGI-LUCIANI","NULL","NULL","CATERAGGIO","20270 ALÉRIA",20270,"Aléria","Pharmacie d'officine","A"]
[{"$f":"VLOOKUP(B20698,Régions!A:C,3,FALSE)","v":"Corse"},"2B","CNOP","2B0002703","2B0002703","oui","SELARL SOCIETE LUCCIONI DON PETRU",2,"Rue","Victor Hugo","20600 BASTIA",20600,"Bastia","Pharmacie d'officine","A"]
[{"$f":"VLOOKUP(B20699,Régions!A:C,3,FALSE)","v":"Corse"},"2B","CNOP","2B0002711","2B0002711","oui","PHARMACIE ROUSSEAU",24,"Place","NAPOLEON & PLACE ST NICOLAS","20200 BASTIA",20200,"Bastia","Pharmacie d'officine","A"]
[{"$f":"VLOOKUP(B20700,Régions!A:C,3,FALSE)","v":"Corse"},"2B","PHARMDIRECTFR","2B0002737","2B0002737","oui","SELARL PHARMACIE DU CAP","NULL","Route","DU CAP","20222 BRANDO",20222,"Brando","Pharmacie d'officine","A"]
[{"$f":"VLOOKUP(B20701,Régions!A:C,3,FALSE)","v":"Corse"},"2B","PHARMDIRECTFR","2B0002745","2B0002745","oui","SELAS PHARMACIE DE LA PLACE D'ARMES",7,"Place","VINCETTI","20200 BASTIA",20200,"Bastia","Pharmacie d'officine","A"]
[{"$f":"VLOOKUP(B20702,Régions!A:C,3,FALSE)","v":"Corse"},"2B","CNOP","2B0002752","2B0002752","oui","SELARL PHARMACIE AURORE","NULL","Cite","Aurore","20600 BASTIA",20600,"Bastia","Pharmacie d'officine","A"]
[{"$f":"VLOOKUP(B20703,Régions!A:C,3,FALSE)","v":"Corse"},"2B","CNOP","2B0002760","2B0002760","oui","SELAS PHARMACIE MANZI",12,"Cours","PAOLI","20250 CORTE",20250,"Corte","Pharmacie d'officine","A"]
[{"$f":"VLOOKUP(B20704,Régions!A:C,3,FALSE)","v":"Corse"},"2B",{"$error":"#N/A"},"2B0002794",{"$error":"#N/A"},{"$error":"#N/A"},"PHARMACIE MAROSELLI","NULL","Rue","DU JUGE FALCONE","20200 BASTIA",20200,"Bastia","Pharmacie d'officine","A"]
[{"$f":"VLOOKUP(B20705,Régions!A:C,3,FALSE)","v":"Corse"},"2B","CNOP","2B0002802","2B0002802","oui","PHARMACIE FIESCHI-GRAZIANI",7,"Boulevard","PAOLI","20200 BASTIA",20200,"Bastia","Pharmacie d'officine","A"]
[{"$f":"VLOOKUP(B20706,Régions!A:C,3,FALSE)","v":"Corse"},"2B","CNOP","2B0002810","2B0002810","oui","SELARL PHARMACIE MORENO-VINCENTI",31,"Rue","CESAR CAMPINCHI","20200 BASTIA",20200,"Bastia","Pharmacie d'officine","A"]
[{"$f":"VLOOKUP(B20707,Régions!A:C,3,FALSE)","v":"Corse"},"2B","PHARMDIRECTFR","2B0002836","2B0002836","oui","SELARL PHARMACIE MURACCIOLE-BRIZI","NULL","NULL","BORGO REVINCO","20290 BORGO",20290,"Borgo","Pharmacie d'officine","A"]
[{"$f":"VLOOKUP(B20708,Régions!A:C,3,FALSE)","v":"Corse"},"2B",{"$error":"#N/A"},"2B0002844",{"$error":"#N/A"},{"$error":"#N/A"},"PHARMACIE ROSSI-CLIMENT","NULL","Lieu dit","CATERAGGIO","20270 ALÉRIA",20270,"Aléria","Pharmacie d'officine","A"]
[{"$f":"VLOOKUP(B20709,Régions!A:C,3,FALSE)","v":"Corse"},"2B","CNOP","2B0002851","2B0002851","oui","EURL PHARMACIE BALESI",19,"Rue","CESAR CAMPINCHI","20200 BASTIA",20200,"Bastia","Pharmacie d'officine","A"]
[{"$f":"VLOOKUP(B20710,Régions!A:C,3,FALSE)","v":"Corse"},"2B","PHARMDIRECTFR","2B0002877","2B0002877","oui","SELARL F-G",2,"Avenue","EMILE SARI","20200 BASTIA",20200,"Bastia","Pharmacie d'officine","A"]
[{"$f":"VLOOKUP(B20711,Régions!A:C,3,FALSE)","v":"Corse"},"2B","PHARMDIRECTFR","2B0002885","2B0002885","oui","SELARL PHARMACIE ALFONSI CORTE",24,"Avenue","DU 9 SEPTEMBRE","20250 CORTE",20250,"Corte","Pharmacie d'officine","A"]
[{"$f":"VLOOKUP(B20712,Régions!A:C,3,FALSE)","v":"Corse"},"2B",{"$error":"#N/A"},"2B0002893",{"$error":"#N/A"},{"$error":"#N/A"},"SELAS  PHARMACIE BEISSY",450,"Avenue","DU 9 SEPTEMBRE","20240 GHISONACCIA",20240,"Ghisonaccia","Pharmacie d'officine","A"]
[{"$f":"VLOOKUP(B20713,Régions!A:C,3,FALSE)","v":"Corse"},"2B",{"$error":"#N/A"},"2B0002901",{"$error":"#N/A"},{"$error":"#N/A"},"SELARL PHARMACIE PASQUALINI","NULL","Carrefour","CEPPE - RN 193","20620 BIGUGLIA",20620,"Biguglia","Pharmacie d'officine","A"]
[{"$f":"VLOOKUP(B20714,Régions!A:C,3,FALSE)","v":"Corse"},"2B","CNOP","2B0002927","2B0002927","oui","PHARMACIE LE BIGOT",1060,"Avenue","de Borgo","20290 BORGO",20290,"Borgo","Pharmacie d'officine","A"]
[{"$f":"VLOOKUP(B20715,Régions!A:C,3,FALSE)","v":"Corse"},"2B","CNOP","2B0002935","2B0002935","oui","SELARL PHARMACIE DE LA TOUR","NULL","NULL","MIOMO","20200 SANTA-MARIA-DI-LOTA",20200,"Santa-Maria-di-Lota","Pharmacie d'officine","A"]
[{"$f":"VLOOKUP(B20716,Régions!A:C,3,FALSE)","v":"Corse"},"2B","CNOP","2B0002943","2B0002943","non","SNC PHARMACIE DE QUERCIOLO","NULL","Lieu dit","QUERCIOLO DI CASINCA","20215 VENZOLASCA",20215,"Venzolasca","Pharmacie d'officine","A"]
[{"$f":"VLOOKUP(B20717,Régions!A:C,3,FALSE)","v":"Corse"},"2B","PHARMDIRECTFR","2B0002950","2B0002950","oui","PHARMACIE RICCI",19,"Boulevard","DE GAULLE & ST NICOLAS","20200 BASTIA",20200,"Bastia","Pharmacie d'officine","A"]
[{"$f":"VLOOKUP(B20718,Régions!A:C,3,FALSE)","v":"Corse"},"2B","CNOP","2B0002976","2B0002976","oui","EURL PHARMACIE DU VENACAIS","NULL","Route","NATIONALE 193","20231 VENACO",20231,"Venaco","Pharmacie d'officine","A"]
[{"$f":"VLOOKUP(B20719,Régions!A:C,3,FALSE)","v":"Corse"},"2B",{"$error":"#N/A"},"2B0002984",{"$error":"#N/A"},{"$error":"#N/A"},"SARL PHARMACIE DU MARCHE","NULL","Place","PAOLI","20220 ÎLE-ROUSSE (L')",20220,"L'Île-Rousse","Pharmacie d'officine","A"]
[{"$f":"VLOOKUP(B20720,Régions!A:C,3,FALSE)","v":"Corse"},"2B",{"$error":"#N/A"},"2B0002992",{"$error":"#N/A"},{"$error":"#N/A"},"PHARMACIE SALI-MARCHETTI",4,"Rue","DU MARECHAL JOFFRE","20260 CALVI",20260,"Calvi","Pharmacie d'officine","A"]
[{"$f":"VLOOKUP(B20721,Régions!A:C,3,FALSE)","v":"Corse"},"2B",{"$error":"#N/A"},"2B0003230",{"$error":"#N/A"},{"$error":"#N/A"},"SELARL PHARMACIE SANTONI","NULL","Avenue","DU 9 SEPTEMBRE","20240 GHISONACCIA",20240,"Ghisonaccia","Pharmacie d'officine","A"]
[{"$f":"VLOOKUP(B20722,Régions!A:C,3,FALSE)","v":"Corse"},"2B","CNOP","2B0003354","2B0003354","oui","SELAS PHARMACIE DE LA GIRAGLIA","NULL","Lieu dit","MACINAGGIO","20247 ROGLIANO",20247,"Rogliano","Pharmacie d'officine","A"]
[{"$f":"VLOOKUP(B20723,Régions!A:C,3,FALSE)","v":"Corse"},"2B",{"$error":"#N/A"},"2B0003396",{"$error":"#N/A"},{"$error":"#N/A"},"SELARL PHARMACIE 3 S",1,"Avenue","PICCIONI","20220 ÎLE-ROUSSE (L')",20220,"L'Île-Rousse","Pharmacie d'officine","A"]
[{"$f":"VLOOKUP(B20724,Régions!A:C,3,FALSE)","v":"Corse"},"2B","PHARMDIRECTFR","2B0003404","2B0003404","oui","PHARMACIE GIANVITI",30,"Boulevard","PAOLI","20200 BASTIA",20200,"Bastia","Pharmacie d'officine","A"]
[{"$f":"VLOOKUP(B20725,Régions!A:C,3,FALSE)","v":"Corse"},"2B","PHARMDIRECTFR","2B0003453","2B0003453","oui","SELAS PHARMACIE TADDEI","NULL","Lieu dit","MIGLIACCIARO","20243 PRUNELLI-DI-FIUMORBO",20243,"Prunelli-di-Fiumorbo","Pharmacie d'officine","A"]
[{"$f":"VLOOKUP(B20726,Régions!A:C,3,FALSE)","v":"Corse"},"2B","CNOP","2B0003677","2B0003677","oui","SELARL PHARMACIE LEON","NULL","NULL","MOROSAGLIA","20218 PONTE-LECCIA",20218,"Morosaglia","Pharmacie d'officine","A"]
[{"$f":"VLOOKUP(B20727,Régions!A:C,3,FALSE)","v":"Corse"},"2B","PHARMDIRECTFR","2B0003750","2B0003750","oui","PHARMACIE SIMONPAOLI","NULL","NULL","Les Galeries d'Alzete I","20221 CERVIONE",20221,"Cervione","Pharmacie d'officine","A"]
[{"$f":"VLOOKUP(B20728,Régions!A:C,3,FALSE)","v":"Corse"},"2B","PHARMDIRECTFR","2B0003800","2B0003800","oui","SELEURL PHARMACIE DE LURI","NULL","Hameau","DE PIAZZA","20228 LURI",20228,"Luri","Pharmacie d'officine","A"]
[{"$f":"VLOOKUP(B20729,Régions!A:C,3,FALSE)","v":"Corse"},"2B","CNOP","2B0003826","2B0003826","oui","PHARMACIE FILIPPI - GAZIELLO","NULL","Espace","CASINCA","20213 FOLELLI",20213,"Penta-di-Casinca","Pharmacie d'officine","A"]
[{"$f":"VLOOKUP(B20730,Régions!A:C,3,FALSE)","v":"Corse"},"2B","PHARMDIRECTFR","2B0003834","2B0003834","oui","SELARL PHARMACIE PETRI-GUASCO","NULL","Residence","du Fango","20200 VILLE-DI-PIETRABUGNO",20200,"Ville-di-Pietrabugno","Pharmacie d'officine","A"]
[{"$f":"VLOOKUP(B20731,Régions!A:C,3,FALSE)","v":"Corse"},"2B",{"$error":"#N/A"},"2B0003842",{"$error":"#N/A"},{"$error":"#N/A"},"SELARL PHARMACIE DU PHARE","NULL","NULL","LES TERRASSES D'ALISTRO","20230 SAN-GIULIANO",20230,"San-Giuliano","Pharmacie d'officine","A"]
[{"$f":"VLOOKUP(B20732,Régions!A:C,3,FALSE)","v":"Corse"},"2B",{"$error":"#N/A"},"2B0003933",{"$error":"#N/A"},{"$error":"#N/A"},"PHARMACIE REMY-VINCENSINI","NULL","NULL","MOROSAGLIA","20218 PONTE-LECCIA",20218,"Morosaglia","Pharmacie d'officine","A"]

{"sheet":"Finess transactions sept oct","index":3,"n_rows":107848,"n_cols":6,"rows_kept":4500,"cut":true,"bounds":{"rows_first":2000,"rows_last":500,"rows_between":2000,"halvings":0}}
["USR_LOGINNAME","MEMB_LOGIN_ID","USR_LOGINNAME","YEAR","WEEK","NUM_DISPENSES_TOTAL"]
[10002285,"CNOP",10002285,2022,44,"oui"]
[10002384,"CNOP",10002384,2022,44,"oui"]
[10002400,"CNOP",10002400,2022,44,"oui"]
[10002517,"CNOP",10002517,2022,44,"oui"]
[10002533,"CNOP",10002533,2022,44,"oui"]
[10002822,"CNOP",10002822,2022,44,"oui"]
[10002970,"CNOP",10002970,2022,44,"oui"]
[10003036,"CNOP",10003036,2022,44,"oui"]
[10003101,"CNOP",10003101,2022,44,"oui"]
[10003200,"CNOP",10003200,2022,44,"oui"]
[10003267,"CNOP",10003267,2022,44,"oui"]
[10003283,"CNOP",10003283,2022,44,"oui"]
[10003317,"CNOP",10003317,2022,44,"oui"]
[10003333,"CNOP",10003333,2022,44,"oui"]
[10003473,"CNOP",10003473,2022,44,"oui"]
[10003507,"CNOP",10003507,2022,44,"oui"]
[10003655,"CNOP",10003655,2022,44,"oui"]
[10003804,"CNOP",10003804,2022,44,"oui"]
[10003820,"CNOP",10003820,2022,44,"oui"]
[10003937,"CNOP",10003937,2022,44,"oui"]
[10003952,"CNOP",10003952,2022,44,"oui"]
[10003986,"CNOP",10003986,2022,44,"oui"]
[10004034,"CNOP",10004034,2022,44,"oui"]
[10004083,"CNOP",10004083,2022,44,"oui"]
[10004117,"CNOP",10004117,2022,44,"oui"]
[10004166,"CNOP",10004166,2022,44,"oui"]
[10004216,"CNOP",10004216,2022,44,"oui"]
[10004232,"CNOP",10004232,2022,44,"oui"]
[10004257,"CNOP",10004257,2022,44,"oui"]
[10004356,"CNOP",10004356,2022,44,"oui"]
[10004505,"CNOP",10004505,2022,44,"oui"]
[10004521,"CNOP",10004521,2022,44,"oui"]
[10004570,"CNOP",10004570,2022,44,"oui"]
[10004653,"CNOP",10004653,2022,44,"oui"]
[10004687,"CNOP",10004687,2022,44,"oui"]
[10004786,"CNOP",10004786,2022,44,"oui"]
[10004851,"CNOP",10004851,2022,44,"oui"]
[10004950,"CNOP",10004950,2022,44,"oui"]
[10004984,"CNOP",10004984,2022,44,"oui"]
[10005106,"CNOP",10005106,2022,44,"oui"]
[10005254,"CNOP",10005254,2022,44,"oui"]
[10005270,"CNOP",10005270,2022,44,"oui"]
[10005387,"CNOP",10005387,2022,44,"oui"]
[10005437,"CNOP",10005437,2022,44,"oui"]
[10005536,"CNOP",10005536,2022,44,"oui"]
[10005551,"CNOP",10005551,2022,44,"oui"]
[10005585,"CNOP",10005585,2022,44,"oui"]
[10005650,"CNOP",10005650,2022,44,"oui"]
[10005684,"CNOP",10005684,2022,44,"oui"]
[10005767,"CNOP",10005767,2022,44,"oui"]
[10005783,"CNOP",10005783,2022,44,"oui"]
[10005833,"CNOP",10005833,2022,44,"oui"]
[10005932,"CNOP",10005932,2022,44,"oui"]
[10005957,"CNOP",10005957,2022,44,"oui"]
[10005973,"CNOP",10005973,2022,44,"oui"]
[10006187,"CNOP",10006187,2022,44,"oui"]
[10006492,"CNOP",10006492,2022,44,"oui"]
[10008266,"CNOP",10008266,2022,44,"oui"]
[20001954,"CNOP",20001954,2022,44,"oui"]
[20002424,"CNOP",20002424,2022,44,"oui"]
[20002457,"CNOP",20002457,2022,44,"oui"]
[20002697,"CNOP",20002697,2022,44,"oui"]
[20002747,"CNOP",20002747,2022,44,"oui"]
[20002812,"CNOP",20002812,2022,44,"oui"]
[20002895,"CNOP",20002895,2022,44,"oui"]
[20002911,"CNOP",20002911,2022,44,"oui"]
[20002945,"CNOP",20002945,2022,44,"oui"]
[20002978,"CNOP",20002978,2022,44,"oui"]
[20002994,"CNOP",20002994,2022,44,"oui"]
[20003125,"CNOP",20003125,2022,44,"oui"]
[20003240,"CNOP",20003240,2022,44,"oui"]
[20003547,"CNOP",20003547,2022,44,"oui"]
[20004081,"CNOP",20004081,2022,44,"oui"]
[20005161,"CNOP",20005161,2022,44,"oui"]
[20005757,"CNOP",20005757,2022,44,"oui"]
[20006557,"CNOP",20006557,2022,44,"oui"]
[20006573,"CNOP",20006573,2022,44,"oui"]
[20006714,"CNOP",20006714,2022,44,"oui"]
[20006904,"CNOP",20006904,2022,44,"oui"]
[20007324,"CNOP",20007324,2022,44,"oui"]
[20007712,"CNOP",20007712,2022,44,"oui"]
[20007746,"CNOP",20007746,2022,44,"oui"]
[20007860,"CNOP",20007860,2022,44,"oui"]
[20009064,"CNOP",20009064,2022,44,"oui"]
[20009841,"CNOP",20009841,2022,44,"oui"]
[20010724,"CNOP",20010724,2022,44,"non"]
[20010815,"CNOP",20010815,2022,44,"oui"]
[20010831,"CNOP",20010831,2022,44,"oui"]
[20010880,"CNOP",20010880,2022,44,"oui"]
[20011011,"CNOP",20011011,2022,44,"oui"]
[20011060,"CNOP",20011060,2022,44,"oui"]
[20011227,"CNOP",20011227,2022,44,"oui"]
[20011375,"CNOP",20011375,2022,44,"oui"]
[20011946,"CNOP",20011946,2022,44,"oui"]
[20012092,"CNOP",20012092,2022,44,"oui"]
[20012126,"CNOP",20012126,2022,44,"oui"]
[20012159,"CNOP",20012159,2022,44,"oui"]
[20012290,"CNOP",20012290,2022,44,"oui"]
[20013140,"CNOP",20013140,2022,44,"oui"]
[20013629,"CNOP",20013629,2022,44,"oui"]
[30001317,"CNOP",30001317,2022,44,"oui"]
[30001416,"CNOP",30001416,2022,44,"oui"]
[30001606,"CNOP",30001606,2022,44,"oui"]
[30001622,"CNOP",30001622,2022,44,"oui"]
[30001655,"CNOP",30001655,2022,44,"oui"]
[30001671,"CNOP",30001671,2022,44,"oui"]
[30001705,"CNOP",30001705,2022,44,"oui"]
[30001721,"CNOP",30001721,2022,44,"oui"]
[30001770,"CNOP",30001770,2022,44,"oui"]
[30001804,"CNOP",30001804,2022,44,"oui"]
[30001820,"CNOP",30001820,2022,44,"oui"]
[30001903,"CNOP",30001903,2022,44,"oui"]
[30001937,"CNOP",30001937,2022,44,"oui"]
[30002026,"CNOP",30002026,2022,44,"oui"]
[30002141,"CNOP",30002141,2022,44,"oui"]
[30002190,"CNOP",30002190,2022,44,"non"]
[30002265,"CNOP",30002265,2022,44,"oui"]
[30002331,"CNOP",30002331,2022,44,"oui"]
[30002497,"CNOP",30002497,2022,44,"oui"]
[30002562,"CNOP",30002562,2022,44,"oui"]
[30002695,"CNOP",30002695,2022,44,"oui"]
[30002794,"CNOP",30002794,2022,44,"oui"]
[30002810,"CNOP",30002810,2022,44,"oui"]
[30002893,"CNOP",30002893,2022,44,"oui"]
[30002927,"CNOP",30002927,2022,44,"oui"]
[30002992,"CNOP",30002992,2022,44,"oui"]
[30003065,"CNOP",30003065,2022,44,"oui"]
[30003131,"CNOP",30003131,2022,44,"oui"]
[30003230,"CNOP",30003230,2022,44,"oui"]
[30003297,"CNOP",30003297,2022,44,"oui"]
[30003347,"CNOP",30003347,2022,44,"oui"]
[30003495,"CNOP",30003495,2022,44,"oui"]
[30004014,"CNOP",30004014,2022,44,"oui"]
[30004030,"CNOP",30004030,2022,44,"oui"]
[30004063,"CNOP",30004063,2022,44,"oui"]
[30004097,"CNOP",30004097,2022,44,"oui"]
[30004261,"CNOP",30004261,2022,44,"oui"]
[30004345,"CNOP",30004345,2022,44,"oui"]
[30004360,"CNOP",30004360,2022,44,"oui"]
[30004592,"CNOP",30004592,2022,44,"oui"]
[30004741,"CNOP",30004741,2022,44,"oui"]
[30004865,"CNOP",30004865,2022,44,"oui"]
[30004964,"CNOP",30004964,2022,44,"oui"]
[30004980,"CNOP",30004980,2022,44,"oui"]
[30005110,"CNOP",30005110,2022,44,"oui"]
[30005177,"CNOP",30005177,2022,44,"oui"]
[30005276,"CNOP",30005276,2022,44,"oui"]
[30005292,"CNOP",30005292,2022,44,"oui"]
[30005342,"CNOP",30005342,2022,44,"oui"]
[30005490,"CNOP",30005490,2022,44,"oui"]
[30005631,"CNOP",30005631,2022,44,"oui"]
[30005714,"CNOP",30005714,2022,44,"oui"]
[30005797,"CNOP",30005797,2022,44,"oui"]
[40002263,"CNOP",40002263,2022,44,"oui"]
[40002404,"CNOP",40002404,2022,44,"oui"]
[40002537,"CNOP",40002537,2022,44,"oui"]
[40002826,"CNOP",40002826,2022,44,"non"]
[50003037,"CNOP",50003037,2022,44,"oui"]
[50003110,"CNOP",50003110,2022,44,"oui"]
[50003144,"CNOP",50003144,2022,44,"oui"]
[50003276,"CNOP",50003276,2022,44,"oui"]
[50003326,"CNOP",50003326,2022,44,"oui"]
[50003342,"CNOP",50003342,2022,44,"non"]
[50003391,"CNOP",50003391,2022,44,"oui"]
[50003532,"CNOP",50003532,2022,44,"oui"]
[50003573,"CNOP",50003573,2022,44,"oui"]
[50003623,"CNOP",50003623,2022,44,"oui"]
[50003706,"CNOP",50003706,2022,44,"oui"]
[50003722,"CNOP",50003722,2022,44,"oui"]
[50003805,"CNOP",50003805,2022,44,"oui"]
[50003870,"CNOP",50003870,2022,44,"oui"]
[50003904,"CNOP",50003904,2022,44,"oui"]
[50003946,"CNOP",50003946,2022,44,"oui"]
[60004280,"CNOP",60004280,2022,44,"oui"]
[60004447,"CNOP",60004447,2022,44,"oui"]
[60004462,"CNOP",60004462,2022,44,"oui"]
[60004496,"CNOP",60004496,2022,44,"oui"]
[60004660,"CNOP",60004660,2022,44,"non"]
[60004793,"CNOP",60004793,2022,44,"oui"]
[60004876,"CNOP",60004876,2022,44,"oui"]
[60004942,"CNOP",60004942,2022,44,"oui"]
[60005063,"CNOP",60005063,2022,44,"oui"]
[60005097,"CNOP",60005097,2022,44,"non"]
[60005410,"CNOP",60005410,2022,44,"oui"]
[60005444,"CNOP",60005444,2022,44,"non"]
[60005493,"CNOP",60005493,2022,44,"oui"]
[60005543,"CNOP",60005543,2022,44,"oui"]
[60005642,"CNOP",60005642,2022,44,"oui"]
[60006897,"CNOP",60006897,2022,44,"oui"]
[60006947,"CNOP",60006947,2022,44,"non"]
[60007010,"CNOP",60007010,2022,44,"oui"]
[60007044,"CNOP",60007044,2022,44,"oui"]
[60007291,"CNOP",60007291,2022,44,"oui"]
[60007341,"CNOP",60007341,2022,44,"oui"]
[60007747,"CNOP",60007747,2022,44,"oui"]
[60009891,"CNOP",60009891,2022,44,"oui"]
[60009941,"CNOP",60009941,2022,44,"oui"]
[60010360,"CNOP",60010360,2022,44,"oui"]
[60010576,"CNOP",60010576,2022,44,"oui"]
[60010725,"CNOP",60010725,2022,44,"oui"]
[60010824,"CNOP",60010824,2022,44,"oui"]
[60010915,"CNOP",60010915,2022,44,"oui"]
[60010964,"CNOP",60010964,2022,44,"oui"]
[60011046,"CNOP",60011046,2022,44,"oui"]
[60011160,"CNOP",60011160,2022,44,"oui"]
[60011210,"CNOP",60011210,2022,44,"oui"]
[60011343,"CNOP",60011343,2022,44,"oui"]
[60011665,"CNOP",60011665,2022,44,"oui"]
[60011814,"CNOP",60011814,2022,44,"non"]
[60011897,"CNOP",60011897,2022,44,"oui"]
[60012044,"CNOP",60012044,2022,44,"oui"]
[60012176,"CNOP",60012176,2022,44,"non"]
[60012564,"CNOP",60012564,2022,44,"oui"]
[60012796,"CNOP",60012796,2022,44,"oui"]
[60012960,"CNOP",60012960,2022,44,"oui"]
[60013141,"CNOP",60013141,2022,44,"oui"]
[60013463,"CNOP",60013463,2022,44,"oui"]
[60013513,"CNOP",60013513,2022,44,"oui"]
[60013612,"CNOP",60013612,2022,44,"oui"]
[60013943,"CNOP",60013943,2022,44,"oui"]
[60013992,"CNOP",60013992,2022,44,"oui"]
[60014164,"CNOP",60014164,2022,44,"oui"]
[60014263,"CNOP",60014263,2022,44,"oui"]
[60014347,"CNOP",60014347,2022,44,"oui"]
[60014545,"CNOP",60014545,2022,44,"oui"]
[60014560,"CNOP",60014560,2022,44,"oui"]
[60014701,"CNOP",60014701,2022,44,"oui"]
[60014941,"CNOP",60014941,2022,44,"oui"]
[60015047,"CNOP",60015047,2022,44,"oui"]
[60015286,"CNOP",60015286,2022,44,"oui"]
[60015435,"CNOP",60015435,2022,44,"oui"]
[60015724,"CNOP",60015724,2022,44,"oui"]
[60015781,"CNOP",60015781,2022,44,"oui"]
[60015831,"CNOP",60015831,2022,44,"oui"]
[60015914,"CNOP",60015914,2022,44,"oui"]
[60015997,"CNOP",60015997,2022,44,"oui"]
[60016011,"CNOP",60016011,2022,44,"oui"]
[60016177,"CNOP",60016177,2022,44,"oui"]
[60016243,"CNOP",60016243,2022,44,"oui"]
[60016474,"CNOP",60016474,2022,44,"non"]
[60016490,"CNOP",60016490,2022,44,"oui"]
[60017092,"CNOP",60017092,2022,44,"oui"]
[60017142,"CNOP",60017142,2022,44,"oui"]
[60017241,"CNOP",60017241,2022,44,"oui"]
[60017324,"CNOP",60017324,2022,44,"oui"]
[60017464,"CNOP",60017464,2022,44,"oui"]
[60017514,"CNOP",60017514,2022,44,"oui"]
[60017530,"CNOP",60017530,2022,44,"oui"]
[60017795,"CNOP",60017795,2022,44,"oui"]
[60017977,"CNOP",60017977,2022,44,"oui"]
[60018041,"CNOP",60018041,2022,44,"oui"]
[60018165,"CNOP",60018165,2022,44,"oui"]
[60018397,"CNOP",60018397,2022,44,"oui"]
[60018645,"CNOP",60018645,2022,44,"oui"]
[60018710,"CNOP",60018710,2022,44,"oui"]
[60018793,"CNOP",60018793,2022,44,"oui"]
[60019130,"CNOP",60019130,2022,44,"oui"]
[60019197,"CNOP",60019197,2022,44,"oui"]
[60020435,"CNOP",60020435,2022,44,"oui"]
[70001458,"CNOP",70001458,2022,44,"oui"]
[70001920,"CNOP",70001920,2022,44,"oui"]
[70001987,"CNOP",70001987,2022,44,"oui"]
[70002001,"CNOP",70002001,2022,44,"oui"]
[70002183,"CNOP",70002183,2022,44,"oui"]
[70002217,"CNOP",70002217,2022,44,"oui"]
[70002266,"CNOP",70002266,2022,44,"oui"]
[70002332,"CNOP",70002332,2022,44,"oui"]
[70002357,"CNOP",70002357,2022,44,"oui"]
[70002506,"CNOP",70002506,2022,44,"oui"]
[70002555,"CNOP",70002555,2022,44,"oui"]
[70002605,"CNOP",70002605,2022,44,"non"]
[70002670,"CNOP",70002670,2022,44,"oui"]
[70002720,"CNOP",70002720,2022,44,"non"]
[70002803,"CNOP",70002803,2022,44,"oui"]
[70003132,"CNOP",70003132,2022,44,"oui"]
[70003207,"CNOP",70003207,2022,44,"oui"]
[70003223,"CNOP",70003223,2022,44,"oui"]
[70003256,"CNOP",70003256,2022,44,"oui"]
[70003322,"CNOP",70003322,2022,44,"oui"]
[70003405,"CNOP",70003405,2022,44,"oui"]
[70003421,"CNOP",70003421,2022,44,"oui"]
[70003470,"CNOP",70003470,2022,44,"oui"]
[70003504,"CNOP",70003504,2022,44,"oui"]
[70003520,"CNOP",70003520,2022,44,"oui"]
[70003587,"CNOP",70003587,2022,44,"oui"]
[70003603,"CNOP",70003603,2022,44,"oui"]
[70003637,"CNOP",70003637,2022,44,"oui"]
[70003785,"CNOP",70003785,2022,44,"oui"]
[70003934,"CNOP",70003934,2022,44,"oui"]
[70003967,"CNOP",70003967,2022,44,"oui"]
[70004122,"CNOP",70004122,2022,44,"oui"]
[70004171,"CNOP",70004171,2022,44,"oui"]
[80001985,"CNOP",80001985,2022,44,"oui"]
[80002165,"CNOP",80002165,2022,44,"oui"]
[80002397,"CNOP",80002397,2022,44,"oui"]
[80002462,"CNOP",80002462,2022,44,"oui"]
[80002793,"CNOP",80002793,2022,44,"oui"]
[80002991,"CNOP",80002991,2022,44,"oui"]
[80003114,"CNOP",80003114,2022,44,"oui"]
[80004526,"CNOP",80004526,2022,44,"oui"]
[80006943,"CNOP",80006943,2022,44,"oui"]
[80007065,"CNOP",80007065,2022,44,"oui"]
[80007313,"CNOP",80007313,2022,44,"oui"]
[80007503,"CNOP",80007503,2022,44,"oui"]
[80007602,"CNOP",80007602,2022,44,"oui"]
[80008303,"CNOP",80008303,2022,44,"oui"]
[80008485,"CNOP",80008485,2022,44,"oui"]
[80008501,"CNOP",80008501,2022,44,"oui"]
[80008550,"CNOP",80008550,2022,44,"oui"]
[80008733,"CNOP",80008733,2022,44,"non"]
[80008923,"CNOP",80008923,2022,44,"oui"]
[80008972,"CNOP",80008972,2022,44,"oui"]
[80009053,"CNOP",80009053,2022,44,"oui"]
[80009103,"CNOP",80009103,2022,44,"oui"]
[80009137,"CNOP",80009137,2022,44,"oui"]
[80009152,"CNOP",80009152,2022,44,"oui"]
[90000746,"CNOP",90000746,2022,44,"oui"]
[90000761,"CNOP",90000761,2022,44,"oui"]
[90000795,"CNOP",90000795,2022,44,"non"]
[90000845,"CNOP",90000845,2022,44,"oui"]
[90000894,"CNOP",90000894,2022,44,"oui"]
[90000977,"CNOP",90000977,2022,44,"oui"]
[90000993,"CNOP",90000993,2022,44,"oui"]
[90001025,"CNOP",90001025,2022,44,"oui"]
[90001074,"CNOP",90001074,2022,44,"oui"]
[90001181,"CNOP",90001181,2022,44,"oui"]
[90001314,"CNOP",90001314,2022,44,"oui"]
[90001330,"CNOP",90001330,2022,44,"oui"]
[90001413,"CNOP",90001413,2022,44,"oui"]
[90001447,"CNOP",90001447,2022,44,"oui"]
[90001496,"CNOP",90001496,2022,44,"oui"]
[90001546,"CNOP",90001546,2022,44,"oui"]
[90001595,"CNOP",90001595,2022,44,"oui"]
[90001660,"CNOP",90001660,2022,44,"oui"]
[90001777,"CNOP",90001777,2022,44,"oui"]
[90001827,"CNOP",90001827,2022,44,"oui"]
[90001991,"CNOP",90001991,2022,44,"oui"]
[90002122,"CNOP",90002122,2022,44,"oui"]
[90002155,"CNOP",90002155,2022,44,"oui"]
[90002585,"CNOP",90002585,2022,44,"oui"]
[90002601,"CNOP",90002601,2022,44,"oui"]
[100001494,"CNOP",100001494,2022,44,"oui"]
[100001510,"CNOP",100001510,2022,44,"oui"]
[100001643,"CNOP",100001643,2022,44,"oui"]
[100001676,"CNOP",100001676,2022,44,"oui"]
[100001775,"CNOP",100001775,2022,44,"oui"]
[100001825,"CNOP",100001825,2022,44,"non"]
[100001890,"CNOP",100001890,2022,44,"oui"]
[100001940,"CNOP",100001940,2022,44,"oui"]
[100002013,"CNOP",100002013,2022,44,"oui"]
[100002237,"CNOP",100002237,2022,44,"oui"]
[100002377,"CNOP",100002377,2022,44,"oui"]
[100002492,"CNOP",100002492,2022,44,"oui"]
[100002526,"CNOP",100002526,2022,44,"oui"]
[100002575,"CNOP",100002575,2022,44,"oui"]
[100002781,"CNOP",100002781,2022,44,"oui"]
[100002831,"CNOP",100002831,2022,44,"oui"]
[100002864,"CNOP",100002864,2022,44,"oui"]
[100003011,"CNOP",100003011,2022,44,"oui"]
[100003060,"CNOP",100003060,2022,44,"oui"]
[100003110,"CNOP",100003110,2022,44,"oui"]
[100003144,"CNOP",100003144,2022,44,"oui"]
[100003193,"CNOP",100003193,2022,44,"oui"]
[100003227,"CNOP",100003227,2022,44,"oui"]
[100003276,"CNOP",100003276,2022,44,"oui"]
[100003342,"CNOP",100003342,2022,44,"oui"]
[100003383,"CNOP",100003383,2022,44,"oui"]
[100004142,"CNOP",100004142,2022,44,"oui"]
[100005602,"CNOP",100005602,2022,44,"oui"]
[100006220,"CNOP",100006220,2022,44,"oui"]
[100007087,"CNOP",100007087,2022,44,"oui"]
[100007681,"CNOP",100007681,2022,44,"oui"]
[100007913,"CNOP",100007913,2022,44,"oui"]
[100008010,"CNOP",100008010,2022,44,"oui"]
[100008143,"CNOP",100008143,2022,44,"oui"]
[110003076,"CNOP",110003076,2022,44,"oui"]
[110003605,"CNOP",110003605,2022,44,"oui"]
[110789765,"CNOP",110789765,2022,44,"oui"]
[110789773,"CNOP",110789773,2022,44,"oui"]
[110789781,"CNOP",110789781,2022,44,"oui"]
[110789807,"CNOP",110789807,2022,44,"oui"]
[110789872,"CNOP",110789872,2022,44,"oui"]
[110790052,"CNOP",110790052,2022,44,"oui"]
[110790136,"CNOP",110790136,2022,44,"oui"]
[110790300,"CNOP",110790300,2022,44,"oui"]
[110790441,"CNOP",110790441,2022,44,"oui"]
[110790490,"CNOP",110790490,2022,44,"oui"]
[110790508,"CNOP",110790508,2022,44,"oui"]
[110790516,"CNOP",110790516,2022,44,"oui"]
[110790524,"CNOP",110790524,2022,44,"oui"]
[110790540,"CNOP",110790540,2022,44,"oui"]
[110790565,"CNOP",110790565,2022,44,"oui"]
[110790607,"CNOP",110790607,2022,44,"oui"]
[110790623,"CNOP",110790623,2022,44,"oui"]
[110790664,"CNOP",110790664,2022,44,"oui"]
[110790748,"CNOP",110790748,2022,44,"oui"]
[110790896,"CNOP",110790896,2022,44,"oui"]
[110790912,"CNOP",110790912,2022,44,"non"]
[110790961,"CNOP",110790961,2022,44,"oui"]
[110790987,"CNOP",110790987,2022,44,"oui"]
[110791050,"CNOP",110791050,2022,44,"oui"]
[110791076,"CNOP",110791076,2022,44,"oui"]
[110791100,"CNOP",110791100,2022,44,"non"]
[110791142,"CNOP",110791142,2022,44,"oui"]
[110791159,"CNOP",110791159,2022,44,"oui"]
[110791183,"CNOP",110791183,2022,44,"oui"]
[110791209,"CNOP",110791209,2022,44,"oui"]
[110791225,"CNOP",110791225,2022,44,"oui"]
[110791241,"CNOP",110791241,2022,44,"oui"]
[110791258,"CNOP",110791258,2022,44,"oui"]
[110791266,"CNOP",110791266,2022,44,"oui"]
[120001532,"CNOP",120001532,2022,44,"oui"]
[120001672,"CNOP",120001672,2022,44,"oui"]
[120001706,"CNOP",120001706,2022,44,"non"]
[120001805,"CNOP",120001805,2022,44,"oui"]
[120001854,"CNOP",120001854,2022,44,"oui"]
[120001870,"CNOP",120001870,2022,44,"oui"]
[120001920,"CNOP",120001920,2022,44,"oui"]
[120002027,"CNOP",120002027,2022,44,"oui"]
[120002043,"CNOP",120002043,2022,44,"oui"]
[120002076,"CNOP",120002076,2022,44,"oui"]
[120002092,"CNOP",120002092,2022,44,"oui"]
[120002142,"CNOP",120002142,2022,44,"oui"]
[120002274,"CNOP",120002274,2022,44,"oui"]
[120002290,"CNOP",120002290,2022,44,"oui"]
[120002431,"CNOP",120002431,2022,44,"oui"]
[120002530,"CNOP",120002530,2022,44,"oui"]
[120002563,"CNOP",120002563,2022,44,"oui"]
[120002613,"CNOP",120002613,2022,44,"non"]
[120002746,"CNOP",120002746,2022,44,"oui"]
[120002761,"CNOP",120002761,2022,44,"oui"]
[120002795,"CNOP",120002795,2022,44,"oui"]
[120002910,"CNOP",120002910,2022,44,"oui"]
[120003041,"CNOP",120003041,2022,44,"oui"]
[120003074,"CNOP",120003074,2022,44,"oui"]
[120003090,"CNOP",120003090,2022,44,"oui"]
[120003124,"CNOP",120003124,2022,44,"oui"]
[120003215,"CNOP",120003215,2022,44,"oui"]
[120003397,"CNOP",120003397,2022,44,"oui"]
[120003413,"CNOP",120003413,2022,44,"oui"]
[120003447,"CNOP",120003447,2022,44,"oui"]
[120003462,"CNOP",120003462,2022,44,"oui"]
[120003512,"CNOP",120003512,2022,44,"oui"]
[120003561,"CNOP",120003561,2022,44,"oui"]
[120003611,"CNOP",120003611,2022,44,"oui"]
[120003645,"CNOP",120003645,2022,44,"oui"]
[120003710,"CNOP",120003710,2022,44,"oui"]
[120003744,"CNOP",120003744,2022,44,"oui"]
[120003827,"CNOP",120003827,2022,44,"oui"]
[120003843,"CNOP",120003843,2022,44,"oui"]
[120003876,"CNOP",120003876,2022,44,"oui"]
[120003926,"CNOP",120003926,2022,44,"oui"]
[120003942,"CNOP",120003942,2022,44,"oui"]
[120004015,"CNOP",120004015,2022,44,"oui"]
[120004031,"CNOP",120004031,2022,44,"oui"]
[120004064,"CNOP",120004064,2022,44,"oui"]
[120004080,"CNOP",120004080,2022,44,"oui"]
[120004114,"CNOP",120004114,2022,44,"oui"]
[120004163,"CNOP",120004163,2022,44,"oui"]
[120004197,"CNOP",120004197,2022,44,"oui"]
[120004213,"CNOP",120004213,2022,44,"oui"]
[120004247,"CNOP",120004247,2022,44,"oui"]
[120004296,"CNOP",120004296,2022,44,"oui"]
[120004361,"CNOP",120004361,2022,44,"oui"]
[120004460,"CNOP",120004460,2022,44,"oui"]
[120004544,"CNOP",120004544,2022,44,"oui"]
[120004577,"CNOP",120004577,2022,44,"oui"]
[120004783,"CNOP",120004783,2022,44,"oui"]
[120006036,"CNOP",120006036,2022,44,"oui"]
[130009574,"CNOP",130009574,2022,44,"oui"]
[130009590,"CNOP",130009590,2022,44,"oui"]
[130009863,"CNOP",130009863,2022,44,"oui"]
[130010127,"CNOP",130010127,2022,44,"oui"]
[130010192,"CNOP",130010192,2022,44,"oui"]
[130010291,"CNOP",130010291,2022,44,"oui"]
[130010341,"CNOP",130010341,2022,44,"oui"]
[130010424,"CNOP",130010424,2022,44,"oui"]
[130010796,"CNOP",130010796,2022,44,"oui"]
[130011026,"CNOP",130011026,2022,44,"oui"]
[130011240,"CNOP",130011240,2022,44,"oui"]
[130011281,"CNOP",130011281,2022,44,"oui"]
[130011430,"CNOP",130011430,2022,44,"oui"]
[130011547,"CNOP",130011547,2022,44,"oui"]
[130011661,"CNOP",130011661,2022,44,"oui"]
[130012081,"CNOP",130012081,2022,44,"oui"]
[130012115,"CNOP",130012115,2022,44,"oui"]
[130012412,"CNOP",130012412,2022,44,"oui"]
[130012875,"CNOP",130012875,2022,44,"non"]
[130012941,"CNOP",130012941,2022,44,"oui"]
[130012974,"CNOP",130012974,2022,44,"oui"]
[130012990,"CNOP",130012990,2022,44,"oui"]
[130013014,"CNOP",130013014,2022,44,"oui"]
[130013196,"CNOP",130013196,2022,44,"oui"]
[130013212,"CNOP",130013212,2022,44,"oui"]
[130013295,"CNOP",130013295,2022,44,"oui"]
[130013691,"CNOP",130013691,2022,44,"oui"]
[130013725,"CNOP",130013725,2022,44,"oui"]
[130013790,"CNOP",130013790,2022,44,"oui"]
[130013931,"CNOP",130013931,2022,44,"oui"]
[130014194,"CNOP",130014194,2022,44,"oui"]
[130014426,"CNOP",130014426,2022,44,"oui"]
[130014590,"CNOP",130014590,2022,44,"oui"]
[130014640,"CNOP",130014640,2022,44,"oui"]
[130014814,"CNOP",130014814,2022,44,"oui"]
[130014897,"CNOP",130014897,2022,44,"oui"]
[130015126,"CNOP",130015126,2022,44,"oui"]
[130021736,"CNOP",130021736,2022,44,"oui"]
[130021983,"CNOP",130021983,2022,44,"oui"]
[130022403,"CNOP",130022403,2022,44,"oui"]
[130022452,"CNOP",130022452,2022,44,"oui"]
[130022817,"CNOP",130022817,2022,44,"oui"]
[130022866,"CNOP",130022866,2022,44,"oui"]
[130022882,"CNOP",130022882,2022,44,"oui"]
[130023005,"CNOP",130023005,2022,44,"oui"]
[130023070,"CNOP",130023070,2022,44,"non"]
[130023104,"CNOP",130023104,2022,44,"oui"]
[130023237,"CNOP",130023237,2022,44,"oui"]
[130023401,"CNOP",130023401,2022,44,"oui"]
[130023617,"CNOP",130023617,2022,44,"oui"]
[130023799,"CNOP",130023799,2022,44,"oui"]
[130023807,"CNOP",130023807,2022,44,"oui"]
[130023872,"CNOP",130023872,2022,44,"oui"]
[130024052,"CNOP",130024052,2022,44,"oui"]
[130024102,"CNOP",130024102,2022,44,"oui"]
[130024201,"CNOP",130024201,2022,44,"oui"]
[130024284,"CNOP",130024284,2022,44,"oui"]
[130024599,"CNOP",130024599,2022,44,"oui"]
[130024623,"CNOP",130024623,2022,44,"oui"]
[130025083,"CNOP",130025083,2022,44,"oui"]
[130025232,"CNOP",130025232,2022,44,"oui"]
[130025752,"CNOP",130025752,2022,44,"oui"]
[130025786,"CNOP",130025786,2022,44,"oui"]
[130025984,"CNOP",130025984,2022,44,"oui"]
[130026172,"CNOP",130026172,2022,44,"oui"]
[130026321,"CNOP",130026321,2022,44,"oui"]
[130026354,"CNOP",130026354,2022,44,"oui"]
[130026487,"CNOP",130026487,2022,44,"oui"]
[130026701,"CNOP",130026701,2022,44,"oui"]
[130026834,"CNOP",130026834,2022,44,"oui"]
[130026982,"CNOP",130026982,2022,44,"oui"]
[130027204,"CNOP",130027204,2022,44,"oui"]
[130027303,"CNOP",130027303,2022,44,"oui"]
[130027436,"CNOP",130027436,2022,44,"oui"]
[130027535,"CNOP",130027535,2022,44,"oui"]
[130027550,"CNOP",130027550,2022,44,"oui"]
[130027766,"CNOP",130027766,2022,44,"oui"]
[130027782,"CNOP",130027782,2022,44,"oui"]
[130027923,"CNOP",130027923,2022,44,"oui"]
[130027956,"CNOP",130027956,2022,44,"oui"]
[130028186,"CNOP",130028186,2022,44,"oui"]
[130028202,"CNOP",130028202,2022,44,"oui"]
[130028616,"CNOP",130028616,2022,44,"oui"]
[130028657,"CNOP",130028657,2022,44,"oui"]
[130028822,"CNOP",130028822,2022,44,"oui"]
[130028871,"CNOP",130028871,2022,44,"oui"]
[130028954,"CNOP",130028954,2022,44,"oui"]
[130029135,"CNOP",130029135,2022,44,"oui"]
[130029184,"CNOP",130029184,2022,44,"oui"]
[130029200,"CNOP",130029200,2022,44,"oui"]
[130029267,"CNOP",130029267,2022,44,"oui"]
[130029317,"CNOP",130029317,2022,44,"oui"]
[130029366,"CNOP",130029366,2022,44,"oui"]
[130029416,"CNOP",130029416,2022,44,"oui"]
[130029622,"CNOP",130029622,2022,44,"oui"]
[130029655,"CNOP",130029655,2022,44,"oui"]
[130030182,"CNOP",130030182,2022,44,"oui"]
[130030323,"CNOP",130030323,2022,44,"oui"]
[130030554,"CNOP",130030554,2022,44,"oui"]
[130030653,"CNOP",130030653,2022,44,"oui"]
[130030885,"CNOP",130030885,2022,44,"oui"]
[130031057,"CNOP",130031057,2022,44,"oui"]
[130031156,"CNOP",130031156,2022,44,"oui"]
[130031305,"CNOP",130031305,2022,44,"oui"]
[130031537,"CNOP",130031537,2022,44,"oui"]
[130031552,"CNOP",130031552,2022,44,"oui"]
[130032006,"CNOP",130032006,2022,44,"oui"]
[130032071,"CNOP",130032071,2022,44,"oui"]
[130032105,"CNOP",130032105,2022,44,"oui"]
[130032121,"CNOP",130032121,2022,44,"oui"]
[130032352,"CNOP",130032352,2022,44,"oui"]
[130032766,"CNOP",130032766,2022,44,"oui"]
[130032972,"CNOP",130032972,2022,44,"oui"]
[130033137,"CNOP",130033137,2022,44,"oui"]
[130033152,"CNOP",130033152,2022,44,"oui"]
[130033350,"CNOP",130033350,2022,44,"oui"]
[130033517,"CNOP",130033517,2022,44,"oui"]
[130033582,"CNOP",130033582,2022,44,"oui"]
[130033632,"CNOP",130033632,2022,44,"oui"]
[130033772,"CNOP",130033772,2022,44,"oui"]
[130036536,"CNOP",130036536,2022,44,"oui"]
[130037187,"CNOP",130037187,2022,44,"oui"]
[130037542,"CNOP",130037542,2022,44,"oui"]
[130038144,"CNOP",130038144,2022,44,"oui"]
[130038482,"CNOP",130038482,2022,44,"oui"]
[140009085,"CNOP",140009085,2022,44,"oui"]
[140009101,"CNOP",140009101,2022,44,"oui"]
[140009119,"CNOP",140009119,2022,44,"oui"]
[140009168,"CNOP",140009168,2022,44,"oui"]
[140009234,"CNOP",140009234,2022,44,"oui"]
[140009242,"CNOP",140009242,2022,44,"oui"]
[140009283,"CNOP",140009283,2022,44,"oui"]
[140009317,"CNOP",140009317,2022,44,"oui"]
[140009325,"CNOP",140009325,2022,44,"oui"]
[140009382,"CNOP",140009382,2022,44,"oui"]
[140009440,"CNOP",140009440,2022,44,"oui"]
[140009606,"CNOP",140009606,2022,44,"oui"]
[140009614,"CNOP",140009614,2022,44,"oui"]
[140009630,"CNOP",140009630,2022,44,"non"]
[140009754,"CNOP",140009754,2022,44,"non"]
[140009762,"CNOP",140009762,2022,44,"oui"]
[140009770,"CNOP",140009770,2022,44,"oui"]
[140009879,"CNOP",140009879,2022,44,"oui"]
[140009887,"CNOP",140009887,2022,44,"oui"]
[140009945,"CNOP",140009945,2022,44,"non"]
[140009952,"CNOP",140009952,2022,44,"oui"]
[140009978,"CNOP",140009978,2022,44,"non"]
[140010042,"CNOP",140010042,2022,44,"oui"]
[140010059,"CNOP",140010059,2022,44,"oui"]
[140010067,"CNOP",140010067,2022,44,"non"]
[140010091,"CNOP",140010091,2022,44,"oui"]
[140010174,"CNOP",140010174,2022,44,"oui"]
[140010265,"CNOP",140010265,2022,44,"oui"]
[140010273,"CNOP",140010273,2022,44,"oui"]
[140010331,"CNOP",140010331,2022,44,"oui"]
[140010364,"CNOP",140010364,2022,44,"oui"]
[140010406,"CNOP",140010406,2022,44,"oui"]
[140010471,"CNOP",140010471,2022,44,"oui"]
[140010646,"CNOP",140010646,2022,44,"oui"]
[140010711,"CNOP",140010711,2022,44,"oui"]
[140010729,"CNOP",140010729,2022,44,"oui"]
[140010745,"CNOP",140010745,2022,44,"oui"]
[140010752,"CNOP",140010752,2022,44,"oui"]
[140010760,"CNOP",140010760,2022,44,"oui"]
[140010794,"CNOP",140010794,2022,44,"non"]
[140010810,"CNOP",140010810,2022,44,"oui"]
[140010869,"CNOP",140010869,2022,44,"oui"]
[140010901,"CNOP",140010901,2022,44,"non"]
[140010919,"CNOP",140010919,2022,44,"non"]
[140010992,"CNOP",140010992,2022,44,"oui"]
[140011107,"CNOP",140011107,2022,44,"oui"]
[140011123,"CNOP",140011123,2022,44,"oui"]
[140011131,"CNOP",140011131,2022,44,"oui"]
[140011164,"CNOP",140011164,2022,44,"oui"]
[140012808,"CNOP",140012808,2022,44,"oui"]
[140013871,"CNOP",140013871,2022,44,"oui"]
[140015249,"CNOP",140015249,2022,44,"oui"]
[140015546,"CNOP",140015546,2022,44,"oui"]
[140015926,"CNOP",140015926,2022,44,"oui"]
[140017559,"CNOP",140017559,2022,44,"oui"]
[140019480,"CNOP",140019480,2022,44,"oui"]
[140021379,"CNOP",140021379,2022,44,"oui"]
[140021981,"CNOP",140021981,2022,44,"oui"]
[140025610,"CNOP",140025610,2022,44,"oui"]
[150000503,"CNOP",150000503,2022,44,"oui"]
[150000586,"CNOP",150000586,2022,44,"oui"]
[150000735,"CNOP",150000735,2022,44,"oui"]
[150000834,"CNOP",150000834,2022,44,"oui"]
[150000917,"CNOP",150000917,2022,44,"oui"]
[150001006,"CNOP",150001006,2022,44,"oui"]
[150001204,"CNOP",150001204,2022,44,"oui"]
[150001584,"CNOP",150001584,2022,44,"oui"]
[150001600,"CNOP",150001600,2022,44,"oui"]
[150001667,"CNOP",150001667,2022,44,"oui"]
[150001923,"CNOP",150001923,2022,44,"oui"]
[150002111,"CNOP",150002111,2022,44,"oui"]
[150002145,"CNOP",150002145,2022,44,"oui"]
[150002160,"CNOP",150002160,2022,44,"oui"]
[150002194,"CNOP",150002194,2022,44,"oui"]
[150002327,"CNOP",150002327,2022,44,"oui"]
[160004495,"CNOP",160004495,2022,44,"oui"]
[160005674,"CNOP",160005674,2022,44,"oui"]
[160009957,"CNOP",160009957,2022,44,"oui"]
[160010021,"CNOP",160010021,2022,44,"oui"]
[160010047,"CNOP",160010047,2022,44,"oui"]
[160010104,"CNOP",160010104,2022,44,"oui"]
[160010179,"CNOP",160010179,2022,44,"oui"]
[160010203,"CNOP",160010203,2022,44,"oui"]
[160010237,"CNOP",160010237,2022,44,"oui"]
[160010286,"CNOP",160010286,2022,44,"oui"]
[160010393,"CNOP",160010393,2022,44,"oui"]
[160010492,"CNOP",160010492,2022,44,"oui"]
[160010575,"CNOP",160010575,2022,44,"oui"]
[160010591,"CNOP",160010591,2022,44,"oui"]
[160010633,"CNOP",160010633,2022,44,"non"]
[160010674,"CNOP",160010674,2022,44,"oui"]
[160010682,"CNOP",160010682,2022,44,"oui"]
[160010773,"CNOP",160010773,2022,44,"oui"]
[160010815,"CNOP",160010815,2022,44,"oui"]
[160010823,"CNOP",160010823,2022,44,"oui"]
[160010849,"CNOP",160010849,2022,44,"non"]
[160010856,"CNOP",160010856,2022,44,"oui"]
[160010948,"CNOP",160010948,2022,44,"oui"]
[160010955,"CNOP",160010955,2022,44,"oui"]
[160010963,"CNOP",160010963,2022,44,"oui"]
[160010971,"CNOP",160010971,2022,44,"oui"]
[160010989,"CNOP",160010989,2022,44,"oui"]
[160011045,"CNOP",160011045,2022,44,"oui"]
[160011052,"CNOP",160011052,2022,44,"oui"]
[160011078,"CNOP",160011078,2022,44,"oui"]
[160011136,"CNOP",160011136,2022,44,"oui"]
[160011151,"CNOP",160011151,2022,44,"oui"]
[160011169,"CNOP",160011169,2022,44,"oui"]
[160011185,"CNOP",160011185,2022,44,"oui"]
[160011193,"CNOP",160011193,2022,44,"oui"]
[160011243,"CNOP",160011243,2022,44,"oui"]
[160011268,"CNOP",160011268,2022,44,"oui"]
[160011284,"CNOP",160011284,2022,44,"oui"]
[160011359,"CNOP",160011359,2022,44,"oui"]
[160011375,"CNOP",160011375,2022,44,"oui"]
[160011417,"CNOP",160011417,2022,44,"oui"]
[160011425,"CNOP",160011425,2022,44,"oui"]
[160011441,"CNOP",160011441,2022,44,"oui"]
[160011458,"CNOP",160011458,2022,44,"oui"]
[160011466,"CNOP",160011466,2022,44,"oui"]
[160011474,"CNOP",160011474,2022,44,"oui"]
[160011482,"CNOP",160011482,2022,44,"oui"]
[160011490,"CNOP",160011490,2022,44,"oui"]
[160011508,"CNOP",160011508,2022,44,"non"]
[160011532,"CNOP",160011532,2022,44,"oui"]
[160011557,"CNOP",160011557,2022,44,"oui"]
[160011565,"CNOP",160011565,2022,44,"oui"]
[160011573,"CNOP",160011573,2022,44,"non"]
[160011896,"CNOP",160011896,2022,44,"oui"]
[170010193,"CNOP",170010193,2022,44,"oui"]
[170010276,"CNOP",170010276,2022,44,"oui"]
[170010326,"CNOP",170010326,2022,44,"oui"]
[170010524,"CNOP",170010524,2022,44,"oui"]
[170010565,"CNOP",170010565,2022,44,"oui"]
[170010581,"CNOP",170010581,2022,44,"oui"]
[170010664,"CNOP",170010664,2022,44,"oui"]
[170010714,"CNOP",170010714,2022,44,"oui"]
[170010730,"CNOP",170010730,2022,44,"oui"]
[170010763,"CNOP",170010763,2022,44,"oui"]
[170010862,"CNOP",170010862,2022,44,"oui"]
[170010896,"CNOP",170010896,2022,44,"oui"]
[170010961,"CNOP",170010961,2022,44,"oui"]
[170011076,"CNOP",170011076,2022,44,"oui"]
[170011092,"CNOP",170011092,2022,44,"oui"]
[170011274,"CNOP",170011274,2022,44,"oui"]
[170011290,"CNOP",170011290,2022,44,"oui"]
[170011324,"CNOP",170011324,2022,44,"oui"]
[170011381,"CNOP",170011381,2022,44,"non"]
[170011431,"CNOP",170011431,2022,44,"oui"]
[170011464,"CNOP",170011464,2022,44,"oui"]
[170011480,"CNOP",170011480,2022,44,"oui"]
[170011530,"CNOP",170011530,2022,44,"oui"]
[170011597,"CNOP",170011597,2022,44,"oui"]
[170011647,"CNOP",170011647,2022,44,"oui"]
[170011746,"CNOP",170011746,2022,44,"oui"]
[170011795,"CNOP",170011795,2022,44,"oui"]
[170011993,"CNOP",170011993,2022,44,"oui"]
[170012215,"CNOP",170012215,2022,44,"oui"]
[170012462,"CNOP",170012462,2022,44,"oui"]
[170012645,"CNOP",170012645,2022,44,"oui"]
[170012801,"CNOP",170012801,2022,44,"oui"]
[170012835,"CNOP",170012835,2022,44,"oui"]
[170012975,"CNOP",170012975,2022,44,"oui"]
[170013130,"CNOP",170013130,2022,44,"oui"]
[170013213,"CNOP",170013213,2022,44,"oui"]
[170013411,"CNOP",170013411,2022,44,"oui"]
[170013676,"CNOP",170013676,2022,44,"oui"]
[170013965,"CNOP",170013965,2022,44,"oui"]
[170013981,"CNOP",170013981,2022,44,"oui"]
[170014096,"CNOP",170014096,2022,44,"oui"]
[170014112,"CNOP",170014112,2022,44,"oui"]
[170014427,"CNOP",170014427,2022,44,"oui"]
[170014443,"CNOP",170014443,2022,44,"oui"]
[170014492,"CNOP",170014492,2022,44,"oui"]
[170014575,"CNOP",170014575,2022,44,"oui"]
[170014591,"CNOP",170014591,2022,44,"oui"]
[170014658,"CNOP",170014658,2022,44,"oui"]
[170014674,"CNOP",170014674,2022,44,"oui"]
[170014740,"CNOP",170014740,2022,44,"oui"]
[170014781,"CNOP",170014781,2022,44,"oui"]
[170014864,"CNOP",170014864,2022,44,"oui"]
[170014880,"CNOP",170014880,2022,44,"oui"]
[170014930,"CNOP",170014930,2022,44,"oui"]
[170014997,"CNOP",170014997,2022,44,"oui"]
[170015077,"CNOP",170015077,2022,44,"oui"]
[170015325,"CNOP",170015325,2022,44,"oui"]
[170015523,"CNOP",170015523,2022,44,"oui"]
[170015572,"CNOP",170015572,2022,44,"oui"]
[170015721,"CNOP",170015721,2022,44,"oui"]
[170015887,"CNOP",170015887,2022,44,"oui"]
[170016117,"CNOP",170016117,2022,44,"non"]
[170016133,"CNOP",170016133,2022,44,"oui"]
[170016166,"CNOP",170016166,2022,44,"oui"]
[170016273,"CNOP",170016273,2022,44,"oui"]
[180001323,"CNOP",180001323,2022,44,"oui"]
[180001356,"CNOP",180001356,2022,44,"oui"]
[180001620,"CNOP",180001620,2022,44,"oui"]
[180001687,"CNOP",180001687,2022,44,"oui"]
[180001703,"CNOP",180001703,2022,44,"oui"]
[180001802,"CNOP",180001802,2022,44,"oui"]
[180001836,"CNOP",180001836,2022,44,"oui"]
[180002016,"CNOP",180002016,2022,44,"oui"]
[180002347,"CNOP",180002347,2022,44,"oui"]
[180002412,"CNOP",180002412,2022,44,"oui"]
[180002446,"CNOP",180002446,2022,44,"oui"]
[180002461,"CNOP",180002461,2022,44,"oui"]
[180002594,"CNOP",180002594,2022,44,"oui"]
[180002610,"CNOP",180002610,2022,44,"oui"]
[180002693,"CNOP",180002693,2022,44,"oui"]
[180002842,"CNOP",180002842,2022,44,"oui"]
[180002974,"CNOP",180002974,2022,44,"oui"]
[180003014,"CNOP",180003014,2022,44,"oui"]
[180003212,"CNOP",180003212,2022,44,"oui"]
[180003550,"CNOP",180003550,2022,44,"oui"]
[180003725,"CNOP",180003725,2022,44,"oui"]
[180003782,"CNOP",180003782,2022,44,"oui"]
[180004160,"CNOP",180004160,2022,44,"oui"]
[180004335,"CNOP",180004335,2022,44,"oui"]
[180005381,"CNOP",180005381,2022,44,"oui"]
[180006074,"CNOP",180006074,2022,44,"oui"]
[180006504,"CNOP",180006504,2022,44,"oui"]
[180006652,"CNOP",180006652,2022,44,"oui"]
[180007130,"CNOP",180007130,2022,44,"oui"]
[180007213,"CNOP",180007213,2022,44,"oui"]
[180007247,"CNOP",180007247,2022,44,"oui"]
[180007296,"CNOP",180007296,2022,44,"oui"]
[180007346,"CNOP",180007346,2022,44,"oui"]
[180007361,"CNOP",180007361,2022,44,"oui"]
[180007445,"CNOP",180007445,2022,44,"oui"]
[190007021,"CNOP",190007021,2022,44,"oui"]
[190007120,"CNOP",190007120,2022,44,"oui"]
[190007203,"CNOP",190007203,2022,44,"oui"]
[190007385,"CNOP",190007385,2022,44,"oui"]
[190007567,"CNOP",190007567,2022,44,"oui"]
[190007666,"CNOP",190007666,2022,44,"oui"]
[190007716,"CNOP",190007716,2022,44,"oui"]
[190007732,"CNOP",190007732,2022,44,"oui"]
[190007955,"CNOP",190007955,2022,44,"oui"]
[190008003,"CNOP",190008003,2022,44,"oui"]
[190008102,"CNOP",190008102,2022,44,"oui"]
[190008250,"CNOP",190008250,2022,44,"oui"]
[190008284,"CNOP",190008284,2022,44,"non"]
[190008433,"CNOP",190008433,2022,44,"oui"]
[190008482,"CNOP",190008482,2022,44,"oui"]
[190008516,"CNOP",190008516,2022,44,"oui"]
[190008532,"CNOP",190008532,2022,44,"oui"]
[190008672,"CNOP",190008672,2022,44,"oui"]
[190008755,"CNOP",190008755,2022,44,"oui"]
[190008854,"CNOP",190008854,2022,44,"oui"]
[190008953,"CNOP",190008953,2022,44,"oui"]
[190009233,"CNOP",190009233,2022,44,"oui"]
[190009316,"CNOP",190009316,2022,44,"oui"]
[190009357,"CNOP",190009357,2022,44,"oui"]
[190009373,"CNOP",190009373,2022,44,"oui"]
[190009522,"CNOP",190009522,2022,44,"oui"]
[190009670,"CNOP",190009670,2022,44,"oui"]
[190009753,"CNOP",190009753,2022,44,"oui"]
[190009902,"CNOP",190009902,2022,44,"oui"]
[190010140,"CNOP",190010140,2022,44,"oui"]
[210003034,"CNOP",210003034,2022,44,"oui"]
[210003067,"CNOP",210003067,2022,44,"oui"]
[210003117,"CNOP",210003117,2022,44,"oui"]
[210003216,"CNOP",210003216,2022,44,"oui"]
[210003257,"CNOP",210003257,2022,44,"oui"]
[210003307,"CNOP",210003307,2022,44,"oui"]
[210003323,"CNOP",210003323,2022,44,"oui"]
[210003422,"CNOP",210003422,2022,44,"oui"]
[210003455,"CNOP",210003455,2022,44,"oui"]
[210003554,"CNOP",210003554,2022,44,"oui"]
[210003604,"CNOP",210003604,2022,44,"oui"]
[210003620,"CNOP",210003620,2022,44,"oui"]
[210003737,"CNOP",210003737,2022,44,"oui"]
[210003786,"CNOP",210003786,2022,44,"oui"]
[210003901,"CNOP",210003901,2022,44,"oui"]
[210003935,"CNOP",210003935,2022,44,"oui"]
[210003950,"CNOP",210003950,2022,44,"oui"]
[210003984,"CNOP",210003984,2022,44,"oui"]
[210004057,"CNOP",210004057,2022,44,"oui"]
[210004107,"CNOP",210004107,2022,44,"oui"]
[210004156,"CNOP",210004156,2022,44,"oui"]
[210004172,"CNOP",210004172,2022,44,"oui"]
[210004206,"CNOP",210004206,2022,44,"oui"]
[210004222,"CNOP",210004222,2022,44,"oui"]
[210004321,"CNOP",210004321,2022,44,"oui"]
[210004370,"CNOP",210004370,2022,44,"oui"]
[210004420,"CNOP",210004420,2022,44,"oui"]
[210004453,"CNOP",210004453,2022,44,"oui"]
[210004636,"CNOP",210004636,2022,44,"oui"]
[210004651,"CNOP",210004651,2022,44,"oui"]
[210004735,"CNOP",210004735,2022,44,"oui"]
[210004784,"CNOP",210004784,2022,44,"oui"]
[210004800,"CNOP",210004800,2022,44,"oui"]
[210004834,"CNOP",210004834,2022,44,"oui"]
[210004867,"CNOP",210004867,2022,44,"oui"]
[210004883,"CNOP",210004883,2022,44,"oui"]
[210004917,"CNOP",210004917,2022,44,"non"]
[210004933,"CNOP",210004933,2022,44,"oui"]
[210004966,"CNOP",210004966,2022,44,"oui"]
[210005054,"CNOP",210005054,2022,44,"oui"]
[210005070,"CNOP",210005070,2022,44,"oui"]
[210005120,"CNOP",210005120,2022,44,"oui"]
[210005187,"CNOP",210005187,2022,44,"oui"]
[210005203,"CNOP",210005203,2022,44,"oui"]
[210005286,"CNOP",210005286,2022,44,"oui"]
[210005302,"CNOP",210005302,2022,44,"oui"]
[210005351,"CNOP",210005351,2022,44,"oui"]
[210005435,"CNOP",210005435,2022,44,"oui"]
[210005484,"CNOP",210005484,2022,44,"oui"]
[210005534,"CNOP",210005534,2022,44,"oui"]
[210005633,"CNOP",210005633,2022,44,"oui"]
[210005666,"CNOP",210005666,2022,44,"oui"]
[210005682,"CNOP",210005682,2022,44,"oui"]
[210005716,"CNOP",210005716,2022,44,"oui"]
[210005732,"CNOP",210005732,2022,44,"oui"]
[210005757,"CNOP",210005757,2022,44,"oui"]
[210005906,"CNOP",210005906,2022,44,"oui"]
[210005971,"CNOP",210005971,2022,44,"oui"]
[210006003,"CNOP",210006003,2022,44,"oui"]
[210006086,"CNOP",210006086,2022,44,"oui"]
[210006250,"CNOP",210006250,2022,44,"oui"]
[210006300,"CNOP",210006300,2022,44,"oui"]
[210006334,"CNOP",210006334,2022,44,"oui"]
[210006367,"CNOP",210006367,2022,44,"oui"]
[210006482,"CNOP",210006482,2022,44,"oui"]
[210006573,"CNOP",210006573,2022,44,"oui"]
[210006656,"CNOP",210006656,2022,44,"oui"]
[210006706,"CNOP",210006706,2022,44,"oui"]
[210006722,"CNOP",210006722,2022,44,"oui"]
[210006805,"CNOP",210006805,2022,44,"oui"]
[210006870,"CNOP",210006870,2022,44,"oui"]
[210006920,"CNOP",210006920,2022,44,"oui"]
[210006953,"CNOP",210006953,2022,44,"oui"]
[210007134,"CNOP",210007134,2022,44,"oui"]
[210007167,"CNOP",210007167,2022,44,"oui"]
[210007233,"CNOP",210007233,2022,44,"oui"]
[210007282,"CNOP",210007282,2022,44,"oui"]
[210007332,"CNOP",210007332,2022,44,"oui"]
[210007407,"CNOP",210007407,2022,44,"oui"]
[220010359,"CNOP",220010359,2022,44,"oui"]
[220010409,"CNOP",220010409,2022,44,"oui"]
[220010433,"CNOP",220010433,2022,44,"oui"]
[220010441,"CNOP",220010441,2022,44,"oui"]
[220010458,"CNOP",220010458,2022,44,"oui"]
[220010482,"CNOP",220010482,2022,44,"oui"]
[220010508,"CNOP",220010508,2022,44,"oui"]
[220010565,"CNOP",220010565,2022,44,"oui"]
[220010573,"CNOP",220010573,2022,44,"oui"]
[220010599,"CNOP",220010599,2022,44,"oui"]
[220010607,"CNOP",220010607,2022,44,"oui"]
[220010623,"CNOP",220010623,2022,44,"oui"]
[220010631,"CNOP",220010631,2022,44,"oui"]
[220010656,"CNOP",220010656,2022,44,"oui"]
[220010698,"CNOP",220010698,2022,44,"oui"]
[220010706,"CNOP",220010706,2022,44,"oui"]
[220010730,"CNOP",220010730,2022,44,"oui"]
[220010748,"CNOP",220010748,2022,44,"oui"]
[220010771,"CNOP",220010771,2022,44,"oui"]
[220010789,"CNOP",220010789,2022,44,"oui"]
[220010847,"CNOP",220010847,2022,44,"oui"]
[220010854,"CNOP",220010854,2022,44,"oui"]
[220010896,"CNOP",220010896,2022,44,"oui"]
[220010920,"CNOP",220010920,2022,44,"oui"]
[220010938,"CNOP",220010938,2022,44,"oui"]
[220010987,"CNOP",220010987,2022,44,"non"]
[220011001,"CNOP",220011001,2022,44,"oui"]
[220011027,"CNOP",220011027,2022,44,"oui"]
[220011043,"CNOP",220011043,2022,44,"oui"]
[220011076,"CNOP",220011076,2022,44,"oui"]
[220011100,"CNOP",220011100,2022,44,"oui"]
[220011142,"CNOP",220011142,2022,44,"oui"]
[220011183,"CNOP",220011183,2022,44,"oui"]
[220011233,"CNOP",220011233,2022,44,"oui"]
[220011241,"CNOP",220011241,2022,44,"oui"]
[220011258,"CNOP",220011258,2022,44,"oui"]
[220011274,"CNOP",220011274,2022,44,"oui"]
[220011308,"CNOP",220011308,2022,44,"oui"]
[220011316,"CNOP",220011316,2022,44,"oui"]
[220011332,"CNOP",220011332,2022,44,"oui"]
[220011381,"CNOP",220011381,2022,44,"oui"]
[220011415,"CNOP",220011415,2022,44,"oui"]
[220011423,"CNOP",220011423,2022,44,"oui"]
[220011431,"CNOP",220011431,2022,44,"oui"]
[220011449,"CNOP",220011449,2022,44,"oui"]
[220011464,"CNOP",220011464,2022,44,"oui"]
[220011472,"CNOP",220011472,2022,44,"oui"]
[220011506,"CNOP",220011506,2022,44,"oui"]
[220011522,"CNOP",220011522,2022,44,"oui"]
[220011555,"CNOP",220011555,2022,44,"non"]
[220011597,"CNOP",220011597,2022,44,"oui"]
[220011605,"CNOP",220011605,2022,44,"oui"]
[220011613,"CNOP",220011613,2022,44,"oui"]
[220011621,"CNOP",220011621,2022,44,"oui"]
[220011639,"CNOP",220011639,2022,44,"oui"]
[220011662,"CNOP",220011662,2022,44,"oui"]
[220011720,"CNOP",220011720,2022,44,"oui"]
[220011787,"CNOP",220011787,2022,44,"oui"]
[220011803,"CNOP",220011803,2022,44,"oui"]
[220011837,"CNOP",220011837,2022,44,"oui"]
[220011845,"CNOP",220011845,2022,44,"oui"]
[220011852,"CNOP",220011852,2022,44,"oui"]
[220011886,"CNOP",220011886,2022,44,"oui"]
[220011902,"CNOP",220011902,2022,44,"oui"]
[220011928,"CNOP",220011928,2022,44,"oui"]
[220011944,"CNOP",220011944,2022,44,"oui"]
[220011977,"CNOP",220011977,2022,44,"oui"]
[220012009,"CNOP",220012009,2022,44,"oui"]
[220012017,"CNOP",220012017,2022,44,"oui"]
[220012066,"CNOP",220012066,2022,44,"oui"]
[220012082,"CNOP",220012082,2022,44,"oui"]
[220012470,"CNOP",220012470,2022,44,"oui"]
[220012512,"CNOP",220012512,2022,44,"oui"]
[220012538,"CNOP",220012538,2022,44,"oui"]
[220012546,"CNOP",220012546,2022,44,"oui"]
[220012553,"CNOP",220012553,2022,44,"oui"]
[220012561,"CNOP",220012561,2022,44,"oui"]
[220012603,"CNOP",220012603,2022,44,"oui"]
[220012611,"CNOP",220012611,2022,44,"oui"]
[220012637,"CNOP",220012637,2022,44,"oui"]
[220012652,"CNOP",220012652,2022,44,"oui"]
[220012686,"CNOP",220012686,2022,44,"oui"]
[220012728,"CNOP",220012728,2022,44,"oui"]
[220013189,"CNOP",220013189,2022,44,"oui"]
[220015903,"CNOP",220015903,2022,44,"oui"]
[220015952,"CNOP",220015952,2022,44,"oui"]
[220015986,"CNOP",220015986,2022,44,"oui"]
[220016091,"CNOP",220016091,2022,44,"oui"]
[230001562,"CNOP",230001562,2022,44,"oui"]
[230001596,"CNOP",230001596,2022,44,"oui"]
[230001646,"CNOP",230001646,2022,44,"oui"]
[230001695,"CNOP",230001695,2022,44,"oui"]
[230001760,"CNOP",230001760,2022,44,"oui"]
[230001893,"CNOP",230001893,2022,44,"oui"]
[230002024,"CNOP",230002024,2022,44,"oui"]
[230002115,"CNOP",230002115,2022,44,"oui"]
[230002362,"CNOP",230002362,2022,44,"oui"]
[230002446,"CNOP",230002446,2022,44,"oui"]
[230002941,"CNOP",230002941,2022,44,"oui"]
[230002974,"CNOP",230002974,2022,44,"oui"]
[230002990,"CNOP",230002990,2022,44,"oui"]
[230003014,"CNOP",230003014,2022,44,"oui"]
[230003030,"CNOP",230003030,2022,44,"oui"]
[230003147,"CNOP",230003147,2022,44,"oui"]
[230003212,"CNOP",230003212,2022,44,"oui"]
[240003905,"CNOP",240003905,2022,44,"oui"]
[240005264,"CNOP",240005264,2022,44,"oui"]
[240006684,"CNOP",240006684,2022,44,"oui"]
[240007906,"CNOP",240007906,2022,44,"oui"]
[240008011,"CNOP",240008011,2022,44,"oui"]
[240008045,"CNOP",240008045,2022,44,"oui"]
[240008060,"CNOP",240008060,2022,44,"oui"]
[240008102,"CNOP",240008102,2022,44,"oui"]
[240008201,"CNOP",240008201,2022,44,"oui"]
[240008433,"CNOP",240008433,2022,44,"oui"]
[240009415,"CNOP",240009415,2022,44,"oui"]
[240009647,"CNOP",240009647,2022,44,"oui"]
[240009662,"CNOP",240009662,2022,44,"oui"]
[240009712,"CNOP",240009712,2022,44,"oui"]
[240010033,"CNOP",240010033,2022,44,"oui"]
[240010116,"CNOP",240010116,2022,44,"oui"]
[240010157,"CNOP",240010157,2022,44,"oui"]
[240010207,"CNOP",240010207,2022,44,"oui"]
[240010256,"CNOP",240010256,2022,44,"oui"]
[240010322,"CNOP",240010322,2022,44,"oui"]
[240010421,"CNOP",240010421,2022,44,"oui"]
[240010520,"CNOP",240010520,2022,44,"oui"]
[240010553,"CNOP",240010553,2022,44,"oui"]
[240010801,"CNOP",240010801,2022,44,"oui"]
[240010983,"CNOP",240010983,2022,44,"oui"]
[240011023,"CNOP",240011023,2022,44,"oui"]
[240011072,"CNOP",240011072,2022,44,"oui"]
[240011106,"CNOP",240011106,2022,44,"oui"]
[240011270,"CNOP",240011270,2022,44,"oui"]
[240011486,"CNOP",240011486,2022,44,"oui"]
[240011536,"CNOP",240011536,2022,44,"non"]
[240011551,"CNOP",240011551,2022,44,"oui"]
[240011635,"CNOP",240011635,2022,44,"oui"]
[240011684,"CNOP",240011684,2022,44,"oui"]
[240011734,"CNOP",240011734,2022,44,"oui"]
[240011866,"CNOP",240011866,2022,44,"oui"]
[240011916,"CNOP",240011916,2022,44,"oui"]
[240011932,"CNOP",240011932,2022,44,"oui"]
[240012005,"CNOP",240012005,2022,44,"oui"]
[240012120,"CNOP",240012120,2022,44,"oui"]
[240012153,"CNOP",240012153,2022,44,"non"]
[240012286,"CNOP",240012286,2022,44,"oui"]
[240012336,"CNOP",240012336,2022,44,"oui"]
[240012401,"CNOP",240012401,2022,44,"oui"]
[240012617,"CNOP",240012617,2022,44,"oui"]
[240012633,"CNOP",240012633,2022,44,"oui"]
[240012906,"CNOP",240012906,2022,44,"oui"]
[240012971,"CNOP",240012971,2022,44,"oui"]
[240013003,"CNOP",240013003,2022,44,"oui"]
[240013110,"CNOP",240013110,2022,44,"oui"]
[240013375,"CNOP",240013375,2022,44,"oui"]
[240013706,"CNOP",240013706,2022,44,"oui"]
[250002805,"CNOP",250002805,2022,44,"oui"]
[250002847,"CNOP",250002847,2022,44,"oui"]
[250003084,"CNOP",250003084,2022,44,"oui"]
[250003167,"CNOP",250003167,2022,44,"oui"]
[250003290,"CNOP",250003290,2022,44,"oui"]
[250003340,"CNOP",250003340,2022,44,"oui"]
[250003365,"CNOP",250003365,2022,44,"oui"]
[250003381,"CNOP",250003381,2022,44,"oui"]
[250003431,"CNOP",250003431,2022,44,"oui"]
[250003464,"CNOP",250003464,2022,44,"oui"]
[250003480,"CNOP",250003480,2022,44,"oui"]
[250003514,"CNOP",250003514,2022,44,"oui"]
[250003571,"CNOP",250003571,2022,44,"oui"]
[250003621,"CNOP",250003621,2022,44,"oui"]
[250003654,"CNOP",250003654,2022,44,"oui"]
[250003670,"CNOP",250003670,2022,44,"oui"]
[250003852,"CNOP",250003852,2022,44,"oui"]
[250003902,"CNOP",250003902,2022,44,"oui"]
[250003928,"CNOP",250003928,2022,44,"oui"]
[250004025,"CNOP",250004025,2022,44,"oui"]
[250004207,"CNOP",250004207,2022,44,"oui"]
[250004991,"CNOP",250004991,2022,44,"oui"]
[250005071,"CNOP",250005071,2022,44,"oui"]
[250005584,"CNOP",250005584,2022,44,"oui"]
[250006293,"CNOP",250006293,2022,44,"oui"]
[250006657,"CNOP",250006657,2022,44,"oui"]
[250007374,"CNOP",250007374,2022,44,"oui"]
[250008000,"CNOP",250008000,2022,44,"oui"]
[250008034,"CNOP",250008034,2022,44,"oui"]
[250008125,"CNOP",250008125,2022,44,"oui"]
[250008141,"CNOP",250008141,2022,44,"oui"]
[250008240,"CNOP",250008240,2022,44,"oui"]
[250008505,"CNOP",250008505,2022,44,"oui"]
[250008554,"CNOP",250008554,2022,44,"oui"]
[250008604,"CNOP",250008604,2022,44,"non"]
[250008661,"CNOP",250008661,2022,44,"oui"]
[250009040,"CNOP",250009040,2022,44,"oui"]
[250009255,"CNOP",250009255,2022,44,"non"]
[250009297,"CNOP",250009297,2022,44,"oui"]
[250009313,"CNOP",250009313,2022,44,"oui"]
[250009487,"CNOP",250009487,2022,44,"oui"]
[250009735,"CNOP",250009735,2022,44,"oui"]
[250009750,"CNOP",250009750,2022,44,"oui"]
[250009974,"CNOP",250009974,2022,44,"oui"]
[250010592,"CNOP",250010592,2022,44,"oui"]
[250010782,"CNOP",250010782,2022,44,"oui"]
[250010840,"CNOP",250010840,2022,44,"oui"]
[250010923,"CNOP",250010923,2022,44,"oui"]
[250011012,"CNOP",250011012,2022,44,"oui"]
[250011152,"CNOP",250011152,2022,44,"oui"]
[250011202,"CNOP",250011202,2022,44,"oui"]
[250011376,"CNOP",250011376,2022,44,"oui"]
[250011400,"CNOP",250011400,2022,44,"oui"]
[250011483,"CNOP",250011483,2022,44,"non"]
[250011640,"CNOP",250011640,2022,44,"oui"]
[250012077,"CNOP",250012077,2022,44,"oui"]
[250012127,"CNOP",250012127,2022,44,"oui"]
[250012226,"CNOP",250012226,2022,44,"oui"]
[250012275,"CNOP",250012275,2022,44,"oui"]
[250012341,"CNOP",250012341,2022,44,"oui"]
[250012465,"CNOP",250012465,2022,44,"oui"]
[250012481,"CNOP",250012481,2022,44,"oui"]
[250012515,"CNOP",250012515,2022,44,"oui"]
[250012614,"CNOP",250012614,2022,44,"oui"]
[250012713,"CNOP",250012713,2022,44,"oui"]
[250012762,"CNOP",250012762,2022,44,"oui"]
[250012796,"CNOP",250012796,2022,44,"oui"]
[250012861,"CNOP",250012861,2022,44,"oui"]
[250012994,"CNOP",250012994,2022,44,"oui"]
[250013075,"CNOP",250013075,2022,44,"oui"]
[250013091,"CNOP",250013091,2022,44,"oui"]
[250013190,"CNOP",250013190,2022,44,"oui"]
[250013265,"CNOP",250013265,2022,44,"oui"]
[250013281,"CNOP",250013281,2022,44,"oui"]
[250013315,"CNOP",250013315,2022,44,"oui"]
[250013364,"CNOP",250013364,2022,44,"oui"]
[250013430,"CNOP",250013430,2022,44,"oui"]
[250013497,"CNOP",250013497,2022,44,"oui"]
[250013612,"CNOP",250013612,2022,44,"oui"]
[250013703,"CNOP",250013703,2022,44,"oui"]
[260001789,"CNOP",260001789,2022,44,"oui"]
[260001888,"CNOP",260001888,2022,44,"oui"]
[260003645,"CNOP",260003645,2022,44,"oui"]
[260003660,"CNOP",260003660,2022,44,"oui"]
[260003694,"CNOP",260003694,2022,44,"oui"]
[260003777,"CNOP",260003777,2022,44,"oui"]
[260003827,"CNOP",260003827,2022,44,"oui"]
[260003843,"CNOP",260003843,2022,44,"oui"]
[260003892,"CNOP",260003892,2022,44,"oui"]
[260003942,"CNOP",260003942,2022,44,"non"]
[260004015,"CNOP",260004015,2022,44,"oui"]
[260004163,"CNOP",260004163,2022,44,"oui"]
[260004213,"CNOP",260004213,2022,44,"oui"]
[260005293,"CNOP",260005293,2022,44,"oui"]
[260005715,"CNOP",260005715,2022,44,"oui"]
[260005731,"CNOP",260005731,2022,44,"oui"]
[260006523,"CNOP",260006523,2022,44,"oui"]
[260006945,"CNOP",260006945,2022,44,"oui"]
[260007026,"CNOP",260007026,2022,44,"oui"]
[260008016,"CNOP",260008016,2022,44,"oui"]
[260008040,"CNOP",260008040,2022,44,"oui"]
[260008131,"CNOP",260008131,2022,44,"oui"]
[260008164,"CNOP",260008164,2022,44,"oui"]
[260008230,"CNOP",260008230,2022,44,"oui"]
[260008313,"CNOP",260008313,2022,44,"oui"]
[260008420,"CNOP",260008420,2022,44,"oui"]
[260008545,"CNOP",260008545,2022,44,"oui"]
[260008834,"CNOP",260008834,2022,44,"oui"]
[260008875,"CNOP",260008875,2022,44,"oui"]
[260008925,"CNOP",260008925,2022,44,"oui"]
[260008941,"CNOP",260008941,2022,44,"oui"]
[260008982,"CNOP",260008982,2022,44,"oui"]
[260010020,"CNOP",260010020,2022,44,"oui"]
[260010871,"CNOP",260010871,2022,44,"oui"]
[260011572,"CNOP",260011572,2022,44,"oui"]
[260011721,"CNOP",260011721,2022,44,"oui"]
[260012075,"CNOP",260012075,2022,44,"oui"]
[260012133,"CNOP",260012133,2022,44,"oui"]
[260012521,"CNOP",260012521,2022,44,"oui"]
[260014493,"CNOP",260014493,2022,44,"oui"]
[260014691,"CNOP",260014691,2022,44,"oui"]
[260014741,"CNOP",260014741,2022,44,"oui"]
[260014824,"CNOP",260014824,2022,44,"oui"]
[260014840,"CNOP",260014840,2022,44,"oui"]
[260014931,"CNOP",260014931,2022,44,"oui"]
[260014980,"CNOP",260014980,2022,44,"oui"]
[260015094,"CNOP",260015094,2022,44,"oui"]
[260015177,"CNOP",260015177,2022,44,"oui"]
[260015193,"CNOP",260015193,2022,44,"oui"]
[270018690,"CNOP",270018690,2022,44,"oui"]
[270018724,"CNOP",270018724,2022,44,"oui"]
[270018930,"CNOP",270018930,2022,44,"oui"]
[270018997,"CNOP",270018997,2022,44,"non"]
[270019110,"CNOP",270019110,2022,44,"oui"]
[270019144,"CNOP",270019144,2022,44,"oui"]
[270019276,"CNOP",270019276,2022,44,"oui"]
[270019441,"CNOP",270019441,2022,44,"oui"]
[270019474,"CNOP",270019474,2022,44,"oui"]
[270019714,"CNOP",270019714,2022,44,"oui"]
[270020043,"CNOP",270020043,2022,44,"oui"]
[270020191,"CNOP",270020191,2022,44,"oui"]
[270020290,"CNOP",270020290,2022,44,"oui"]
[270020324,"CNOP",270020324,2022,44,"oui"]
[270020340,"CNOP",270020340,2022,44,"oui"]
[270020365,"CNOP",270020365,2022,44,"oui"]
[270020381,"CNOP",270020381,2022,44,"oui"]
[270020431,"CNOP",270020431,2022,44,"oui"]
[270020464,"CNOP",270020464,2022,44,"oui"]
[270020696,"CNOP",270020696,2022,44,"oui"]
[270020795,"CNOP",270020795,2022,44,"oui"]
[270020860,"CNOP",270020860,2022,44,"oui"]
[270020977,"CNOP",270020977,2022,44,"oui"]
[270021025,"CNOP",270021025,2022,44,"oui"]
[270021124,"CNOP",270021124,2022,44,"oui"]
[270021181,"CNOP",270021181,2022,44,"oui"]
[270021231,"CNOP",270021231,2022,44,"oui"]
[270021264,"CNOP",270021264,2022,44,"oui"]
[270021413,"CNOP",270021413,2022,44,"oui"]
[270021447,"CNOP",270021447,2022,44,"oui"]
[270021462,"CNOP",270021462,2022,44,"oui"]
[270021512,"CNOP",270021512,2022,44,"oui"]
[270021561,"CNOP",270021561,2022,44,"oui"]
[270021843,"CNOP",270021843,2022,44,"oui"]
[270021926,"CNOP",270021926,2022,44,"oui"]
[270022015,"CNOP",270022015,2022,44,"oui"]
[270022262,"CNOP",270022262,2022,44,"oui"]
[270022346,"CNOP",270022346,2022,44,"oui"]
[280001413,"CNOP",280001413,2022,44,"non"]
[280001512,"CNOP",280001512,2022,44,"oui"]
[280001595,"CNOP",280001595,2022,44,"oui"]
[280001777,"CNOP",280001777,2022,44,"oui"]
[280001827,"CNOP",280001827,2022,44,"oui"]
[280002320,"CNOP",280002320,2022,44,"oui"]
[280002353,"CNOP",280002353,2022,44,"oui"]
[280002437,"CNOP",280002437,2022,44,"oui"]
[280002452,"CNOP",280002452,2022,44,"oui"]
[280002551,"CNOP",280002551,2022,44,"oui"]
[280002635,"CNOP",280002635,2022,44,"oui"]
[280002684,"CNOP",280002684,2022,44,"oui"]
[280002767,"CNOP",280002767,2022,44,"oui"]
[280002882,"CNOP",280002882,2022,44,"oui"]
[280002957,"CNOP",280002957,2022,44,"oui"]
[280003005,"CNOP",280003005,2022,44,"oui"]
[280003104,"CNOP",280003104,2022,44,"oui"]
[280003153,"CNOP",280003153,2022,44,"oui"]
[280003237,"CNOP",280003237,2022,44,"oui"]
[280003302,"CNOP",280003302,2022,44,"oui"]
[280003435,"CNOP",280003435,2022,44,"oui"]
[280003450,"CNOP",280003450,2022,44,"oui"]
[280003500,"CNOP",280003500,2022,44,"oui"]
[280003757,"CNOP",280003757,2022,44,"oui"]
[280004003,"CNOP",280004003,2022,44,"oui"]
[280004151,"CNOP",280004151,2022,44,"non"]
[280004201,"CNOP",280004201,2022,44,"oui"]
[280004235,"CNOP",280004235,2022,44,"oui"]
[280004250,"CNOP",280004250,2022,44,"oui"]
[280004300,"CNOP",280004300,2022,44,"oui"]
[280004656,"CNOP",280004656,2022,44,"oui"]
[280004722,"CNOP",280004722,2022,44,"oui"]
[280004755,"CNOP",280004755,2022,44,"oui"]
[280004805,"CNOP",280004805,2022,44,"oui"]
[290010586,"CNOP",290010586,2022,44,"oui"]
[290010602,"CNOP",290010602,2022,44,"oui"]
[290010651,"CNOP",290010651,2022,44,"oui"]
[290010719,"CNOP",290010719,2022,44,"oui"]
[290010743,"CNOP",290010743,2022,44,"oui"]
[290010776,"CNOP",290010776,2022,44,"oui"]
[290010883,"CNOP",290010883,2022,44,"oui"]
[290010909,"CNOP",290010909,2022,44,"oui"]
[290010925,"CNOP",290010925,2022,44,"oui"]
[290010990,"CNOP",290010990,2022,44,"oui"]
[290011014,"CNOP",290011014,2022,44,"oui"]
[290011071,"CNOP",290011071,2022,44,"oui"]
[290011089,"CNOP",290011089,2022,44,"oui"]
[290011105,"CNOP",290011105,2022,44,"oui"]
[290011113,"CNOP",290011113,2022,44,"oui"]
[290011121,"CNOP",290011121,2022,44,"oui"]
[290011188,"CNOP",290011188,2022,44,"oui"]
[290011204,"CNOP",290011204,2022,44,"oui"]
[290011212,"CNOP",290011212,2022,44,"oui"]
[290011246,"CNOP",290011246,2022,44,"oui"]
[290011261,"CNOP",290011261,2022,44,"oui"]
[290011279,"CNOP",290011279,2022,44,"oui"]
[290011352,"CNOP",290011352,2022,44,"oui"]
[290011394,"CNOP",290011394,2022,44,"oui"]
[290011535,"CNOP",290011535,2022,44,"oui"]
[290011584,"CNOP",290011584,2022,44,"oui"]
[290011600,"CNOP",290011600,2022,44,"oui"]
[290011626,"CNOP",290011626,2022,44,"oui"]
[290011634,"CNOP",290011634,2022,44,"oui"]
[290011659,"CNOP",290011659,2022,44,"oui"]
[290011675,"CNOP",290011675,2022,44,"oui"]
[290011683,"CNOP",290011683,2022,44,"oui"]
[290011691,"CNOP",290011691,2022,44,"oui"]
[290011741,"CNOP",290011741,2022,44,"oui"]
[290011808,"CNOP",290011808,2022,44,"oui"]
[290011816,"CNOP",290011816,2022,44,"oui"]
[290011832,"CNOP",290011832,2022,44,"oui"]
[290011873,"CNOP",290011873,2022,44,"oui"]
[290011881,"CNOP",290011881,2022,44,"oui"]
[290011923,"CNOP",290011923,2022,44,"oui"]
[290011972,"CNOP",290011972,2022,44,"oui"]
[290012004,"CNOP",290012004,2022,44,"oui"]
[290012012,"CNOP",290012012,2022,44,"oui"]
[290012020,"CNOP",290012020,2022,44,"oui"]
[290012046,"CNOP",290012046,2022,44,"oui"]
[290012061,"CNOP",290012061,2022,44,"oui"]
[290012079,"CNOP",290012079,2022,44,"oui"]
[290012210,"CNOP",290012210,2022,44,"oui"]
[290012236,"CNOP",290012236,2022,44,"oui"]
[290012244,"CNOP",290012244,2022,44,"oui"]
[290012251,"CNOP",290012251,2022,44,"oui"]
[290012301,"CNOP",290012301,2022,44,"oui"]
[290012426,"CNOP",290012426,2022,44,"oui"]
[290012491,"CNOP",290012491,2022,44,"oui"]
[290012509,"CNOP",290012509,2022,44,"oui"]
[290012541,"CNOP",290012541,2022,44,"oui"]
[290012566,"CNOP",290012566,2022,44,"oui"]
[290012590,"CNOP",290012590,2022,44,"oui"]
[290012632,"CNOP",290012632,2022,44,"oui"]
[290012657,"CNOP",290012657,2022,44,"oui"]
[290012665,"CNOP",290012665,2022,44,"oui"]
[290012673,"CNOP",290012673,2022,44,"oui"]
[290012699,"CNOP",290012699,2022,44,"oui"]
[290012723,"CNOP",290012723,2022,44,"oui"]
[290012855,"CNOP",290012855,2022,44,"oui"]
[290012863,"CNOP",290012863,2022,44,"oui"]
[290012889,"CNOP",290012889,2022,44,"oui"]
[290012897,"CNOP",290012897,2022,44,"oui"]
[290012939,"CNOP",290012939,2022,44,"oui"]
[290012962,"CNOP",290012962,2022,44,"oui"]
[290013028,"CNOP",290013028,2022,44,"oui"]
[290013101,"CNOP",290013101,2022,44,"oui"]
[290013119,"CNOP",290013119,2022,44,"oui"]
[290013135,"CNOP",290013135,2022,44,"oui"]
[290013143,"CNOP",290013143,2022,44,"oui"]
[290013200,"CNOP",290013200,2022,44,"oui"]
[290013234,"CNOP",290013234,2022,44,"oui"]
[290013242,"CNOP",290013242,2022,44,"oui"]
[290013259,"CNOP",290013259,2022,44,"oui"]
[290013275,"CNOP",290013275,2022,44,"oui"]
[290013333,"CNOP",290013333,2022,44,"oui"]
[290013408,"CNOP",290013408,2022,44,"oui"]
[290013424,"CNOP",290013424,2022,44,"oui"]
[290013440,"CNOP",290013440,2022,44,"oui"]
[290013457,"CNOP",290013457,2022,44,"oui"]
[290013499,"CNOP",290013499,2022,44,"oui"]
[290013523,"CNOP",290013523,2022,44,"oui"]
[290013630,"CNOP",290013630,2022,44,"oui"]
[290013648,"CNOP",290013648,2022,44,"oui"]
[290013663,"CNOP",290013663,2022,44,"oui"]
[290013713,"CNOP",290013713,2022,44,"oui"]
[290013754,"CNOP",290013754,2022,44,"oui"]
[290013762,"CNOP",290013762,2022,44,"oui"]
[290013770,"CNOP",290013770,2022,44,"oui"]
[290013804,"CNOP",290013804,2022,44,"oui"]
[290013820,"CNOP",290013820,2022,44,"oui"]
[290013861,"CNOP",290013861,2022,44,"oui"]
[290013911,"CNOP",290013911,2022,44,"oui"]
[290014018,"CNOP",290014018,2022,44,"oui"]
[290014091,"CNOP",290014091,2022,44,"oui"]
[290014380,"CNOP",290014380,2022,44,"oui"]
[290014414,"CNOP",290014414,2022,44,"oui"]
[290032358,"CNOP",290032358,2022,44,"oui"]
[290033430,"CNOP",290033430,2022,44,"oui"]
["2A0000956","CNOP","2A0000956",2022,44,"oui"]
["2A0001251","CNOP","2A0001251",2022,44,"oui"]
["2A0001285","CNOP","2A0001285",2022,44,"oui"]
["2A0001301","CNOP","2A0001301",2022,44,"oui"]
["2A0001350","CNOP","2A0001350",2022,44,"oui"]
["2A0001434","CNOP","2A0001434",2022,44,"oui"]
["2A0001483","CNOP","2A0001483",2022,44,"oui"]
["2A0001673","CNOP","2A0001673",2022,44,"oui"]
["2A0001962","CNOP","2A0001962",2022,44,"oui"]
["2A0002010","CNOP","2A0002010",2022,44,"oui"]
["2A0002044","CNOP","2A0002044",2022,44,"oui"]
["2A0002127","CNOP","2A0002127",2022,44,"oui"]
["2A0002226","CNOP","2A0002226",2022,44,"oui"]
["2A0002242","CNOP","2A0002242",2022,44,"oui"]
["2A0002341","CNOP","2A0002341",2022,44,"oui"]
["2A0002374","CNOP","2A0002374",2022,44,"oui"]
["2B0001325","CNOP","2B0001325",2022,44,"oui"]
["2B0002307","CNOP","2B0002307",2022,44,"oui"]
["2B0002315","CNOP","2B0002315",2022,44,"oui"]
["2B0002372","CNOP","2B0002372",2022,44,"oui"]
["2B0002422","CNOP","2B0002422",2022,44,"oui"]
["2B0002497","CNOP","2B0002497",2022,44,"oui"]
["2B0002513","CNOP","2B0002513",2022,44,"oui"]
["2B0002521","CNOP","2B0002521",2022,44,"oui"]
["2B0002661","CNOP","2B0002661",2022,44,"oui"]
["2B0002695","CNOP","2B0002695",2022,44,"oui"]
["2B0002703","CNOP","2B0002703",2022,44,"oui"]
["2B0002711","CNOP","2B0002711",2022,44,"oui"]
["2B0002752","CNOP","2B0002752",2022,44,"oui"]
["2B0002760","CNOP","2B0002760",2022,44,"oui"]
["2B0002802","CNOP","2B0002802",2022,44,"oui"]
["2B0002810","CNOP","2B0002810",2022,44,"oui"]
["2B0002851","CNOP","2B0002851",2022,44,"oui"]
["2B0002927","CNOP","2B0002927",2022,44,"oui"]
["2B0002935","CNOP","2B0002935",2022,44,"oui"]
["2B0002943","CNOP","2B0002943",2022,44,"non"]
["2B0002976","CNOP","2B0002976",2022,44,"oui"]
["2B0003354","CNOP","2B0003354",2022,44,"oui"]
["2B0003677","CNOP","2B0003677",2022,44,"oui"]
["2B0003826","CNOP","2B0003826",2022,44,"oui"]
[300002649,"CNOP",300002649,2022,44,"oui"]
[300004025,"CNOP",300004025,2022,44,"oui"]
[300004363,"CNOP",300004363,2022,44,"oui"]
[300004843,"CNOP",300004843,2022,44,"oui"]
[300004926,"CNOP",300004926,2022,44,"oui"]
[300004942,"CNOP",300004942,2022,44,"oui"]
[300005212,"CNOP",300005212,2022,44,"oui"]
[300005360,"CNOP",300005360,2022,44,"oui"]
[300005410,"CNOP",300005410,2022,44,"oui"]
[300005444,"CNOP",300005444,2022,44,"oui"]
[300005576,"CNOP",300005576,2022,44,"oui"]
[300005592,"CNOP",300005592,2022,44,"non"]
[300005741,"CNOP",300005741,2022,44,"oui"]
[300006111,"CNOP",300006111,2022,44,"oui"]
[300006731,"CNOP",300006731,2022,44,"oui"]
[300007341,"CNOP",300007341,2022,44,"oui"]
[300007440,"CNOP",300007440,2022,44,"oui"]
[300007481,"CNOP",300007481,2022,44,"oui"]
[300007697,"CNOP",300007697,2022,44,"oui"]
[300007747,"CNOP",300007747,2022,44,"oui"]
[300007812,"CNOP",300007812,2022,44,"oui"]
[300007846,"CNOP",300007846,2022,44,"oui"]
[300007994,"CNOP",300007994,2022,44,"oui"]
[300008174,"CNOP",300008174,2022,44,"oui"]
[300008190,"CNOP",300008190,2022,44,"oui"]
[300008265,"CNOP",300008265,2022,44,"oui"]
[300008364,"CNOP",300008364,2022,44,"oui"]
[300008430,"CNOP",300008430,2022,44,"oui"]
[300008463,"CNOP",300008463,2022,44,"oui"]
[300008497,"CNOP",300008497,2022,44,"oui"]
[300008513,"CNOP",300008513,2022,44,"oui"]
[300008547,"CNOP",300008547,2022,44,"oui"]
[300008612,"CNOP",300008612,2022,44,"oui"]
[300008810,"CNOP",300008810,2022,44,"oui"]
[300008893,"CNOP",300008893,2022,44,"oui"]
[300009081,"CNOP",300009081,2022,44,"oui"]
[300009297,"CNOP",300009297,2022,44,"oui"]
[300009396,"CNOP",300009396,2022,44,"oui"]
[300009537,"CNOP",300009537,2022,44,"oui"]
[300009586,"CNOP",300009586,2022,44,"non"]
[300009685,"CNOP",300009685,2022,44,"oui"]
[300010006,"CNOP",300010006,2022,44,"oui"]
[300010170,"CNOP",300010170,2022,44,"oui"]
[310006564,"CNOP",310006564,2022,44,"oui"]
[310006630,"CNOP",310006630,2022,44,"oui"]
[310006911,"CNOP",310006911,2022,44,"oui"]
[310006945,"CNOP",310006945,2022,44,"oui"]
[310006994,"CNOP",310006994,2022,44,"oui"]
[310007125,"CNOP",310007125,2022,44,"oui"]
[310007190,"CNOP",310007190,2022,44,"oui"]
[310007315,"CNOP",310007315,2022,44,"oui"]
[310007364,"CNOP",310007364,2022,44,"oui"]
[310007430,"CNOP",310007430,2022,44,"non"]
[310007547,"CNOP",310007547,2022,44,"oui"]
[310007596,"CNOP",310007596,2022,44,"oui"]
[310007646,"CNOP",310007646,2022,44,"oui"]
[310007661,"CNOP",310007661,2022,44,"oui"]
[310007711,"CNOP",310007711,2022,44,"oui"]
[310007810,"CNOP",310007810,2022,44,"oui"]
[310007927,"CNOP",310007927,2022,44,"oui"]
[310007976,"CNOP",310007976,2022,44,"oui"]
[310008024,"CNOP",310008024,2022,44,"oui"]
[310008065,"CNOP",310008065,2022,44,"oui"]
[310008180,"CNOP",310008180,2022,44,"oui"]
[310008214,"CNOP",310008214,2022,44,"oui"]
[310008313,"CNOP",310008313,2022,44,"oui"]
[310008347,"CNOP",310008347,2022,44,"oui"]
[310008461,"CNOP",310008461,2022,44,"oui"]
[310008495,"CNOP",310008495,2022,44,"oui"]
[310008677,"CNOP",310008677,2022,44,"oui"]
[310008727,"CNOP",310008727,2022,44,"oui"]
[310008743,"CNOP",310008743,2022,44,"oui"]
[310008776,"CNOP",310008776,2022,44,"oui"]
[310008842,"CNOP",310008842,2022,44,"oui"]
[310008891,"CNOP",310008891,2022,44,"oui"]
[310008990,"CNOP",310008990,2022,44,"oui"]
[310009311,"CNOP",310009311,2022,44,"non"]
[310009360,"CNOP",310009360,2022,44,"oui"]
[310009394,"CNOP",310009394,2022,44,"oui"]
[310009527,"CNOP",310009527,2022,44,"oui"]
[310009576,"CNOP",310009576,2022,44,"non"]
[310009675,"CNOP",310009675,2022,44,"oui"]
[310009691,"CNOP",310009691,2022,44,"oui"]
[310009840,"CNOP",310009840,2022,44,"oui"]
[310009881,"CNOP",310009881,2022,44,"oui"]
[310009931,"CNOP",310009931,2022,44,"oui"]
[310009964,"CNOP",310009964,2022,44,"oui"]
[310010012,"CNOP",310010012,2022,44,"oui"]
[310010046,"CNOP",310010046,2022,44,"oui"]
[310010061,"CNOP",310010061,2022,44,"oui"]
[310010111,"CNOP",310010111,2022,44,"oui"]
[310010277,"CNOP",310010277,2022,44,"oui"]
[310010376,"CNOP",310010376,2022,44,"oui"]
[310010392,"CNOP",310010392,2022,44,"oui"]
[310010525,"CNOP",310010525,2022,44,"oui"]
[310010541,"CNOP",310010541,2022,44,"oui"]
[310010624,"CNOP",310010624,2022,44,"oui"]
[310010764,"CNOP",310010764,2022,44,"oui"]
[310010814,"CNOP",310010814,2022,44,"oui"]
[310010863,"CNOP",310010863,2022,44,"oui"]
[310010947,"CNOP",310010947,2022,44,"oui"]
[310011010,"CNOP",310011010,2022,44,"oui"]
[310011044,"CNOP",310011044,2022,44,"oui"]
[310011374,"CNOP",310011374,2022,44,"oui"]
[310011424,"CNOP",310011424,2022,44,"oui"]
[310011440,"CNOP",310011440,2022,44,"oui"]
[310011697,"CNOP",310011697,2022,44,"oui"]
[310011812,"CNOP",310011812,2022,44,"oui"]
[310011911,"CNOP",310011911,2022,44,"oui"]
[310011994,"CNOP",310011994,2022,44,"oui"]
[310012190,"CNOP",310012190,2022,44,"oui"]
[310012265,"CNOP",310012265,2022,44,"oui"]
[310012463,"CNOP",310012463,2022,44,"oui"]
[310012661,"CNOP",310012661,2022,44,"oui"]
[310012943,"CNOP",310012943,2022,44,"oui"]
[310012976,"CNOP",310012976,2022,44,"oui"]
[310013065,"CNOP",310013065,2022,44,"oui"]
[310013115,"CNOP",310013115,2022,44,"oui"]
[310013131,"CNOP",310013131,2022,44,"oui"]
[310013164,"CNOP",310013164,2022,44,"oui"]
[310013313,"CNOP",310013313,2022,44,"oui"]
[310013412,"CNOP",310013412,2022,44,"oui"]
[310013545,"CNOP",310013545,2022,44,"oui"]
[310013560,"CNOP",310013560,2022,44,"non"]
[310013594,"CNOP",310013594,2022,44,"oui"]
[310013925,"CNOP",310013925,2022,44,"oui"]
[310013941,"CNOP",310013941,2022,44,"oui"]
[310013974,"CNOP",310013974,2022,44,"oui"]
[310014030,"CNOP",310014030,2022,44,"oui"]
[310014097,"CNOP",310014097,2022,44,"oui"]
[310014113,"CNOP",310014113,2022,44,"oui"]
[310014246,"CNOP",310014246,2022,44,"oui"]
[310014360,"CNOP",310014360,2022,44,"oui"]
[310014394,"CNOP",310014394,2022,44,"oui"]
[310014543,"CNOP",310014543,2022,44,"oui"]
[310014626,"CNOP",310014626,2022,44,"oui"]
[310014642,"CNOP",310014642,2022,44,"oui"]
[310014675,"CNOP",310014675,2022,44,"oui"]
[310014774,"CNOP",310014774,2022,44,"oui"]
[310014840,"CNOP",310014840,2022,44,"oui"]
[310014964,"CNOP",310014964,2022,44,"oui"]
[310015060,"CNOP",310015060,2022,44,"oui"]
[310015144,"CNOP",310015144,2022,44,"oui"]
[310015177,"CNOP",310015177,2022,44,"oui"]
[310015441,"CNOP",310015441,2022,44,"oui"]
[310015615,"CNOP",310015615,2022,44,"oui"]
[310015664,"CNOP",310015664,2022,44,"oui"]
[310015680,"CNOP",310015680,2022,44,"oui"]
[310015797,"CNOP",310015797,2022,44,"oui"]
[310016027,"CNOP",310016027,2022,44,"oui"]
[310016076,"CNOP",310016076,2022,44,"oui"]
[310016092,"CNOP",310016092,2022,44,"oui"]
[310016175,"CNOP",310016175,2022,44,"oui"]
[310016290,"CNOP",310016290,2022,44,"oui"]
[310016340,"CNOP",310016340,2022,44,"oui"]
[310016464,"CNOP",310016464,2022,44,"oui"]
[310016514,"CNOP",310016514,2022,44,"oui"]
[310016530,"CNOP",310016530,2022,44,"oui"]
[310016563,"CNOP",310016563,2022,44,"oui"]
[310016936,"CNOP",310016936,2022,44,"oui"]
[310016993,"CNOP",310016993,2022,44,"oui"]
[310018023,"CNOP",310018023,2022,44,"oui"]
[310018536,"CNOP",310018536,2022,44,"oui"]
[310018924,"CNOP",310018924,2022,44,"oui"]
[310020094,"CNOP",310020094,2022,44,"oui"]
[320001233,"CNOP",320001233,2022,44,"oui"]
[320001282,"CNOP",320001282,2022,44,"oui"]
[320001332,"CNOP",320001332,2022,44,"oui"]
[320001357,"CNOP",320001357,2022,44,"oui"]
[320001373,"CNOP",320001373,2022,44,"oui"]
[320001407,"CNOP",320001407,2022,44,"oui"]
[320001704,"CNOP",320001704,2022,44,"oui"]
[320001803,"CNOP",320001803,2022,44,"oui"]
[320001837,"CNOP",320001837,2022,44,"oui"]
[320001852,"CNOP",320001852,2022,44,"oui"]
[320001951,"CNOP",320001951,2022,44,"oui"]
[320002223,"CNOP",320002223,2022,44,"oui"]
[320002322,"CNOP",320002322,2022,44,"oui"]
[320002421,"CNOP",320002421,2022,44,"oui"]
[320002454,"CNOP",320002454,2022,44,"oui"]
[320002637,"CNOP",320002637,2022,44,"oui"]
[320002652,"CNOP",320002652,2022,44,"oui"]
[320002702,"CNOP",320002702,2022,44,"oui"]
[320002835,"CNOP",320002835,2022,44,"oui"]
[320002884,"CNOP",320002884,2022,44,"oui"]
[320002934,"CNOP",320002934,2022,44,"oui"]
[320003791,"CNOP",320003791,2022,44,"oui"]
[330038746,"CNOP",330038746,2022,44,"oui"]
[330038977,"CNOP",330038977,2022,44,"oui"]
[330039041,"CNOP",330039041,2022,44,"oui"]
[330039215,"CNOP",330039215,2022,44,"oui"]
[330039280,"CNOP",330039280,2022,44,"oui"]
[330039330,"CNOP",330039330,2022,44,"oui"]
[330039462,"CNOP",330039462,2022,44,"oui"]
[330039595,"CNOP",330039595,2022,44,"oui"]
[330039660,"CNOP",330039660,2022,44,"oui"]
[330039694,"CNOP",330039694,2022,44,"oui"]
[330040130,"CNOP",330040130,2022,44,"oui"]
[330040312,"CNOP",330040312,2022,44,"oui"]
[330040346,"CNOP",330040346,2022,44,"oui"]
[330040593,"CNOP",330040593,2022,44,"oui"]
[330040742,"CNOP",330040742,2022,44,"oui"]
[330040791,"CNOP",330040791,2022,44,"oui"]
[330040841,"CNOP",330040841,2022,44,"oui"]
[330040890,"CNOP",330040890,2022,44,"oui"]
[330041112,"CNOP",330041112,2022,44,"oui"]
[330041161,"CNOP",330041161,2022,44,"oui"]
[330041245,"CNOP",330041245,2022,44,"oui"]
[330041393,"CNOP",330041393,2022,44,"oui"]
[330041641,"CNOP",330041641,2022,44,"oui"]
[330041674,"CNOP",330041674,2022,44,"oui"]
[330041690,"CNOP",330041690,2022,44,"oui"]
[330042060,"CNOP",330042060,2022,44,"oui"]
[330042094,"CNOP",330042094,2022,44,"oui"]
[330042292,"CNOP",330042292,2022,44,"oui"]
[330042425,"CNOP",330042425,2022,44,"oui"]
[330042680,"CNOP",330042680,2022,44,"oui"]
[330042847,"CNOP",330042847,2022,44,"oui"]
[330042912,"CNOP",330042912,2022,44,"oui"]
[330043027,"CNOP",330043027,2022,44,"oui"]
[330043225,"CNOP",330043225,2022,44,"oui"]
[330043324,"CNOP",330043324,2022,44,"oui"]
[330043381,"CNOP",330043381,2022,44,"oui"]
[330043464,"CNOP",330043464,2022,44,"oui"]
[330043563,"CNOP",330043563,2022,44,"oui"]
[330043597,"CNOP",330043597,2022,44,"oui"]
[330043811,"CNOP",330043811,2022,44,"oui"]
[330044397,"CNOP",330044397,2022,44,"oui"]
[330044660,"CNOP",330044660,2022,44,"oui"]
[330044793,"CNOP",330044793,2022,44,"oui"]
[330044827,"CNOP",330044827,2022,44,"oui"]
[330044975,"CNOP",330044975,2022,44,"oui"]
[330044991,"CNOP",330044991,2022,44,"oui"]
[330045063,"CNOP",330045063,2022,44,"oui"]
[330045097,"CNOP",330045097,2022,44,"oui"]
[330045113,"CNOP",330045113,2022,44,"oui"]
[330045196,"CNOP",330045196,2022,44,"oui"]
[330045212,"CNOP",330045212,2022,44,"oui"]
[330045394,"CNOP",330045394,2022,44,"oui"]
[330045493,"CNOP",330045493,2022,44,"oui"]
[330045725,"CNOP",330045725,2022,44,"oui"]
[330046111,"CNOP",330046111,2022,44,"oui"]
[330046145,"CNOP",330046145,2022,44,"oui"]
[330046210,"CNOP",330046210,2022,44,"oui"]
[330046376,"CNOP",330046376,2022,44,"oui"]
[330046525,"CNOP",330046525,2022,44,"oui"]
[330046665,"CNOP",330046665,2022,44,"oui"]
[330046830,"CNOP",330046830,2022,44,"oui"]
[330047093,"CNOP",330047093,2022,44,"oui"]
[330047176,"CNOP",330047176,2022,44,"oui"]
[330047614,"CNOP",330047614,2022,44,"oui"]
[330047713,"CNOP",330047713,2022,44,"oui"]
[330047945,"CNOP",330047945,2022,44,"oui"]
[330048042,"CNOP",330048042,2022,44,"oui"]
[330048265,"CNOP",330048265,2022,44,"oui"]
[330048547,"CNOP",330048547,2022,44,"oui"]
[330048646,"CNOP",330048646,2022,44,"oui"]
[330048893,"CNOP",330048893,2022,44,"oui"]
[330048943,"CNOP",330048943,2022,44,"oui"]
[330048976,"CNOP",330048976,2022,44,"oui"]
[330049347,"CNOP",330049347,2022,44,"oui"]
[330049396,"CNOP",330049396,2022,44,"oui"]
[330049644,"CNOP",330049644,2022,44,"oui"]
[330049776,"CNOP",330049776,2022,44,"non"]
[330049941,"CNOP",330049941,2022,44,"oui"]
[330049974,"CNOP",330049974,2022,44,"oui"]
[330050097,"CNOP",330050097,2022,44,"oui"]
[330050360,"CNOP",330050360,2022,44,"oui"]
[330051061,"CNOP",330051061,2022,44,"oui"]
[330051145,"CNOP",330051145,2022,44,"oui"]
[330051210,"CNOP",330051210,2022,44,"oui"]
[330051327,"CNOP",330051327,2022,44,"oui"]
[330051640,"CNOP",330051640,2022,44,"non"]
[330051780,"CNOP",330051780,2022,44,"oui"]
[330051830,"CNOP",330051830,2022,44,"oui"]
[330052044,"CNOP",330052044,2022,44,"oui"]
[330052143,"CNOP",330052143,2022,44,"oui"]
[330052192,"CNOP",330052192,2022,44,"oui"]
[330052275,"CNOP",330052275,2022,44,"non"]
[330052531,"CNOP",330052531,2022,44,"oui"]
[330052614,"CNOP",330052614,2022,44,"non"]
[330052747,"CNOP",330052747,2022,44,"oui"]
[330052796,"CNOP",330052796,2022,44,"oui"]
[330052911,"CNOP",330052911,2022,44,"oui"]
[330052945,"CNOP",330052945,2022,44,"oui"]
[330053141,"CNOP",330053141,2022,44,"oui"]
[330053315,"CNOP",330053315,2022,44,"oui"]
[330056656,"CNOP",330056656,2022,44,"oui"]
[340014737,"CNOP",340014737,2022,44,"oui"]
[340792456,"CNOP",340792456,2022,44,"oui"]
[340792522,"CNOP",340792522,2022,44,"oui"]
[340792688,"CNOP",340792688,2022,44,"oui"]
[340792886,"CNOP",340792886,2022,44,"oui"]
[340792894,"CNOP",340792894,2022,44,"oui"]
[340793009,"CNOP",340793009,2022,44,"non"]
[340793124,"CNOP",340793124,2022,44,"oui"]
[340793173,"CNOP",340793173,2022,44,"oui"]
[340793280,"CNOP",340793280,2022,44,"oui"]
[340793421,"CNOP",340793421,2022,44,"oui"]
[340793462,"CNOP",340793462,2022,44,"oui"]
[340793546,"CNOP",340793546,2022,44,"oui"]
[340793579,"CNOP",340793579,2022,44,"oui"]
[340793777,"CNOP",340793777,2022,44,"oui"]
[340793926,"CNOP",340793926,2022,44,"oui"]
[340793991,"CNOP",340793991,2022,44,"oui"]
[340794056,"CNOP",340794056,2022,44,"oui"]
[340794171,"CNOP",340794171,2022,44,"oui"]
[340794262,"CNOP",340794262,2022,44,"oui"]
[340794494,"CNOP",340794494,2022,44,"oui"]
[340794684,"CNOP",340794684,2022,44,"oui"]
[340794916,"CNOP",340794916,2022,44,"oui"]
[340795103,"CNOP",340795103,2022,44,"oui"]
[340795137,"CNOP",340795137,2022,44,"oui"]
[340795152,"CNOP",340795152,2022,44,"oui"]
[340795160,"CNOP",340795160,2022,44,"oui"]
[340795327,"CNOP",340795327,2022,44,"oui"]
[340795384,"CNOP",340795384,2022,44,"oui"]
[340795574,"CNOP",340795574,2022,44,"oui"]
[340795608,"CNOP",340795608,2022,44,"oui"]
[340795624,"CNOP",340795624,2022,44,"oui"]
[340795814,"CNOP",340795814,2022,44,"oui"]
[350018891,"CNOP",350018891,2022,44,"oui"]
[350018990,"CNOP",350018990,2022,44,"oui"]
[350019055,"CNOP",350019055,2022,44,"oui"]
[350019121,"CNOP",350019121,2022,44,"oui"]
[350019147,"CNOP",350019147,2022,44,"oui"]
[350019238,"CNOP",350019238,2022,44,"oui"]
[350019279,"CNOP",350019279,2022,44,"oui"]
[350019287,"CNOP",350019287,2022,44,"oui"]
[350019345,"CNOP",350019345,2022,44,"oui"]
[350019410,"CNOP",350019410,2022,44,"oui"]
[350019444,"CNOP",350019444,2022,44,"oui"]
[350019477,"CNOP",350019477,2022,44,"oui"]
[350019501,"CNOP",350019501,2022,44,"oui"]
[350019527,"CNOP",350019527,2022,44,"oui"]
[350019543,"CNOP",350019543,2022,44,"oui"]
[350019626,"CNOP",350019626,2022,44,"oui"]
[350019659,"CNOP",350019659,2022,44,"oui"]
[350019667,"CNOP",350019667,2022,44,"oui"]
[350019675,"CNOP",350019675,2022,44,"oui"]
[350019691,"CNOP",350019691,2022,44,"non"]
[350019725,"CNOP",350019725,2022,44,"oui"]
[350019741,"CNOP",350019741,2022,44,"oui"]
[350019816,"CNOP",350019816,2022,44,"oui"]
[350019824,"CNOP",350019824,2022,44,"oui"]
[350019873,"CNOP",350019873,2022,44,"oui"]
[350019881,"CNOP",350019881,2022,44,"oui"]
[350019907,"CNOP",350019907,2022,44,"oui"]
[350019949,"CNOP",350019949,2022,44,"oui"]
[350019980,"CNOP",350019980,2022,44,"oui"]
[350020012,"CNOP",350020012,2022,44,"oui"]
[350020038,"CNOP",350020038,2022,44,"oui"]
[350020079,"CNOP",350020079,2022,44,"oui"]
[350020145,"CNOP",350020145,2022,44,"oui"]
[350020178,"CNOP",350020178,2022,44,"oui"]
[350020236,"CNOP",350020236,2022,44,"oui"]
[350020244,"CNOP",350020244,2022,44,"oui"]
[350020277,"CNOP",350020277,2022,44,"oui"]
[350020319,"CNOP",350020319,2022,44,"oui"]
[350020376,"CNOP",350020376,2022,44,"oui"]
[350020418,"CNOP",350020418,2022,44,"oui"]
[350020459,"CNOP",350020459,2022,44,"oui"]
[350020475,"CNOP",350020475,2022,44,"oui"]
[350020483,"CNOP",350020483,2022,44,"oui"]
[350020558,"CNOP",350020558,2022,44,"oui"]
[350020566,"CNOP",350020566,2022,44,"oui"]
[350020616,"CNOP",350020616,2022,44,"oui"]
[350020632,"CNOP",350020632,2022,44,"oui"]
[350020640,"CNOP",350020640,2022,44,"oui"]
[350020814,"CNOP",350020814,2022,44,"oui"]
[350020855,"CNOP",350020855,2022,44,"non"]
[350020905,"CNOP",350020905,2022,44,"non"]
[350020913,"CNOP",350020913,2022,44,"oui"]
[350020954,"CNOP",350020954,2022,44,"oui"]
[350020996,"CNOP",350020996,2022,44,"oui"]
[350021028,"CNOP",350021028,2022,44,"oui"]
[350021101,"CNOP",350021101,2022,44,"oui"]
[350021127,"CNOP",350021127,2022,44,"oui"]
[350021200,"CNOP",350021200,2022,44,"oui"]
[350021283,"CNOP",350021283,2022,44,"oui"]
[350021291,"CNOP",350021291,2022,44,"oui"]
[350021341,"CNOP",350021341,2022,44,"oui"]
[350021390,"CNOP",350021390,2022,44,"oui"]
[350021416,"CNOP",350021416,2022,44,"oui"]
[350021424,"CNOP",350021424,2022,44,"oui"]
[350021432,"CNOP",350021432,2022,44,"oui"]
[350021515,"CNOP",350021515,2022,44,"oui"]
[350021572,"CNOP",350021572,2022,44,"oui"]
[350021606,"CNOP",350021606,2022,44,"oui"]
[350021622,"CNOP",350021622,2022,44,"oui"]
[350021630,"CNOP",350021630,2022,44,"oui"]
[350021663,"CNOP",350021663,2022,44,"oui"]
[350021689,"CNOP",350021689,2022,44,"oui"]
[350021762,"CNOP",350021762,2022,44,"oui"]
[350021796,"CNOP",350021796,2022,44,"oui"]
[350021812,"CNOP",350021812,2022,44,"non"]
[350021911,"CNOP",350021911,2022,44,"oui"]
[350021929,"CNOP",350021929,2022,44,"oui"]
[350021945,"CNOP",350021945,2022,44,"oui"]
[350021952,"CNOP",350021952,2022,44,"oui"]
[350022026,"CNOP",350022026,2022,44,"oui"]
[350026498,"CNOP",350026498,2022,44,"oui"]
[360001051,"CNOP",360001051,2022,44,"oui"]
[360001366,"CNOP",360001366,2022,44,"oui"]
[360001804,"CNOP",360001804,2022,44,"oui"]
[360001903,"CNOP",360001903,2022,44,"oui"]
[360001952,"CNOP",360001952,2022,44,"oui"]
[360002240,"CNOP",360002240,2022,44,"oui"]
[360002265,"CNOP",360002265,2022,44,"oui"]
[360002331,"CNOP",360002331,2022,44,"oui"]
[360002364,"CNOP",360002364,2022,44,"oui"]
[360002380,"CNOP",360002380,2022,44,"oui"]
[360002414,"CNOP",360002414,2022,44,"oui"]
[360002430,"CNOP",360002430,2022,44,"oui"]
[360002463,"CNOP",360002463,2022,44,"oui"]
[360002497,"CNOP",360002497,2022,44,"oui"]
[360002513,"CNOP",360002513,2022,44,"oui"]
[360002547,"CNOP",360002547,2022,44,"oui"]
[360002612,"CNOP",360002612,2022,44,"oui"]
[360002711,"CNOP",360002711,2022,44,"oui"]
[360002745,"CNOP",360002745,2022,44,"oui"]
[360002760,"CNOP",360002760,2022,44,"oui"]
[360002794,"CNOP",360002794,2022,44,"oui"]
[360002810,"CNOP",360002810,2022,44,"oui"]
[360002877,"CNOP",360002877,2022,44,"oui"]
[360002893,"CNOP",360002893,2022,44,"oui"]
[360002943,"CNOP",360002943,2022,44,"oui"]
[360003065,"CNOP",360003065,2022,44,"oui"]
[360003081,"CNOP",360003081,2022,44,"oui"]
[360003164,"CNOP",360003164,2022,44,"oui"]
[360003230,"CNOP",360003230,2022,44,"oui"]
[360003586,"CNOP",360003586,2022,44,"oui"]
[360003602,"CNOP",360003602,2022,44,"oui"]
[360003701,"CNOP",360003701,2022,44,"oui"]
[360003776,"CNOP",360003776,2022,44,"oui"]
[360003826,"CNOP",360003826,2022,44,"oui"]
[360003842,"CNOP",360003842,2022,44,"oui"]
[360003875,"CNOP",360003875,2022,44,"oui"]
[370002438,"CNOP",370002438,2022,44,"oui"]
[370002677,"CNOP",370002677,2022,44,"oui"]
[370002966,"CNOP",370002966,2022,44,"oui"]
[370003006,"CNOP",370003006,2022,44,"oui"]
[370003105,"CNOP",370003105,2022,44,"oui"]
[370003121,"CNOP",370003121,2022,44,"oui"]
[370003204,"CNOP",370003204,2022,44,"oui"]
[370003303,"CNOP",370003303,2022,44,"oui"]
[370003337,"CNOP",370003337,2022,44,"oui"]
[370003386,"CNOP",370003386,2022,44,"oui"]
[370003436,"CNOP",370003436,2022,44,"oui"]
[370003485,"CNOP",370003485,2022,44,"oui"]
[370003535,"CNOP",370003535,2022,44,"oui"]
[370003667,"CNOP",370003667,2022,44,"oui"]
[370003683,"CNOP",370003683,2022,44,"oui"]
[370003717,"CNOP",370003717,2022,44,"oui"]
[370003766,"CNOP",370003766,2022,44,"oui"]
[370003816,"CNOP",370003816,2022,44,"oui"]
[370003832,"CNOP",370003832,2022,44,"oui"]
[370003923,"CNOP",370003923,2022,44,"oui"]
[370005332,"CNOP",370005332,2022,44,"oui"]
[370005464,"CNOP",370005464,2022,44,"oui"]
[370005670,"CNOP",370005670,2022,44,"oui"]
[370005845,"CNOP",370005845,2022,44,"oui"]
[370005860,"CNOP",370005860,2022,44,"oui"]
[370005894,"CNOP",370005894,2022,44,"oui"]
[370005910,"CNOP",370005910,2022,44,"oui"]
[370006041,"CNOP",370006041,2022,44,"oui"]
[370006074,"CNOP",370006074,2022,44,"oui"]
[370006090,"CNOP",370006090,2022,44,"oui"]
[370006140,"CNOP",370006140,2022,44,"oui"]
[370006231,"CNOP",370006231,2022,44,"oui"]
[370006330,"CNOP",370006330,2022,44,"oui"]
[370006413,"CNOP",370006413,2022,44,"oui"]
[370006447,"CNOP",370006447,2022,44,"oui"]
[370006496,"CNOP",370006496,2022,44,"oui"]
[370006512,"CNOP",370006512,2022,44,"oui"]
[370006595,"CNOP",370006595,2022,44,"oui"]
[370006660,"CNOP",370006660,2022,44,"oui"]
[370006926,"CNOP",370006926,2022,44,"oui"]
[370006942,"CNOP",370006942,2022,44,"oui"]
[370006991,"CNOP",370006991,2022,44,"oui"]
[370007031,"CNOP",370007031,2022,44,"oui"]
[370007080,"CNOP",370007080,2022,44,"oui"]
[370007163,"CNOP",370007163,2022,44,"oui"]
[370007312,"CNOP",370007312,2022,44,"oui"]
[370007460,"CNOP",370007460,2022,44,"oui"]
[370007494,"CNOP",370007494,2022,44,"oui"]
[370007577,"CNOP",370007577,2022,44,"oui"]
[370007627,"CNOP",370007627,2022,44,"oui"]
[370007643,"CNOP",370007643,2022,44,"oui"]
[370007742,"CNOP",370007742,2022,44,"oui"]
[370007791,"CNOP",370007791,2022,44,"oui"]
[370007825,"CNOP",370007825,2022,44,"oui"]
[370007841,"CNOP",370007841,2022,44,"oui"]
[370007874,"CNOP",370007874,2022,44,"non"]
[370007924,"CNOP",370007924,2022,44,"oui"]
[370008013,"CNOP",370008013,2022,44,"oui"]
[370008047,"CNOP",370008047,2022,44,"oui"]
[370008062,"CNOP",370008062,2022,44,"oui"]
[370008096,"CNOP",370008096,2022,44,"oui"]
[370008161,"CNOP",370008161,2022,44,"oui"]
[370008294,"CNOP",370008294,2022,44,"oui"]
[370008377,"CNOP",370008377,2022,44,"oui"]
[370008476,"CNOP",370008476,2022,44,"oui"]
[370008575,"CNOP",370008575,2022,44,"oui"]
[370008781,"CNOP",370008781,2022,44,"oui"]
[370008864,"CNOP",370008864,2022,44,"oui"]
[370008963,"CNOP",370008963,2022,44,"oui"]
[370008997,"CNOP",370008997,2022,44,"oui"]
[370009011,"CNOP",370009011,2022,44,"oui"]
[370009060,"CNOP",370009060,2022,44,"oui"]
[370009227,"CNOP",370009227,2022,44,"oui"]
[370009243,"CNOP",370009243,2022,44,"oui"]
[370009276,"CNOP",370009276,2022,44,"oui"]
[370009441,"CNOP",370009441,2022,44,"oui"]
[380003053,"CNOP",380003053,2022,44,"oui"]
[380003137,"CNOP",380003137,2022,44,"oui"]
[380003152,"CNOP",380003152,2022,44,"oui"]
[380003251,"CNOP",380003251,2022,44,"oui"]
[380003301,"CNOP",380003301,2022,44,"oui"]
[380003335,"CNOP",380003335,2022,44,"oui"]
[380003350,"CNOP",380003350,2022,44,"oui"]
[380003384,"CNOP",380003384,2022,44,"oui"]
[380003400,"CNOP",380003400,2022,44,"oui"]
[380003434,"CNOP",380003434,2022,44,"oui"]
[380003467,"CNOP",380003467,2022,44,"oui"]
[380003566,"CNOP",380003566,2022,44,"oui"]
[380003582,"CNOP",380003582,2022,44,"oui"]
[380003707,"CNOP",380003707,2022,44,"oui"]
[380003756,"CNOP",380003756,2022,44,"oui"]
[380003806,"CNOP",380003806,2022,44,"oui"]
[380003855,"CNOP",380003855,2022,44,"oui"]
[380003921,"CNOP",380003921,2022,44,"oui"]
[380004036,"CNOP",380004036,2022,44,"oui"]
[380004135,"CNOP",380004135,2022,44,"oui"]
[380004184,"CNOP",380004184,2022,44,"oui"]
[380004200,"CNOP",380004200,2022,44,"oui"]
[380004267,"CNOP",380004267,2022,44,"oui"]
[380004317,"CNOP",380004317,2022,44,"oui"]
[380004333,"CNOP",380004333,2022,44,"oui"]
[380004366,"CNOP",380004366,2022,44,"oui"]
[380004382,"CNOP",380004382,2022,44,"oui"]
[380004432,"CNOP",380004432,2022,44,"oui"]
[380004556,"CNOP",380004556,2022,44,"oui"]
[380004655,"CNOP",380004655,2022,44,"oui"]
[380004820,"CNOP",380004820,2022,44,"oui"]
[380004887,"CNOP",380004887,2022,44,"oui"]
[380004986,"CNOP",380004986,2022,44,"oui"]
[380005017,"CNOP",380005017,2022,44,"oui"]
[380005082,"CNOP",380005082,2022,44,"oui"]
[380005207,"CNOP",380005207,2022,44,"oui"]
[380005306,"CNOP",380005306,2022,44,"oui"]
[380005421,"CNOP",380005421,2022,44,"oui"]
[380005470,"CNOP",380005470,2022,44,"oui"]
[380005553,"CNOP",380005553,2022,44,"oui"]
[380005637,"CNOP",380005637,2022,44,"oui"]
[380005702,"CNOP",380005702,2022,44,"oui"]
[380005736,"CNOP",380005736,2022,44,"oui"]
[380005835,"CNOP",380005835,2022,44,"oui"]
[380006072,"CNOP",380006072,2022,44,"oui"]
[380006122,"CNOP",380006122,2022,44,"non"]
[380006403,"CNOP",380006403,2022,44,"oui"]
[380006486,"CNOP",380006486,2022,44,"oui"]
[380006551,"CNOP",380006551,2022,44,"oui"]
[380007120,"CNOP",380007120,2022,44,"oui"]
[380007187,"CNOP",380007187,2022,44,"oui"]
[380009266,"CNOP",380009266,2022,44,"oui"]
[390002962,"CNOP",390002962,2022,44,"oui"]
[400009452,"CNOP",400009452,2022,44,"oui"]
[410006985,"CNOP",410006985,2022,44,"oui"]
[430002501,"CNOP",430002501,2022,44,"oui"]
[440015006,"CNOP",440015006,2022,44,"oui"]
[440017408,"CNOP",440017408,2022,44,"oui"]
[450006473,"CNOP",450006473,2022,44,"oui"]
[460002678,"CNOP",460002678,2022,44,"oui"]
[480782846,"CNOP",480782846,2022,44,"oui"]
[490532579,"CNOP",490532579,2022,44,"oui"]
[500010780,"CNOP",500010780,2022,44,"oui"]
[500012836,"CNOP",500012836,2022,44,"oui"]
[510021074,"CNOP",510021074,2022,44,"oui"]
[520002320,"CNOP",520002320,2022,44,"oui"]
[540015104,"CNOP",540015104,2022,44,"oui"]
[550001655,"CNOP",550001655,2022,44,"oui"]
[560018665,"CNOP",560018665,2022,44,"oui"]
[570018481,"CNOP",570018481,2022,44,"oui"]
[590009106,"CNOP",590009106,2022,44,"oui"]
[590011557,"CNOP",590011557,2022,44,"oui"]
[590013785,"CNOP",590013785,2022,44,"oui"]
[590021200,"CNOP",590021200,2022,44,"oui"]
[590025334,"CNOP",590025334,2022,44,"oui"]
[590029906,"CNOP",590029906,2022,44,"oui"]
[590030722,"CNOP",590030722,2022,44,"oui"]
[600006704,"CNOP",600006704,2022,44,"oui"]
[610786253,"CNOP",610786253,2022,44,"oui"]
[620004994,"CNOP",620004994,2022,44,"oui"]
[620010827,"CNOP",620010827,2022,44,"oui"]
[620012740,"CNOP",620012740,2022,44,"oui"]
[620016113,"CNOP",620016113,2022,44,"oui"]
[620017525,"CNOP",620017525,2022,44,"oui"]
[630006302,"CNOP",630006302,2022,44,"oui"]
[640009874,"CNOP",640009874,2022,44,"oui"]
[650001019,"CNOP",650001019,2022,44,"oui"]
[660787961,"CNOP",660787961,2022,44,"oui"]
[670010073,"CNOP",670010073,2022,44,"oui"]
[680007481,"CNOP",680007481,2022,44,"oui"]
[680009545,"CNOP",680009545,2022,44,"oui"]
[690009071,"CNOP",690009071,2022,44,"oui"]
[690018957,"CNOP",690018957,2022,44,"oui"]
[700001290,"CNOP",700001290,2022,44,"oui"]
[700003247,"CNOP",700003247,2022,44,"oui"]
[710005042,"CNOP",710005042,2022,44,"oui"]
[720010677,"CNOP",720010677,2022,44,"oui"]
[730005873,"CNOP",730005873,2022,44,"oui"]
[740003413,"CNOP",740003413,2022,44,"oui"]
[750015315,"CNOP",750015315,2022,44,"oui"]
[750016511,"CNOP",750016511,2022,44,"oui"]
[750028516,"CNOP",750028516,2022,44,"oui"]
[750035602,"CNOP",750035602,2022,44,"oui"]
[760020073,"CNOP",760020073,2022,44,"oui"]
[770003747,"CNOP",770003747,2022,44,"oui"]
[770008043,"CNOP",770008043,2022,44,"oui"]
[780005146,"CNOP",780005146,2022,44,"oui"]
[780010864,"CNOP",780010864,2022,44,"oui"]
[780015574,"CNOP",780015574,2022,44,"oui"]
[790013528,"CNOP",790013528,2022,44,"oui"]
[800010795,"CNOP",800010795,2022,44,"oui"]
[820005866,"CNOP",820005866,2022,44,"oui"]
[830007662,"CNOP",830007662,2022,44,"oui"]
[840009146,"CNOP",840009146,2022,44,"oui"]
[860786508,"CNOP",860786508,2022,44,"oui"]
[860787118,"CNOP",860787118,2022,44,"oui"]
[880002985,"CNOP",880002985,2022,44,"non"]
[890003882,"CNOP",890003882,2022,44,"oui"]
[910011196,"CNOP",910011196,2022,44,"oui"]
[920011277,"CNOP",920011277,2022,44,"oui"]
[920016060,"CNOP",920016060,2022,44,"oui"]
[930013966,"CNOP",930013966,2022,44,"oui"]
[940010580,"CNOP",940010580,2022,44,"oui"]
[940014590,"CNOP",940014590,2022,44,"oui"]
[950010611,"CNOP",950010611,2022,44,"oui"]
[970464137,"CNOP",970464137,2022,44,"oui"]
[720000041,"HOSPDIRECTFR",720000041,2022,44,"oui"]
[10005601,"PHARMDIRECTFR",10005601,2022,44,"oui"]
[20010625,"PHARMDIRECTFR",20010625,2022,44,"oui"]
[60014313,"PHARMDIRECTFR",60014313,2022,44,"non"]
[60015815,"PHARMDIRECTFR",60015815,2022,44,"oui"]
[90002056,"PHARMDIRECTFR",90002056,2022,44,"oui"]
[120001607,"PHARMDIRECTFR",120001607,2022,44,"oui"]
[130026602,"PHARMDIRECTFR",130026602,2022,44,"oui"]
[130030083,"PHARMDIRECTFR",130030083,2022,44,"oui"]
[130032816,"PHARMDIRECTFR",130032816,2022,44,"oui"]
[150001220,"PHARMDIRECTFR",150001220,2022,44,"oui"]
[170012231,"PHARMDIRECTFR",170012231,2022,44,"oui"]
[170015754,"PHARMDIRECTFR",170015754,2022,44,"oui"]
[210005500,"PHARMDIRECTFR",210005500,2022,44,"oui"]
[210007472,"PHARMDIRECTFR",210007472,2022,44,"oui"]
[240013037,"PHARMDIRECTFR",240013037,2022,44,"oui"]
[260003710,"PHARMDIRECTFR",260003710,2022,44,"oui"]
[260012232,"PHARMDIRECTFR",260012232,2022,44,"oui"]
[290011436,"PHARMDIRECTFR",290011436,2022,44,"oui"]
[290013580,"PHARMDIRECTFR",290013580,2022,44,"oui"]
[300005980,"PHARMDIRECTFR",300005980,2022,44,"oui"]
[300007143,"PHARMDIRECTFR",300007143,2022,44,"oui"]
[310012026,"PHARMDIRECTFR",310012026,2022,44,"oui"]
[310020615,"PHARMDIRECTFR",310020615,2022,44,"oui"]
[330040015,"PHARMDIRECTFR",330040015,2022,44,"oui"]
[330047127,"PHARMDIRECTFR",330047127,2022,44,"oui"]
[330048927,"PHARMDIRECTFR",330048927,2022,44,"oui"]
[330053174,"PHARMDIRECTFR",330053174,2022,44,"oui"]
[340792340,"PHARMDIRECTFR",340792340,2022,44,"oui"]
[340794346,"PHARMDIRECTFR",340794346,2022,44,"oui"]
[350019915,"PHARMDIRECTFR",350019915,2022,44,"oui"]
[350021804,"PHARMDIRECTFR",350021804,2022,44,"oui"]
[370003402,"PHARMDIRECTFR",370003402,2022,44,"oui"]
[380008557,"PHARMDIRECTFR",380008557,2022,44,"oui"]
[390002574,"PHARMDIRECTFR",390002574,2022,44,"oui"]
[400009957,"PHARMDIRECTFR",400009957,2022,44,"oui"]
[400010252,"PHARMDIRECTFR",400010252,2022,44,"oui"]
[440014447,"PHARMDIRECTFR",440014447,2022,44,"oui"]
[440016350,"PHARMDIRECTFR",440016350,2022,44,"oui"]
[440024016,"PHARMDIRECTFR",440024016,2022,44,"oui"]
[450009006,"PHARMDIRECTFR",450009006,2022,44,"oui"]
[490532272,"PHARMDIRECTFR",490532272,2022,44,"oui"]
[490534690,"PHARMDIRECTFR",490534690,2022,44,"oui"]
[500011424,"PHARMDIRECTFR",500011424,2022,44,"oui"]
[520000985,"PHARMDIRECTFR",520000985,2022,44,"oui"]
[540017597,"PHARMDIRECTFR",540017597,2022,44,"oui"]
[560016040,"PHARMDIRECTFR",560016040,2022,44,"oui"]
[570016196,"PHARMDIRECTFR",570016196,2022,44,"oui"]
[590011383,"PHARMDIRECTFR",590011383,2022,44,"oui"]
[590014585,"PHARMDIRECTFR",590014585,2022,44,"oui"]
[590017372,"PHARMDIRECTFR",590017372,2022,44,"oui"]
[590028056,"PHARMDIRECTFR",590028056,2022,44,"oui"]
[600003032,"PHARMDIRECTFR",600003032,2022,44,"oui"]
[620005074,"PHARMDIRECTFR",620005074,2022,44,"oui"]
[620006791,"PHARMDIRECTFR",620006791,2022,44,"oui"]
[620013177,"PHARMDIRECTFR",620013177,2022,44,"oui"]
[640007142,"PHARMDIRECTFR",640007142,2022,44,"oui"]
[640009981,"PHARMDIRECTFR",640009981,2022,44,"oui"]
[650002751,"PHARMDIRECTFR",650002751,2022,44,"oui"]
[670008705,"PHARMDIRECTFR",670008705,2022,44,"oui"]
[680009032,"PHARMDIRECTFR",680009032,2022,44,"oui"]
[690009204,"PHARMDIRECTFR",690009204,2022,44,"oui"]
[690013651,"PHARMDIRECTFR",690013651,2022,44,"oui"]
[710004730,"PHARMDIRECTFR",710004730,2022,44,"oui"]
[720009406,"PHARMDIRECTFR",720009406,2022,44,"oui"]
[730006186,"PHARMDIRECTFR",730006186,2022,44,"oui"]
[750012486,"PHARMDIRECTFR",750012486,2022,44,"oui"]
[750025272,"PHARMDIRECTFR",750025272,2022,44,"oui"]
[760013334,"PHARMDIRECTFR",760013334,2022,44,"oui"]
[760018903,"PHARMDIRECTFR",760018903,2022,44,"oui"]
[770008225,"PHARMDIRECTFR",770008225,2022,44,"oui"]
[780007126,"PHARMDIRECTFR",780007126,2022,44,"oui"]
[780012910,"PHARMDIRECTFR",780012910,2022,44,"oui"]
[790010904,"PHARMDIRECTFR",790010904,2022,44,"oui"]
[810007021,"PHARMDIRECTFR",810007021,2022,44,"oui"]
[820001915,"PHARMDIRECTFR",820001915,2022,44,"oui"]
[830007746,"PHARMDIRECTFR",830007746,2022,44,"oui"]
[830010906,"PHARMDIRECTFR",830010906,2022,44,"oui"]
[850015397,"PHARMDIRECTFR",850015397,2022,44,"oui"]
[850016320,"PHARMDIRECTFR",850016320,2022,44,"oui"]
[860790575,"PHARMDIRECTFR",860790575,2022,44,"oui"]
[890004237,"PHARMDIRECTFR",890004237,2022,44,"oui"]
[910010164,"PHARMDIRECTFR",910010164,2022,44,"oui"]
[920008844,"PHARMDIRECTFR",920008844,2022,44,"oui"]
[930008750,"PHARMDIRECTFR",930008750,2022,44,"oui"]
[940013147,"PHARMDIRECTFR",940013147,2022,44,"oui"]
[950007757,"PHARMDIRECTFR",950007757,2022,44,"oui"]
[970106373,"PHARMDIRECTFR",970106373,2022,44,"oui"]
[970300802,"PHARMDIRECTFR",970300802,2022,44,"oui"]
[970464814,"PHARMDIRECTFR",970464814,2022,44,"oui"]
[970465068,"PHARMDIRECTFR",970465068,2022,44,"oui"]
[10002285,"CNOP",10002285,2022,43,"oui"]
[10005387,"CNOP",10005387,2022,43,"oui"]
[20010831,"CNOP",20010831,2022,43,"oui"]
[50003623,"CNOP",50003623,2022,43,"oui"]
[60011897,"CNOP",60011897,2022,43,"oui"]
[70003603,"CNOP",70003603,2022,43,"oui"]
[90001660,"CNOP",90001660,2022,43,"oui"]
[100003342,"CNOP",100003342,2022,43,"oui"]
[120002761,"CNOP",120002761,2022,43,"oui"]
[120003694,"CNOP",120003694,2022,43,"oui"]
[130025083,"CNOP",130025083,2022,43,"oui"]
[130031305,"CNOP",130031305,2022,43,"oui"]
[140009754,"CNOP",140009754,2022,43,"non"]
[160010823,"CNOP",160010823,2022,43,"oui"]
[160011458,"CNOP",160011458,2022,43,"oui"]
[170013411,"CNOP",170013411,2022,43,"oui"]
[180002610,"CNOP",180002610,2022,43,"oui"]
[210005054,"CNOP",210005054,2022,43,"oui"]
[220010441,"CNOP",220010441,2022,43,"oui"]
[220011084,"CNOP",220011084,2022,43,"non"]
[240008151,"CNOP",240008151,2022,43,"oui"]
[240012120,"CNOP",240012120,2022,43,"oui"]
[250008661,"CNOP",250008661,2022,43,"oui"]
[250012861,"CNOP",250012861,2022,43,"oui"]
[270018724,"CNOP",270018724,2022,43,"oui"]
[290010586,"CNOP",290010586,2022,43,"oui"]
[290011691,"CNOP",290011691,2022,43,"oui"]
[290013234,"CNOP",290013234,2022,43,"oui"]
[300005477,"CNOP",300005477,2022,43,"oui"]
[310007315,"CNOP",310007315,2022,43,"oui"]
[310008842,"CNOP",310008842,2022,43,"oui"]
[320001704,"CNOP",320001704,2022,43,"oui"]
[330042094,"CNOP",330042094,2022,43,"oui"]
[330049347,"CNOP",330049347,2022,43,"oui"]
[330052911,"CNOP",330052911,2022,43,"oui"]
[350019147,"CNOP",350019147,2022,43,"oui"]
[360002240,"CNOP",360002240,2022,43,"oui"]
[370003667,"CNOP",370003667,2022,43,"oui"]
[370007924,"CNOP",370007924,2022,43,"oui"]
[380005702,"CNOP",380005702,2022,43,"oui"]
[380011684,"CNOP",380011684,2022,43,"oui"]
[390002947,"CNOP",390002947,2022,43,"oui"]
[400010302,"CNOP",400010302,2022,43,"oui"]
[420007510,"CNOP",420007510,2022,43,"oui"]
[430001636,"CNOP",430001636,2022,43,"oui"]
[440014140,"CNOP",440014140,2022,43,"oui"]
[440015899,"CNOP",440015899,2022,43,"oui"]
[450004627,"CNOP",450004627,2022,43,"oui"]
[460003783,"CNOP",460003783,2022,43,"oui"]
[470003153,"CNOP",470003153,2022,43,"oui"]
[490533551,"CNOP",490533551,2022,43,"oui"]
[490536281,"CNOP",490536281,2022,43,"oui"]
[500011218,"CNOP",500011218,2022,43,"oui"]
[510018724,"CNOP",510018724,2022,43,"oui"]
[530030261,"CNOP",530030261,2022,43,"oui"]
[540013976,"CNOP",540013976,2022,43,"oui"]
[540017563,"CNOP",540017563,2022,43,"oui"]
[560016560,"CNOP",560016560,2022,43,"oui"]
[570018515,"CNOP",570018515,2022,43,"oui"]
[580001980,"CNOP",580001980,2022,43,"oui"]
[580003424,"CNOP",580003424,2022,43,"oui"]
[590011466,"CNOP",590011466,2022,43,"oui"]
[590017620,"CNOP",590017620,2022,43,"oui"]
[590020657,"CNOP",590020657,2022,43,"oui"]
[590025870,"CNOP",590025870,2022,43,"oui"]
[590030516,"CNOP",590030516,2022,43,"oui"]
[600002133,"CNOP",600002133,2022,43,"oui"]
[600005334,"CNOP",600005334,2022,43,"oui"]
[600007553,"CNOP",600007553,2022,43,"oui"]
[620007096,"CNOP",620007096,2022,43,"oui"]
[620008144,"CNOP",620008144,2022,43,"oui"]
[620012260,"CNOP",620012260,2022,43,"oui"]
[620015230,"CNOP",620015230,2022,43,"oui"]
[620017160,"CNOP",620017160,2022,43,"oui"]
[630006922,"CNOP",630006922,2022,43,"oui"]
[630008803,"CNOP",630008803,2022,43,"oui"]
[650002900,"CNOP",650002900,2022,43,"oui"]
[660788795,"CNOP",660788795,2022,43,"oui"]
[670006303,"CNOP",670006303,2022,43,"oui"]
[680006681,"CNOP",680006681,2022,43,"oui"]
[680008307,"CNOP",680008307,2022,43,"oui"]
[690010657,"CNOP",690010657,2022,43,"oui"]
[690015573,"CNOP",690015573,2022,43,"oui"]
[690017801,"CNOP",690017801,2022,43,"oui"]
[710002627,"CNOP",710002627,2022,43,"oui"]
[710004060,"CNOP",710004060,2022,43,"oui"]
[710006826,"CNOP",710006826,2022,43,"oui"]
[720010313,"CNOP",720010313,2022,43,"oui"]
[730007101,"CNOP",730007101,2022,43,"oui"]
[740005863,"CNOP",740005863,2022,43,"oui"]
[750011587,"CNOP",750011587,2022,43,"oui"]
[750026304,"CNOP",750026304,2022,43,"oui"]
[750032617,"CNOP",750032617,2022,43,"oui"]
[760013532,"CNOP",760013532,2022,43,"oui"]
[760019232,"CNOP",760019232,2022,43,"oui"]
[770005510,"CNOP",770005510,2022,43,"oui"]
[770008290,"CNOP",770008290,2022,43,"oui"]
[770014660,"CNOP",770014660,2022,43,"oui"]
[780007092,"CNOP",780007092,2022,43,"oui"]
[780015764,"CNOP",780015764,2022,43,"oui"]
[790011035,"CNOP",790011035,2022,43,"oui"]
[800012510,"CNOP",800012510,2022,43,"oui"]
[820003440,"CNOP",820003440,2022,43,"oui"]
[830005575,"CNOP",830005575,2022,43,"oui"]
[840008155,"CNOP",840008155,2022,43,"oui"]
[850015009,"CNOP",850015009,2022,43,"oui"]
[860005784,"CNOP",860005784,2022,43,"oui"]
[870013943,"CNOP",870013943,2022,43,"oui"]
[890003221,"CNOP",890003221,2022,43,"oui"]
[890005556,"CNOP",890005556,2022,43,"oui"]
[910009216,"CNOP",910009216,2022,43,"oui"]
[920012945,"CNOP",920012945,2022,43,"non"]
[920018496,"CNOP",920018496,2022,43,"oui"]
[930010285,"CNOP",930010285,2022,43,"oui"]
[940012362,"CNOP",940012362,2022,43,"oui"]
[940015530,"CNOP",940015530,2022,43,"oui"]
[950006635,"CNOP",950006635,2022,43,"oui"]
[970464129,"CNOP",970464129,2022,43,"oui"]
[20001087,"HOSPDIRECTFR",20001087,2022,43,"oui"]
[130784713,"HOSPDIRECTFR",130784713,2022,43,"oui"]
[150000164,"HOSPDIRECTFR",150000164,2022,43,"oui"]
[340798552,"HOSPDIRECTFR",340798552,2022,43,"oui"]
[400000139,"HOSPDIRECTFR",400000139,2022,43,"oui"]
[500000229,"HOSPDIRECTFR",500000229,2022,43,"oui"]
[590000188,"HOSPDIRECTFR",590000188,2022,43,"oui"]
[660000084,"HOSPDIRECTFR",660000084,2022,43,"oui"]
[720000520,"HOSPDIRECTFR",720000520,2022,43,"oui"]
[780000386,"HOSPDIRECTFR",780000386,2022,43,"oui"]
[850000258,"HOSPDIRECTFR",850000258,2022,43,"oui"]
[10006054,"PHARMDIRECTFR",10006054,2022,43,"oui"]
[20007134,"PHARMDIRECTFR",20007134,2022,43,"oui"]
[30001432,"PHARMDIRECTFR",30001432,2022,43,"oui"]
[60004173,"PHARMDIRECTFR",60004173,2022,43,"oui"]
[80003130,"PHARMDIRECTFR",80003130,2022,43,"oui"]
[120002191,"PHARMDIRECTFR",120002191,2022,43,"oui"]
[130009244,"PHARMDIRECTFR",130009244,2022,43,"oui"]
[130027154,"PHARMDIRECTFR",130027154,2022,43,"oui"]
[130031735,"PHARMDIRECTFR",130031735,2022,43,"oui"]
[130037575,"PHARMDIRECTFR",130037575,2022,43,"oui"]
[140010604,"PHARMDIRECTFR",140010604,2022,43,"oui"]
[170010631,"PHARMDIRECTFR",170010631,2022,43,"oui"]
[180001570,"PHARMDIRECTFR",180001570,2022,43,"oui"]
[210004305,"PHARMDIRECTFR",210004305,2022,43,"oui"]
[220011753,"PHARMDIRECTFR",220011753,2022,43,"oui"]
[250003225,"PHARMDIRECTFR",250003225,2022,43,"oui"]
[260004130,"PHARMDIRECTFR",260004130,2022,43,"oui"]
[260014790,"PHARMDIRECTFR",260014790,2022,43,"oui"]
[290011444,"PHARMDIRECTFR",290011444,2022,43,"oui"]
[290013614,"PHARMDIRECTFR",290013614,2022,43,"oui"]
[290019629,"PHARMDIRECTFR",290019629,2022,43,"oui"]
[300006814,"PHARMDIRECTFR",300006814,2022,43,"oui"]
[310011275,"PHARMDIRECTFR",310011275,2022,43,"oui"]
[310015474,"PHARMDIRECTFR",310015474,2022,43,"oui"]
[330039074,"PHARMDIRECTFR",330039074,2022,43,"oui"]
[330041963,"PHARMDIRECTFR",330041963,2022,43,"oui"]
[330048844,"PHARMDIRECTFR",330048844,2022,43,"oui"]
[330050642,"PHARMDIRECTFR",330050642,2022,43,"oui"]
[340007780,"PHARMDIRECTFR",340007780,2022,43,"oui"]
[340793025,"PHARMDIRECTFR",340793025,2022,43,"oui"]
[340794668,"PHARMDIRECTFR",340794668,2022,43,"oui"]
[350020434,"PHARMDIRECTFR",350020434,2022,43,"oui"]
[350023198,"PHARMDIRECTFR",350023198,2022,43,"oui"]
[380003517,"PHARMDIRECTFR",380003517,2022,43,"oui"]
[380008672,"PHARMDIRECTFR",380008672,2022,43,"oui"]
[390001972,"PHARMDIRECTFR",390001972,2022,43,"oui"]
[400009403,"PHARMDIRECTFR",400009403,2022,43,"oui"]
[420005241,"PHARMDIRECTFR",420005241,2022,43,"oui"]
[430001982,"PHARMDIRECTFR",430001982,2022,43,"oui"]
[440015840,"PHARMDIRECTFR",440015840,2022,43,"oui"]
[440017085,"PHARMDIRECTFR",440017085,2022,43,"oui"]
[460003437,"PHARMDIRECTFR",460003437,2022,43,"oui"]
[470009564,"PHARMDIRECTFR",470009564,2022,43,"oui"]
[490532967,"PHARMDIRECTFR",490532967,2022,43,"oui"]
[510018930,"PHARMDIRECTFR",510018930,2022,43,"oui"]
[510019730,"PHARMDIRECTFR",510019730,2022,43,"oui"]
[540009321,"PHARMDIRECTFR",540009321,2022,43,"oui"]
[540018462,"PHARMDIRECTFR",540018462,2022,43,"oui"]
[570017327,"PHARMDIRECTFR",570017327,2022,43,"oui"]
[570020727,"PHARMDIRECTFR",570020727,2022,43,"oui"]
[590010435,"PHARMDIRECTFR",590010435,2022,43,"oui"]
[590017554,"PHARMDIRECTFR",590017554,2022,43,"oui"]
[590023271,"PHARMDIRECTFR",590023271,2022,43,"oui"]
[590028171,"PHARMDIRECTFR",590028171,2022,43,"oui"]
[600003784,"PHARMDIRECTFR",600003784,2022,43,"oui"]
[600007066,"PHARMDIRECTFR",600007066,2022,43,"oui"]
[620012047,"PHARMDIRECTFR",620012047,2022,43,"oui"]
[620017210,"PHARMDIRECTFR",620017210,2022,43,"oui"]
[630008373,"PHARMDIRECTFR",630008373,2022,43,"oui"]
[640012860,"PHARMDIRECTFR",640012860,2022,43,"oui"]
[650003254,"PHARMDIRECTFR",650003254,2022,43,"oui"]
[670008853,"PHARMDIRECTFR",670008853,2022,43,"oui"]
[670011857,"PHARMDIRECTFR",670011857,2022,43,"oui"]
[680015401,"PHARMDIRECTFR",680015401,2022,43,"oui"]
[690015805,"PHARMDIRECTFR",690015805,2022,43,"oui"]
[700001274,"PHARMDIRECTFR",700001274,2022,43,"oui"]
[720010065,"PHARMDIRECTFR",720010065,2022,43,"oui"]
[730006954,"PHARMDIRECTFR",730006954,2022,43,"oui"]
[740006127,"PHARMDIRECTFR",740006127,2022,43,"oui"]
[750014243,"PHARMDIRECTFR",750014243,2022,43,"oui"]
[750025603,"PHARMDIRECTFR",750025603,2022,43,"oui"]
[760016154,"PHARMDIRECTFR",760016154,2022,43,"oui"]
[760020222,"PHARMDIRECTFR",760020222,2022,43,"oui"]
[770004141,"PHARMDIRECTFR",770004141,2022,43,"oui"]
[770011260,"PHARMDIRECTFR",770011260,2022,43,"oui"]
[790010375,"PHARMDIRECTFR",790010375,2022,43,"oui"]
[800013260,"PHARMDIRECTFR",800013260,2022,43,"oui"]
[800013625,"PHARMDIRECTFR",800013625,2022,43,"oui"]
[830006680,"PHARMDIRECTFR",830006680,2022,43,"oui"]
[830009973,"PHARMDIRECTFR",830009973,2022,43,"oui"]
[830013272,"PHARMDIRECTFR",830013272,2022,43,"oui"]
[840014070,"PHARMDIRECTFR",840014070,2022,43,"oui"]
[850016247,"PHARMDIRECTFR",850016247,2022,43,"oui"]
[870011764,"PHARMDIRECTFR",870011764,2022,43,"oui"]
[880003553,"PHARMDIRECTFR",880003553,2022,43,"oui"]
[900001660,"PHARMDIRECTFR",900001660,2022,43,"oui"]
[920011731,"PHARMDIRECTFR",920011731,2022,43,"oui"]
[930005616,"PHARMDIRECTFR",930005616,2022,43,"oui"]
[930015433,"PHARMDIRECTFR",930015433,2022,43,"oui"]
[950008755,"PHARMDIRECTFR",950008755,2022,43,"oui"]
[970104659,"PHARMDIRECTFR",970104659,2022,43,"oui"]
[970405502,"PHARMDIRECTFR",970405502,2022,43,"oui"]
[970463766,"PHARMDIRECTFR",970463766,2022,43,"oui"]
[970465233,"PHARMDIRECTFR",970465233,2022,43,"oui"]
[10002822,"CNOP",10002822,2022,42,"oui"]
[10004851,"CNOP",10004851,2022,42,"oui"]
[20002978,"CNOP",20002978,2022,42,"oui"]
[40002263,"CNOP",40002263,2022,42,"oui"]
[60010360,"CNOP",60010360,2022,42,"oui"]
[60017092,"CNOP",60017092,2022,42,"oui"]
[80008733,"CNOP",80008733,2022,42,"oui"]
[100007913,"CNOP",100007913,2022,42,"oui"]
[120001805,"CNOP",120001805,2022,42,"oui"]
[120003926,"CNOP",120003926,2022,42,"oui"]
[130027550,"CNOP",130027550,2022,42,"oui"]
[130033517,"CNOP",130033517,2022,42,"oui"]
[140009325,"CNOP",140009325,2022,42,"oui"]
[150000586,"CNOP",150000586,2022,42,"oui"]
[170011530,"CNOP",170011530,2022,42,"oui"]
[180001836,"CNOP",180001836,2022,42,"oui"]
[180007130,"CNOP",180007130,2022,42,"oui"]
[210005401,"CNOP",210005401,2022,42,"non"]
[220010565,"CNOP",220010565,2022,42,"oui"]
[220011621,"CNOP",220011621,2022,42,"oui"]
[220015986,"CNOP",220015986,2022,42,"oui"]
[250005071,"CNOP",250005071,2022,42,"oui"]
[250008505,"CNOP",250008505,2022,42,"oui"]
[260008040,"CNOP",260008040,2022,42,"oui"]
[270020324,"CNOP",270020324,2022,42,"oui"]
[290011675,"CNOP",290011675,2022,42,"oui"]
[290012939,"CNOP",290012939,2022,42,"oui"]
["2A0002044","CNOP","2A0002044",2022,42,"oui"]
[300008893,"CNOP",300008893,2022,42,"oui"]
[310010111,"CNOP",310010111,2022,42,"oui"]
[310013545,"CNOP",310013545,2022,42,"oui"]
[320002421,"CNOP",320002421,2022,42,"oui"]
[330040890,"CNOP",330040890,2022,42,"oui"]
[330056656,"CNOP",330056656,2022,42,"oui"]
[350019147,"CNOP",350019147,2022,42,"oui"]
[350020996,"CNOP",350020996,2022,42,"oui"]
[370003923,"CNOP",370003923,2022,42,"oui"]
[370006496,"CNOP",370006496,2022,42,"oui"]
[380003921,"CNOP",380003921,2022,42,"oui"]
[380008086,"CNOP",380008086,2022,42,"oui"]
[380012153,"CNOP",380012153,2022,42,"oui"]
[400010302,"CNOP",400010302,2022,42,"oui"]
[420003212,"CNOP",420003212,2022,42,"oui"]
[430001917,"CNOP",430001917,2022,42,"oui"]
[440015170,"CNOP",440015170,2022,42,"oui"]
[440016392,"CNOP",440016392,2022,42,"oui"]
[440037380,"CNOP",440037380,2022,42,"oui"]
[450004965,"CNOP",450004965,2022,42,"oui"]
[470012154,"CNOP",470012154,2022,42,"oui"]
[490532496,"CNOP",490532496,2022,42,"oui"]
[490533874,"CNOP",490533874,2022,42,"oui"]
[500011887,"CNOP",500011887,2022,42,"oui"]
[510019011,"CNOP",510019011,2022,42,"oui"]
[530005867,"CNOP",530005867,2022,42,"oui"]
[540005162,"CNOP",540005162,2022,42,"oui"]
[540016680,"CNOP",540016680,2022,42,"oui"]
[560018780,"CNOP",560018780,2022,42,"oui"]
[570012245,"CNOP",570012245,2022,42,"oui"]
[580003093,"CNOP",580003093,2022,42,"oui"]
[590010773,"CNOP",590010773,2022,42,"oui"]
[590013504,"CNOP",590013504,2022,42,"oui"]
[590018206,"CNOP",590018206,2022,42,"oui"]
[590023701,"CNOP",590023701,2022,42,"oui"]
[590026571,"CNOP",590026571,2022,42,"oui"]
[590029906,"CNOP",590029906,2022,42,"oui"]
[590032405,"CNOP",590032405,2022,42,"oui"]
[600009120,"CNOP",600009120,2022,42,"oui"]
[610786501,"CNOP",610786501,2022,42,"oui"]
[620008342,"CNOP",620008342,2022,42,"oui"]
[620009340,"CNOP",620009340,2022,42,"oui"]
[620015040,"CNOP",620015040,2022,42,"oui"]
[620017293,"CNOP",620017293,2022,42,"oui"]
[630003135,"CNOP",630003135,2022,42,"oui"]
[630006120,"CNOP",630006120,2022,42,"oui"]
[640010146,"CNOP",640010146,2022,42,"oui"]
[650002785,"CNOP",650002785,2022,42,"oui"]
[660788324,"CNOP",660788324,2022,42,"oui"]
[670009117,"CNOP",670009117,2022,42,"oui"]
[680008851,"CNOP",680008851,2022,42,"oui"]
[680015617,"CNOP",680015617,2022,42,"oui"]
[690010434,"CNOP",690010434,2022,42,"oui"]
[690019120,"CNOP",690019120,2022,42,"oui"]
[700001241,"CNOP",700001241,2022,42,"oui"]
[700002546,"CNOP",700002546,2022,42,"oui"]
[710005265,"CNOP",710005265,2022,42,"oui"]
[720010727,"CNOP",720010727,2022,42,"oui"]
[730008885,"CNOP",730008885,2022,42,"oui"]
[740003413,"CNOP",740003413,2022,42,"oui"]
[750014995,"CNOP",750014995,2022,42,"oui"]
[750022873,"CNOP",750022873,2022,42,"oui"]
[750029373,"CNOP",750029373,2022,42,"oui"]
[750033870,"CNOP",750033870,2022,42,"oui"]
[760017657,"CNOP",760017657,2022,42,"oui"]
[760022806,"CNOP",760022806,2022,42,"oui"]
[770007342,"CNOP",770007342,2022,42,"oui"]
[770012276,"CNOP",770012276,2022,42,"oui"]
[780009890,"CNOP",780009890,2022,42,"oui"]
[780015012,"CNOP",780015012,2022,42,"oui"]
[790010201,"CNOP",790010201,2022,42,"oui"]
[800007437,"CNOP",800007437,2022,42,"oui"]
[820002525,"CNOP",820002525,2022,42,"oui"]
[830010955,"CNOP",830010955,2022,42,"oui"]
[840005854,"CNOP",840005854,2022,42,"oui"]
[850014812,"CNOP",850014812,2022,42,"oui"]
[860787480,"CNOP",860787480,2022,42,"oui"]
[870013760,"CNOP",870013760,2022,42,"oui"]
[880004072,"CNOP",880004072,2022,42,"oui"]
[900002262,"CNOP",900002262,2022,42,"oui"]
[910013291,"CNOP",910013291,2022,42,"oui"]
[920011830,"CNOP",920011830,2022,42,"oui"]
[920018827,"CNOP",920018827,2022,42,"oui"]
[930011085,"CNOP",930011085,2022,42,"oui"]
[940012263,"CNOP",940012263,2022,42,"non"]
[940016314,"CNOP",940016314,2022,42,"oui"]
[970106118,"CNOP",970106118,2022,42,"oui"]
[970464780,"CNOP",970464780,2022,42,"oui"]
[40780488,"HOSPDIRECTFR",40780488,2022,42,"oui"]
[130784481,"HOSPDIRECTFR",130784481,2022,42,"oui"]
[160008231,"HOSPDIRECTFR",160008231,2022,42,"oui"]
[340001064,"HOSPDIRECTFR",340001064,2022,42,"oui"]
[390000164,"HOSPDIRECTFR",390000164,2022,42,"oui"]
[490002037,"HOSPDIRECTFR",490002037,2022,42,"oui"]
[620000281,"HOSPDIRECTFR",620000281,2022,42,"oui"]
[640780623,"HOSPDIRECTFR",640780623,2022,42,"oui"]
[720000033,"HOSPDIRECTFR",720000033,2022,42,"oui"]
[760017079,"HOSPDIRECTFR",760017079,2022,42,"oui"]
[840000491,"HOSPDIRECTFR",840000491,2022,42,"oui"]
[10002723,"PHARMDIRECTFR",10002723,2022,42,"oui"]
[20003463,"PHARMDIRECTFR",20003463,2022,42,"oui"]
[40002693,"PHARMDIRECTFR",40002693,2022,42,"oui"]
[60014610,"PHARMDIRECTFR",60014610,2022,42,"oui"]
[80002231,"PHARMDIRECTFR",80002231,2022,42,"oui"]
[110790375,"PHARMDIRECTFR",110790375,2022,42,"oui"]
[130014012,"PHARMDIRECTFR",130014012,2022,42,"oui"]
[130026123,"PHARMDIRECTFR",130026123,2022,42,"oui"]
[130030273,"PHARMDIRECTFR",130030273,2022,42,"oui"]
[130033723,"PHARMDIRECTFR",130033723,2022,42,"oui"]
[160005294,"PHARMDIRECTFR",160005294,2022,42,"oui"]
[160010799,"PHARMDIRECTFR",160010799,2022,42,"oui"]
[170015754,"PHARMDIRECTFR",170015754,2022,42,"oui"]
[220010664,"PHARMDIRECTFR",220010664,2022,42,"oui"]
[220011159,"PHARMDIRECTFR",220011159,2022,42,"oui"]
[250003134,"PHARMDIRECTFR",250003134,2022,42,"oui"]
[250013125,"PHARMDIRECTFR",250013125,2022,42,"oui"]
[270021942,"PHARMDIRECTFR",270021942,2022,42,"oui"]
[290011568,"PHARMDIRECTFR",290011568,2022,42,"oui"]
[290013226,"PHARMDIRECTFR",290013226,2022,42,"oui"]
[300005931,"PHARMDIRECTFR",300005931,2022,42,"oui"]
[310006747,"PHARMDIRECTFR",310006747,2022,42,"oui"]
[310011176,"PHARMDIRECTFR",310011176,2022,42,"oui"]
[310016274,"PHARMDIRECTFR",310016274,2022,42,"oui"]
[320002900,"PHARMDIRECTFR",320002900,2022,42,"oui"]
[330046624,"PHARMDIRECTFR",330046624,2022,42,"oui"]
[330048075,"PHARMDIRECTFR",330048075,2022,42,"oui"]
[330051541,"PHARMDIRECTFR",330051541,2022,42,"oui"]
[340008796,"PHARMDIRECTFR",340008796,2022,42,"oui"]
[340794726,"PHARMDIRECTFR",340794726,2022,42,"oui"]
[350019733,"PHARMDIRECTFR",350019733,2022,42,"oui"]
[350020848,"PHARMDIRECTFR",350020848,2022,42,"oui"]
[370007064,"PHARMDIRECTFR",370007064,2022,42,"oui"]
[380004721,"PHARMDIRECTFR",380004721,2022,42,"oui"]
[380009282,"PHARMDIRECTFR",380009282,2022,42,"oui"]
[390003077,"PHARMDIRECTFR",390003077,2022,42,"oui"]
[400010070,"PHARMDIRECTFR",400010070,2022,42,"oui"]
[420006512,"PHARMDIRECTFR",420006512,2022,42,"oui"]
[440014041,"PHARMDIRECTFR",440014041,2022,42,"oui"]
[440016350,"PHARMDIRECTFR",440016350,2022,42,"oui"]
[450014030,"PHARMDIRECTFR",450014030,2022,42,"oui"]
[470009093,"PHARMDIRECTFR",470009093,2022,42,"oui"]
[470012451,"PHARMDIRECTFR",470012451,2022,42,"oui"]
[490534310,"PHARMDIRECTFR",490534310,2022,42,"oui"]
[510021595,"PHARMDIRECTFR",510021595,2022,42,"oui"]
[540010121,"PHARMDIRECTFR",540010121,2022,42,"oui"]
[540015674,"PHARMDIRECTFR",540015674,2022,42,"oui"]
[560022030,"PHARMDIRECTFR",560022030,2022,42,"oui"]
[570020362,"PHARMDIRECTFR",570020362,2022,42,"oui"]
[590009304,"PHARMDIRECTFR",590009304,2022,42,"oui"]
[590012837,"PHARMDIRECTFR",590012837,2022,42,"oui"]
[590021002,"PHARMDIRECTFR",590021002,2022,42,"oui"]
[590027116,"PHARMDIRECTFR",590027116,2022,42,"oui"]
[590032587,"PHARMDIRECTFR",590032587,2022,42,"oui"]
[610785925,"PHARMDIRECTFR",610785925,2022,42,"oui"]
[620011742,"PHARMDIRECTFR",620011742,2022,42,"oui"]
[620017475,"PHARMDIRECTFR",620017475,2022,42,"oui"]
[630006906,"PHARMDIRECTFR",630006906,2022,42,"oui"]
[640013025,"PHARMDIRECTFR",640013025,2022,42,"oui"]
[670003219,"PHARMDIRECTFR",670003219,2022,42,"oui"]
[670011303,"PHARMDIRECTFR",670011303,2022,42,"oui"]
[670012236,"PHARMDIRECTFR",670012236,2022,42,"oui"]
[680015351,"PHARMDIRECTFR",680015351,2022,42,"oui"]
[690018072,"PHARMDIRECTFR",690018072,2022,42,"oui"]
[700001712,"PHARMDIRECTFR",700001712,2022,42,"oui"]
[710006024,"PHARMDIRECTFR",710006024,2022,42,"oui"]
[730006921,"PHARMDIRECTFR",730006921,2022,42,"oui"]
[740007125,"PHARMDIRECTFR",740007125,2022,42,"oui"]
[750015596,"PHARMDIRECTFR",750015596,2022,42,"oui"]
[750029100,"PHARMDIRECTFR",750029100,2022,42,"oui"]
[760018622,"PHARMDIRECTFR",760018622,2022,42,"oui"]
[760021832,"PHARMDIRECTFR",760021832,2022,42,"oui"]
[770006781,"PHARMDIRECTFR",770006781,2022,42,"oui"]
[780004792,"PHARMDIRECTFR",780004792,2022,42,"oui"]
[790010946,"PHARMDIRECTFR",790010946,2022,42,"oui"]
[800012445,"PHARMDIRECTFR",800012445,2022,42,"oui"]
[820001675,"PHARMDIRECTFR",820001675,2022,42,"oui"]
[830007712,"PHARMDIRECTFR",830007712,2022,42,"oui"]
[830012266,"PHARMDIRECTFR",830012266,2022,42,"oui"]
[840009740,"PHARMDIRECTFR",840009740,2022,42,"oui"]
[850014507,"PHARMDIRECTFR",850014507,2022,42,"oui"]
[860789247,"PHARMDIRECTFR",860789247,2022,42,"oui"]
[870012275,"PHARMDIRECTFR",870012275,2022,42,"oui"]
[890004187,"PHARMDIRECTFR",890004187,2022,42,"oui"]
[920007945,"PHARMDIRECTFR",920007945,2022,42,"oui"]
[920008497,"PHARMDIRECTFR",920008497,2022,42,"oui"]
[930012000,"PHARMDIRECTFR",930012000,2022,42,"oui"]
[940008402,"PHARMDIRECTFR",940008402,2022,42,"oui"]
[950012690,"PHARMDIRECTFR",950012690,2022,42,"oui"]
[970204814,"PHARMDIRECTFR",970204814,2022,42,"oui"]
[970404927,"PHARMDIRECTFR",970404927,2022,42,"oui"]
[970464764,"PHARMDIRECTFR",970464764,2022,42,"oui"]
[970465738,"PHARMDIRECTFR",970465738,2022,42,"oui"]
[10003952,"CNOP",10003952,2022,41,"oui"]
[20003125,"CNOP",20003125,2022,41,"oui"]
[20012092,"CNOP",20012092,2022,41,"oui"]
[60007747,"CNOP",60007747,2022,41,"oui"]
[60013612,"CNOP",60013612,2022,41,"oui"]
[70003256,"CNOP",70003256,2022,41,"oui"]
[90000977,"CNOP",90000977,2022,41,"oui"]
[110789781,"CNOP",110789781,2022,41,"oui"]
[120003827,"CNOP",120003827,2022,41,"oui"]
[130011240,"CNOP",130011240,2022,41,"oui"]
[130025752,"CNOP",130025752,2022,41,"oui"]
[140010273,"CNOP",140010273,2022,41,"oui"]
[140025610,"CNOP",140025610,2022,41,"oui"]
[170010664,"CNOP",170010664,2022,41,"oui"]
[180001687,"CNOP",180001687,2022,41,"oui"]
[180007361,"CNOP",180007361,2022,41,"oui"]
[210004420,"CNOP",210004420,2022,41,"oui"]
[210005286,"CNOP",210005286,2022,41,"oui"]
[220011944,"CNOP",220011944,2022,41,"oui"]
[230003147,"CNOP",230003147,2022,41,"oui"]
[240011734,"CNOP",240011734,2022,41,"oui"]
[250006657,"CNOP",250006657,2022,41,"oui"]
[260004163,"CNOP",260004163,2022,41,"oui"]
[270021447,"CNOP",270021447,2022,41,"oui"]
[290010651,"CNOP",290010651,2022,41,"oui"]
[290012079,"CNOP",290012079,2022,41,"oui"]
["2B0002935","CNOP","2B0002935",2022,41,"oui"]
[300009081,"CNOP",300009081,2022,41,"oui"]
[310008313,"CNOP",310008313,2022,41,"oui"]
[310015060,"CNOP",310015060,2022,41,"oui"]
[330039280,"CNOP",330039280,2022,41,"oui"]
[330045063,"CNOP",330045063,2022,41,"oui"]
[340016567,"CNOP",340016567,2022,41,"oui"]
[350020475,"CNOP",350020475,2022,41,"oui"]
[360001804,"CNOP",360001804,2022,41,"oui"]
[370002438,"CNOP",370002438,2022,41,"oui"]
[380004267,"CNOP",380004267,2022,41,"oui"]
[380008755,"CNOP",380008755,2022,41,"oui"]
[390002426,"CNOP",390002426,2022,41,"oui"]
[390003374,"CNOP",390003374,2022,41,"oui"]
[400009916,"CNOP",400009916,2022,41,"oui"]
[420008260,"CNOP",420008260,2022,41,"oui"]
[430003053,"CNOP",430003053,2022,41,"oui"]
[440014843,"CNOP",440014843,2022,41,"oui"]
[440017424,"CNOP",440017424,2022,41,"oui"]
[450008420,"CNOP",450008420,2022,41,"oui"]
[460003270,"CNOP",460003270,2022,41,"oui"]
[480782846,"CNOP",480782846,2022,41,"oui"]
[490534328,"CNOP",490534328,2022,41,"oui"]
[500010954,"CNOP",500010954,2022,41,"oui"]
[500013321,"CNOP",500013321,2022,41,"non"]
[530030600,"CNOP",530030600,2022,41,"oui"]
[540012341,"CNOP",540012341,2022,41,"oui"]
[540015351,"CNOP",540015351,2022,41,"oui"]
[550002141,"CNOP",550002141,2022,41,"oui"]
[570019042,"CNOP",570019042,2022,41,"oui"]
[580002343,"CNOP",580002343,2022,41,"oui"]
[590009536,"CNOP",590009536,2022,41,"oui"]
[590011706,"CNOP",590011706,2022,41,"oui"]
[590017570,"CNOP",590017570,2022,41,"oui"]
[590021150,"CNOP",590021150,2022,41,"oui"]
[590024972,"CNOP",590024972,2022,41,"oui"]
[590029385,"CNOP",590029385,2022,41,"oui"]
[600003206,"CNOP",600003206,2022,41,"oui"]
[600006233,"CNOP",600006233,2022,41,"non"]
[610786238,"CNOP",610786238,2022,41,"oui"]
[620005231,"CNOP",620005231,2022,41,"oui"]
[620011130,"CNOP",620011130,2022,41,"oui"]
[620012831,"CNOP",620012831,2022,41,"oui"]
[620016246,"CNOP",620016246,2022,41,"oui"]
[630006120,"CNOP",630006120,2022,41,"oui"]
[640007514,"CNOP",640007514,2022,41,"oui"]
[640009197,"CNOP",640009197,2022,41,"oui"]
[650001951,"CNOP",650001951,2022,41,"oui"]
[670006584,"CNOP",670006584,2022,41,"oui"]
[670009935,"CNOP",670009935,2022,41,"oui"]
[680008042,"CNOP",680008042,2022,41,"oui"]
[690010582,"CNOP",690010582,2022,41,"oui"]
[690011721,"CNOP",690011721,2022,41,"non"]
[690019104,"CNOP",690019104,2022,41,"oui"]
[690022405,"CNOP",690022405,2022,41,"oui"]
[710005695,"CNOP",710005695,2022,41,"oui"]
[720009174,"CNOP",720009174,2022,41,"oui"]
[720010719,"CNOP",720010719,2022,41,"oui"]
[740002613,"CNOP",740002613,2022,41,"oui"]
[740007075,"CNOP",740007075,2022,41,"oui"]
[750014995,"CNOP",750014995,2022,41,"oui"]
[750025801,"CNOP",750025801,2022,41,"oui"]
[750028235,"CNOP",750028235,2022,41,"oui"]
[760016667,"CNOP",760016667,2022,41,"oui"]
[760019703,"CNOP",760019703,2022,41,"oui"]
[760024596,"CNOP",760024596,2022,41,"oui"]
[770007995,"CNOP",770007995,2022,41,"oui"]
[780005047,"CNOP",780005047,2022,41,"oui"]
[780011094,"CNOP",780011094,2022,41,"oui"]
[780016226,"CNOP",780016226,2022,41,"oui"]
[800003485,"CNOP",800003485,2022,41,"oui"]
[810005223,"CNOP",810005223,2022,41,"oui"]
[820003275,"CNOP",820003275,2022,41,"oui"]
[840009393,"CNOP",840009393,2022,41,"oui"]
[850015835,"CNOP",850015835,2022,41,"oui"]
[860786474,"CNOP",860786474,2022,41,"oui"]
[870012762,"CNOP",870012762,2022,41,"oui"]
[880002522,"CNOP",880002522,2022,41,"oui"]
[900002130,"CNOP",900002130,2022,41,"oui"]
[910008903,"CNOP",910008903,2022,41,"oui"]
[910021682,"CNOP",910021682,2022,41,"oui"]
[930009022,"CNOP",930009022,2022,41,"oui"]
[930012901,"CNOP",930012901,2022,41,"oui"]
[940010614,"CNOP",940010614,2022,41,"oui"]
[940015027,"CNOP",940015027,2022,41,"oui"]
[950008854,"CNOP",950008854,2022,41,"oui"]
[970464137,"CNOP",970464137,2022,41,"oui"]
[30000079,"HOSPDIRECTFR",30000079,2022,41,"oui"]
[150000164,"HOSPDIRECTFR",150000164,2022,41,"oui"]
[280000050,"HOSPDIRECTFR",280000050,2022,41,"oui"]
[340000223,"HOSPDIRECTFR",340000223,2022,41,"oui"]
[420780769,"HOSPDIRECTFR",420780769,2022,41,"oui"]
[450018536,"HOSPDIRECTFR",450018536,2022,41,"oui"]
[600105431,"HOSPDIRECTFR",600105431,2022,41,"oui"]
[660000167,"HOSPDIRECTFR",660000167,2022,41,"oui"]
[690781026,"HOSPDIRECTFR",690781026,2022,41,"oui"]
[830000295,"HOSPDIRECTFR",830000295,2022,41,"oui"]
[910300045,"HOSPDIRECTFR",910300045,2022,41,"oui"]
[930460050,"HOSPDIRECTFR",930460050,2022,41,"oui"]
[20002630,"PHARMDIRECTFR",20002630,2022,41,"oui"]
[40002867,"PHARMDIRECTFR",40002867,2022,41,"oui"]
[60016631,"PHARMDIRECTFR",60016631,2022,41,"oui"]
[80002231,"PHARMDIRECTFR",80002231,2022,41,"oui"]
[100002880,"PHARMDIRECTFR",100002880,2022,41,"oui"]
[130013113,"PHARMDIRECTFR",130013113,2022,41,"oui"]
[130026800,"PHARMDIRECTFR",130026800,2022,41,"oui"]
[130030257,"PHARMDIRECTFR",130030257,2022,41,"oui"]
[140010083,"PHARMDIRECTFR",140010083,2022,41,"oui"]
[160005831,"PHARMDIRECTFR",160005831,2022,41,"oui"]
[170010680,"PHARMDIRECTFR",170010680,2022,41,"oui"]
[180001786,"PHARMDIRECTFR",180001786,2022,41,"oui"]
[210004552,"PHARMDIRECTFR",210004552,2022,41,"oui"]
[240010355,"PHARMDIRECTFR",240010355,2022,41,"oui"]
[240012732,"PHARMDIRECTFR",240012732,2022,41,"oui"]
[260004080,"PHARMDIRECTFR",260004080,2022,41,"oui"]
[280003666,"PHARMDIRECTFR",280003666,2022,41,"oui"]
[290013127,"PHARMDIRECTFR",290013127,2022,41,"oui"]
[290014000,"PHARMDIRECTFR",290014000,2022,41,"oui"]
[300004645,"PHARMDIRECTFR",300004645,2022,41,"oui"]
[310008594,"PHARMDIRECTFR",310008594,2022,41,"oui"]
[310013040,"PHARMDIRECTFR",310013040,2022,41,"oui"]
[320001886,"PHARMDIRECTFR",320001886,2022,41,"oui"]
[330043514,"PHARMDIRECTFR",330043514,2022,41,"oui"]
[330048174,"PHARMDIRECTFR",330048174,2022,41,"oui"]
[330051343,"PHARMDIRECTFR",330051343,2022,41,"oui"]
[340008796,"PHARMDIRECTFR",340008796,2022,41,"oui"]
[340794668,"PHARMDIRECTFR",340794668,2022,41,"oui"]
[340795798,"PHARMDIRECTFR",340795798,2022,41,"oui"]
[350019915,"PHARMDIRECTFR",350019915,2022,41,"oui"]
[350025664,"PHARMDIRECTFR",350025664,2022,41,"oui"]
[380004507,"PHARMDIRECTFR",380004507,2022,41,"oui"]
[380012534,"PHARMDIRECTFR",380012534,2022,41,"oui"]
[390003127,"PHARMDIRECTFR",390003127,2022,41,"oui"]
[400008157,"PHARMDIRECTFR",400008157,2022,41,"oui"]
[420007742,"PHARMDIRECTFR",420007742,2022,41,"oui"]
[440013993,"PHARMDIRECTFR",440013993,2022,41,"oui"]
[440016079,"PHARMDIRECTFR",440016079,2022,41,"oui"]
[440030153,"PHARMDIRECTFR",440030153,2022,41,"oui"]
[460003932,"PHARMDIRECTFR",460003932,2022,41,"oui"]
[490532967,"PHARMDIRECTFR",490532967,2022,41,"oui"]
[490534690,"PHARMDIRECTFR",490534690,2022,41,"oui"]
[510017981,"PHARMDIRECTFR",510017981,2022,41,"oui"]
[540009354,"PHARMDIRECTFR",540009354,2022,41,"oui"]
[540017415,"PHARMDIRECTFR",540017415,2022,41,"oui"]
[570013177,"PHARMDIRECTFR",570013177,2022,41,"oui"]
[570021360,"PHARMDIRECTFR",570021360,2022,41,"oui"]
[590010807,"PHARMDIRECTFR",590010807,2022,41,"oui"]
[590017257,"PHARMDIRECTFR",590017257,2022,41,"oui"]
[590023602,"PHARMDIRECTFR",590023602,2022,41,"oui"]
[590029203,"PHARMDIRECTFR",590029203,2022,41,"oui"]
[600003222,"PHARMDIRECTFR",600003222,2022,41,"oui"]
[610785925,"PHARMDIRECTFR",610785925,2022,41,"oui"]
[620014613,"PHARMDIRECTFR",620014613,2022,41,"oui"]
[620017475,"PHARMDIRECTFR",620017475,2022,41,"oui"]
[640007225,"PHARMDIRECTFR",640007225,2022,41,"oui"]
[640010690,"PHARMDIRECTFR",640010690,2022,41,"oui"]
[660003740,"PHARMDIRECTFR",660003740,2022,41,"oui"]
[670011337,"PHARMDIRECTFR",670011337,2022,41,"oui"]
[680011103,"PHARMDIRECTFR",680011103,2022,41,"oui"]
[690014873,"PHARMDIRECTFR",690014873,2022,41,"oui"]
[690029301,"PHARMDIRECTFR",690029301,2022,41,"oui"]
[710002742,"PHARMDIRECTFR",710002742,2022,41,"oui"]
[720010636,"PHARMDIRECTFR",720010636,2022,41,"oui"]
[720014455,"PHARMDIRECTFR",720014455,2022,41,"oui"]
[750014524,"PHARMDIRECTFR",750014524,2022,41,"oui"]
[750024903,"PHARMDIRECTFR",750024903,2022,41,"oui"]
[750036154,"PHARMDIRECTFR",750036154,2022,41,"oui"]
[760021600,"PHARMDIRECTFR",760021600,2022,41,"oui"]
[770004380,"PHARMDIRECTFR",770004380,2022,41,"oui"]
[770011427,"PHARMDIRECTFR",770011427,2022,41,"oui"]
[780012274,"PHARMDIRECTFR",780012274,2022,41,"oui"]
[790011126,"PHARMDIRECTFR",790011126,2022,41,"oui"]
[810003343,"PHARMDIRECTFR",810003343,2022,41,"oui"]
[820002897,"PHARMDIRECTFR",820002897,2022,41,"oui"]
[830011367,"PHARMDIRECTFR",830011367,2022,41,"oui"]
[840009245,"PHARMDIRECTFR",840009245,2022,41,"oui"]
[850014523,"PHARMDIRECTFR",850014523,2022,41,"non"]
[860006212,"PHARMDIRECTFR",860006212,2022,41,"oui"]
[870014446,"PHARMDIRECTFR",870014446,2022,41,"oui"]
[890004385,"PHARMDIRECTFR",890004385,2022,41,"oui"]
[910007723,"PHARMDIRECTFR",910007723,2022,41,"oui"]
[910014612,"PHARMDIRECTFR",910014612,2022,41,"oui"]
[930011754,"PHARMDIRECTFR",930011754,2022,41,"oui"]
[940010747,"PHARMDIRECTFR",940010747,2022,41,"oui"]
[940015746,"PHARMDIRECTFR",940015746,2022,41,"oui"]
[950011890,"PHARMDIRECTFR",950011890,2022,41,"oui"]
[970463840,"PHARMDIRECTFR",970463840,2022,41,"oui"]
[970464921,"PHARMDIRECTFR",970464921,2022,41,"oui"]
[970465217,"PHARMDIRECTFR",970465217,2022,41,"oui"]
[980500524,"PHARMDIRECTFR",980500524,2022,41,"oui"]
[20007084,"CNOP",20007084,2022,40,"oui"]
[30002992,"CNOP",30002992,2022,40,"oui"]
[50003870,"CNOP",50003870,2022,40,"oui"]
[60017092,"CNOP",60017092,2022,40,"oui"]
[90000795,"CNOP",90000795,2022,40,"non"]
[100002492,"CNOP",100002492,2022,40,"oui"]
[110791209,"CNOP",110791209,2022,40,"oui"]
[130013212,"CNOP",130013212,2022,40,"oui"]
[130026172,"CNOP",130026172,2022,40,"oui"]
[130029887,"CNOP",130029887,2022,40,"oui"]
[140010067,"CNOP",140010067,2022,40,"non"]
[160011169,"CNOP",160011169,2022,40,"oui"]
[170014112,"CNOP",170014112,2022,40,"oui"]
[170014997,"CNOP",170014997,2022,40,"oui"]
[180007361,"CNOP",180007361,2022,40,"oui"]
[210006722,"CNOP",210006722,2022,40,"oui"]
[220010961,"CNOP",220010961,2022,40,"oui"]
[220012512,"CNOP",220012512,2022,40,"oui"]
[240012286,"CNOP",240012286,2022,40,"oui"]
[250010782,"CNOP",250010782,2022,40,"oui"]
[260005715,"CNOP",260005715,2022,40,"oui"]
[270020431,"CNOP",270020431,2022,40,"oui"]
[290011741,"CNOP",290011741,2022,40,"oui"]
[290013275,"CNOP",290013275,2022,40,"oui"]
["2A0001434","CNOP","2A0001434",2022,40,"non"]
[300005691,"CNOP",300005691,2022,40,"oui"]
[310010624,"CNOP",310010624,2022,40,"oui"]
[310012661,"CNOP",310012661,2022,40,"oui"]
[320002652,"CNOP",320002652,2022,40,"oui"]
[330050097,"CNOP",330050097,2022,40,"oui"]
[340795574,"CNOP",340795574,2022,40,"oui"]
[350020236,"CNOP",350020236,2022,40,"oui"]
[350021663,"CNOP",350021663,2022,40,"oui"]
[370006231,"CNOP",370006231,2022,40,"oui"]
[380003335,"CNOP",380003335,2022,40,"oui"]
[380007104,"CNOP",380007104,2022,40,"oui"]
[380012666,"CNOP",380012666,2022,40,"oui"]
[400009882,"CNOP",400009882,2022,40,"oui"]
[420002875,"CNOP",420002875,2022,40,"oui"]
[420006140,"CNOP",420006140,2022,40,"oui"]
[440015261,"CNOP",440015261,2022,40,"non"]
[440016764,"CNOP",440016764,2022,40,"oui"]
[440024115,"CNOP",440024115,2022,40,"oui"]
[450016647,"CNOP",450016647,2022,40,"oui"]
[460003601,"CNOP",460003601,2022,40,"oui"]
[490532942,"CNOP",490532942,2022,40,"oui"]
[490534526,"CNOP",490534526,2022,40,"oui"]
[500010871,"CNOP",500010871,2022,40,"oui"]
[520001306,"CNOP",520001306,2022,40,"oui"]
[530030519,"CNOP",530030519,2022,40,"oui"]
[540014164,"CNOP",540014164,2022,40,"oui"]
[540017746,"CNOP",540017746,2022,40,"oui"]
[560018624,"CNOP",560018624,2022,40,"oui"]
[570021162,"CNOP",570021162,2022,40,"oui"]
[580003093,"CNOP",580003093,2022,40,"oui"]
[590013900,"CNOP",590013900,2022,40,"oui"]
[590016820,"CNOP",590016820,2022,40,"oui"]
[590020087,"CNOP",590020087,2022,40,"oui"]
[590025516,"CNOP",590025516,2022,40,"oui"]
[590030235,"CNOP",590030235,2022,40,"oui"]
[590032934,"CNOP",590032934,2022,40,"oui"]
[600006316,"CNOP",600006316,2022,40,"oui"]
[600010367,"CNOP",600010367,2022,40,"oui"]
[620007526,"CNOP",620007526,2022,40,"oui"]
[620010264,"CNOP",620010264,2022,40,"oui"]
[620013912,"CNOP",620013912,2022,40,"oui"]
[620015925,"CNOP",620015925,2022,40,"oui"]
[630004117,"CNOP",630004117,2022,40,"oui"]
[630008266,"CNOP",630008266,2022,40,"oui"]
[640010146,"CNOP",640010146,2022,40,"oui"]
[650002785,"CNOP",650002785,2022,40,"oui"]
[670006667,"CNOP",670006667,2022,40,"oui"]
[670011956,"CNOP",670011956,2022,40,"oui"]
[680015500,"CNOP",680015500,2022,40,"oui"]
[690012570,"CNOP",690012570,2022,40,"oui"]
[690017223,"CNOP",690017223,2022,40,"oui"]
[690022033,"CNOP",690022033,2022,40,"oui"]
[700001860,"CNOP",700001860,2022,40,"oui"]
[710006974,"CNOP",710006974,2022,40,"oui"]
[720009950,"CNOP",720009950,2022,40,"oui"]
[730006020,"CNOP",730006020,2022,40,"oui"]
[740005913,"CNOP",740005913,2022,40,"oui"]
[740007331,"CNOP",740007331,2022,40,"oui"]
[750021784,"CNOP",750021784,2022,40,"oui"]
[750026254,"CNOP",750026254,2022,40,"oui"]
[750032732,"CNOP",750032732,2022,40,"oui"]
[760018937,"CNOP",760018937,2022,40,"oui"]
[760022566,"CNOP",760022566,2022,40,"oui"]
[770006914,"CNOP",770006914,2022,40,"oui"]
[780004677,"CNOP",780004677,2022,40,"oui"]
[780010542,"CNOP",780010542,2022,40,"oui"]
[780015780,"CNOP",780015780,2022,40,"oui"]
[800004467,"CNOP",800004467,2022,40,"oui"]
[810005157,"CNOP",810005157,2022,40,"oui"]
[820003390,"CNOP",820003390,2022,40,"oui"]
[830009403,"CNOP",830009403,2022,40,"oui"]
[840013833,"CNOP",840013833,2022,40,"non"]
[860786896,"CNOP",860786896,2022,40,"oui"]
[860787373,"CNOP",860787373,2022,40,"oui"]
[880003934,"CNOP",880003934,2022,40,"oui"]
[910006485,"CNOP",910006485,2022,40,"oui"]
[910014075,"CNOP",910014075,2022,40,"oui"]
[920012275,"CNOP",920012275,2022,40,"oui"]
[920020096,"CNOP",920020096,2022,40,"oui"]
[940008667,"CNOP",940008667,2022,40,"oui"]
[940013626,"CNOP",940013626,2022,40,"oui"]
[950006635,"CNOP",950006635,2022,40,"oui"]
[970106332,"CNOP",970106332,2022,40,"oui"]
[null,"CNOP",null,2022,40,"oui"]
[70000070,"HOSPDIRECTFR",70000070,2022,40,"oui"]
[130809015,"HOSPDIRECTFR",130809015,2022,40,"oui"]
[240000091,"HOSPDIRECTFR",240000091,2022,40,"oui"]
[380000091,"HOSPDIRECTFR",380000091,2022,40,"oui"]
[390000222,"HOSPDIRECTFR",390000222,2022,40,"oui"]
[540001104,"HOSPDIRECTFR",540001104,2022,40,"oui"]
[640780649,"HOSPDIRECTFR",640780649,2022,40,"oui"]
[710978156,"HOSPDIRECTFR",710978156,2022,40,"oui"]
[760000042,"HOSPDIRECTFR",760000042,2022,40,"oui"]
[790000376,"HOSPDIRECTFR",790000376,2022,40,"oui"]
[970100111,"HOSPDIRECTFR",970100111,2022,40,"oui"]
[20003414,"PHARMDIRECTFR",20003414,2022,40,"oui"]
[20011243,"PHARMDIRECTFR",20011243,2022,40,"oui"]
[60004173,"PHARMDIRECTFR",60004173,2022,40,"oui"]
[80002074,"PHARMDIRECTFR",80002074,2022,40,"oui"]
[100002740,"PHARMDIRECTFR",100002740,2022,40,"oui"]
[120002811,"PHARMDIRECTFR",120002811,2022,40,"oui"]
[130026867,"PHARMDIRECTFR",130026867,2022,40,"oui"]
[130031321,"PHARMDIRECTFR",130031321,2022,40,"oui"]
[130033251,"PHARMDIRECTFR",130033251,2022,40,"oui"]
[140010737,"PHARMDIRECTFR",140010737,2022,40,"oui"]
[170013874,"PHARMDIRECTFR",170013874,2022,40,"oui"]
[190008037,"PHARMDIRECTFR",190008037,2022,40,"oui"]
[210007035,"PHARMDIRECTFR",210007035,2022,40,"oui"]
[230001513,"PHARMDIRECTFR",230001513,2022,40,"oui"]
[250013463,"PHARMDIRECTFR",250013463,2022,40,"oui"]
[260010962,"PHARMDIRECTFR",260010962,2022,40,"oui"]
[270021280,"PHARMDIRECTFR",270021280,2022,40,"oui"]
[290010735,"PHARMDIRECTFR",290010735,2022,40,"oui"]
[290014398,"PHARMDIRECTFR",290014398,2022,40,"oui"]
[300007143,"PHARMDIRECTFR",300007143,2022,40,"oui"]
[310007380,"PHARMDIRECTFR",310007380,2022,40,"oui"]
[310011564,"PHARMDIRECTFR",310011564,2022,40,"oui"]
[330040577,"PHARMDIRECTFR",330040577,2022,40,"oui"]
[330044843,"PHARMDIRECTFR",330044843,2022,40,"oui"]
[330049677,"PHARMDIRECTFR",330049677,2022,40,"oui"]
[340007996,"PHARMDIRECTFR",340007996,2022,40,"oui"]
[340793264,"PHARMDIRECTFR",340793264,2022,40,"oui"]
[340794924,"PHARMDIRECTFR",340794924,2022,40,"oui"]
[350000105,"PHARMDIRECTFR",350000105,2022,40,"oui"]
[350046165,"PHARMDIRECTFR",350046165,2022,40,"oui"]
[370006694,"PHARMDIRECTFR",370006694,2022,40,"oui"]
[380005132,"PHARMDIRECTFR",380005132,2022,40,"oui"]
[390003291,"PHARMDIRECTFR",390003291,2022,40,"oui"]
[400007423,"PHARMDIRECTFR",400007423,2022,40,"oui"]
[410003917,"PHARMDIRECTFR",410003917,2022,40,"oui"]
[420006215,"PHARMDIRECTFR",420006215,2022,40,"oui"]
[440014686,"PHARMDIRECTFR",440014686,2022,40,"oui"]
[440046670,"PHARMDIRECTFR",440046670,2022,40,"oui"]
[460003072,"PHARMDIRECTFR",460003072,2022,40,"oui"]
[490533304,"PHARMDIRECTFR",490533304,2022,40,"oui"]
[500010863,"PHARMDIRECTFR",500010863,2022,40,"oui"]
[510018690,"PHARMDIRECTFR",510018690,2022,40,"oui"]
[530030576,"PHARMDIRECTFR",530030576,2022,40,"oui"]
[540009511,"PHARMDIRECTFR",540009511,2022,40,"oui"]
[560020711,"PHARMDIRECTFR",560020711,2022,40,"oui"]
[570018762,"PHARMDIRECTFR",570018762,2022,40,"oui"]
[580001741,"PHARMDIRECTFR",580001741,2022,40,"oui"]
[590012704,"PHARMDIRECTFR",590012704,2022,40,"oui"]
[590019956,"PHARMDIRECTFR",590019956,2022,40,"oui"]
[590025052,"PHARMDIRECTFR",590025052,2022,40,"oui"]
[590030607,"PHARMDIRECTFR",590030607,2022,40,"oui"]
[600006837,"PHARMDIRECTFR",600006837,2022,40,"oui"]
[620012161,"PHARMDIRECTFR",620012161,2022,40,"oui"]
[620016980,"PHARMDIRECTFR",620016980,2022,40,"oui"]
[630008233,"PHARMDIRECTFR",630008233,2022,40,"oui"]
[640012563,"PHARMDIRECTFR",640012563,2022,40,"oui"]
[670006386,"PHARMDIRECTFR",670006386,2022,40,"oui"]
[670009471,"PHARMDIRECTFR",670009471,2022,40,"oui"]
[680011020,"PHARMDIRECTFR",680011020,2022,40,"oui"]
[690014667,"PHARMDIRECTFR",690014667,2022,40,"oui"]
[690020755,"PHARMDIRECTFR",690020755,2022,40,"oui"]
[700003064,"PHARMDIRECTFR",700003064,2022,40,"oui"]
[710007741,"PHARMDIRECTFR",710007741,2022,40,"oui"]
[740004015,"PHARMDIRECTFR",740004015,2022,40,"oui"]
[740006663,"PHARMDIRECTFR",740006663,2022,40,"oui"]
[750022550,"PHARMDIRECTFR",750022550,2022,40,"oui"]
[760016121,"PHARMDIRECTFR",760016121,2022,40,"oui"]
[760022657,"PHARMDIRECTFR",760022657,2022,40,"oui"]
[770006625,"PHARMDIRECTFR",770006625,2022,40,"oui"]
[770011476,"PHARMDIRECTFR",770011476,2022,40,"oui"]
[790010672,"PHARMDIRECTFR",790010672,2022,40,"oui"]
[800011827,"PHARMDIRECTFR",800011827,2022,40,"oui"]
[810005207,"PHARMDIRECTFR",810005207,2022,40,"oui"]
[830005781,"PHARMDIRECTFR",830005781,2022,40,"oui"]
[830011755,"PHARMDIRECTFR",830011755,2022,40,"oui"]
[840010235,"PHARMDIRECTFR",840010235,2022,40,"oui"]
[850015041,"PHARMDIRECTFR",850015041,2022,40,"oui"]
[870011210,"PHARMDIRECTFR",870011210,2022,40,"oui"]
[880003553,"PHARMDIRECTFR",880003553,2022,40,"oui"]
[890003932,"PHARMDIRECTFR",890003932,2022,40,"oui"]
[910009000,"PHARMDIRECTFR",910009000,2022,40,"oui"]
[930009121,"PHARMDIRECTFR",930009121,2022,40,"oui"]
[940011042,"PHARMDIRECTFR",940011042,2022,40,"oui"]
[940016413,"PHARMDIRECTFR",940016413,2022,40,"oui"]
[950010132,"PHARMDIRECTFR",950010132,2022,40,"oui"]
[970405536,"PHARMDIRECTFR",970405536,2022,40,"oui"]
[970464517,"PHARMDIRECTFR",970464517,2022,40,"oui"]
[970465068,"PHARMDIRECTFR",970465068,2022,40,"oui"]
[10003333,"CNOP",10003333,2022,39,"oui"]
[20007712,"CNOP",20007712,2022,39,"oui"]
[30002190,"CNOP",30002190,2022,39,"oui"]
[60004280,"CNOP",60004280,2022,39,"oui"]
[70002357,"CNOP",70002357,2022,39,"oui"]
[90000761,"CNOP",90000761,2022,39,"oui"]
[100002013,"CNOP",100002013,2022,39,"oui"]
[110790896,"CNOP",110790896,2022,39,"oui"]
[130013931,"CNOP",130013931,2022,39,"oui"]
[130029416,"CNOP",130029416,2022,39,"oui"]
[130032972,"CNOP",130032972,2022,39,"oui"]
[140010471,"CNOP",140010471,2022,39,"oui"]
[160011466,"CNOP",160011466,2022,39,"oui"]
[170012462,"CNOP",170012462,2022,39,"oui"]
[180002974,"CNOP",180002974,2022,39,"oui"]
[210005120,"CNOP",210005120,2022,39,"oui"]
[210006003,"CNOP",210006003,2022,39,"oui"]
[220011449,"CNOP",220011449,2022,39,"oui"]
[230001760,"CNOP",230001760,2022,39,"oui"]
[240011684,"CNOP",240011684,2022,39,"oui"]
[250012994,"CNOP",250012994,2022,39,"oui"]
[260012075,"CNOP",260012075,2022,39,"oui"]
[290010883,"CNOP",290010883,2022,39,"oui"]
[290012657,"CNOP",290012657,2022,39,"oui"]
["2A0001434","CNOP","2A0001434",2022,39,"non"]
[300008174,"CNOP",300008174,2022,39,"oui"]
[310006564,"CNOP",310006564,2022,39,"oui"]
[310015177,"CNOP",310015177,2022,39,"oui"]
[320001852,"CNOP",320001852,2022,39,"oui"]
[330042847,"CNOP",330042847,2022,39,"oui"]
[340793991,"CNOP",340793991,2022,39,"oui"]
[350019345,"CNOP",350019345,2022,39,"oui"]
[350021911,"CNOP",350021911,2022,39,"oui"]
[360003164,"CNOP",360003164,2022,39,"oui"]
[370007742,"CNOP",370007742,2022,39,"oui"]
[380008573,"CNOP",380008573,2022,39,"oui"]
[380011403,"CNOP",380011403,2022,39,"non"]
[400010450,"CNOP",400010450,2022,39,"oui"]
[420003212,"CNOP",420003212,2022,39,"oui"]
[420007726,"CNOP",420007726,2022,39,"oui"]
[440014579,"CNOP",440014579,2022,39,"oui"]
[440016814,"CNOP",440016814,2022,39,"oui"]
[440037430,"CNOP",440037430,2022,39,"oui"]
[450015714,"CNOP",450015714,2022,39,"oui"]
[460004104,"CNOP",460004104,2022,39,"oui"]
[480782747,"CNOP",480782747,2022,39,"oui"]
[490534237,"CNOP",490534237,2022,39,"oui"]
[500011606,"CNOP",500011606,2022,39,"oui"]
[510020381,"CNOP",510020381,2022,39,"oui"]
[530030469,"CNOP",530030469,2022,39,"oui"]
[540016680,"CNOP",540016680,2022,39,"oui"]
[550001416,"CNOP",550001416,2022,39,"oui"]
[560018624,"CNOP",560018624,2022,39,"oui"]
[580002277,"CNOP",580002277,2022,39,"oui"]
[590009734,"CNOP",590009734,2022,39,"oui"]
[590014486,"CNOP",590014486,2022,39,"oui"]
[590015301,"CNOP",590015301,2022,39,"oui"]
[590022323,"CNOP",590022323,2022,39,"oui"]
[590025755,"CNOP",590025755,2022,39,"oui"]
[590028882,"CNOP",590028882,2022,39,"oui"]
[600005102,"CNOP",600005102,2022,39,"oui"]
[600010367,"CNOP",600010367,2022,39,"oui"]
[610786261,"CNOP",610786261,2022,39,"oui"]
[620006676,"CNOP",620006676,2022,39,"oui"]
[620012997,"CNOP",620012997,2022,39,"oui"]
[620016493,"CNOP",620016493,2022,39,"oui"]
[630002657,"CNOP",630002657,2022,39,"oui"]
[630004851,"CNOP",630004851,2022,39,"oui"]
[640010062,"CNOP",640010062,2022,39,"oui"]
[650002801,"CNOP",650002801,2022,39,"oui"]
[660788191,"CNOP",660788191,2022,39,"non"]
[670009752,"CNOP",670009752,2022,39,"oui"]
[680008984,"CNOP",680008984,2022,39,"oui"]
[690007687,"CNOP",690007687,2022,39,"oui"]
[690012935,"CNOP",690012935,2022,39,"oui"]
[690021456,"CNOP",690021456,2022,39,"oui"]
[700002843,"CNOP",700002843,2022,39,"oui"]
[710003492,"CNOP",710003492,2022,39,"oui"]
[710006412,"CNOP",710006412,2022,39,"oui"]
[730007051,"CNOP",730007051,2022,39,"oui"]
[740004130,"CNOP",740004130,2022,39,"oui"]
[740005913,"CNOP",740005913,2022,39,"oui"]
[750012965,"CNOP",750012965,2022,39,"oui"]
[750028573,"CNOP",750028573,2022,39,"oui"]
[750035073,"CNOP",750035073,2022,39,"oui"]
[760015032,"CNOP",760015032,2022,39,"oui"]
[760022301,"CNOP",760022301,2022,39,"oui"]
[770008191,"CNOP",770008191,2022,39,"oui"]
[770012177,"CNOP",770012177,2022,39,"oui"]
[780008215,"CNOP",780008215,2022,39,"oui"]
[780011490,"CNOP",780011490,2022,39,"oui"]
[800005464,"CNOP",800005464,2022,39,"non"]
[800013245,"CNOP",800013245,2022,39,"oui"]
[810005223,"CNOP",810005223,2022,39,"oui"]
[840008106,"CNOP",840008106,2022,39,"oui"]
[840014559,"CNOP",840014559,2022,39,"oui"]
[850019779,"CNOP",850019779,2022,39,"oui"]
[860787480,"CNOP",860787480,2022,39,"oui"]
[890004534,"CNOP",890004534,2022,39,"oui"]
[900001397,"CNOP",900001397,2022,39,"oui"]
[910008283,"CNOP",910008283,2022,39,"oui"]
[920016011,"CNOP",920016011,2022,39,"oui"]
[930010590,"CNOP",930010590,2022,39,"non"]
[940007867,"CNOP",940007867,2022,39,"oui"]
[940011943,"CNOP",940011943,2022,39,"oui"]
[950006007,"CNOP",950006007,2022,39,"oui"]
[970107744,"CNOP",970107744,2022,39,"oui"]
[970465324,"CNOP",970465324,2022,39,"oui"]
[130784713,"HOSPDIRECTFR",130784713,2022,39,"oui"]
[230000952,"HOSPDIRECTFR",230000952,2022,39,"oui"]
[310780259,"HOSPDIRECTFR",310780259,2022,39,"oui"]
[380780288,"HOSPDIRECTFR",380780288,2022,39,"oui"]
[510000516,"HOSPDIRECTFR",510000516,2022,39,"oui"]
[590000782,"HOSPDIRECTFR",590000782,2022,39,"oui"]
[630000446,"HOSPDIRECTFR",630000446,2022,39,"oui"]
[680000312,"HOSPDIRECTFR",680000312,2022,39,"non"]
[720001437,"HOSPDIRECTFR",720001437,2022,39,"oui"]
[830200507,"HOSPDIRECTFR",830200507,2022,39,"oui"]
[950000307,"HOSPDIRECTFR",950000307,2022,39,"oui"]
[10005072,"PHARMDIRECTFR",10005072,2022,39,"oui"]
[20011490,"PHARMDIRECTFR",20011490,2022,39,"oui"]
[60012291,"PHARMDIRECTFR",60012291,2022,39,"oui"]
[70002423,"PHARMDIRECTFR",70002423,2022,39,"oui"]
[90001090,"PHARMDIRECTFR",90001090,2022,39,"oui"]
[130014442,"PHARMDIRECTFR",130014442,2022,39,"oui"]
[130025885,"PHARMDIRECTFR",130025885,2022,39,"oui"]
[130036551,"PHARMDIRECTFR",130036551,2022,39,"oui"]
[140010976,"PHARMDIRECTFR",140010976,2022,39,"oui"]
[160010278,"PHARMDIRECTFR",160010278,2022,39,"oui"]
[170014245,"PHARMDIRECTFR",170014245,2022,39,"oui"]
[180005621,"PHARMDIRECTFR",180005621,2022,39,"oui"]
[230002164,"PHARMDIRECTFR",230002164,2022,39,"oui"]
[240012070,"PHARMDIRECTFR",240012070,2022,39,"oui"]
[250013042,"PHARMDIRECTFR",250013042,2022,39,"oui"]
[270018542,"PHARMDIRECTFR",270018542,2022,39,"oui"]
[280002973,"PHARMDIRECTFR",280002973,2022,39,"oui"]
[290013481,"PHARMDIRECTFR",290013481,2022,39,"oui"]
[300004140,"PHARMDIRECTFR",300004140,2022,39,"oui"]
[300007713,"PHARMDIRECTFR",300007713,2022,39,"oui"]
[310012927,"PHARMDIRECTFR",310012927,2022,39,"oui"]
[310020110,"PHARMDIRECTFR",310020110,2022,39,"oui"]
[330044363,"PHARMDIRECTFR",330044363,2022,39,"oui"]
[330044876,"PHARMDIRECTFR",330044876,2022,39,"oui"]
[330051541,"PHARMDIRECTFR",330051541,2022,39,"oui"]
[340792498,"PHARMDIRECTFR",340792498,2022,39,"oui"]
[340793389,"PHARMDIRECTFR",340793389,2022,39,"oui"]
[350019428,"PHARMDIRECTFR",350019428,2022,39,"oui"]
[350021044,"PHARMDIRECTFR",350021044,2022,39,"oui"]
[360001671,"PHARMDIRECTFR",360001671,2022,39,"oui"]
[370007510,"PHARMDIRECTFR",370007510,2022,39,"oui"]
[390002145,"PHARMDIRECTFR",390002145,2022,39,"oui"]
[400008652,"PHARMDIRECTFR",400008652,2022,39,"oui"]
[400009833,"PHARMDIRECTFR",400009833,2022,39,"oui"]
[430003517,"PHARMDIRECTFR",430003517,2022,39,"oui"]
[440015881,"PHARMDIRECTFR",440015881,2022,39,"oui"]
[440024206,"PHARMDIRECTFR",440024206,2022,39,"oui"]
[450006945,"PHARMDIRECTFR",450006945,2022,39,"oui"]
[480782960,"PHARMDIRECTFR",480782960,2022,39,"oui"]
[500010673,"PHARMDIRECTFR",500010673,2022,39,"oui"]
[500012067,"PHARMDIRECTFR",500012067,2022,39,"oui"]
[520001702,"PHARMDIRECTFR",520001702,2022,39,"oui"]
[540018462,"PHARMDIRECTFR",540018462,2022,39,"oui"]
[560019143,"PHARMDIRECTFR",560019143,2022,39,"oui"]
[570017061,"PHARMDIRECTFR",570017061,2022,39,"oui"]
[570020842,"PHARMDIRECTFR",570020842,2022,39,"oui"]
[590016986,"PHARMDIRECTFR",590016986,2022,39,"oui"]
[590018057,"PHARMDIRECTFR",590018057,2022,39,"oui"]
[590023800,"PHARMDIRECTFR",590023800,2022,39,"oui"]
[590030300,"PHARMDIRECTFR",590030300,2022,39,"oui"]
[620005645,"PHARMDIRECTFR",620005645,2022,39,"oui"]
[620010843,"PHARMDIRECTFR",620010843,2022,39,"oui"]
[620017111,"PHARMDIRECTFR",620017111,2022,39,"oui"]
[640008280,"PHARMDIRECTFR",640008280,2022,39,"oui"]
[640013041,"PHARMDIRECTFR",640013041,2022,39,"oui"]
[660789454,"PHARMDIRECTFR",660789454,2022,39,"oui"]
[670011170,"PHARMDIRECTFR",670011170,2022,39,"oui"]
[690008800,"PHARMDIRECTFR",690008800,2022,39,"oui"]
[690013651,"PHARMDIRECTFR",690013651,2022,39,"oui"]
[690019716,"PHARMDIRECTFR",690019716,2022,39,"oui"]
[710002361,"PHARMDIRECTFR",710002361,2022,39,"oui"]
[720013986,"PHARMDIRECTFR",720013986,2022,39,"oui"]
[730008083,"PHARMDIRECTFR",730008083,2022,39,"oui"]
[750011751,"PHARMDIRECTFR",750011751,2022,39,"oui"]
[760013383,"PHARMDIRECTFR",760013383,2022,39,"oui"]
[760019471,"PHARMDIRECTFR",760019471,2022,39,"oui"]
[760021584,"PHARMDIRECTFR",760021584,2022,39,"oui"]
[770007144,"PHARMDIRECTFR",770007144,2022,39,"oui"]
[780014031,"PHARMDIRECTFR",780014031,2022,39,"oui"]
[790011126,"PHARMDIRECTFR",790011126,2022,39,"oui"]
[800013260,"PHARMDIRECTFR",800013260,2022,39,"oui"]
[820002301,"PHARMDIRECTFR",820002301,2022,39,"oui"]
[830008736,"PHARMDIRECTFR",830008736,2022,39,"oui"]
[830020673,"PHARMDIRECTFR",830020673,2022,39,"oui"]
[840014021,"PHARMDIRECTFR",840014021,2022,39,"oui"]
[850015132,"PHARMDIRECTFR",850015132,2022,39,"oui"]
[870011624,"PHARMDIRECTFR",870011624,2022,39,"oui"]
[880004601,"PHARMDIRECTFR",880004601,2022,39,"oui"]
[910009455,"PHARMDIRECTFR",910009455,2022,39,"oui"]
[920016292,"PHARMDIRECTFR",920016292,2022,39,"oui"]
[930012067,"PHARMDIRECTFR",930012067,2022,39,"oui"]
[940013931,"PHARMDIRECTFR",940013931,2022,39,"oui"]
[950005900,"PHARMDIRECTFR",950005900,2022,39,"oui"]
[970404125,"PHARMDIRECTFR",970404125,2022,39,"oui"]
[970463816,"PHARMDIRECTFR",970463816,2022,39,"oui"]
[970464871,"PHARMDIRECTFR",970464871,2022,39,"oui"]
[970465704,"PHARMDIRECTFR",970465704,2022,39,"oui"]
[10004786,"CNOP",10004786,2022,38,"oui"]
[30002026,"CNOP",30002026,2022,38,"oui"]
[30005631,"CNOP",30005631,2022,38,"oui"]
[60011343,"CNOP",60011343,2022,38,"oui"]
[90000993,"CNOP",90000993,2022,38,"oui"]
[100002864,"CNOP",100002864,2022,38,"oui"]
[120003447,"CNOP",120003447,2022,38,"oui"]
[120003876,"CNOP",120003876,2022,38,"oui"]
[130028616,"CNOP",130028616,2022,38,"oui"]
[140009952,"CNOP",140009952,2022,38,"oui"]
[140010745,"CNOP",140010745,2022,38,"oui"]
[170010896,"CNOP",170010896,2022,38,"oui"]
[170014740,"CNOP",170014740,2022,38,"oui"]
[180006074,"CNOP",180006074,2022,38,"oui"]
[210003307,"CNOP",210003307,2022,38,"oui"]
[210007233,"CNOP",210007233,2022,38,"oui"]
[220011944,"CNOP",220011944,2022,38,"oui"]
[240008201,"CNOP",240008201,2022,38,"oui"]
[240013375,"CNOP",240013375,2022,38,"oui"]
[260008016,"CNOP",260008016,2022,38,"oui"]
[270020431,"CNOP",270020431,2022,38,"oui"]
[290011741,"CNOP",290011741,2022,38,"oui"]
[290013804,"CNOP",290013804,2022,38,"oui"]
["2B0002661","CNOP","2B0002661",2022,38,"oui"]
[310007810,"CNOP",310007810,2022,38,"oui"]
[310009576,"CNOP",310009576,2022,38,"non"]
[320001373,"CNOP",320001373,2022,38,"oui"]
[330042292,"CNOP",330042292,2022,38,"oui"]
[330048646,"CNOP",330048646,2022,38,"oui"]
[340792688,"CNOP",340792688,2022,38,"oui"]
[350021028,"CNOP",350021028,2022,38,"oui"]
[360003230,"CNOP",360003230,2022,38,"oui"]
[370006926,"CNOP",370006926,2022,38,"oui"]
[380003434,"CNOP",380003434,2022,38,"oui"]
[380012682,"CNOP",380012682,2022,38,"oui"]
[390004265,"CNOP",390004265,2022,38,"oui"]
[400009916,"CNOP",400009916,2022,38,"oui"]
[420007064,"CNOP",420007064,2022,38,"oui"]
[440014140,"CNOP",440014140,2022,38,"oui"]
[440015543,"CNOP",440015543,2022,38,"oui"]
[440017416,"CNOP",440017416,2022,38,"oui"]
[450016860,"CNOP",450016860,2022,38,"oui"]
[470003955,"CNOP",470003955,2022,38,"oui"]
[490532256,"CNOP",490532256,2022,38,"oui"]
[500010871,"CNOP",500010871,2022,38,"oui"]
[510018047,"CNOP",510018047,2022,38,"oui"]
[510020175,"CNOP",510020175,2022,38,"oui"]
[530030519,"CNOP",530030519,2022,38,"oui"]
[540018546,"CNOP",540018546,2022,38,"oui"]
[560019010,"CNOP",560019010,2022,38,"oui"]
[560022782,"CNOP",560022782,2022,38,"oui"]
[580001113,"CNOP",580001113,2022,38,"oui"]
[590011334,"CNOP",590011334,2022,38,"oui"]
[590015103,"CNOP",590015103,2022,38,"oui"]
[590018354,"CNOP",590018354,2022,38,"oui"]
[590023305,"CNOP",590023305,2022,38,"oui"]
[590029252,"CNOP",590029252,2022,38,"oui"]
[590032173,"CNOP",590032173,2022,38,"oui"]
[600005037,"CNOP",600005037,2022,38,"oui"]
[600007587,"CNOP",600007587,2022,38,"oui"]
[620007294,"CNOP",620007294,2022,38,"oui"]
[620009761,"CNOP",620009761,2022,38,"oui"]
[620014175,"CNOP",620014175,2022,38,"oui"]
[630003754,"CNOP",630003754,2022,38,"oui"]
[630003952,"CNOP",630003952,2022,38,"oui"]
[630008852,"CNOP",630008852,2022,38,"oui"]
[640010880,"CNOP",640010880,2022,38,"oui"]
[660789041,"CNOP",660789041,2022,38,"non"]
[670009117,"CNOP",670009117,2022,38,"oui"]
[680006764,"CNOP",680006764,2022,38,"oui"]
[690008370,"CNOP",690008370,2022,38,"oui"]
[690015722,"CNOP",690015722,2022,38,"oui"]
[690020516,"CNOP",690020516,2022,38,"oui"]
[700002413,"CNOP",700002413,2022,38,"oui"]
[710003377,"CNOP",710003377,2022,38,"oui"]
[720010313,"CNOP",720010313,2022,38,"oui"]
[720011121,"CNOP",720011121,2022,38,"oui"]
[730010154,"CNOP",730010154,2022,38,"oui"]
[750012601,"CNOP",750012601,2022,38,"oui"]
[750021784,"CNOP",750021784,2022,38,"oui"]
[750030553,"CNOP",750030553,2022,38,"oui"]
[750033284,"CNOP",750033284,2022,38,"oui"]
[760019703,"CNOP",760019703,2022,38,"oui"]
[760023002,"CNOP",760023002,2022,38,"oui"]
[770007631,"CNOP",770007631,2022,38,"oui"]
[770012441,"CNOP",770012441,2022,38,"non"]
[780009114,"CNOP",780009114,2022,38,"oui"]
[790010201,"CNOP",790010201,2022,38,"oui"]
[800007056,"CNOP",800007056,2022,38,"oui"]
[800014540,"CNOP",800014540,2022,38,"oui"]
[830009155,"CNOP",830009155,2022,38,"oui"]
[840008106,"CNOP",840008106,2022,38,"oui"]
[860786276,"CNOP",860786276,2022,38,"oui"]
[870011897,"CNOP",870011897,2022,38,"oui"]
[880002522,"CNOP",880002522,2022,38,"oui"]
[890006067,"CNOP",890006067,2022,38,"oui"]
[910005271,"CNOP",910005271,2022,38,"oui"]
[920013695,"CNOP",920013695,2022,38,"oui"]
[920021201,"CNOP",920021201,2022,38,"oui"]
[930012273,"CNOP",930012273,2022,38,"oui"]
[940009467,"CNOP",940009467,2022,38,"oui"]
[950006155,"CNOP",950006155,2022,38,"oui"]
[970103370,"CNOP",970103370,2022,38,"oui"]
[970464244,"CNOP",970464244,2022,38,"oui"]
[40780488,"HOSPDIRECTFR",40780488,2022,38,"oui"]
[180000200,"HOSPDIRECTFR",180000200,2022,38,"oui"]
["2A0002614","HOSPDIRECTFR","2A0002614",2022,38,"oui"]
[390000164,"HOSPDIRECTFR",390000164,2022,38,"oui"]
[500000237,"HOSPDIRECTFR",500000237,2022,38,"oui"]
[590000014,"HOSPDIRECTFR",590000014,2022,38,"oui"]
[640000436,"HOSPDIRECTFR",640000436,2022,38,"oui"]
[670000165,"HOSPDIRECTFR",670000165,2022,38,"oui"]
[760920603,"HOSPDIRECTFR",760920603,2022,38,"oui"]
[830215687,"HOSPDIRECTFR",830215687,2022,38,"oui"]
[920300266,"HOSPDIRECTFR",920300266,2022,38,"oui"]
[20007134,"PHARMDIRECTFR",20007134,2022,38,"oui"]
[20011813,"PHARMDIRECTFR",20011813,2022,38,"oui"]
[60007176,"PHARMDIRECTFR",60007176,2022,38,"oui"]
[60017910,"PHARMDIRECTFR",60017910,2022,38,"oui"]
[100002815,"PHARMDIRECTFR",100002815,2022,38,"oui"]
[130011315,"PHARMDIRECTFR",130011315,2022,38,"oui"]
[130025273,"PHARMDIRECTFR",130025273,2022,38,"oui"]
[130030422,"PHARMDIRECTFR",130030422,2022,38,"oui"]
[140010984,"PHARMDIRECTFR",140010984,2022,38,"oui"]
[160010401,"PHARMDIRECTFR",160010401,2022,38,"oui"]
[170012231,"PHARMDIRECTFR",170012231,2022,38,"oui"]
[210004271,"PHARMDIRECTFR",210004271,2022,38,"oui"]
[230002511,"PHARMDIRECTFR",230002511,2022,38,"oui"]
[240012484,"PHARMDIRECTFR",240012484,2022,38,"oui"]
[260003710,"PHARMDIRECTFR",260003710,2022,38,"oui"]
[270018591,"PHARMDIRECTFR",270018591,2022,38,"oui"]
[290011725,"PHARMDIRECTFR",290011725,2022,38,"oui"]
[290013085,"PHARMDIRECTFR",290013085,2022,38,"oui"]
["2B0003800","PHARMDIRECTFR","2B0003800",2022,38,"oui"]
[310009295,"PHARMDIRECTFR",310009295,2022,38,"oui"]
[310016142,"PHARMDIRECTFR",310016142,2022,38,"oui"]
[320002033,"PHARMDIRECTFR",320002033,2022,38,"oui"]
[330041914,"PHARMDIRECTFR",330041914,2022,38,"oui"]
[330049115,"PHARMDIRECTFR",330049115,2022,38,"oui"]
[330052390,"PHARMDIRECTFR",330052390,2022,38,"oui"]
[340792407,"PHARMDIRECTFR",340792407,2022,38,"oui"]
[340794742,"PHARMDIRECTFR",340794742,2022,38,"oui"]
[350020194,"PHARMDIRECTFR",350020194,2022,38,"oui"]
[350023735,"PHARMDIRECTFR",350023735,2022,38,"oui"]
[370006694,"PHARMDIRECTFR",370006694,2022,38,"oui"]
[380002972,"PHARMDIRECTFR",380002972,2022,38,"oui"]
[390002541,"PHARMDIRECTFR",390002541,2022,38,"oui"]
[400007753,"PHARMDIRECTFR",400007753,2022,38,"oui"]
[410001630,"PHARMDIRECTFR",410001630,2022,38,"oui"]
[440014686,"PHARMDIRECTFR",440014686,2022,38,"oui"]
[440015303,"PHARMDIRECTFR",440015303,2022,38,"oui"]
[450005400,"PHARMDIRECTFR",450005400,2022,38,"oui"]
[450016563,"PHARMDIRECTFR",450016563,2022,38,"oui"]
[490534146,"PHARMDIRECTFR",490534146,2022,38,"oui"]
[500010970,"PHARMDIRECTFR",500010970,2022,38,"oui"]
[510019540,"PHARMDIRECTFR",510019540,2022,38,"oui"]
[540011343,"PHARMDIRECTFR",540011343,2022,38,"oui"]
[560017014,"PHARMDIRECTFR",560017014,2022,38,"oui"]
[560022030,"PHARMDIRECTFR",560022030,2022,38,"oui"]
[570021030,"PHARMDIRECTFR",570021030,2022,38,"oui"]
[590014353,"PHARMDIRECTFR",590014353,2022,38,"oui"]
[590019386,"PHARMDIRECTFR",590019386,2022,38,"oui"]
[590021986,"PHARMDIRECTFR",590021986,2022,38,"oui"]
[590026233,"PHARMDIRECTFR",590026233,2022,38,"oui"]
[610786923,"PHARMDIRECTFR",610786923,2022,38,"oui"]
[620005264,"PHARMDIRECTFR",620005264,2022,38,"oui"]
[620014415,"PHARMDIRECTFR",620014415,2022,38,"oui"]
[640008231,"PHARMDIRECTFR",640008231,2022,38,"oui"]
[640012613,"PHARMDIRECTFR",640012613,2022,38,"oui"]
[660789454,"PHARMDIRECTFR",660789454,2022,38,"oui"]
[670008150,"PHARMDIRECTFR",670008150,2022,38,"oui"]
[670012236,"PHARMDIRECTFR",670012236,2022,38,"oui"]
[690010004,"PHARMDIRECTFR",690010004,2022,38,"oui"]
[690017637,"PHARMDIRECTFR",690017637,2022,38,"oui"]
[700002744,"PHARMDIRECTFR",700002744,2022,38,"oui"]
[720009208,"PHARMDIRECTFR",720009208,2022,38,"oui"]
[740004031,"PHARMDIRECTFR",740004031,2022,38,"oui"]
[750014490,"PHARMDIRECTFR",750014490,2022,38,"oui"]
[750036832,"PHARMDIRECTFR",750036832,2022,38,"oui"]
[760018234,"PHARMDIRECTFR",760018234,2022,38,"oui"]
[760021584,"PHARMDIRECTFR",760021584,2022,38,"oui"]
[770011146,"PHARMDIRECTFR",770011146,2022,38,"oui"]
[780004792,"PHARMDIRECTFR",780004792,2022,38,"oui"]
[790011126,"PHARMDIRECTFR",790011126,2022,38,"oui"]
[800013443,"PHARMDIRECTFR",800013443,2022,38,"oui"]
[810006916,"PHARMDIRECTFR",810006916,2022,38,"oui"]
[830009106,"PHARMDIRECTFR",830009106,2022,38,"oui"]
[830012134,"PHARMDIRECTFR",830012134,2022,38,"oui"]
[840013957,"PHARMDIRECTFR",840013957,2022,38,"oui"]
[850015447,"PHARMDIRECTFR",850015447,2022,38,"oui"]
[860787621,"PHARMDIRECTFR",860787621,2022,38,"oui"]
[890003502,"PHARMDIRECTFR",890003502,2022,38,"oui"]
[910005123,"PHARMDIRECTFR",910005123,2022,38,"oui"]
[910014026,"PHARMDIRECTFR",910014026,2022,38,"oui"]
[930016332,"PHARMDIRECTFR",930016332,2022,38,"oui"]
[940015076,"PHARMDIRECTFR",940015076,2022,38,"oui"]
[950015537,"PHARMDIRECTFR",950015537,2022,38,"oui"]
[970106522,"PHARMDIRECTFR",970106522,2022,38,"oui"]
[970464558,"PHARMDIRECTFR",970464558,2022,38,"oui"]
[970465282,"PHARMDIRECTFR",970465282,2022,38,"oui"]
[980500425,"PHARMDIRECTFR",980500425,2022,38,"oui"]
[20009064,"CNOP",20009064,2022,37,"oui"]
[30002794,"CNOP",30002794,2022,37,"oui"]
[60006947,"CNOP",60006947,2022,37,"non"]
[60014941,"CNOP",60014941,2022,37,"oui"]
[90000746,"CNOP",90000746,2022,37,"oui"]
[110790987,"CNOP",110790987,2022,37,"oui"]
[120003041,"CNOP",120003041,2022,37,"oui"]
[130012412,"CNOP",130012412,2022,37,"oui"]
[130033772,"CNOP",130033772,2022,37,"oui"]
[140010810,"CNOP",140010810,2022,37,"oui"]
[160011466,"CNOP",160011466,2022,37,"oui"]
[170014781,"CNOP",170014781,2022,37,"oui"]
[180007247,"CNOP",180007247,2022,37,"oui"]
[210004420,"CNOP",210004420,2022,37,"oui"]
[210005351,"CNOP",210005351,2022,37,"oui"]
[220010706,"CNOP",220010706,2022,37,"oui"]
[240008102,"CNOP",240008102,2022,37,"oui"]
[240012120,"CNOP",240012120,2022,37,"oui"]
[250010840,"CNOP",250010840,2022,37,"oui"]
[270020365,"CNOP",270020365,2022,37,"oui"]
[270021231,"CNOP",270021231,2022,37,"oui"]
[290011881,"CNOP",290011881,2022,37,"oui"]
[290013713,"CNOP",290013713,2022,37,"oui"]
[310008065,"CNOP",310008065,2022,37,"oui"]
[310010764,"CNOP",310010764,2022,37,"non"]
[310015664,"CNOP",310015664,2022,37,"oui"]
[330043381,"CNOP",330043381,2022,37,"oui"]
[330052275,"CNOP",330052275,2022,37,"non"]
[350019279,"CNOP",350019279,2022,37,"oui"]
[350021416,"CNOP",350021416,2022,37,"oui"]
[370006413,"CNOP",370006413,2022,37,"oui"]
[380003152,"CNOP",380003152,2022,37,"oui"]
[380005082,"CNOP",380005082,2022,37,"oui"]
[380010470,"CNOP",380010470,2022,37,"oui"]
[400009700,"CNOP",400009700,2022,37,"oui"]
[410001895,"CNOP",410001895,2022,37,"oui"]
[420007627,"CNOP",420007627,2022,37,"oui"]
[440015550,"CNOP",440015550,2022,37,"oui"]
[440017135,"CNOP",440017135,2022,37,"oui"]
[450004361,"CNOP",450004361,2022,37,"oui"]
[450013693,"CNOP",450013693,2022,37,"oui"]
[480782861,"CNOP",480782861,2022,37,"oui"]
[490533700,"CNOP",490533700,2022,37,"oui"]
[500010632,"CNOP",500010632,2022,37,"oui"]
[510019243,"CNOP",510019243,2022,37,"oui"]
[530030824,"CNOP",530030824,2022,37,"oui"]
[540014784,"CNOP",540014784,2022,37,"oui"]
[540017761,"CNOP",540017761,2022,37,"oui"]
[560016594,"CNOP",560016594,2022,37,"oui"]
[580001691,"CNOP",580001691,2022,37,"oui"]
[580002574,"CNOP",580002574,2022,37,"oui"]
[590011706,"CNOP",590011706,2022,37,"oui"]
[590015186,"CNOP",590015186,2022,37,"oui"]
[590023305,"CNOP",590023305,2022,37,"oui"]
[590025755,"CNOP",590025755,2022,37,"oui"]
[590028932,"CNOP",590028932,2022,37,"oui"]
[600005334,"CNOP",600005334,2022,37,"oui"]
[610786238,"CNOP",610786238,2022,37,"oui"]
[620004895,"CNOP",620004895,2022,37,"oui"]
[620008193,"CNOP",620008193,2022,37,"oui"]
[620012690,"CNOP",620012690,2022,37,"oui"]
[620017046,"CNOP",620017046,2022,37,"oui"]
[630004182,"CNOP",630004182,2022,37,"oui"]
[630006922,"CNOP",630006922,2022,37,"oui"]
[650001936,"CNOP",650001936,2022,37,"oui"]
[660788217,"CNOP",660788217,2022,37,"oui"]
[670009257,"CNOP",670009257,2022,37,"oui"]
[670010370,"CNOP",670010370,2022,37,"oui"]
[690007752,"CNOP",690007752,2022,37,"oui"]
[690013537,"CNOP",690013537,2022,37,"oui"]
[690017405,"CNOP",690017405,2022,37,"oui"]
[700003411,"CNOP",700003411,2022,37,"oui"]
[710004342,"CNOP",710004342,2022,37,"oui"]
[710007725,"CNOP",710007725,2022,37,"oui"]
[720010537,"CNOP",720010537,2022,37,"oui"]
[730009057,"CNOP",730009057,2022,37,"oui"]
[740007265,"CNOP",740007265,2022,37,"oui"]
[750015497,"CNOP",750015497,2022,37,"oui"]
[750024473,"CNOP",750024473,2022,37,"oui"]
[760013185,"CNOP",760013185,2022,37,"oui"]
[760017707,"CNOP",760017707,2022,37,"oui"]
[770004745,"CNOP",770004745,2022,37,"oui"]
[770010742,"CNOP",770010742,2022,37,"oui"]
[780005765,"CNOP",780005765,2022,37,"non"]
[780011490,"CNOP",780011490,2022,37,"oui"]
[780015194,"CNOP",780015194,2022,37,"oui"]
[790011365,"CNOP",790011365,2022,37,"oui"]
[810005066,"CNOP",810005066,2022,37,"oui"]
[830005930,"CNOP",830005930,2022,37,"oui"]
[830012233,"CNOP",830012233,2022,37,"oui"]
[850015785,"CNOP",850015785,2022,37,"oui"]
[870010295,"CNOP",870010295,2022,37,"oui"]
[870014230,"CNOP",870014230,2022,37,"oui"]
[890004732,"CNOP",890004732,2022,37,"oui"]
[910012780,"CNOP",910012780,2022,37,"oui"]
[920012275,"CNOP",920012275,2022,37,"oui"]
[920018694,"CNOP",920018694,2022,37,"oui"]
[940010226,"CNOP",940010226,2022,37,"oui"]
[940014640,"CNOP",940014640,2022,37,"oui"]
[950011726,"CNOP",950011726,2022,37,"oui"]
[950013227,"CNOP",950013227,2022,37,"oui"]
[40000911,"HOSPDIRECTFR",40000911,2022,37,"oui"]
[130002835,"HOSPDIRECTFR",130002835,2022,37,"oui"]
[180000176,"HOSPDIRECTFR",180000176,2022,37,"oui"]
["2A0002051","HOSPDIRECTFR","2A0002051",2022,37,"oui"]
[420010241,"HOSPDIRECTFR",420010241,2022,37,"oui"]
[450019732,"HOSPDIRECTFR",450019732,2022,37,"oui"]
[590000774,"HOSPDIRECTFR",590000774,2022,37,"oui"]
[690022009,"HOSPDIRECTFR",690022009,2022,37,"oui"]
[750300667,"HOSPDIRECTFR",750300667,2022,37,"oui"]
[780000386,"HOSPDIRECTFR",780000386,2022,37,"oui"]
[850000183,"HOSPDIRECTFR",850000183,2022,37,"oui"]
[10006104,"PHARMDIRECTFR",10006104,2022,37,"oui"]
[20011474,"PHARMDIRECTFR",20011474,2022,37,"oui"]
[40002552,"PHARMDIRECTFR",40002552,2022,37,"oui"]
[70001805,"PHARMDIRECTFR",70001805,2022,37,"oui"]
[110790375,"PHARMDIRECTFR",110790375,2022,37,"oui"]
[130010077,"PHARMDIRECTFR",130010077,2022,37,"oui"]
[130022437,"PHARMDIRECTFR",130022437,2022,37,"oui"]
[130028152,"PHARMDIRECTFR",130028152,2022,37,"oui"]
[140011073,"PHARMDIRECTFR",140011073,2022,37,"oui"]
[150001071,"PHARMDIRECTFR",150001071,2022,37,"oui"]
[170012561,"PHARMDIRECTFR",170012561,2022,37,"oui"]
[210006185,"PHARMDIRECTFR",210006185,2022,37,"oui"]
[240007740,"PHARMDIRECTFR",240007740,2022,37,"oui"]
[240012872,"PHARMDIRECTFR",240012872,2022,37,"oui"]
[250013042,"PHARMDIRECTFR",250013042,2022,37,"oui"]
[280001496,"PHARMDIRECTFR",280001496,2022,37,"oui"]
[290012350,"PHARMDIRECTFR",290012350,2022,37,"oui"]
[290013705,"PHARMDIRECTFR",290013705,2022,37,"oui"]
[300007226,"PHARMDIRECTFR",300007226,2022,37,"oui"]
[310009725,"PHARMDIRECTFR",310009725,2022,37,"oui"]
[310015094,"PHARMDIRECTFR",310015094,2022,37,"oui"]
[330038845,"PHARMDIRECTFR",330038845,2022,37,"oui"]
[330042664,"PHARMDIRECTFR",330042664,2022,37,"oui"]
[330050527,"PHARMDIRECTFR",330050527,2022,37,"oui"]
[330052325,"PHARMDIRECTFR",330052325,2022,37,"oui"]
[340792852,"PHARMDIRECTFR",340792852,2022,37,"oui"]
[340794254,"PHARMDIRECTFR",340794254,2022,37,"oui"]
[350019105,"PHARMDIRECTFR",350019105,2022,37,"oui"]
[360001523,"PHARMDIRECTFR",360001523,2022,37,"oui"]
[370007445,"PHARMDIRECTFR",370007445,2022,37,"oui"]
[380011536,"PHARMDIRECTFR",380011536,2022,37,"oui"]
[390004174,"PHARMDIRECTFR",390004174,2022,37,"oui"]
[400009403,"PHARMDIRECTFR",400009403,2022,37,"oui"]
[420007825,"PHARMDIRECTFR",420007825,2022,37,"oui"]
[440015956,"PHARMDIRECTFR",440015956,2022,37,"oui"]
[440018158,"PHARMDIRECTFR",440018158,2022,37,"oui"]
[450015912,"PHARMDIRECTFR",450015912,2022,37,"oui"]
[470009283,"PHARMDIRECTFR",470009283,2022,37,"oui"]
[500010756,"PHARMDIRECTFR",500010756,2022,37,"oui"]
[510018591,"PHARMDIRECTFR",510018591,2022,37,"oui"]
[540009511,"PHARMDIRECTFR",540009511,2022,37,"oui"]
[560015745,"PHARMDIRECTFR",560015745,2022,37,"oui"]
[560021412,"PHARMDIRECTFR",560021412,2022,37,"oui"]
[570020511,"PHARMDIRECTFR",570020511,2022,37,"oui"]
[580002962,"PHARMDIRECTFR",580002962,2022,37,"oui"]
[590013272,"PHARMDIRECTFR",590013272,2022,37,"oui"]
[590021804,"PHARMDIRECTFR",590021804,2022,37,"oui"]
[590025607,"PHARMDIRECTFR",590025607,2022,37,"oui"]
[590031472,"PHARMDIRECTFR",590031472,2022,37,"oui"]
[620005165,"PHARMDIRECTFR",620005165,2022,37,"oui"]
[620014126,"PHARMDIRECTFR",620014126,2022,37,"oui"]
[630002939,"PHARMDIRECTFR",630002939,2022,37,"oui"]
[640007944,"PHARMDIRECTFR",640007944,2022,37,"oui"]
[660788647,"PHARMDIRECTFR",660788647,2022,37,"oui"]
[670008523,"PHARMDIRECTFR",670008523,2022,37,"oui"]
[670011337,"PHARMDIRECTFR",670011337,2022,37,"oui"]
[690012752,"PHARMDIRECTFR",690012752,2022,37,"oui"]
[690019633,"PHARMDIRECTFR",690019633,2022,37,"oui"]
[710004797,"PHARMDIRECTFR",710004797,2022,37,"oui"]
[710007147,"PHARMDIRECTFR",710007147,2022,37,"oui"]
[740005525,"PHARMDIRECTFR",740005525,2022,37,"oui"]
[750013260,"PHARMDIRECTFR",750013260,2022,37,"oui"]
[750023806,"PHARMDIRECTFR",750023806,2022,37,"oui"]
[760013151,"PHARMDIRECTFR",760013151,2022,37,"oui"]
[760021022,"PHARMDIRECTFR",760021022,2022,37,"oui"]
[770008894,"PHARMDIRECTFR",770008894,2022,37,"oui"]
[780005674,"PHARMDIRECTFR",780005674,2022,37,"oui"]
[790010144,"PHARMDIRECTFR",790010144,2022,37,"oui"]
[800014425,"PHARMDIRECTFR",800014425,2022,37,"oui"]
[810007153,"PHARMDIRECTFR",810007153,2022,37,"oui"]
[830005096,"PHARMDIRECTFR",830005096,2022,37,"oui"]
[830009551,"PHARMDIRECTFR",830009551,2022,37,"oui"]
[850014515,"PHARMDIRECTFR",850014515,2022,37,"oui"]
[860786615,"PHARMDIRECTFR",860786615,2022,37,"oui"]
[860787357,"PHARMDIRECTFR",860787357,2022,37,"oui"]
[890005952,"PHARMDIRECTFR",890005952,2022,37,"oui"]
[910012343,"PHARMDIRECTFR",910012343,2022,37,"oui"]
[920010980,"PHARMDIRECTFR",920010980,2022,37,"oui"]
[930007703,"PHARMDIRECTFR",930007703,2022,37,"oui"]
[940016462,"PHARMDIRECTFR",940016462,2022,37,"oui"]
[950013540,"PHARMDIRECTFR",950013540,2022,37,"oui"]
[970301081,"PHARMDIRECTFR",970301081,2022,37,"oui"]
[970464194,"PHARMDIRECTFR",970464194,2022,37,"oui"]
[970465688,"PHARMDIRECTFR",970465688,2022,37,"oui"]
[10004034,"CNOP",10004034,2022,36,"oui"]
[20002457,"CNOP",20002457,2022,36,"oui"]
[50003573,"CNOP",50003573,2022,36,"oui"]
[60013612,"CNOP",60013612,2022,36,"oui"]
[70003470,"CNOP",70003470,2022,36,"oui"]
[100002831,"CNOP",100002831,2022,36,"oui"]
[120002563,"CNOP",120002563,2022,36,"oui"]
[130011281,"CNOP",130011281,2022,36,"oui"]
[130026354,"CNOP",130026354,2022,36,"oui"]
[130031057,"CNOP",130031057,2022,36,"oui"]
[160010179,"CNOP",160010179,2022,36,"oui"]
[160010989,"CNOP",160010989,2022,36,"oui"]
[170013411,"CNOP",170013411,2022,36,"oui"]
[180003782,"CNOP",180003782,2022,36,"oui"]
[210006706,"CNOP",210006706,2022,36,"oui"]
[220010748,"CNOP",220010748,2022,36,"oui"]
[220011647,"CNOP",220011647,2022,36,"oui"]
[240013706,"CNOP",240013706,2022,36,"oui"]
[250011376,"CNOP",250011376,2022,36,"oui"]
[260004213,"CNOP",260004213,2022,36,"oui"]
[280002320,"CNOP",280002320,2022,36,"oui"]
[290012616,"CNOP",290012616,2022,36,"oui"]
[290014414,"CNOP",290014414,2022,36,"oui"]
[300008513,"CNOP",300008513,2022,36,"oui"]
[310012943,"CNOP",310012943,2022,36,"oui"]
[310020094,"CNOP",310020094,2022,36,"oui"]
[330039462,"CNOP",330039462,2022,36,"oui"]
[330046111,"CNOP",330046111,2022,36,"oui"]
[350019881,"CNOP",350019881,2022,36,"oui"]
[350020178,"CNOP",350020178,2022,36,"oui"]
[360003842,"CNOP",360003842,2022,36,"oui"]
[370007627,"CNOP",370007627,2022,36,"oui"]
[380009787,"CNOP",380009787,2022,36,"oui"]
[390002061,"CNOP",390002061,2022,36,"oui"]
[400008637,"CNOP",400008637,2022,36,"oui"]
[420004574,"CNOP",420004574,2022,36,"oui"]
[430003053,"CNOP",430003053,2022,36,"oui"]
[440015089,"CNOP",440015089,2022,36,"oui"]
[440017184,"CNOP",440017184,2022,36,"oui"]
[440037331,"CNOP",440037331,2022,36,"oui"]
[470008236,"CNOP",470008236,2022,36,"oui"]
[490532231,"CNOP",490532231,2022,36,"oui"]
[490534054,"CNOP",490534054,2022,36,"oui"]
[510018211,"CNOP",510018211,2022,36,"oui"]
[510020324,"CNOP",510020324,2022,36,"oui"]
[530030857,"CNOP",530030857,2022,36,"oui"]
[540014867,"CNOP",540014867,2022,36,"oui"]
[560019812,"CNOP",560019812,2022,36,"oui"]
[570017764,"CNOP",570017764,2022,36,"oui"]
[580001931,"CNOP",580001931,2022,36,"oui"]
[590010153,"CNOP",590010153,2022,36,"oui"]
[590014833,"CNOP",590014833,2022,36,"oui"]
[590020053,"CNOP",590020053,2022,36,"oui"]
[590023032,"CNOP",590023032,2022,36,"oui"]
[590028353,"CNOP",590028353,2022,36,"oui"]
[600004501,"CNOP",600004501,2022,36,"oui"]
[600007017,"CNOP",600007017,2022,36,"oui"]
[610786329,"CNOP",610786329,2022,36,"oui"]
[620010363,"CNOP",620010363,2022,36,"oui"]
[620014191,"CNOP",620014191,2022,36,"oui"]
[620018077,"CNOP",620018077,2022,36,"oui"]
[630003135,"CNOP",630003135,2022,36,"oui"]
[640008090,"CNOP",640008090,2022,36,"oui"]
[640018776,"CNOP",640018776,2022,36,"oui"]
[650004302,"CNOP",650004302,2022,36,"oui"]
[660789207,"CNOP",660789207,2022,36,"oui"]
[680007044,"CNOP",680007044,2022,36,"oui"]
[690007752,"CNOP",690007752,2022,36,"oui"]
[690012786,"CNOP",690012786,2022,36,"oui"]
[690018387,"CNOP",690018387,2022,36,"oui"]
[710002692,"CNOP",710002692,2022,36,"oui"]
[710004474,"CNOP",710004474,2022,36,"oui"]
[710007162,"CNOP",710007162,2022,36,"oui"]
[730009032,"CNOP",730009032,2022,36,"oui"]
[740004510,"CNOP",740004510,2022,36,"oui"]
[750016412,"CNOP",750016412,2022,36,"oui"]
[750020760,"CNOP",750020760,2022,36,"oui"]
[750034167,"CNOP",750034167,2022,36,"oui"]
[760016253,"CNOP",760016253,2022,36,"oui"]
[760018721,"CNOP",760018721,2022,36,"oui"]
[760023002,"CNOP",760023002,2022,36,"oui"]
[770012714,"CNOP",770012714,2022,36,"oui"]
[780007696,"CNOP",780007696,2022,36,"oui"]
[780013744,"CNOP",780013744,2022,36,"oui"]
[800005183,"CNOP",800005183,2022,36,"oui"]
[810004127,"CNOP",810004127,2022,36,"oui"]
[830005575,"CNOP",830005575,2022,36,"oui"]
[830012357,"CNOP",830012357,2022,36,"oui"]
[850023920,"CNOP",850023920,2022,36,"oui"]
[860789205,"CNOP",860789205,2022,36,"oui"]
[880005152,"CNOP",880005152,2022,36,"oui"]
[890003684,"CNOP",890003684,2022,36,"oui"]
[910008903,"CNOP",910008903,2022,36,"oui"]
[920012275,"CNOP",920012275,2022,36,"oui"]
[930005483,"CNOP",930005483,2022,36,"oui"]
[940011331,"CNOP",940011331,2022,36,"oui"]
[940015712,"CNOP",940015712,2022,36,"oui"]
[950007773,"CNOP",950007773,2022,36,"oui"]
[970106647,"CNOP",970106647,2022,36,"oui"]
[60780756,"HOSPDIRECTFR",60780756,2022,36,"oui"]
[60789674,"HOSPDIRECTFR",60789674,2022,36,"oui"]
[190002139,"HOSPDIRECTFR",190002139,2022,36,"oui"]
["2B0004634","HOSPDIRECTFR","2B0004634",2022,36,"oui"]
[420000242,"HOSPDIRECTFR",420000242,2022,36,"oui"]
[500000450,"HOSPDIRECTFR",500000450,2022,36,"oui"]
[570000950,"HOSPDIRECTFR",570000950,2022,36,"oui"]
[660007477,"HOSPDIRECTFR",660007477,2022,36,"oui"]
[720015759,"HOSPDIRECTFR",720015759,2022,36,"oui"]
[770150027,"HOSPDIRECTFR",770150027,2022,36,"oui"]
[860784917,"HOSPDIRECTFR",860784917,2022,36,"oui"]
[930817333,"HOSPDIRECTFR",930817333,2022,36,"oui"]
[20010674,"PHARMDIRECTFR",20010674,2022,36,"oui"]
[30003446,"PHARMDIRECTFR",30003446,2022,36,"oui"]
[60007176,"PHARMDIRECTFR",60007176,2022,36,"oui"]
[100007962,"PHARMDIRECTFR",100007962,2022,36,"oui"]
[110790631,"PHARMDIRECTFR",110790631,2022,36,"oui"]
[130021751,"PHARMDIRECTFR",130021751,2022,36,"oui"]
[130027733,"PHARMDIRECTFR",130027733,2022,36,"oui"]
[140010984,"PHARMDIRECTFR",140010984,2022,36,"oui"]
[150002244,"PHARMDIRECTFR",150002244,2022,36,"oui"]
[170012397,"PHARMDIRECTFR",170012397,2022,36,"oui"]
[210005005,"PHARMDIRECTFR",210005005,2022,36,"oui"]
[230001794,"PHARMDIRECTFR",230001794,2022,36,"oui"]
[240012823,"PHARMDIRECTFR",240012823,2022,36,"oui"]
[260005764,"PHARMDIRECTFR",260005764,2022,36,"oui"]
[280002734,"PHARMDIRECTFR",280002734,2022,36,"oui"]
[290011725,"PHARMDIRECTFR",290011725,2022,36,"oui"]
[290013697,"PHARMDIRECTFR",290013697,2022,36,"oui"]
[300005014,"PHARMDIRECTFR",300005014,2022,36,"oui"]
[310009725,"PHARMDIRECTFR",310009725,2022,36,"oui"]
[310012075,"PHARMDIRECTFR",310012075,2022,36,"oui"]
[330038845,"PHARMDIRECTFR",330038845,2022,36,"oui"]
[330042862,"PHARMDIRECTFR",330042862,2022,36,"oui"]
[330046996,"PHARMDIRECTFR",330046996,2022,36,"oui"]
[330053174,"PHARMDIRECTFR",330053174,2022,36,"oui"]
[340793066,"PHARMDIRECTFR",340793066,2022,36,"oui"]
[340794668,"PHARMDIRECTFR",340794668,2022,36,"oui"]
[350020434,"PHARMDIRECTFR",350020434,2022,36,"oui"]
[360002067,"PHARMDIRECTFR",360002067,2022,36,"oui"]
[370008344,"PHARMDIRECTFR",370008344,2022,36,"oui"]
[380008417,"PHARMDIRECTFR",380008417,2022,36,"oui"]
[400007571,"PHARMDIRECTFR",400007571,2022,36,"oui"]
[400009783,"PHARMDIRECTFR",400009783,2022,36,"oui"]
[410007157,"PHARMDIRECTFR",410007157,2022,36,"oui"]
[440016327,"PHARMDIRECTFR",440016327,2022,36,"oui"]
[440026276,"PHARMDIRECTFR",440026276,2022,36,"oui"]
[470003807,"PHARMDIRECTFR",470003807,2022,36,"oui"]
[490533791,"PHARMDIRECTFR",490533791,2022,36,"oui"]
[500011184,"PHARMDIRECTFR",500011184,2022,36,"oui"]
[510021090,"PHARMDIRECTFR",510021090,2022,36,"oui"]
[520002056,"PHARMDIRECTFR",520002056,2022,36,"oui"]
[540015005,"PHARMDIRECTFR",540015005,2022,36,"oui"]
[560021347,"PHARMDIRECTFR",560021347,2022,36,"oui"]
[570020446,"PHARMDIRECTFR",570020446,2022,36,"oui"]
[590009882,"PHARMDIRECTFR",590009882,2022,36,"oui"]
[590016804,"PHARMDIRECTFR",590016804,2022,36,"oui"]
[590023602,"PHARMDIRECTFR",590023602,2022,36,"oui"]
[590030300,"PHARMDIRECTFR",590030300,2022,36,"oui"]
[600003917,"PHARMDIRECTFR",600003917,2022,36,"oui"]
[620011742,"PHARMDIRECTFR",620011742,2022,36,"oui"]
[620015842,"PHARMDIRECTFR",620015842,2022,36,"oui"]
[640008413,"PHARMDIRECTFR",640008413,2022,36,"oui"]
[640008991,"PHARMDIRECTFR",640008991,2022,36,"oui"]
[670006972,"PHARMDIRECTFR",670006972,2022,36,"oui"]
[670012137,"PHARMDIRECTFR",670012137,2022,36,"oui"]
[680009883,"PHARMDIRECTFR",680009883,2022,36,"oui"]
[690015870,"PHARMDIRECTFR",690015870,2022,36,"oui"]
[700001175,"PHARMDIRECTFR",700001175,2022,36,"oui"]
[710004581,"PHARMDIRECTFR",710004581,2022,36,"oui"]
[720010222,"PHARMDIRECTFR",720010222,2022,36,"oui"]
[740005160,"PHARMDIRECTFR",740005160,2022,36,"oui"]
[750019762,"PHARMDIRECTFR",750019762,2022,36,"oui"]
[750030272,"PHARMDIRECTFR",750030272,2022,36,"oui"]
[760015636,"PHARMDIRECTFR",760015636,2022,36,"oui"]
[770005791,"PHARMDIRECTFR",770005791,2022,36,"oui"]
[770011815,"PHARMDIRECTFR",770011815,2022,36,"oui"]
[780008090,"PHARMDIRECTFR",780008090,2022,36,"oui"]
[790010417,"PHARMDIRECTFR",790010417,2022,36,"oui"]
[810006304,"PHARMDIRECTFR",810006304,2022,36,"oui"]
[830006177,"PHARMDIRECTFR",830006177,2022,36,"oui"]
[830007712,"PHARMDIRECTFR",830007712,2022,36,"oui"]
[840014070,"PHARMDIRECTFR",840014070,2022,36,"oui"]
[850015520,"PHARMDIRECTFR",850015520,2022,36,"oui"]
[860786482,"PHARMDIRECTFR",860786482,2022,36,"oui"]
[870012440,"PHARMDIRECTFR",870012440,2022,36,"oui"]
[910007806,"PHARMDIRECTFR",910007806,2022,36,"oui"]
[910010396,"PHARMDIRECTFR",910010396,2022,36,"oui"]
[920018165,"PHARMDIRECTFR",920018165,2022,36,"oui"]
[930016886,"PHARMDIRECTFR",930016886,2022,36,"oui"]
[950012864,"PHARMDIRECTFR",950012864,2022,36,"oui"]
[970204947,"PHARMDIRECTFR",970204947,2022,36,"oui"]
[970406757,"PHARMDIRECTFR",970406757,2022,36,"oui"]
[970465217,"PHARMDIRECTFR",970465217,2022,36,"oui"]
[10003317,"CNOP",10003317,2022,35,"oui"]
[20002978,"CNOP",20002978,2022,35,"oui"]
[50003573,"CNOP",50003573,2022,35,"oui"]
[70003934,"CNOP",70003934,2022,35,"oui"]
[90001595,"CNOP",90001595,2022,35,"oui"]
[110790516,"CNOP",110790516,2022,35,"oui"]
[120003694,"CNOP",120003694,2022,35,"oui"]
[140009580,"CNOP",140009580,2022,35,"oui"]
[140010695,"CNOP",140010695,2022,35,"oui"]
[160011169,"CNOP",160011169,2022,35,"oui"]
[170013411,"CNOP",170013411,2022,35,"oui"]
[190007567,"CNOP",190007567,2022,35,"oui"]
[210006953,"CNOP",210006953,2022,35,"oui"]
[220011555,"CNOP",220011555,2022,35,"oui"]
[240012633,"CNOP",240012633,2022,35,"oui"]
[250010782,"CNOP",250010782,2022,35,"oui"]
[260008545,"CNOP",260008545,2022,35,"oui"]
[280003104,"CNOP",280003104,2022,35,"oui"]
[290013143,"CNOP",290013143,2022,35,"oui"]
["2B0002976","CNOP","2B0002976",2022,35,"oui"]
[310007125,"CNOP",310007125,2022,35,"oui"]
[310010624,"CNOP",310010624,2022,35,"oui"]
[330042292,"CNOP",330042292,2022,35,"oui"]
[330046145,"CNOP",330046145,2022,35,"oui"]
[340794262,"CNOP",340794262,2022,35,"oui"]
[370003105,"CNOP",370003105,2022,35,"oui"]
[370003436,"CNOP",370003436,2022,35,"oui"]
[380005736,"CNOP",380005736,2022,35,"oui"]
[380011353,"CNOP",380011353,2022,35,"oui"]
[410004097,"CNOP",410004097,2022,35,"oui"]
[420007064,"CNOP",420007064,2022,35,"oui"]
[440014074,"CNOP",440014074,2022,35,"oui"]
[440016863,"CNOP",440016863,2022,35,"oui"]
[450005772,"CNOP",450005772,2022,35,"oui"]
[460003882,"CNOP",460003882,2022,35,"oui"]
[480782861,"CNOP",480782861,2022,35,"oui"]
[490533478,"CNOP",490533478,2022,35,"oui"]
[510019011,"CNOP",510019011,2022,35,"oui"]
[520001082,"CNOP",520001082,2022,35,"oui"]
[540016565,"CNOP",540016565,2022,35,"oui"]
[540017241,"CNOP",540017241,2022,35,"oui"]
[560021610,"CNOP",560021610,2022,35,"oui"]
[580002095,"CNOP",580002095,2022,35,"oui"]
[580003291,"CNOP",580003291,2022,35,"oui"]
[590016572,"CNOP",590016572,2022,35,"oui"]
[590019857,"CNOP",590019857,2022,35,"oui"]
[590023933,"CNOP",590023933,2022,35,"oui"]
[590028437,"CNOP",590028437,2022,35,"oui"]
[600002752,"CNOP",600002752,2022,35,"oui"]
[610005019,"CNOP",610005019,2022,35,"oui"]
[620004994,"CNOP",620004994,2022,35,"oui"]
[620008847,"CNOP",620008847,2022,35,"oui"]
[620015925,"CNOP",620015925,2022,35,"oui"]
[630003572,"CNOP",630003572,2022,35,"oui"]
[630005833,"CNOP",630005833,2022,35,"oui"]
[640008975,"CNOP",640008975,2022,35,"oui"]
[660788829,"CNOP",660788829,2022,35,"oui"]
[670012103,"CNOP",670012103,2022,35,"oui"]
[680008935,"CNOP",680008935,2022,35,"oui"]
[690013636,"CNOP",690013636,2022,35,"oui"]
[690018684,"CNOP",690018684,2022,35,"oui"]
[700001530,"CNOP",700001530,2022,35,"oui"]
[710003013,"CNOP",710003013,2022,35,"oui"]
[720009034,"CNOP",720009034,2022,35,"oui"]
[730007622,"CNOP",730007622,2022,35,"oui"]
[740004163,"CNOP",740004163,2022,35,"oui"]
[750013641,"CNOP",750013641,2022,35,"oui"]
[750028573,"CNOP",750028573,2022,35,"oui"]
[750035933,"CNOP",750035933,2022,35,"oui"]
[760015917,"CNOP",760015917,2022,35,"oui"]
[770006526,"CNOP",770006526,2022,35,"oui"]
[770011914,"CNOP",770011914,2022,35,"oui"]
[780009163,"CNOP",780009163,2022,35,"oui"]
[780011664,"CNOP",780011664,2022,35,"oui"]
[800012742,"CNOP",800012742,2022,35,"oui"]
[810005066,"CNOP",810005066,2022,35,"oui"]
[830004461,"CNOP",830004461,2022,35,"oui"]
[830011086,"CNOP",830011086,2022,35,"oui"]
[860005784,"CNOP",860005784,2022,35,"oui"]
[870012580,"CNOP",870012580,2022,35,"oui"]
[880003850,"CNOP",880003850,2022,35,"oui"]
[890005473,"CNOP",890005473,2022,35,"oui"]
[910008572,"CNOP",910008572,2022,35,"oui"]
[920019775,"CNOP",920019775,2022,35,"oui"]
[930015250,"CNOP",930015250,2022,35,"oui"]
[940015613,"CNOP",940015613,2022,35,"oui"]
[950012310,"CNOP",950012310,2022,35,"oui"]
[970404422,"CNOP",970404422,2022,35,"oui"]
[40000093,"HOSPDIRECTFR",40000093,2022,35,"oui"]
[160008231,"HOSPDIRECTFR",160008231,2022,35,"oui"]
[280000613,"HOSPDIRECTFR",280000613,2022,35,"oui"]
[330781154,"HOSPDIRECTFR",330781154,2022,35,"oui"]
[380000091,"HOSPDIRECTFR",380000091,2022,35,"oui"]
[570000885,"HOSPDIRECTFR",570000885,2022,35,"oui"]
[590806360,"HOSPDIRECTFR",590806360,2022,35,"oui"]
[670780378,"HOSPDIRECTFR",670780378,2022,35,"oui"]
[790000186,"HOSPDIRECTFR",790000186,2022,35,"oui"]
[800000390,"HOSPDIRECTFR",800000390,2022,35,"oui"]
[930013818,"HOSPDIRECTFR",930013818,2022,35,"oui"]
[10005635,"PHARMDIRECTFR",10005635,2022,35,"oui"]
[40002370,"PHARMDIRECTFR",40002370,2022,35,"oui"]
[60013547,"PHARMDIRECTFR",60013547,2022,35,"oui"]
[80002561,"PHARMDIRECTFR",80002561,2022,35,"oui"]
[120002324,"PHARMDIRECTFR",120002324,2022,35,"oui"]
[130023385,"PHARMDIRECTFR",130023385,2022,35,"oui"]
[130030273,"PHARMDIRECTFR",130030273,2022,35,"oui"]
[140009655,"PHARMDIRECTFR",140009655,2022,35,"oui"]
[140010893,"PHARMDIRECTFR",140010893,2022,35,"oui"]
[170015507,"PHARMDIRECTFR",170015507,2022,35,"oui"]
[190008573,"PHARMDIRECTFR",190008573,2022,35,"oui"]
[210007266,"PHARMDIRECTFR",210007266,2022,35,"oui"]
[250009131,"PHARMDIRECTFR",250009131,2022,35,"oui"]
[250012895,"PHARMDIRECTFR",250012895,2022,35,"oui"]
[270020746,"PHARMDIRECTFR",270020746,2022,35,"oui"]
[280004052,"PHARMDIRECTFR",280004052,2022,35,"oui"]
[300004140,"PHARMDIRECTFR",300004140,2022,35,"oui"]
[300008315,"PHARMDIRECTFR",300008315,2022,35,"oui"]
[310007760,"PHARMDIRECTFR",310007760,2022,35,"oui"]
[310018080,"PHARMDIRECTFR",310018080,2022,35,"oui"]
[330041815,"PHARMDIRECTFR",330041815,2022,35,"oui"]
[330045980,"PHARMDIRECTFR",330045980,2022,35,"oui"]
[330050311,"PHARMDIRECTFR",330050311,2022,35,"oui"]
[340792803,"PHARMDIRECTFR",340792803,2022,35,"oui"]
[340794189,"PHARMDIRECTFR",340794189,2022,35,"oui"]
[340795707,"PHARMDIRECTFR",340795707,2022,35,"oui"]
[350020194,"PHARMDIRECTFR",350020194,2022,35,"oui"]
[350025664,"PHARMDIRECTFR",350025664,2022,35,"oui"]
[380005371,"PHARMDIRECTFR",380005371,2022,35,"oui"]
[390002376,"PHARMDIRECTFR",390002376,2022,35,"oui"]
[390003762,"PHARMDIRECTFR",390003762,2022,35,"oui"]
[420002891,"PHARMDIRECTFR",420002891,2022,35,"oui"]
[430002766,"PHARMDIRECTFR",430002766,2022,35,"oui"]
[440015436,"PHARMDIRECTFR",440015436,2022,35,"oui"]
[440018158,"PHARMDIRECTFR",440018158,2022,35,"oui"]
[470003237,"PHARMDIRECTFR",470003237,2022,35,"oui"]
[490533213,"PHARMDIRECTFR",490533213,2022,35,"oui"]
[500010830,"PHARMDIRECTFR",500010830,2022,35,"oui"]
[510020431,"PHARMDIRECTFR",510020431,2022,35,"oui"]
[540016094,"PHARMDIRECTFR",540016094,2022,35,"oui"]
[560017931,"PHARMDIRECTFR",560017931,2022,35,"oui"]
[560021024,"PHARMDIRECTFR",560021024,2022,35,"oui"]
[590011573,"PHARMDIRECTFR",590011573,2022,35,"oui"]
[590016234,"PHARMDIRECTFR",590016234,2022,35,"oui"]
[590022000,"PHARMDIRECTFR",590022000,2022,35,"oui"]
[590023735,"PHARMDIRECTFR",590023735,2022,35,"oui"]
[600005367,"PHARMDIRECTFR",600005367,2022,35,"oui"]
[620006577,"PHARMDIRECTFR",620006577,2022,35,"oui"]
[620012047,"PHARMDIRECTFR",620012047,2022,35,"oui"]
[620016980,"PHARMDIRECTFR",620016980,2022,35,"oui"]
[640009080,"PHARMDIRECTFR",640009080,2022,35,"oui"]
[660788613,"PHARMDIRECTFR",660788613,2022,35,"oui"]
[670007400,"PHARMDIRECTFR",670007400,2022,35,"oui"]
[670012657,"PHARMDIRECTFR",670012657,2022,35,"oui"]
[690011184,"PHARMDIRECTFR",690011184,2022,35,"oui"]
[690016985,"PHARMDIRECTFR",690016985,2022,35,"oui"]
[700002215,"PHARMDIRECTFR",700002215,2022,35,"oui"]
[720013887,"PHARMDIRECTFR",720013887,2022,35,"oui"]
[740005012,"PHARMDIRECTFR",740005012,2022,35,"oui"]
[740007026,"PHARMDIRECTFR",740007026,2022,35,"oui"]
[750023186,"PHARMDIRECTFR",750023186,2022,35,"oui"]
[760018903,"PHARMDIRECTFR",760018903,2022,35,"oui"]
[770003895,"PHARMDIRECTFR",770003895,2022,35,"oui"]
[770008563,"PHARMDIRECTFR",770008563,2022,35,"oui"]
[780007126,"PHARMDIRECTFR",780007126,2022,35,"oui"]
[790011191,"PHARMDIRECTFR",790011191,2022,35,"oui"]
[800014425,"PHARMDIRECTFR",800014425,2022,35,"oui"]
[810007187,"PHARMDIRECTFR",810007187,2022,35,"oui"]
[830007746,"PHARMDIRECTFR",830007746,2022,35,"oui"]
[840009740,"PHARMDIRECTFR",840009740,2022,35,"oui"]
[850014622,"PHARMDIRECTFR",850014622,2022,35,"oui"]
[850016239,"PHARMDIRECTFR",850016239,2022,35,"oui"]
[870011624,"PHARMDIRECTFR",870011624,2022,35,"oui"]
[870011681,"PHARMDIRECTFR",870011681,2022,35,"oui"]
[870011863,"PHARMDIRECTFR",870011863,2022,35,"oui"]
[870011996,"PHARMDIRECTFR",870011996,2022,35,"oui"]
[870012143,"PHARMDIRECTFR",870012143,2022,35,"oui"]
[870012192,"PHARMDIRECTFR",870012192,2022,35,"non"]
[870012242,"PHARMDIRECTFR",870012242,2022,35,"oui"]
[870012440,"PHARMDIRECTFR",870012440,2022,35,"oui"]
[870012861,"PHARMDIRECTFR",870012861,2022,35,"oui"]
[870012960,"PHARMDIRECTFR",870012960,2022,35,"oui"]
[870013125,"PHARMDIRECTFR",870013125,2022,35,"oui"]
[870013224,"PHARMDIRECTFR",870013224,2022,35,"oui"]
[870013380,"PHARMDIRECTFR",870013380,2022,35,"oui"]
[870013513,"PHARMDIRECTFR",870013513,2022,35,"oui"]
[870013547,"PHARMDIRECTFR",870013547,2022,35,"oui"]
[870013596,"PHARMDIRECTFR",870013596,2022,35,"oui"]
[870013646,"PHARMDIRECTFR",870013646,2022,35,"oui"]
[870013992,"PHARMDIRECTFR",870013992,2022,35,"oui"]
[870014297,"PHARMDIRECTFR",870014297,2022,35,"oui"]
[870014362,"PHARMDIRECTFR",870014362,2022,35,"oui"]
[870014446,"PHARMDIRECTFR",870014446,2022,35,"oui"]
[880001912,"PHARMDIRECTFR",880001912,2022,35,"oui"]
[880002217,"PHARMDIRECTFR",880002217,2022,35,"oui"]
[880002266,"PHARMDIRECTFR",880002266,2022,35,"oui"]
[880002282,"PHARMDIRECTFR",880002282,2022,35,"oui"]
[880002373,"PHARMDIRECTFR",880002373,2022,35,"oui"]
[880002407,"PHARMDIRECTFR",880002407,2022,35,"oui"]
[880002555,"PHARMDIRECTFR",880002555,2022,35,"oui"]
[880002605,"PHARMDIRECTFR",880002605,2022,35,"oui"]
[880002670,"PHARMDIRECTFR",880002670,2022,35,"oui"]
[880002787,"PHARMDIRECTFR",880002787,2022,35,"oui"]
[880002902,"PHARMDIRECTFR",880002902,2022,35,"oui"]
[880003223,"PHARMDIRECTFR",880003223,2022,35,"oui"]
[880003322,"PHARMDIRECTFR",880003322,2022,35,"oui"]
[880003371,"PHARMDIRECTFR",880003371,2022,35,"oui"]
[880003454,"PHARMDIRECTFR",880003454,2022,35,"oui"]
[880003553,"PHARMDIRECTFR",880003553,2022,35,"oui"]
[880004155,"PHARMDIRECTFR",880004155,2022,35,"oui"]
[880004171,"PHARMDIRECTFR",880004171,2022,35,"oui"]
[880004221,"PHARMDIRECTFR",880004221,2022,35,"oui"]
[880004601,"PHARMDIRECTFR",880004601,2022,35,"oui"]
[880005103,"PHARMDIRECTFR",880005103,2022,35,"oui"]
[880005251,"PHARMDIRECTFR",880005251,2022,35,"oui"]
[880005335,"PHARMDIRECTFR",880005335,2022,35,"oui"]
[880005400,"PHARMDIRECTFR",880005400,2022,35,"oui"]
[880005517,"PHARMDIRECTFR",880005517,2022,35,"oui"]
[880005574,"PHARMDIRECTFR",880005574,2022,35,"oui"]
[890003171,"PHARMDIRECTFR",890003171,2022,35,"oui"]
[890003403,"PHARMDIRECTFR",890003403,2022,35,"oui"]
[890003502,"PHARMDIRECTFR",890003502,2022,35,"oui"]
[890003536,"PHARMDIRECTFR",890003536,2022,35,"oui"]
[890003700,"PHARMDIRECTFR",890003700,2022,35,"oui"]
[890003783,"PHARMDIRECTFR",890003783,2022,35,"oui"]
[890003932,"PHARMDIRECTFR",890003932,2022,35,"oui"]
[890003973,"PHARMDIRECTFR",890003973,2022,35,"oui"]
[890004054,"PHARMDIRECTFR",890004054,2022,35,"oui"]
[890004187,"PHARMDIRECTFR",890004187,2022,35,"oui"]
[890004237,"PHARMDIRECTFR",890004237,2022,35,"oui"]
[890004252,"PHARMDIRECTFR",890004252,2022,35,"oui"]
[890004385,"PHARMDIRECTFR",890004385,2022,35,"oui"]
[890004435,"PHARMDIRECTFR",890004435,2022,35,"oui"]
[890004500,"PHARMDIRECTFR",890004500,2022,35,"oui"]
[890004567,"PHARMDIRECTFR",890004567,2022,35,"oui"]
[890004583,"PHARMDIRECTFR",890004583,2022,35,"oui"]
[890004617,"PHARMDIRECTFR",890004617,2022,35,"oui"]
[890004807,"PHARMDIRECTFR",890004807,2022,35,"oui"]
[890004823,"PHARMDIRECTFR",890004823,2022,35,"oui"]
[890004856,"PHARMDIRECTFR",890004856,2022,35,"oui"]
[890005135,"PHARMDIRECTFR",890005135,2022,35,"oui"]
[890005267,"PHARMDIRECTFR",890005267,2022,35,"oui"]
[890005283,"PHARMDIRECTFR",890005283,2022,35,"oui"]
[890005432,"PHARMDIRECTFR",890005432,2022,35,"oui"]
[890005655,"PHARMDIRECTFR",890005655,2022,35,"oui"]
[890005887,"PHARMDIRECTFR",890005887,2022,35,"oui"]
[890005903,"PHARMDIRECTFR",890005903,2022,35,"oui"]
[890005952,"PHARMDIRECTFR",890005952,2022,35,"oui"]
[890006000,"PHARMDIRECTFR",890006000,2022,35,"oui"]
[890006166,"PHARMDIRECTFR",890006166,2022,35,"oui"]
[890006216,"PHARMDIRECTFR",890006216,2022,35,"oui"]
[890006257,"PHARMDIRECTFR",890006257,2022,35,"oui"]
[890006273,"PHARMDIRECTFR",890006273,2022,35,"oui"]
[890006422,"PHARMDIRECTFR",890006422,2022,35,"oui"]
[890006596,"PHARMDIRECTFR",890006596,2022,35,"oui"]
[900001074,"PHARMDIRECTFR",900001074,2022,35,"oui"]
[900001447,"PHARMDIRECTFR",900001447,2022,35,"oui"]
[900001496,"PHARMDIRECTFR",900001496,2022,35,"oui"]
[900001611,"PHARMDIRECTFR",900001611,2022,35,"oui"]
[900001660,"PHARMDIRECTFR",900001660,2022,35,"oui"]
[900001710,"PHARMDIRECTFR",900001710,2022,35,"oui"]
[900002296,"PHARMDIRECTFR",900002296,2022,35,"oui"]
[910005107,"PHARMDIRECTFR",910005107,2022,35,"oui"]
[910005123,"PHARMDIRECTFR",910005123,2022,35,"oui"]
[910005487,"PHARMDIRECTFR",910005487,2022,35,"oui"]
[910005735,"PHARMDIRECTFR",910005735,2022,35,"oui"]
[910005933,"PHARMDIRECTFR",910005933,2022,35,"oui"]
[910006055,"PHARMDIRECTFR",910006055,2022,35,"oui"]
[910006170,"PHARMDIRECTFR",910006170,2022,35,"oui"]
[910006766,"PHARMDIRECTFR",910006766,2022,35,"oui"]
[910007533,"PHARMDIRECTFR",910007533,2022,35,"oui"]
[910007673,"PHARMDIRECTFR",910007673,2022,35,"oui"]
[910007723,"PHARMDIRECTFR",910007723,2022,35,"oui"]
[910007806,"PHARMDIRECTFR",910007806,2022,35,"oui"]
[910007921,"PHARMDIRECTFR",910007921,2022,35,"oui"]
[910008317,"PHARMDIRECTFR",910008317,2022,35,"oui"]
[910008432,"PHARMDIRECTFR",910008432,2022,35,"oui"]
[910008606,"PHARMDIRECTFR",910008606,2022,35,"oui"]
[910009000,"PHARMDIRECTFR",910009000,2022,35,"oui"]
[910009455,"PHARMDIRECTFR",910009455,2022,35,"oui"]
[910009570,"PHARMDIRECTFR",910009570,2022,35,"oui"]
[910009653,"PHARMDIRECTFR",910009653,2022,35,"oui"]
[910009703,"PHARMDIRECTFR",910009703,2022,35,"oui"]
[910010040,"PHARMDIRECTFR",910010040,2022,35,"oui"]
[910010164,"PHARMDIRECTFR",910010164,2022,35,"oui"]
[910010214,"PHARMDIRECTFR",910010214,2022,35,"oui"]
[910010396,"PHARMDIRECTFR",910010396,2022,35,"oui"]
[910010974,"PHARMDIRECTFR",910010974,2022,35,"oui"]
[910011527,"PHARMDIRECTFR",910011527,2022,35,"oui"]
[910011592,"PHARMDIRECTFR",910011592,2022,35,"oui"]
[910011774,"PHARMDIRECTFR",910011774,2022,35,"oui"]
[910012327,"PHARMDIRECTFR",910012327,2022,35,"oui"]
[910012343,"PHARMDIRECTFR",910012343,2022,35,"oui"]
[910012764,"PHARMDIRECTFR",910012764,2022,35,"oui"]
[910013242,"PHARMDIRECTFR",910013242,2022,35,"oui"]
[910013424,"PHARMDIRECTFR",910013424,2022,35,"oui"]
[910013440,"PHARMDIRECTFR",910013440,2022,35,"oui"]
[910013481,"PHARMDIRECTFR",910013481,2022,35,"oui"]
[910013515,"PHARMDIRECTFR",910013515,2022,35,"oui"]
[910013564,"PHARMDIRECTFR",910013564,2022,35,"oui"]
[910014026,"PHARMDIRECTFR",910014026,2022,35,"oui"]
[910014125,"PHARMDIRECTFR",910014125,2022,35,"oui"]
[910014463,"PHARMDIRECTFR",910014463,2022,35,"oui"]
[910014612,"PHARMDIRECTFR",910014612,2022,35,"oui"]
[910014760,"PHARMDIRECTFR",910014760,2022,35,"oui"]
[910018332,"PHARMDIRECTFR",910018332,2022,35,"oui"]
[920007945,"PHARMDIRECTFR",920007945,2022,35,"oui"]
[920007960,"PHARMDIRECTFR",920007960,2022,35,"oui"]
[920008091,"PHARMDIRECTFR",920008091,2022,35,"oui"]
[920008174,"PHARMDIRECTFR",920008174,2022,35,"oui"]
[920008190,"PHARMDIRECTFR",920008190,2022,35,"oui"]
[920008224,"PHARMDIRECTFR",920008224,2022,35,"oui"]
[920008497,"PHARMDIRECTFR",920008497,2022,35,"oui"]
[920008596,"PHARMDIRECTFR",920008596,2022,35,"oui"]
[920008810,"PHARMDIRECTFR",920008810,2022,35,"oui"]
[920008844,"PHARMDIRECTFR",920008844,2022,35,"oui"]
[920008968,"PHARMDIRECTFR",920008968,2022,35,"oui"]
[920009263,"PHARMDIRECTFR",920009263,2022,35,"oui"]
[920009727,"PHARMDIRECTFR",920009727,2022,35,"oui"]
[920010360,"PHARMDIRECTFR",920010360,2022,35,"oui"]
[920010691,"PHARMDIRECTFR",920010691,2022,35,"oui"]
[920010980,"PHARMDIRECTFR",920010980,2022,35,"oui"]
[920011194,"PHARMDIRECTFR",920011194,2022,35,"oui"]
[920011541,"PHARMDIRECTFR",920011541,2022,35,"oui"]
[920011731,"PHARMDIRECTFR",920011731,2022,35,"oui"]
[920011897,"PHARMDIRECTFR",920011897,2022,35,"oui"]
[920012127,"PHARMDIRECTFR",920012127,2022,35,"oui"]
[920012697,"PHARMDIRECTFR",920012697,2022,35,"oui"]
[920013711,"PHARMDIRECTFR",920013711,2022,35,"oui"]
[920014362,"PHARMDIRECTFR",920014362,2022,35,"oui"]
[920014610,"PHARMDIRECTFR",920014610,2022,35,"oui"]
[920014644,"PHARMDIRECTFR",920014644,2022,35,"oui"]
[920015377,"PHARMDIRECTFR",920015377,2022,35,"oui"]
[920015476,"PHARMDIRECTFR",920015476,2022,35,"oui"]
[920016292,"PHARMDIRECTFR",920016292,2022,35,"oui"]
[920016441,"PHARMDIRECTFR",920016441,2022,35,"oui"]
[920016524,"PHARMDIRECTFR",920016524,2022,35,"oui"]
[920016540,"PHARMDIRECTFR",920016540,2022,35,"oui"]
[920016797,"PHARMDIRECTFR",920016797,2022,35,"oui"]
[920016847,"PHARMDIRECTFR",920016847,2022,35,"oui"]
[920016946,"PHARMDIRECTFR",920016946,2022,35,"oui"]
[920017381,"PHARMDIRECTFR",920017381,2022,35,"oui"]
[920017712,"PHARMDIRECTFR",920017712,2022,35,"oui"]
[920017795,"PHARMDIRECTFR",920017795,2022,35,"oui"]
[920017944,"PHARMDIRECTFR",920017944,2022,35,"oui"]
[920018090,"PHARMDIRECTFR",920018090,2022,35,"oui"]
[920018165,"PHARMDIRECTFR",920018165,2022,35,"oui"]
[920018579,"PHARMDIRECTFR",920018579,2022,35,"oui"]
[920018876,"PHARMDIRECTFR",920018876,2022,35,"oui"]
[920019544,"PHARMDIRECTFR",920019544,2022,35,"oui"]
[920019874,"PHARMDIRECTFR",920019874,2022,35,"oui"]
[920020047,"PHARMDIRECTFR",920020047,2022,35,"oui"]
[920020211,"PHARMDIRECTFR",920020211,2022,35,"oui"]
[920020682,"PHARMDIRECTFR",920020682,2022,35,"oui"]
[920020807,"PHARMDIRECTFR",920020807,2022,35,"oui"]
[930004353,"PHARMDIRECTFR",930004353,2022,35,"oui"]
[930004783,"PHARMDIRECTFR",930004783,2022,35,"oui"]
[930005335,"PHARMDIRECTFR",930005335,2022,35,"oui"]
[930005616,"PHARMDIRECTFR",930005616,2022,35,"oui"]
[930006523,"PHARMDIRECTFR",930006523,2022,35,"oui"]
[930007232,"PHARMDIRECTFR",930007232,2022,35,"oui"]
[930007570,"PHARMDIRECTFR",930007570,2022,35,"oui"]
[930007703,"PHARMDIRECTFR",930007703,2022,35,"oui"]
[930007950,"PHARMDIRECTFR",930007950,2022,35,"oui"]
[930008370,"PHARMDIRECTFR",930008370,2022,35,"oui"]
[930008750,"PHARMDIRECTFR",930008750,2022,35,"oui"]
[930008784,"PHARMDIRECTFR",930008784,2022,35,"oui"]
[930009006,"PHARMDIRECTFR",930009006,2022,35,"oui"]
[930009121,"PHARMDIRECTFR",930009121,2022,35,"oui"]
[930009683,"PHARMDIRECTFR",930009683,2022,35,"oui"]
[930009832,"PHARMDIRECTFR",930009832,2022,35,"oui"]
[930009857,"PHARMDIRECTFR",930009857,2022,35,"oui"]
[930009972,"PHARMDIRECTFR",930009972,2022,35,"oui"]
[930010657,"PHARMDIRECTFR",930010657,2022,35,"oui"]
[930012067,"PHARMDIRECTFR",930012067,2022,35,"oui"]
[930013305,"PHARMDIRECTFR",930013305,2022,35,"oui"]
[930013552,"PHARMDIRECTFR",930013552,2022,35,"oui"]
[930013834,"PHARMDIRECTFR",930013834,2022,35,"oui"]
[930013917,"PHARMDIRECTFR",930013917,2022,35,"oui"]
[930014303,"PHARMDIRECTFR",930014303,2022,35,"oui"]
[930014923,"PHARMDIRECTFR",930014923,2022,35,"oui"]
[930015433,"PHARMDIRECTFR",930015433,2022,35,"oui"]
[930015532,"PHARMDIRECTFR",930015532,2022,35,"oui"]
[930016050,"PHARMDIRECTFR",930016050,2022,35,"oui"]
[930016332,"PHARMDIRECTFR",930016332,2022,35,"oui"]
[930016407,"PHARMDIRECTFR",930016407,2022,35,"oui"]
[930016886,"PHARMDIRECTFR",930016886,2022,35,"oui"]
[930030556,"PHARMDIRECTFR",930030556,2022,35,"oui"]
[940006067,"PHARMDIRECTFR",940006067,2022,35,"oui"]
[940006216,"PHARMDIRECTFR",940006216,2022,35,"oui"]
[940006232,"PHARMDIRECTFR",940006232,2022,35,"oui"]
[940006257,"PHARMDIRECTFR",940006257,2022,35,"oui"]
[940006323,"PHARMDIRECTFR",940006323,2022,35,"oui"]
[940007032,"PHARMDIRECTFR",940007032,2022,35,"oui"]
[940007735,"PHARMDIRECTFR",940007735,2022,35,"oui"]
[940007982,"PHARMDIRECTFR",940007982,2022,35,"oui"]
[940008204,"PHARMDIRECTFR",940008204,2022,35,"oui"]
[940008402,"PHARMDIRECTFR",940008402,2022,35,"oui"]
[940008485,"PHARMDIRECTFR",940008485,2022,35,"oui"]
[940009772,"PHARMDIRECTFR",940009772,2022,35,"oui"]
[940009822,"PHARMDIRECTFR",940009822,2022,35,"oui"]
[940009855,"PHARMDIRECTFR",940009855,2022,35,"oui"]
[940009954,"PHARMDIRECTFR",940009954,2022,35,"oui"]
[940010275,"PHARMDIRECTFR",940010275,2022,35,"oui"]
[940010325,"PHARMDIRECTFR",940010325,2022,35,"oui"]
[940010531,"PHARMDIRECTFR",940010531,2022,35,"oui"]
[940010663,"PHARMDIRECTFR",940010663,2022,35,"oui"]
[940010747,"PHARMDIRECTFR",940010747,2022,35,"oui"]
[940010846,"PHARMDIRECTFR",940010846,2022,35,"oui"]
[940011042,"PHARMDIRECTFR",940011042,2022,35,"oui"]
[940011612,"PHARMDIRECTFR",940011612,2022,35,"oui"]
[940011646,"PHARMDIRECTFR",940011646,2022,35,"oui"]
[940012115,"PHARMDIRECTFR",940012115,2022,35,"oui"]
[940012131,"PHARMDIRECTFR",940012131,2022,35,"oui"]
[940012347,"PHARMDIRECTFR",940012347,2022,35,"oui"]
[940012826,"PHARMDIRECTFR",940012826,2022,35,"oui"]
[940013147,"PHARMDIRECTFR",940013147,2022,35,"oui"]
[940013162,"PHARMDIRECTFR",940013162,2022,35,"oui"]
[940013931,"PHARMDIRECTFR",940013931,2022,35,"oui"]
[940014046,"PHARMDIRECTFR",940014046,2022,35,"oui"]
[940014210,"PHARMDIRECTFR",940014210,2022,35,"oui"]
[940014491,"PHARMDIRECTFR",940014491,2022,35,"oui"]
[940014715,"PHARMDIRECTFR",940014715,2022,35,"oui"]
[940014780,"PHARMDIRECTFR",940014780,2022,35,"oui"]
[940015076,"PHARMDIRECTFR",940015076,2022,35,"oui"]
[940015274,"PHARMDIRECTFR",940015274,2022,35,"oui"]
[940015340,"PHARMDIRECTFR",940015340,2022,35,"oui"]
[940015464,"PHARMDIRECTFR",940015464,2022,35,"oui"]
[940015746,"PHARMDIRECTFR",940015746,2022,35,"oui"]
[940015795,"PHARMDIRECTFR",940015795,2022,35,"oui"]
[940015811,"PHARMDIRECTFR",940015811,2022,35,"oui"]
[940016215,"PHARMDIRECTFR",940016215,2022,35,"oui"]
[940016280,"PHARMDIRECTFR",940016280,2022,35,"oui"]
[940016413,"PHARMDIRECTFR",940016413,2022,35,"oui"]
[940016462,"PHARMDIRECTFR",940016462,2022,35,"oui"]
[950004218,"PHARMDIRECTFR",950004218,2022,35,"oui"]
[950004507,"PHARMDIRECTFR",950004507,2022,35,"oui"]
[950005132,"PHARMDIRECTFR",950005132,2022,35,"oui"]
[950005470,"PHARMDIRECTFR",950005470,2022,35,"oui"]
[950005553,"PHARMDIRECTFR",950005553,2022,35,"oui"]
[950005801,"PHARMDIRECTFR",950005801,2022,35,"oui"]
[950005884,"PHARMDIRECTFR",950005884,2022,35,"oui"]
[950005900,"PHARMDIRECTFR",950005900,2022,35,"oui"]
[950006023,"PHARMDIRECTFR",950006023,2022,35,"oui"]
[950006056,"PHARMDIRECTFR",950006056,2022,35,"oui"]
[950006502,"PHARMDIRECTFR",950006502,2022,35,"oui"]
[950006916,"PHARMDIRECTFR",950006916,2022,35,"oui"]
[950007070,"PHARMDIRECTFR",950007070,2022,35,"oui"]
[950007104,"PHARMDIRECTFR",950007104,2022,35,"oui"]
[950007153,"PHARMDIRECTFR",950007153,2022,35,"oui"]
[950007328,"PHARMDIRECTFR",950007328,2022,35,"oui"]
[950007336,"PHARMDIRECTFR",950007336,2022,35,"oui"]
[950007401,"PHARMDIRECTFR",950007401,2022,35,"oui"]
[950007435,"PHARMDIRECTFR",950007435,2022,35,"oui"]
[950007823,"PHARMDIRECTFR",950007823,2022,35,"oui"]
[950008086,"PHARMDIRECTFR",950008086,2022,35,"oui"]
[950008201,"PHARMDIRECTFR",950008201,2022,35,"oui"]
[950008656,"PHARMDIRECTFR",950008656,2022,35,"oui"]
[950008755,"PHARMDIRECTFR",950008755,2022,35,"oui"]
[950009217,"PHARMDIRECTFR",950009217,2022,35,"oui"]
[950009233,"PHARMDIRECTFR",950009233,2022,35,"oui"]
[950009316,"PHARMDIRECTFR",950009316,2022,35,"oui"]
[950009951,"PHARMDIRECTFR",950009951,2022,35,"oui"]
[950010132,"PHARMDIRECTFR",950010132,2022,35,"oui"]
[950010264,"PHARMDIRECTFR",950010264,2022,35,"oui"]
[950010595,"PHARMDIRECTFR",950010595,2022,35,"oui"]
[950010645,"PHARMDIRECTFR",950010645,2022,35,"oui"]
[950010744,"PHARMDIRECTFR",950010744,2022,35,"oui"]
[950010777,"PHARMDIRECTFR",950010777,2022,35,"oui"]
[950010793,"PHARMDIRECTFR",950010793,2022,35,"oui"]
[950010892,"PHARMDIRECTFR",950010892,2022,35,"oui"]
[950011544,"PHARMDIRECTFR",950011544,2022,35,"oui"]
[950011627,"PHARMDIRECTFR",950011627,2022,35,"oui"]
[950011841,"PHARMDIRECTFR",950011841,2022,35,"oui"]
[950011890,"PHARMDIRECTFR",950011890,2022,35,"oui"]
[950011924,"PHARMDIRECTFR",950011924,2022,35,"oui"]
[950012146,"PHARMDIRECTFR",950012146,2022,35,"oui"]
[950012690,"PHARMDIRECTFR",950012690,2022,35,"oui"]
[950012864,"PHARMDIRECTFR",950012864,2022,35,"oui"]
[950012963,"PHARMDIRECTFR",950012963,2022,35,"oui"]
[950012997,"PHARMDIRECTFR",950012997,2022,35,"oui"]
[950013094,"PHARMDIRECTFR",950013094,2022,35,"oui"]
[950013490,"PHARMDIRECTFR",950013490,2022,35,"oui"]
[950013540,"PHARMDIRECTFR",950013540,2022,35,"oui"]
[950013565,"PHARMDIRECTFR",950013565,2022,35,"oui"]
[950013615,"PHARMDIRECTFR",950013615,2022,35,"oui"]
[950015537,"PHARMDIRECTFR",950015537,2022,35,"oui"]
[970103321,"PHARMDIRECTFR",970103321,2022,35,"oui"]
[970103503,"PHARMDIRECTFR",970103503,2022,35,"oui"]
[970104659,"PHARMDIRECTFR",970104659,2022,35,"oui"]
[970106027,"PHARMDIRECTFR",970106027,2022,35,"oui"]
[970106100,"PHARMDIRECTFR",970106100,2022,35,"oui"]
[970106134,"PHARMDIRECTFR",970106134,2022,35,"oui"]
[970106381,"PHARMDIRECTFR",970106381,2022,35,"oui"]
[970106415,"PHARMDIRECTFR",970106415,2022,35,"oui"]
[970106506,"PHARMDIRECTFR",970106506,2022,35,"oui"]
[970106522,"PHARMDIRECTFR",970106522,2022,35,"oui"]
[970106662,"PHARMDIRECTFR",970106662,2022,35,"oui"]
[970106712,"PHARMDIRECTFR",970106712,2022,35,"oui"]
[970106787,"PHARMDIRECTFR",970106787,2022,35,"oui"]
[970106902,"PHARMDIRECTFR",970106902,2022,35,"oui"]
[970106944,"PHARMDIRECTFR",970106944,2022,35,"oui"]
[970108627,"PHARMDIRECTFR",970108627,2022,35,"oui"]
[970108643,"PHARMDIRECTFR",970108643,2022,35,"oui"]
[970108700,"PHARMDIRECTFR",970108700,2022,35,"oui"]
[970109450,"PHARMDIRECTFR",970109450,2022,35,"oui"]
[970203196,"PHARMDIRECTFR",970203196,2022,35,"oui"]
[970204509,"PHARMDIRECTFR",970204509,2022,35,"oui"]
[970204707,"PHARMDIRECTFR",970204707,2022,35,"oui"]
[970204806,"PHARMDIRECTFR",970204806,2022,35,"oui"]
[970204822,"PHARMDIRECTFR",970204822,2022,35,"oui"]
[970204913,"PHARMDIRECTFR",970204913,2022,35,"oui"]
[970204947,"PHARMDIRECTFR",970204947,2022,35,"oui"]
[970205175,"PHARMDIRECTFR",970205175,2022,35,"oui"]
[970205209,"PHARMDIRECTFR",970205209,2022,35,"oui"]
[970205316,"PHARMDIRECTFR",970205316,2022,35,"oui"]
[970205332,"PHARMDIRECTFR",970205332,2022,35,"oui"]
[970205365,"PHARMDIRECTFR",970205365,2022,35,"oui"]
[970205472,"PHARMDIRECTFR",970205472,2022,35,"oui"]
[970205563,"PHARMDIRECTFR",970205563,2022,35,"oui"]
[970208005,"PHARMDIRECTFR",970208005,2022,35,"oui"]
[970208153,"PHARMDIRECTFR",970208153,2022,35,"oui"]
[970208781,"PHARMDIRECTFR",970208781,2022,35,"oui"]
[970300778,"PHARMDIRECTFR",970300778,2022,35,"oui"]
[970300802,"PHARMDIRECTFR",970300802,2022,35,"oui"]
[970301065,"PHARMDIRECTFR",970301065,2022,35,"oui"]
[970301081,"PHARMDIRECTFR",970301081,2022,35,"oui"]
[970302956,"PHARMDIRECTFR",970302956,2022,35,"oui"]
[970303087,"PHARMDIRECTFR",970303087,2022,35,"oui"]
[970303137,"PHARMDIRECTFR",970303137,2022,35,"oui"]
[970303186,"PHARMDIRECTFR",970303186,2022,35,"oui"]
[970303194,"PHARMDIRECTFR",970303194,2022,35,"oui"]
[970305470,"PHARMDIRECTFR",970305470,2022,35,"oui"]
[970402699,"PHARMDIRECTFR",970402699,2022,35,"oui"]
[970403945,"PHARMDIRECTFR",970403945,2022,35,"oui"]
[970404042,"PHARMDIRECTFR",970404042,2022,35,"oui"]
[970404075,"PHARMDIRECTFR",970404075,2022,35,"oui"]
[970404125,"PHARMDIRECTFR",970404125,2022,35,"oui"]
[970404141,"PHARMDIRECTFR",970404141,2022,35,"oui"]
[970404174,"PHARMDIRECTFR",970404174,2022,35,"oui"]
[970404190,"PHARMDIRECTFR",970404190,2022,35,"oui"]
[970404315,"PHARMDIRECTFR",970404315,2022,35,"oui"]
[970404455,"PHARMDIRECTFR",970404455,2022,35,"oui"]
[970404471,"PHARMDIRECTFR",970404471,2022,35,"oui"]
[970404794,"PHARMDIRECTFR",970404794,2022,35,"oui"]
[970404927,"PHARMDIRECTFR",970404927,2022,35,"oui"]
[970404943,"PHARMDIRECTFR",970404943,2022,35,"oui"]
[970405056,"PHARMDIRECTFR",970405056,2022,35,"oui"]
[970405080,"PHARMDIRECTFR",970405080,2022,35,"oui"]
[970405502,"PHARMDIRECTFR",970405502,2022,35,"oui"]
[970405536,"PHARMDIRECTFR",970405536,2022,35,"oui"]
[970405551,"PHARMDIRECTFR",970405551,2022,35,"oui"]
[970405874,"PHARMDIRECTFR",970405874,2022,35,"oui"]
[970406666,"PHARMDIRECTFR",970406666,2022,35,"oui"]
[970406757,"PHARMDIRECTFR",970406757,2022,35,"oui"]
[970407094,"PHARMDIRECTFR",970407094,2022,35,"oui"]
[970407797,"PHARMDIRECTFR",970407797,2022,35,"oui"]
[970463766,"PHARMDIRECTFR",970463766,2022,35,"oui"]
[970463774,"PHARMDIRECTFR",970463774,2022,35,"oui"]
[970463782,"PHARMDIRECTFR",970463782,2022,35,"oui"]
[970463790,"PHARMDIRECTFR",970463790,2022,35,"oui"]
[970463816,"PHARMDIRECTFR",970463816,2022,35,"oui"]
[970463840,"PHARMDIRECTFR",970463840,2022,35,"oui"]
[970463881,"PHARMDIRECTFR",970463881,2022,35,"oui"]
[970463907,"PHARMDIRECTFR",970463907,2022,35,"oui"]
[970463915,"PHARMDIRECTFR",970463915,2022,35,"oui"]
[970463923,"PHARMDIRECTFR",970463923,2022,35,"oui"]
[970463956,"PHARMDIRECTFR",970463956,2022,35,"oui"]
[970463980,"PHARMDIRECTFR",970463980,2022,35,"oui"]
[970464004,"PHARMDIRECTFR",970464004,2022,35,"oui"]
[970464012,"PHARMDIRECTFR",970464012,2022,35,"oui"]
[970464020,"PHARMDIRECTFR",970464020,2022,35,"oui"]
[970464087,"PHARMDIRECTFR",970464087,2022,35,"oui"]
[970464103,"PHARMDIRECTFR",970464103,2022,35,"oui"]
[970464111,"PHARMDIRECTFR",970464111,2022,35,"oui"]
[970464145,"PHARMDIRECTFR",970464145,2022,35,"oui"]
[970464178,"PHARMDIRECTFR",970464178,2022,35,"oui"]
[970464186,"PHARMDIRECTFR",970464186,2022,35,"oui"]
[970464194,"PHARMDIRECTFR",970464194,2022,35,"oui"]
[970464202,"PHARMDIRECTFR",970464202,2022,35,"oui"]
[970464210,"PHARMDIRECTFR",970464210,2022,35,"oui"]
[970464228,"PHARMDIRECTFR",970464228,2022,35,"oui"]
[970464277,"PHARMDIRECTFR",970464277,2022,35,"oui"]
[970464335,"PHARMDIRECTFR",970464335,2022,35,"oui"]
[970464343,"PHARMDIRECTFR",970464343,2022,35,"oui"]
[970464400,"PHARMDIRECTFR",970464400,2022,35,"oui"]
[970464426,"PHARMDIRECTFR",970464426,2022,35,"oui"]
[970464434,"PHARMDIRECTFR",970464434,2022,35,"oui"]
[970464442,"PHARMDIRECTFR",970464442,2022,35,"oui"]
[970464491,"PHARMDIRECTFR",970464491,2022,35,"oui"]
[970464517,"PHARMDIRECTFR",970464517,2022,35,"oui"]
[970464533,"PHARMDIRECTFR",970464533,2022,35,"oui"]
[970464558,"PHARMDIRECTFR",970464558,2022,35,"oui"]
[970464574,"PHARMDIRECTFR",970464574,2022,35,"oui"]
[970464608,"PHARMDIRECTFR",970464608,2022,35,"oui"]
[970464624,"PHARMDIRECTFR",970464624,2022,35,"oui"]
[970464632,"PHARMDIRECTFR",970464632,2022,35,"oui"]
[970464665,"PHARMDIRECTFR",970464665,2022,35,"oui"]
[970464681,"PHARMDIRECTFR",970464681,2022,35,"oui"]
[970464699,"PHARMDIRECTFR",970464699,2022,35,"oui"]
[970464723,"PHARMDIRECTFR",970464723,2022,35,"oui"]
[970464731,"PHARMDIRECTFR",970464731,2022,35,"oui"]
[970464756,"PHARMDIRECTFR",970464756,2022,35,"oui"]
[970464764,"PHARMDIRECTFR",970464764,2022,35,"oui"]
[970464772,"PHARMDIRECTFR",970464772,2022,35,"oui"]
[970464806,"PHARMDIRECTFR",970464806,2022,35,"oui"]
[970464814,"PHARMDIRECTFR",970464814,2022,35,"oui"]
[970464830,"PHARMDIRECTFR",970464830,2022,35,"oui"]
[970464848,"PHARMDIRECTFR",970464848,2022,35,"oui"]
[970464871,"PHARMDIRECTFR",970464871,2022,35,"oui"]
[970464889,"PHARMDIRECTFR",970464889,2022,35,"oui"]
[970464905,"PHARMDIRECTFR",970464905,2022,35,"oui"]
[970464913,"PHARMDIRECTFR",970464913,2022,35,"oui"]
[970464921,"PHARMDIRECTFR",970464921,2022,35,"oui"]
[970464962,"PHARMDIRECTFR",970464962,2022,35,"oui"]
[970464970,"PHARMDIRECTFR",970464970,2022,35,"oui"]
[970465001,"PHARMDIRECTFR",970465001,2022,35,"oui"]
[970465019,"PHARMDIRECTFR",970465019,2022,35,"oui"]
[970465027,"PHARMDIRECTFR",970465027,2022,35,"oui"]
[970465035,"PHARMDIRECTFR",970465035,2022,35,"oui"]
[970465068,"PHARMDIRECTFR",970465068,2022,35,"oui"]
[970465076,"PHARMDIRECTFR",970465076,2022,35,"oui"]
[970465100,"PHARMDIRECTFR",970465100,2022,35,"oui"]
[970465126,"PHARMDIRECTFR",970465126,2022,35,"oui"]
[970465142,"PHARMDIRECTFR",970465142,2022,35,"oui"]
[970465159,"PHARMDIRECTFR",970465159,2022,35,"oui"]
[970465175,"PHARMDIRECTFR",970465175,2022,35,"oui"]
[970465183,"PHARMDIRECTFR",970465183,2022,35,"oui"]
[970465217,"PHARMDIRECTFR",970465217,2022,35,"oui"]
[970465233,"PHARMDIRECTFR",970465233,2022,35,"oui"]
[970465241,"PHARMDIRECTFR",970465241,2022,35,"oui"]
[970465258,"PHARMDIRECTFR",970465258,2022,35,"oui"]
[970465266,"PHARMDIRECTFR",970465266,2022,35,"oui"]
[970465274,"PHARMDIRECTFR",970465274,2022,35,"oui"]
[970465282,"PHARMDIRECTFR",970465282,2022,35,"oui"]
[970465290,"PHARMDIRECTFR",970465290,2022,35,"oui"]
[970465308,"PHARMDIRECTFR",970465308,2022,35,"oui"]
[970465399,"PHARMDIRECTFR",970465399,2022,35,"oui"]
[970465415,"PHARMDIRECTFR",970465415,2022,35,"oui"]
[970465431,"PHARMDIRECTFR",970465431,2022,35,"oui"]
[970465449,"PHARMDIRECTFR",970465449,2022,35,"oui"]
[970465472,"PHARMDIRECTFR",970465472,2022,35,"oui"]
[970465506,"PHARMDIRECTFR",970465506,2022,35,"oui"]
[970465514,"PHARMDIRECTFR",970465514,2022,35,"oui"]
[970465522,"PHARMDIRECTFR",970465522,2022,35,"oui"]
[970465548,"PHARMDIRECTFR",970465548,2022,35,"oui"]
[970465589,"PHARMDIRECTFR",970465589,2022,35,"oui"]
[970465597,"PHARMDIRECTFR",970465597,2022,35,"oui"]
[970465613,"PHARMDIRECTFR",970465613,2022,35,"oui"]
[970465621,"PHARMDIRECTFR",970465621,2022,35,"oui"]
[970465688,"PHARMDIRECTFR",970465688,2022,35,"oui"]
[970465704,"PHARMDIRECTFR",970465704,2022,35,"oui"]
[970465738,"PHARMDIRECTFR",970465738,2022,35,"oui"]
[970465746,"PHARMDIRECTFR",970465746,2022,35,"oui"]
[970465753,"PHARMDIRECTFR",970465753,2022,35,"oui"]
[970465894,"PHARMDIRECTFR",970465894,2022,35,"oui"]
[970465928,"PHARMDIRECTFR",970465928,2022,35,"oui"]
[970465936,"PHARMDIRECTFR",970465936,2022,35,"oui"]
[970465944,"PHARMDIRECTFR",970465944,2022,35,"oui"]
[970465951,"PHARMDIRECTFR",970465951,2022,35,"oui"]
[970465969,"PHARMDIRECTFR",970465969,2022,35,"oui"]
[970466009,"PHARMDIRECTFR",970466009,2022,35,"oui"]
[980500144,"PHARMDIRECTFR",980500144,2022,35,"oui"]
[980500243,"PHARMDIRECTFR",980500243,2022,35,"oui"]
[980500383,"PHARMDIRECTFR",980500383,2022,35,"oui"]
[980500409,"PHARMDIRECTFR",980500409,2022,35,"oui"]
[980500425,"PHARMDIRECTFR",980500425,2022,35,"oui"]
[980500466,"PHARMDIRECTFR",980500466,2022,35,"oui"]
[980500508,"PHARMDIRECTFR",980500508,2022,35,"oui"]
[980500524,"PHARMDIRECTFR",980500524,2022,35,"oui"]
[980501001,"PHARMDIRECTFR",980501001,2022,35,"oui"]
[980501340,"PHARMDIRECTFR",980501340,2022,35,"oui"]

{"sheet":"TCD base","index":4,"n_rows":7,"n_cols":2,"rows_kept":7}
[]
[]
["Étiquettes de lignes","Nombre de Numéro_FINESS_site"]
["A",20120]
["EA",611]
["(vide)"]
["Total général",20731]

{"sheet":"Régions","index":5,"n_rows":102,"n_cols":3,"rows_kept":102}
["DPT","NOM","REGION"]
[{"v":1,"d":"01"},"Ain","Auvergne-Rhône-Alpes"]
[{"v":2,"d":"02"},"Aisne","Hauts-de-France"]
[{"v":3,"d":"03"},"Allier","Auvergne-Rhône-Alpes"]
[{"v":4,"d":"04"},"Alpes-de-Haute-Provence","Provence-Alpes-Côte d'Azur"]
[{"v":5,"d":"05"},"Hautes-Alpes","Provence-Alpes-Côte d'Azur"]
[{"v":6,"d":"06"},"Alpes-Maritimes","Provence-Alpes-Côte d'Azur"]
[{"v":7,"d":"07"},"Ardèche","Auvergne-Rhône-Alpes"]
[{"v":8,"d":"08"},"Ardennes","Grand Est"]
[{"v":9,"d":"09"},"Ariège","Occitanie"]
[10,"Aube","Grand Est"]
[11,"Aude","Occitanie"]
[12,"Aveyron","Occitanie"]
[13,"Bouches-du-Rhône","Provence-Alpes-Côte d'Azur"]
[14,"Calvados","Normandie"]
[15,"Cantal","Auvergne-Rhône-Alpes"]
[16,"Charente","Nouvelle-Aquitaine"]
[17,"Charente-Maritime","Nouvelle-Aquitaine"]
[18,"Cher","Centre-Val de Loire"]
[19,"Corrèze","Nouvelle-Aquitaine"]
["2A","Corse-du-Sud","Corse"]
["2B","Haute-Corse","Corse"]
[21,"Côte-d'Or","Bourgogne-Franche-Comté"]
[22,"Côtes-d'Armor","Bretagne"]
[23,"Creuse","Nouvelle-Aquitaine"]
[24,"Dordogne","Nouvelle-Aquitaine"]
[25,"Doubs","Bourgogne-Franche-Comté"]
[26,"Drôme","Auvergne-Rhône-Alpes"]
[27,"Eure","Normandie"]
[28,"Eure-et-Loir","Centre-Val de Loire"]
[29,"Finistère","Bretagne"]
[30,"Gard","Occitanie"]
[31,"Haute-Garonne","Occitanie"]
[32,"Gers","Occitanie"]
[33,"Gironde","Nouvelle-Aquitaine"]
[34,"Hérault","Occitanie"]
[35,"Ille-et-Vilaine","Bretagne"]
[36,"Indre","Centre-Val de Loire"]
[37,"Indre-et-Loire","Centre-Val de Loire"]
[38,"Isère","Auvergne-Rhône-Alpes"]
[39,"Jura","Bourgogne-Franche-Comté"]
[40,"Landes","Nouvelle-Aquitaine"]
[41,"Loir-et-Cher","Centre-Val de Loire"]
[42,"Loire","Auvergne-Rhône-Alpes"]
[43,"Haute-Loire","Auvergne-Rhône-Alpes"]
[44,"Loire-Atlantique","Pays de la Loire"]
[45,"Loiret","Centre-Val de Loire"]
[46,"Lot","Occitanie"]
[47,"Lot-et-Garonne","Nouvelle-Aquitaine"]
[48,"Lozère","Occitanie"]
[49,"Maine-et-Loire","Pays de la Loire"]
[50,"Manche","Normandie"]
[51,"Marne","Grand Est"]
[52,"Haute-Marne","Grand Est"]
[53,"Mayenne","Pays de la Loire"]
[54,"Meurthe-et-Moselle","Grand Est"]
[55,"Meuse","Grand Est"]
[56,"Morbihan","Bretagne"]
[57,"Moselle","Grand Est"]
[58,"Nièvre","Bourgogne-Franche-Comté"]
[59,"Nord","Hauts-de-France"]
[60,"Oise","Hauts-de-France"]
[61,"Orne","Normandie"]
[62,"Pas-de-Calais","Hauts-de-France"]
[63,"Puy-de-Dôme","Auvergne-Rhône-Alpes"]
[64,"Pyrénées-Atlantiques","Nouvelle-Aquitaine"]
[65,"Hautes-Pyrénées","Occitanie"]
[66,"Pyrénées-Orientales","Occitanie"]
[67,"Bas-Rhin","Grand Est"]
[68,"Haut-Rhin","Grand Est"]
[69,"Rhône","Auvergne-Rhône-Alpes"]
[70,"Haute-Saône","Bourgogne-Franche-Comté"]
[71,"Saône-et-Loire","Bourgogne-Franche-Comté"]
[72,"Sarthe","Pays de la Loire"]
[73,"Savoie","Auvergne-Rhône-Alpes"]
[74,"Haute-Savoie","Auvergne-Rhône-Alpes"]
[75,"Paris","Ile-de-France"]
[76,"Seine-Maritime","Normandie"]
[77,"Seine-et-Marne","Ile-de-France"]
[78,"Yvelines","Ile-de-France"]
[79,"Deux-Sèvres","Nouvelle-Aquitaine"]
[80,"Somme","Hauts-de-France"]
[81,"Tarn","Occitanie"]
[82,"Tarn-et-Garonne","Occitanie"]
[83,"Var","Provence-Alpes-Côte d'Azur"]
[84,"Vaucluse","Provence-Alpes-Côte d'Azur"]
[85,"Vendée","Pays de la Loire"]
[86,"Vienne","Nouvelle-Aquitaine"]
[87,"Haute-Vienne","Nouvelle-Aquitaine"]
[88,"Vosges","Grand Est"]
[89,"Yonne","Bourgogne-Franche-Comté"]
[90,"Territoire de Belfort","Bourgogne-Franche-Comté"]
[91,"Essonne","Ile-de-France"]
[92,"Hauts-de-Seine","Ile-de-France"]
[93,"Seine-St-Denis","Ile-de-France"]
[94,"Val-de-Marne","Ile-de-France"]
[95,"Val-D'Oise","Ile-de-France"]
[971,"Guadeloupe","Guadeloupe"]
[972,"Martinique","Martinique"]
[973,"Guyane","Guyane"]
[974,"La Réunion","La Réunion"]
[976,"Mayotte","Mayotte"]

{"sheet":"Filtres base","index":6,"n_rows":4,"n_cols":1,"rows_kept":4}
[]
["Officines + PUI"]
["Semaine 35 à 43"]
["Sept à Oct "]