Workbook

Sheet Général données nationales
A1: NE PAS DIFFUSER/PUBLIER LE TABLEAU EN L'ETAT, COMMUNICATION SUR LES CHIFFRES NATIONAUX ET REGIONAUX POSSIBLES
A3: Tableau de bord des indicateurs PIA : niveau national
A5: PILOTE | B5: INDICATEUR | C5: SECTEUR | D5: INDICATEUR DE LA SNPIA | E5: CIBLE POUR 2025 | F5: DONNEES 2022 | G5: DONNEES 2023
A6: PREVENTION DES INFECTIONS
A7: SpF | B7: =SpF!A5 -> Couverture vaccinale pour le vaccin ROR (Rougeole Oreillons Rubéole) (deux doses) à 2 ans | C7: Ville | D7: x | E7: > 98% d’ici 2025, au national et dans toutes les régions | F7: {=SpF!G5:H5} -> 0.857 | G7: 0.857
A8: SpF | B8: =SpF!A6 -> Couverture vaccinale contre la grippe des professionnels de santé en établissements ou services médico-sociaux (ESMS) | C8: ESMS | D8: x | E8: > 70% d’ici 2025, au national et dans toutes les régions | F8: {=SpF!G6:H6} -> 24,7% [IC95%: 23,8-25,6] | G8: 22,4% [IC95%: 21,7-23,1]
A9: SpF | B9: =SpF!A7 -> Couverture vaccinale contre la grippe des résidents | C9: EHPAD | E9: Cible > et = 90% | F9: {=SpF!G7:H7} -> 87,5% [IC95%: 87,0-88,0] | G9: 83,3% [IC95%: 82,7-83,8]
A10: HAS | B10: =HAS!A5 -> Couverture vaccinale contre la grippe des professionnels de santé en établissements de santé (taux en médiane) | C10: ES | D10: x | E10: > 70% d’ici 2025, au national | F10: {=HAS!F5:G5} -> 0.22 | G10: 0.19
A11: HAS | B11: =HAS!A6 -> Indicateur de consommation de solution hydro-alcoolique (score en médiane) | C11: ES | D11: x | E11: 100 % des établissements ayant atteint leur objectif, avec des objectifs de friction par acte/jour/patient évolutifs, au national et dans toutes les régions | F11: {=HAS!F6:G6} -> 0.95 | G11: 0.83
A12: HAS | B12: =HAS!A7 -> Indicateur de bonnes pratiques de précautions complémentaires contact (taux en moyenne) | C12: ES | D12: x | E12: 100% des ES ayant atteint la cible d’un taux ≥ 80%, au national et dans toutes les régions | F12: {=HAS!F7:G7} -> 0.28 | G12: NA
A13: PRIMO | B13: =PRIMO!A5 -> Nombre de frictions par produit hydro-alcoolique en EHPAD, réalisées par les professionnels de santé, par résident et par jour | C13: EHPAD | D13: x | E13: > 4 frictions / résident / jour d’ici 2025, au national et dans toutes les régions | F13: {=PRIMO!E5:F5} -> 1.83 | G13: 1.59
A14: MATIS | B14: =MATIS!A5 -> Fréquence moyenne de friction des mains avec un produit hydro-alcoolique déclarée par les professionnels de santé après avoir touché le patient pour 100 situations. | C14: ES | D14: x | E14: > 90% d’ici 2025, au national | F14: {=MATIS!F5:G5} -> 0.89 | G14: 0.87
A15: MATIS | B15: =MATIS!A6 -> Fréquence moyenne de friction des mains avec un produit hydro-alcoolique déclarée par les professionnels de santé après avoir touché le résident pour 100 situations. | C15: ESMS | D15: x | E15: > 90% d’ici 2025, au national | F15: {=MATIS!F6:G6} -> 0.79 | G15: 0.72
A16: MATIS | B16: =MATIS!A7 -> Fréquence moyenne de frictions des mains avec un produit hydro-alcoolique par les professionnels de santé, observées par les patients avant un acte de soin, pour 100 situations | C16: ES | D16: x | E16: > 90% d’ici 2025, au national | F16: {=MATIS!F7:G7} -> 0.82 | G16: 0.79
A17: MATIS | B17: =MATIS!A8 -> Fréquence moyenne de frictions des mains avec un produit hydro-alcoolique par les professionnels de santé, observées par les résidents avant un acte de soin, pour 100 situations | C17: ESMS | D17: x | E17: > 90% d’ici 2025, au national | F17: {=MATIS!F8:G8} -> Participation insuffisante | G17: Participation insuffisante
A18: MATIS | B18: =MATIS!A9 -> Proportion de patients déclarant avoir reçu une information concernant l’hygiène des mains | C18: ES | D18: x | E18: > 80% d’ici 2025, au national | F18: {=MATIS!F9:G9} -> 0.43 | G18: 0.42
A19: MATIS | B19: =MATIS!A10 -> Proportion de résidents déclarant avoir reçu une information concernant l’hygiène des mains | C19: ESMS | D19: x | E19: > 80% d’ici 2025, au national | F19: {=MATIS!F10:G10} -> Participation insuffisante | G19: Participation insuffisante
A20: SPIADI | B20: =SPIADI!A5 -> Pose d'un cathéter veineux périphérique court : Hygiène de l’opérateur (tenue propre + 2 frictions conformes + gants stériles en cas de palpation après l’antisepsie) | C20: ES | D20: x | E20: > 80% d’ici 2025, au national et dans toutes les régions | F20: {=SPIADI!F5:G5} -> 0.26 | G20: 0.25
A21: SPIADI | B21: =SPIADI!A6 -> Pose d'un cathéter veineux périphérique court : Préparation cutanée (peau propre ou nettoyée si souillures visibles + compresse ou applicateur stérile + antiseptique alcoolique majeur + séchage spontané) | C21: ES | D21: x | E21: > 80% d’ici 2025, au national et dans toutes les régions | F21: {=SPIADI!F6:G6} -> 0.59 | G21: 0.62
A22: SPIADI | B22: =SPIADI!A7 -> Pose d'un cathéter veineux central : Hygiène de l’opérateur (casaque stérile + masque chirurgical conforme + coiffe conforme + désinfection chirurgicale des mains par friction conforme + gants stériles) | C22: ES | D22: x | E22: > 80% d’ici 2025, au national et dans toutes les régions | F22: {=SPIADI!F7:G7} -> NA | G22: 0.41
A23: SPIADI | B23: =SPIADI!A8 -> Pose d'un cathéter veineux central : Hygiène du patient (tenue propre + masque chirurgical conforme + coiffe ; hors patients intubés ou tête recouverte par un champ stérile) | C23: ES | D23: x | E23: > 80% d’ici 2025, au national et dans toutes les régions | F23: {=SPIADI!F8:G8} -> 0.63 | G23: 0.56
A24: SPIADI | B24: =SPIADI!A9 -> Pose d'un cathéter veineux central : Préparation cutanée (peau propre ou nettoyée si souillures visibles + compresse ou applicateur stérile + chlorhexidine alcoolique 2% + séchage spontané) | C24: ES | D24: x | E24: > 80% d’ici 2025, au national et dans toutes les régions | F24: {=SPIADI!F9:G9} -> 0.53 | G24: 0.6
A25: SPIADI | B25: =SPIADI!A10 -> Manipulation proximale d'une ligne d'un cathéter central : Hygiène de l’opérateur (tenue propre + masque chirurgical conforme + friction conforme + gants stériles) | C25: ES | D25: Non | E25: > 80% d’ici 2025, au national et dans toutes les régions | F25: {=SPIADI!F10:G10} -> NA | G25: 0.43
A26: SPIADI | B26: =SPIADI!A11 -> Manipulation proximale d'une ligne d'un cathéter central : Hygiène du patient (tenue propre + masque chirurgical conforme ou visage tourné du côté opposé ; hors patients intubés ou tête recouverte par un champ stérile) | C26: ES | D26: Non | E26: > 80% d’ici 2025, au national et dans toutes les régions | F26: {=SPIADI!F11:G11} -> 0.89 | G26: 0.87
A27: SPIADI | B27: =SPIADI!A12 -> Manipulation proximale d'une ligne d'un cathéter central : Préparation du site de branchement (désinfection avec compresse stérile + alcool 70% + désinfection de la valve utilisée par friction pendant 15 secondes avec compresse stérile + alcool 70%) | C27: ES | D27: Non | E27: > 80% d’ici 2025, au national et dans toutes les régions | F27: {=SPIADI!F12:G12} -> 0.1 | G27: 0.25
A28: SPIADI | B28: =SPIADI!A13 -> *Incidence des bactériémies sur cathéters centraux (CVC, PICC, cathéter de dialyse) en réanimation adulte/1000 journées-cathéter | C28: ES | D28: x | E28: < 1 bactériémie / 1000 journées-cathéter, tous les ans, au national et dans toutes les régions | F28: {=SPIADI!F13:G13} -> 1.34 | G28: 0.86
A29: SPIADI | B29: =SPIADI!A14 -> Incidence des bactériémies sur cathéters centraux (CVC, CCI, PICC, cathéter de dialyse) en hématologie adulte /1000 journées d’hospitalisation | C29: ES | D29: x | E29: < 2 bactériémie / 1000 journées-cathéter, tous les ans, au national et dans toutes les régions | F29: {=SPIADI!F14:G14} -> 1.79 | G29: 1.78
A30: SPIADI | B30: =SPIADI!A15 -> Incidence des bactériémies sur cathéters centraux (CVC, CCI, PICC, cathéter de dialyse) en oncologie adulte/1000 journées d’hospitalisation | C30: ES | D30: x | E30: < 2 bactériémie / 1000 journées d’hospitalisation, tous les ans, au national et dans toutes les régions | F30: {=SPIADI!F15:G15} -> 1.26 | G30: 1.22
A31: SPICMI | B31: =SPICMI!A5 -> *ATBP-Proportion d’interventions sur peau saine hors urgences avec antibioprophylaxie indiquée et réalisée avant incision chez des patients adultes | C31: ES | D31: x | E31: > 90% d’ici 2025, au national | F31: {=SPICMI!F5:G5} -> 0.95 | G31: 0.94
A32: SPICMI | B32: =SPICMI!A6 -> *PCO-Proportion de patients adultes ayant eu au moins une douche préopératoire ou une toilette complète la veille de l’intervention et une antisepsie réalisée avec un antiseptique alcoolique avant une intervention sur peau saine hors urgence (composite) | C32: ES | D32: x | E32: > 80% d’ici 2025, au national | F32: {=SPICMI!F6:G6} -> 0.91 | G32: 0.85
A33: SPICMI | B33: =SPICMI!A7 -> PCO-DOUCHE - Proportion de patients adultes ayant eu au moins une douche préopératoire ou une toilette complète depuis la veille de l’intervention sur peau saine hors urgences | C33: ES | D33: x | E33: > 90% d’ici 2025, au national | F33: {=SPICMI!F7:G7} -> 0.995 | G33: 0.997
A34: SPICMI | B34: =SPICMI!A8 -> PCO-ANTISEPSIE - Proportion des patients adultes pour lesquels un antiseptique alcoolique a été utilisé pour l’antisepsie dans les interventions sur peau saine hors urgences | C34: ES | D34: x | E34: > 80% d’ici 2025, au national | F34: {=SPICMI!F8:G8} -> 0.92 | G34: 0.85
A35: SPICMI | B35: =SPICMI!A9 -> PCO-DEPILATION en établissement de santé -Proportion de patients adultes ayant eu une dépilation par rasage mécanique quand une dépilation a été réalisée avant une intervention sur peau saine hors urgence (dépilation non requise systématiquement et rasage mécanique non recommandé) | C35: ES | D35: x | E35: <5% d’ici 2025, au national | F35: {=SPICMI!F9:G9} -> 0.02 | G35: 0.01
A36: SPICMI | B36: =SPICMI!A10 -> PCO-DEPILATION A DOMICILE-Proportion de patients adultes ayant eu une dépilation par rasage mécanique quand une dépilation a été réalisée avant une intervention sur peau saine hors urgence (dépilation non requise systématiquement et rasage mécanique non recommandé) | C36: ES | D36: x | E36: < 25% d’ici 2025, au national | F36: {=SPICMI!F10:G10} -> 0.27 | G36: 0.24
A37: INFECTIONS ASSOCIEES AUX SOINS
A38: HAS | B38: =HAS!A8 -> Ratio standardisé d’ISO 3 mois après PTH (prothèse totale de hanche) | C38: ES | D38: x | E38: Aucun établissement à plus de 3 déviations standard, au national et dans toutes les régions | F38: {=HAS!F8:G8} -> 12 ES | G38: NA
A39: HAS | B39: =HAS!A9 -> Ratio standardisé d’ISO 3 mois après PTG (genou) | C39: ES | D39: x | E39: Aucun établissement à plus de 3 déviations standard, au national et dans toutes les régions | F39: {=HAS!F9:G9} -> 8 ES | G39: NA
A40: SPICMI | B40: =SPICMI!A12 -> *ISO-Indicateur Infection du site opératoire : Taux d’incidence des ISO pour 100 opérés global | C40: ES | D40: x | E40: < au taux moyen des 2 années précédentes | F40: =SPICMI!F12 -> NA | G40: =SPICMI!H12 -> 1.05
A41: SPICMI | B41: =SPICMI!A13 -> Taux d’incidence des ISO pour 100 opérés en chirurgie digestive | C41: ES | D41: x | E41: < au taux moyen des 2 années précédentes | F41: =SPICMI!F13 -> NA | G41: =SPICMI!H13 -> 1.21
A42: SPICMI | B42: =SPICMI!A14 -> Taux d’incidence des ISO pour 100 opérés en chirurgie gynéco-obstétrique | C42: ES | D42: x | E42: < au taux moyen des 2 années précédentes | F42: =SPICMI!F14 -> NA | G42: =SPICMI!H14 -> 1.2173522
A43: SPICMI | B43: =SPICMI!A15 -> Taux d’incidence des ISO pour 100 opérés en neurochirurgie | C43: ES | D43: x | E43: < au taux moyen des 2 années précédentes | F43: =SPICMI!F15 -> NA | G43: =SPICMI!H15 -> 0.74919252
A44: SPICMI | B44: =SPICMI!A16 -> Taux d’incidence des ISO pour 100 opérés en chirurgie cardiaque | C44: ES | D44: x | E44: < au taux moyen des 2 années précédentes | F44: =SPICMI!F16 -> NA | G44: =SPICMI!H16 -> 0.64386336
A45: SPICMI | B45: =SPICMI!A17 -> Taux d’incidence des ISO pour 100 opérés en chirurgie orthopédique | C45: ES | D45: x | E45: < au taux moyen des 2 années précédentes | F45: =SPICMI!F17 -> NA | G45: =SPICMI!H17 -> 1.0020602
A46: SPICMI | B46: =SPICMI!A18 -> Taux d’incidence des ISO pour 100 opérés en chirurgie urologique | C46: ES | D46: x | E46: < au taux moyen des 2 années précédentes | F46: =SPICMI!F18 -> NA | G46: =SPICMI!H18 -> 1.1432473
A47: SPIADI | B47: =SPIADI!A16 -> Incidence des bactériémies sur cathéters centraux (CVC, CCI, PICC, cathéter de dialyse) en services de médecine adulte (hors oncologie et hématologie)/1000 journées d’hospitalisation | C47: ES | D47: x | E47: < 0,1 bactériémie / 1000 journées d’hospitalisation, tous les ans, au national et dans toutes les régions | F47: {=SPIADI!F16:G16} -> 0.14 | G47: 0.16
A48: SPIADI | B48: =SPIADI!A17 -> Incidence des bactériémies sur cathéters centraux (CVC, CCI, PICC, cathéter de dialyse) en services de chirurgie adulte /1000 journées d’hospitalisation | C48: ES | D48: Non | E48: < 0,1 bactériémie / 1000 journées d’hospitalisation, tous les ans, au national et dans toutes les régions | F48: {=SPIADI!F17:G17} -> 0.12 | G48: 0.15
A49: SPIADI | B49: =SPIADI!A18 -> Incidence des bactériémies sur cathéters veineux périphériques (tous types de services adultes) /1000 journées d’hospitalisation | C49: ES | D49: Non | E49: < 0,1 bactériémie / 1000 journées d’hospitalisation, tous les ans, au national et dans toutes les régions | F49: {=SPIADI!F18:G18} -> 0.031 | G49: 0.036
A50: BON USAGE DES ANTIBIOTIQUES
A51: ANSM | B51: =ANSM!A5 -> Consommation globale en nombre de doses définies journalières (DDJ) de tous les antibiotiques (classe OMS ATC J01) pour 1000 habitants et par jour | C51: Ville | D51: x | E51: < 20 au national d’ici 2025 | F51: {=ANSM!F5:G5} -> 24,31 DDJ / 1000 hab / jour | G51: 24,05 DDJ / 1000 hab / jour
A52: HAS | B52: =HAS!A10 -> Prescriptions d’antibiothérapie de 7 jours ou moins pour infection respiratoire basse (taux en moyenne) | C52: ES | D52: x | E52: 100% des ES ayant atteint la cible de ≥ 80%, au national et dans toutes les régions | F52: {=HAS!F10:G10} -> NA | G52: 0.81
A53: Cnam | B53: =Cnam!A5 -> Nombre de traitements par antibiotiques pour 100 patients (médecin traitant) de 16 à 65 ans et hors ALD | C53: Ville | D53: x | E53: Objectif cible < 20, au national | F53: {=Cnam!F5:G5} -> ND | G53: 26.5
A54: Cnam | B54: =Cnam!A6 -> Proportion de patients, traités par leur médecin traitant par des antibiotiques générateurs de résistances (amoxicilline + acide clavulanique ; céphalosporines de 3/4ème générations ; fluoroquinolones) | C54: Ville | D54: Non | E54: <32%, objectif cible | F54: {=Cnam!F6:G6} -> ND | G54: 0.314
A55: Cnam | B55: =Cnam!A7 -> Proportion de patients du médecin traitant de moins (<) de 4 ans traités par céphalosporine de 3/4ème génération parmi ceux traités par antibiotiques. | C55: Ville | D55: Non | E55: <11%, objectif cible | F55: {=Cnam!F7:G7} -> ND | G55: 0.195
A56: Cnam | B56: =Cnam!A8 -> Proportion de patients du médecin traitant de 4 ans et plus traités par céphalosporines de 3/4ème génération parmi ceux traités par antibiotiques. | C56: Ville | D56: Non | E56: <7%, objectif cible | F56: {=Cnam!F8:G8} -> ND | G56: 0.13
A57: SpF | B57: =SpF!A8 -> Nombre d’antibiotiques de la classe OMS ATC J01 prescrits et délivrés en ville pour 1000 habitants et par an | C57: Ville | D57: x | E57: < 650 d’ici 2025, au national et dans toutes les régions, départements et EPCI | F57: {=SpF!G8:H8} -> 822,05 GEODES | G57: 820,64 GEODES
A58: SpF | B58: =SpF!A9 -> Consommation d’antibiotiques critiques (SPILF) en ville, en nombre de DDJ pour 1000 habitants et par jour, délivrés en pharmacies d’officine | C58: Ville | D58: x | E58: Réduction d’au moins 20% entre 2019 et 2025, au national, et dans toutes les régions et EPCI | F58: {=SpF!G9:H9} -> 7.6 | G58: 6.97
A59: SpF | B59: =SpF!A10 -> Consommation d’antibiotiques critiques (SPILF) en ville, en nombre de prescriptions pour 1000 habitants et par an, délivrés en pharmacies d’officine | C59: Ville | D59: Non | E59: Réduction d’au moins 20% entre 2019 et 2025, au national | F59: {=SpF!G10:H10} -> 299 | G59: 286
A60: SpF | B60: =SpF!A11 -> Consommation de tous les antibiotiques à usage systémique de la classe OMS ATC J01 en EHPAD (sans PUI), en nombre de DDJ pour 1000 journées d’hébergement. | C60: EHPAD sans PUI | D60: x | E60: Réduction d’au moins 20% entre 2019 et 2025, au national | F60: {=SpF!G11:H11} -> 40,3 GEODES | G60: 39,3 GEODES
A61: SpF | B61: =SpF!A12 -> Consommation des antibiotiques critiques (SPILF) en EHPAD (sans PUI), en nombre de DDJ pour 1000 journées d’hébergement. | C61: EHPAD sans PUI | D61: Non | E61: Réduction d’au moins 20% entre 2019 et 2025, au national | F61: {=SpF!G12:H12} -> 20.5 | G61: ND
A62: SPARES | B62: =SPARES!A5 -> Consommation d’antibiotiques en ES, en nombre de DDJ/1000 journées d’hospitalisation (antibiotiques à usage systémique de la classe OMS ATC J01 + rifampicine (J04AB02) + imidazolés per os (P01AB) + fidaxomicine (A07AA12)) | C62: ES | D62: x | E62: Réduction d’au moins 10% entre 2019 et 2025, au national et dans toutes les régions | F62: {=SPARES!G5:H5} -> 296.2 | G62: 312
A63: SPARES | B63: =SPARES!A6 -> Indicateur ECDC en ES : part d’antibiotiques à large spectre (C3G-C4G, pipéracilline-tazobactam, aztréonam, carbapénèmes, fluoroquinolones, glycopeptides, linézolide, tédizolide, daptomycine et colistine) au sein de la classe ATC J01. | C63: ES | D63: x | E63: Réduction relative d’au moins 10% entre 2019 et 2025, au national | F63: {=SPARES!G6:H6} -> 0.358 | G63: 0.344
A64: BON USAGE DES ANTIBIOTIQUES : PROXY INDICATEURS
A65: DREES | B65: =DREES!A3 -> PI 1 : Prescriptions d'amoxicilline sur prescriptions d'antibiotiques de seconde intention | C65: Ville | D65: Non | E65: Cible : > 3 | F65: {=DREES!F3:G3} -> Outil de Datavisualisation | G65: Outil de Datavisualisation
A66: DREES | B66: =DREES!A4 -> PI 2 : Prescriptions d'amoxicilline sur prescriptions d'amoxicilline - acide clavulanique | C66: Ville | D66: Non | E66: Cible : > 3 | F66: {=DREES!F4:G4} -> Outil de Datavisualisation | G66: Outil de Datavisualisation
A67: DREES | B67: =DREES!A5 -> PI 3 : Prescriptions d'antibiotiques non indiqués | C67: Ville | D67: Non | E67: Cible : 0 | F67: {=DREES!F5:G5} -> Outil de Datavisualisation | G67: Outil de Datavisualisation
A68: DREES | B68: =DREES!A7 -> PI 4 : Prescriptions de pristinamycine et macrolides | C68: Ville | D68: Non | E68: Cible : 5% | F68: {=DREES!F7:G7} -> Outil de Datavisualisation | G68: Outil de Datavisualisation
A69: DREES | B69: =DREES!A9 -> PI 5 : Prescriptions répétées de quinolones | C69: Ville | D69: Non | E69: Cible : 0 | F69: {=DREES!F9:G9} -> Outil de Datavisualisation | G69: Outil de Datavisualisation
A70: DREES | B70: =DREES!A11 -> PI 6 : Prescriptions antibiotiques pour infections urinaires chez l'homme | C70: Ville | D70: Non | E70: Cible : 0 | F70: {=DREES!F11:G11} -> Outil de Datavisualisation | G70: Outil de Datavisualisation
A71: DREES | B71: =DREES!A13 -> PI 7 : Prescriptions antibiotiques pour infections urinaires chez la femme | C71: Ville | D71: Non | E71: Cible : > 5 | F71: {=DREES!F13:G13} -> Outil de Datavisualisation | G71: Outil de Datavisualisation
A72: DREES | B72: =DREES!A15 -> PI 8 : Variation saisonnière des prescriptions totales d'antibiotiques | C72: Ville | D72: Non | E72: Cible : < 20% | F72: {=DREES!F15:G15} -> Outil de Datavisualisation | G72: Outil de Datavisualisation
A73: DREES | B73: =DREES!A17 -> PI 9 : Variation saisonnière des prescriptions de quinolones | C73: Ville | D73: Non | E73: Cible : < 5% | F73: {=DREES!F17:G17} -> Outil de Datavisualisation | G73: Outil de Datavisualisation
A74: DREES | B74: =DREES!A19 -> PI 10 : Durée estimée de prescriptions antibiotique > à 7 jours | C74: Ville | D74: Non | E74: Cible : < 5% | F74: {=DREES!F19:G19} -> Outil de Datavisualisation | G74: Outil de Datavisualisation
A75: DREES | B75: =DREES!A21 -> PI 11 : Co-prescriptions d'antibiotiques et d'anti-inflammatoires non stéroïdiens (AINS) | C75: Ville | D75: Non | E75: Cible : 0 | F75: {=DREES!F21:G21} -> Outil de Datavisualisation | G75: Outil de Datavisualisation
A76: DREES | B76: =DREES!A23 -> PI 12 : Co-prescriptions d'antibiotiques et de corticoïdes systémiques | C76: Ville | D76: Non | E76: Cible : 0 | F76: {=DREES!F23:G23} -> Outil de Datavisualisation | G76: Outil de Datavisualisation
A77: SpF | B77: =SpF!A13 -> Nombre de prescriptions de tous les antibiotiques à usage systémique en EHPAD sans PUI pour 1000 journées d’hébergement. | C77: EHPAD sans PUI | D77: Non | E77: Cible < 20% d’augmentation | F77: {=SpF!G13:H13} -> 4,06 GEODES | G77: 4,14 GEODES
A78: SpF | B78: Variation saisonnière des prescriptions totales d'antibiotiques | C78: EHPAD sans PUI | E78: Cible < 20% d’augmentation | F78: {=SpF!G14:H14} -> 0.278 | G78: ND
A79: SpF | B79: =SpF!#REF! -> #REF! | C79: EHPAD sans PUI | D79: Non | E79: Cible < 20% d’augmentation | F79: {=SpF!G15:H15} -> 0.398 | G79: ND
A80: SpF | B80: =SpF!A16 -> Prescriptions d'amoxicilline sur prescriptions d'antibiotiques de seconde intention (ratio) | C80: EHPAD sans PUI | D80: Non | E80: Cible < 20% d’augmentation | F80: {=SpF!G16:H16} -> 1 | G80: ND
A81: SpF | B81: =SpF!A17 -> Prescription de céphalosporines orales sur prescriptions céphalosporines orales ou injectables | C81: EHPAD sans PUI | D81: Non | E81: Cible < 10% Cible acceptable < 30% | F81: {=SpF!G17:H17} -> 0.33 | G81: ND | L81: Prescriptions d'amoxicilline sur prescriptions d'antibiotiques de seconde intention (ratio)
A82: RESISTANCE AUX ANTIBIOTIQUES
A83: PRIMO | B83: =PRIMO!A6 -> Proportion d’Escherichia coli résistants aux céphalosporines de 3ème génération (C3G) dans les urines en ville | C83: Ville | D83: x | E83: ≤ 3%, tous les ans, au national et dans toutes les régions | F83: {=PRIMO!E6:F6} -> 0.032782924 | G83: 0.038130022
A84: PRIMO | B84: =PRIMO!A7 -> Proportion d’Escherichia coli résistants aux fluoroquinolones (FQ) dans les urines en ville | C84: Ville | D84: x | E84: ≤ 10%, tous les ans, au national et dans toutes les régions | F84: {=PRIMO!E7:F7} -> 0.12569015 | G84: 0.13461891
A85: PRIMO | B85: =PRIMO!A8 -> Proportion d’Escherichia coli, Klebsiella pneumoniae et Enterobacter cloacae produisant une carbapénémase dans les urines en ville | C85: Ville | D85: x | E85: < 0,5%, tous les ans, au national | F85: {=PRIMO!E8:F8} -> 0.000302 | G85: 0.000498
A86: PRIMO | B86: =PRIMO!A9 -> Proportion d’Escherichia coli résistants aux céphalosporines de 3ème génération (C3G) dans les urines en EHPAD | C86: EHPAD | D86: x | E86: ≤ 8%, tous les ans, au national et dans toutes les régions | F86: {=PRIMO!E9:F9} -> 0.084740492 | G86: 0.092518857
A87: PRIMO | B87: =PRIMO!A10 -> Proportion d’Escherichia coli résistants aux fluoroquinolones (FQ) dans les urines en EHPAD | C87: EHPAD | D87: x | E87: ≤ 18%, tous les ans, au national et dans toutes les régions | F87: {=PRIMO!E10:F10} -> 0.18698908 | G87: 0.19182431
A88: PRIMO | B88: =PRIMO!A11 -> Proportion d’Escherichia coli, Klebsiella pneumoniae et Enterobacter cloacae produisant une carbapénémase dans les urines en EHPAD | C88: EHPAD | D88: x | E88: < 0,5%, tous les ans, au national | F88: {=PRIMO!E11:F11} -> 0.000529 | G88: 0.000671
A89: SPARES | B89: =SPARES!A7 -> Proportion de SARM chez Staphylococcus aureus isolé d’hémocultures en ES | C89: ES | D89: x | E89: < 10%, tous les ans, au national et dans toutes les régions | F89: {=SPARES!G7:H7} -> 0.106 | G89: 0.088
A90: SPARES | B90: =SPARES!A8 -> Densité d’incidence SARM/ 1000 journées d’hospitalisation en ES | C90: ES | D90: x | E90: Réduction d’au moins 10% entre 2019 et 2025, au national et dans toutes les régions | F90: {=SPARES!G8:H8} -> 0.14 | G90: 0.16
A91: SPARES | B91: =SPARES!A9 -> Proportion de souches résistantes à la vancomycine chez Enterococcus faecium isolé d’hémocultures en ES | C91: ES | D91: x | E91: < 1%, tous les ans, au national | F91: {=SPARES!G9:H9} -> 0.006 | G91: 0.008
A92: SPARES | B92: =SPARES!A10 -> Densité d’incidence K. pneumoniae produisant une BLSE/ 1000 journées d’hospitalisation en ES | C92: ES | D92: x | E92: Réduction d’au moins 10% entre 2019 et 2025, au national et dans toutes les régions | F92: {=SPARES!G10:H10} -> 0.18 | G92: 0.2
A93: SPARES | B93: =SPARES!A11 -> Proportion de souches produisant une carbapénémase chez K. pneumoniae isolée d’hémocultures en ES (%) | C93: ES | D93: x | E93: Maintien valeur 2019 | F93: {=SPARES!G11:H11} -> 0.0121 | G93: NA
A94: SPARES | B94: =SPARES!A12 -> Densité d’incidence toutes Enterobacterales produisant une carbapénémase / 1000 journées d’hospitalisation en ES | C94: ES | D94: x | E94: Maintien valeur 2019 | F94: {=SPARES!G12:H12} -> 0.023 | G94: 0.035
A95: SPARES | B95: =SPARES!A13 -> Densité d’incidence toutes Enterobactérales produisant une BLSE / 1000 journées d’hospitalisation en ES | C95: ES | D95: Non | E95: Réduction d’au moins 10% entre 2019 et 2025, au national et dans toutes les régions | F95: {=SPARES!G13:H13} -> 0.54 | G95: 0.7

Sheet DREES
A1: DONNEES AU NATIONAL
A2: Indicateur | B2: Définition complémentaire | C2: Secteur | D2: Indicateur de la SNPIA | E2: Cible à l’horizon 2025 | F2: Données 2022 | G2: Données 2023
A3: PI 1 : Prescriptions d'amoxicilline sur prescriptions d'antibiotiques de seconde intention | B3: Nombre de prescriptions d'amoxicilline / nombre de prescriptions d'amoxicilline - acide clavulanique + quinolones + céphalosporines + macrolides et apparentés | C3: Ville | D3: Non | E3: Cible : > 3% | F3: Outil de Datavisualisation | G3: Outil de Datavisualisation
A4: PI 2 : Prescriptions d'amoxicilline sur prescriptions d'amoxicilline - acide clavulanique | B4: Nombre de prescriptions d'amoxicilline (J01CA04) / Nombre de prescriptions d'amoxicilline - acide clavulanique (J01CR02) | C4: Ville | D4: Non | E4: Cible : > 3% | F4: Outil de Datavisualisation | G4: Outil de Datavisualisation
A5: PI 3 : Prescriptions d'antibiotiques non indiqués | B5: Nombre de prescriptions de moxifloxacine, spiramycine-metronidazole et cefaclor / nombre total de prescriptions antibiotiques | C5: Ville | D5: Non | E5: Cible : 0% | F5: Outil de Datavisualisation | G5: Outil de Datavisualisation
E6: Cible acceptable < 0,5%
A7: PI 4 : Prescriptions de pristinamycine et macrolides | B7: Nombre de prescriptions de pristinamycine + macrolides / Nombre total de prescriptions antibiotiques | C7: Ville | D7: Non | E7: Cible : 5% | F7: Outil de Datavisualisation | G7: Outil de Datavisualisation
E8: Cible acceptable : < 10%
A9: PI 5 : Prescriptions répétées de quinolones | B9: Nombre de prescriptions de quinolones chez les patients ayant déjà reçu une quinolone au cours des six derniers mois / nombre total de prescriptions de quinolones | C9: Ville | D9: Non | E9: Cible : 0% | F9: Outil de Datavisualisation | G9: Outil de Datavisualisation
E10: Cible acceptable : < 10%
A11: PI 6 : Prescriptions antibiotiques pour infections urinaires chez l'homme | B11: Nombre de prescriptions de nitrofurantoïne + de quinolones urinaires (autres quinolones ou enoxacine) + fosfomycine-trométamol + pivmécillinam / 100 patients hommes actifs (au moins une consultation chez le médecin généraliste en un an) | C11: Ville | D11: Non | E11: Cible : 0% | F11: Outil de Datavisualisation | G11: Outil de Datavisualisation
E12: Cible acceptable : < 0,5
A13: PI 7 : Prescriptions antibiotiques pour infections urinaires chez la femme | B13: Nombre de prescriptions de nitrofurantoïne + pivmécillinam + fosfomycine-trométamol / nombre de prescriptions de quinolones | C13: Ville | D13: Non | E13: Cible : > 5 % | F13: Outil de Datavisualisation | G13: Outil de Datavisualisation
A15: PI 8 : Variation saisonnière des prescriptions totales d'antibiotiques | B15: ((Nombre de prescriptions d'antibiotiques en hiver (janvier à mars et octobre à décembre) / nombre de consultations sur la même période) / (nombre prescriptions antibiotiques en été (avril à septembre) / nombre de consultations sur la même période) - 1) x 100 | C15: Ville | D15: Non | E15: Cible : < 20% | F15: Outil de Datavisualisation | G15: Outil de Datavisualisation
A17: PI 9 : Variation saisonnière des prescriptions de quinolones | B17: ((Nombre de prescriptions de quinolones en hiver (janvier à mars et octobre à décembre) /nombre de consultations sur la même période) / (nombre prescriptions de quinolones en été (avril à septembre) / nombre de consultations sur la même période) - 1) x 100 | C17: Ville | D17: Non | E17: Cible : < 5% | F17: Outil de Datavisualisation | G17: Outil de Datavisualisation
E18: Niveau acceptable : < 10%
A19: PI 10 : Durée estimée de prescriptions antibiotique > à 7 jours | B19: Nombre de prescriptions de plus de 7 jours d'amoxicilline, amoxicilline - acide clavulanique, cefuroxime, cefpodoxime, roxithromycine, clarithromycine, pristinamycine et nitrofurantoïne / nombre total de prescriptions de ces 8 antibiotiques | C19: Ville | D19: Non | E19: Cible : < 5% | F19: Outil de Datavisualisation | G19: Outil de Datavisualisation
E20: Cible acceptable: < 10 %
A21: PI 11 : Co-prescriptions d'antibiotiques et d'anti-inflammatoires non stéroïdiens (AINS) | B21: Nombre d'antibiotiques (J01) et d'AINS (M01A) co-prescrits le même jour / nombre total de prescriptions antibiotiques (J01) | C21: Ville | D21: Non | E21: Cible : 0% | F21: Outil de Datavisualisation | G21: Outil de Datavisualisation
E22: Cible acceptable : < 5%
A23: PI 12 : Co-prescriptions d'antibiotiques et de corticoïdes systémiques | B23: Nombre d'antibiotiques et de corticoïdes systémiques co-prescrits le même jour / nombre total de prescriptions antibiotiques | C23: Ville | D23: Non | E23: Cible : 0% | F23: Outil de Datavisualisation | G23: Outil de Datavisualisation
E24: Cible acceptable : < 5%
A27: DONNEES DEPARTEMENTALES 2023
A28: Indicateur | B28: Définition complémentaire | C28: Secteur | D28: Auvergne Rhône Alpes | E28: Bourgogne Franche-Comté | F28: Bretagne | G28: CVL | H28: Corse | I28: Grand Est | J28: Guadeloupe | K28: Guyane | L28: Hauts-de-France | M28: Île-de-France | N28: La Réunion | O28: Martinique | P28: Mayotte | Q28: Normandie | R28: Nouvelle Aquitaine | S28: Occitanie | T28: Pays de la Loire | U28: Provence Alpes Côte d'Azur
A29: PI 1 : Prescriptions d'amoxicilline sur prescriptions d'antibiotiques de seconde intention | B29: Nombre de prescriptions d'amoxicilline / nombre de prescriptions d'amoxicilline - acide clavulanique + quinolones + céphalosporines + macrolides et apparentés | C29: Ville | D29: Outil de Datavisualisation | E29: Outil de Datavisualisation | F29: Outil de Datavisualisation | G29: Outil de Datavisualisation | H29: Outil de Datavisualisation | I29: Outil de Datavisualisation | J29: Outil de Datavisualisation | K29: Outil de Datavisualisation | L29: Outil de Datavisualisation | M29: Outil de Datavisualisation | N29: Outil de Datavisualisation | O29: Outil de Datavisualisation | P29: Outil de Datavisualisation | Q29: Outil de Datavisualisation | R29: Outil de Datavisualisation | S29: Outil de Datavisualisation | T29: Outil de Datavisualisation | U29: Outil de Datavisualisation
A30: PI 2 : Prescriptions d'amoxicilline sur prescriptions d'amoxicilline - acide clavulanique | B30: Nombre de prescriptions d'amoxicilline (J01CA04) / Nombre de prescriptions d'amoxicilline - acide clavulanique (J01CR02) | C30: Ville
A31: PI 3 : Prescriptions d'antibiotiques non indiqués | B31: Nombre de prescriptions de moxifloxacine, spiramycine-metronidazole et cefaclor / nombre total de prescriptions antibiotiques | C31: Ville
A32: PI 4 : Prescriptions de pristinamycine et macrolides | B32: Nombre de prescriptions de pristinamycine + macrolides / Nombre total de prescriptions antibiotiques | C32: Ville
A33: PI 5 : Prescriptions répétées de quinolones | B33: Nombre de prescriptions de quinolones chez les patients ayant déjà reçu une quinolone au cours des six derniers mois / nombre total de prescriptions de quinolones | C33: Ville
A34: PI 6 : Prescriptions antibiotiques pour infections urinaires chez l'homme | B34: Nombre de prescriptions de nitrofurantoïne + de quinolones urinaires (autres quinolones ou enoxacine) + fosfomycine-trométamol + pivmécillinam / 100 patients hommes actifs (au moins une consultation chez le médecin généraliste en un an) | C34: Ville
A35: PI 7 : Prescriptions antibiotiques pour infections urinaires chez la femme | B35: Nombre de prescriptions de nitrofurantoïne + pivmécillinam + fosfomycine-trométamol / nombre de prescriptions de quinolones | C35: Ville
A36: PI 8 : Variation saisonnière des prescriptions totales d'antibiotiques | B36: ((Nombre de prescriptions d'antibiotiques en hiver (janvier à mars et octobre à décembre) / nombre de consultations sur la même période) / (nombre prescriptions antibiotiques en été (avril à septembre) / nombre de consultations sur la même période) - 1) x 100 | C36: Ville
A37: PI 9 : Variation saisonnière des prescriptions de quinolones | B37: ((Nombre de prescriptions de quinolones en hiver (janvier à mars et octobre à décembre) /nombre de consultations sur la même période) / (nombre prescriptions de quinolones en été (avril à septembre) / nombre de consultations sur la même période) - 1) x 100 | C37: Ville
A38: PI 10 : Durée estimée de prescriptions antibiotique > à 7 jours | B38: Nombre de prescriptions de plus de 7 jours d'amoxicilline, amoxicilline - acide clavulanique, cefuroxime, cefpodoxime, roxithromycine, clarithromycine, pristinamycine et nitrofurantoïne / nombre total de prescriptions de ces 8 antibiotiques | C38: Ville
A39: PI 11 : Co-prescriptions d'antibiotiques et d'anti-inflammatoires non stéroïdiens (AINS) | B39: Nombre d'antibiotiques (J01) et d'AINS (M01A) co-prescrits le même jour / nombre total de prescriptions antibiotiques (J01) | C39: Ville
A40: PI 12 : Co-prescriptions d'antibiotiques et de corticoïdes systémiques | B40: Nombre d'antibiotiques et de corticoïdes systémiques co-prescrits le même jour / nombre total de prescriptions antibiotiques | C40: Ville

Sheet Cnam
A1: NE PAS DIFFUSER/PUBLIER LE TABLEAU EN L'ETAT, COMMUNICATION SUR LES CHIFFRES NATIONAUX ET REGIONAUX POSSIBLES
A3: DONNEES AU NATIONAL
A4: Indicateur | B4: Définition complémentaire | C4: Secteur | D4: Indicateur de la SNPIA | E4: Cible à l’horizon 2025 | F4: Données 2022 | G4: Données 2023 | H4: Commentaire
A5: Nombre de traitements par antibiotiques pour 100 patients (médecin traitant) de 16 à 65 ans et hors ALD | C5: Ville | D5: x | E5: Objectif cible < 20, au national | F5: ND | G5: 26.5
A6: Proportion de patients, traités par leur médecin traitant par des antibiotiques générateurs de résistances (amoxicilline + acide clavulanique ; céphalosporines de 3/4ème générations ; fluoroquinolones) | B6: (Nombre de patients du médecin traitant ayant eu une prescription par le médecin traitant d’amoxicilline+ ac. clavulanique OU céphalosporine de 3/4ème génération OU fluoroquinolones) / nombre de patients du médecin traitant ayant une prescription d’antibiotiques par le médecin traitant. | C6: Ville | D6: Non | E6: <32%, objectif cible | F6: ND | G6: 0.314
A7: Proportion de patients du médecin traitant de moins (<) de 4 ans traités par céphalosporine de 3/4ème génération parmi ceux traités par antibiotiques. | B7: (Nombre de patients du médecin traitant de moins de 4 ans ayant eu au moins une délivrance de céphalosporine de 3/4ème génération prescrite par le médecin traitant) / nombre de patients du médecin traitant de moins de 4 ans ayant eu au moins une délivrance d’antibiotiques prescrits par le médecin traitant | C7: Ville | D7: Non | E7: <11%, objectif cible | F7: ND | G7: 0.195
A8: Proportion de patients du médecin traitant de 4 ans et plus traités par céphalosporines de 3/4ème génération parmi ceux traités par antibiotiques. | B8: (Nombre de patients du médecin traitant de 4 ans et plus ayant eu au moins une délivrance de céphalosporines de 3/4ème génération prescrites par le médecin traitant) / nombre de patients du médecin traitant de 4 ans et plus ayant eu au moins une délivrance d’antibiotiques prescrits par le médecin traitant | C8: Ville | D8: Non | E8: <7%, objectif cible | F8: ND | G8: 0.13
A10: DONNEES EN REGION 2023
A11: Indicateur | B11: Définition complémentaire | C11: Secteur | D11: Auvergne Rhône Alpes | E11: Bourgogne Franche-Comté | F11: Bretagne | G11: CVL | H11: Corse | I11: Grand Est | J11: Guadeloupe | K11: Guyane | L11: Hauts-de-France | M11: Île-de-France | N11: La Réunion | O11: Martinique | P11: Mayotte | Q11: Normandie | R11: Nouvelle Aquitaine | S11: Occitanie | T11: Pays de la Loire | U11: Provence Alpes Côte d'Azur
A12: Nombre de traitements par antibiotiques pour 100 patients (médecin traitant) de 16 à 65 ans et hors ALD | C12: Ville | D12: Voir détail dans fichiers Excel correspondant
A13: Proportion de patients, traités par leur médecin traitant par des antibiotiques générateurs de résistances (amoxicilline + acide clavulanique ; céphalosporines de 3/4ème générations ; fluoroquinolones) | B13: (Nombre de patients du médecin traitant ayant eu une prescription par le médecin traitant d’amoxicilline+ ac. clavulanique OU céphalosporine de 3/4ème génération OU fluoroquinolones) / nombre de patients du médecin traitant ayant une prescription d’antibiotiques par le médecin traitant. | C13: Ville
A14: Proportion de patients du médecin traitant de moins (<) de 4 ans traités par céphalosporine de 3/4ème génération parmi ceux traités par antibiotiques. | B14: (Nombre de patients du médecin traitant de moins de 4 ans ayant eu au moins une délivrance de céphalosporine de 3/4ème génération prescrite par le médecin traitant) / nombre de patients du médecin traitant de moins de 4 ans ayant eu au moins une délivrance d’antibiotiques prescrits par le médecin traitant | C14: Ville
A15: Proportion de patients du médecin traitant de 4 ans et plus traités par céphalosporines de 3/4ème génération parmi ceux traités par antibiotiques. | B15: (Nombre de patients du médecin traitant de 4 ans et plus ayant eu au moins une délivrance de céphalosporines de 3/4ème génération prescrites par le médecin traitant) / nombre de patients du médecin traitant de 4 ans et plus ayant eu au moins une délivrance d’antibiotiques prescrits par le médecin traitant | C15: Ville

Sheet ANSM
A1: NE PAS DIFFUSER/PUBLIER LE TABLEAU EN L'ETAT, COMMUNICATION SUR LES CHIFFRES NATIONAUX ET REGIONAUX POSSIBLES
A3: DONNEES AU NATIONAL
A4: Indicateur | B4: Secteur | C4: Indicateur de la SNPIA | D4: Cible à l’horizon 2025 | E4: Données 2019 | F4: Données 2022 | G4: Données 2023 | H4: Commentaire
A5: Consommation globale en nombre de doses définies journalières (DDJ) de tous les antibiotiques (classe OMS ATC J01) pour 1000 habitants et par jour | B5: Ville/ES/ESMS | C5: x | D5: < 20 DDJ / 1000 hab / jour au national d’ici 2025 | E5: 25.1 | F5: 24,31 DDJ / 1000 hab / jour | G5: 24,05 DDJ / 1000 hab / jour

Sheet HAS
A1: NE PAS DIFFUSER/PUBLIER LE TABLEAU EN L'ETAT, COMMUNICATION SUR LES CHIFFRES NATIONAUX ET REGIONAUX POSSIBLES
A3: DONNEES AU NATIONAL
A4: Indicateur | B4: Définition complémentaire | C4: Secteur | D4: Indicateur de la SNPIA | E4: Cible à l’horizon 2025 | F4: Données 2022 | G4: Données 2023 | H4: Commentaire
A5: Couverture vaccinale contre la grippe des professionnels de santé en établissements de santé (taux en médiane) | B5: Méthodologie et résultats détaillés | C5: ES | D5: x | E5: > 70% d’ici 2025, au national | F5: 0.22 | G5: 0.19 | H5: Tous les ans
A6: Indicateur de consommation de solution hydro-alcoolique (score en médiane) | B6: Méthodologie ICSHA et résultats détaillés | C6: ES | D6: x | E6: 100% des établissements ayant atteint leur objectif, avec des objectifs de friction par acte/jour/patient évolutifs, au national et dans toutes les régions | F6: 0.95 | G6: 0.83 | H6: Tous les ans
A7: Indicateur de bonnes pratiques de précautions complémentaires contact (taux en moyenne) | B7: Méthodologie et résultats détaillés | C7: ES | D7: x | E7: 100% des ES ayant atteint la cible d’un taux ≥ 80%, au national et dans toutes les régions | F7: 0.28 | G7: NA | H7: Tous les 2 ans
A8: Ratio standardisé d’ISO 3 mois après PTH (prothèse totale de hanche) | B8: Méthodologie et résultats détaillés | C8: ES | D8: x | E8: Aucun établissement a plus de 3 déviations standard, au national et dans toutes les régions | F8: 12 ES | G8: NA | H8: Tous les 2 ans
A9: Ratio standardisé d’ISO 3 mois après PTG (genou) | B9: Méthodologie et résultats détaillés | C9: ES | D9: x | E9: Aucun établissement a plus de 3 déviations standard, au national et dans toutes les régions | F9: 8 ES | G9: NA | H9: Tous les 2 ans
A10: Prescriptions d’antibiothérapie de 7 jours ou moins pour infection respiratoire basse (taux en moyenne) | B10: Méthodologie ATBIR et résultats détaillés | C10: ES | D10: x | E10: 100% des ES ayant atteint la cible de ≥ 80%, au national et dans toutes les régions | F10: NA | G10: 0.81 | H10: Tous les 2 ans
A12: DONNEES EN REGION 2023 (Campagne 2022 pour PCC (données 2021), Campagnes 2022 (données 2021) pour ISO-PTH et ISO-PTG)
A13: Indicateur | B13: Définition complémentaire | C13: Secteur | D13: Auvergne Rhône Alpes | E13: Bourgogne Franche-Comté | F13: Bretagne | G13: Centre Val de Loire | H13: Corse | I13: Grand Est | J13: Guadeloupe | K13: Guyane | L13: Hauts-de-France | M13: Île-de-France | N13: La Réunion | O13: Martinique | P13: Mayotte | Q13: Normandie | R13: Nouvelle Aquitaine | S13: Occitanie | T13: Pays de la Loire | U13: Provence Alpes Côte d'Azur
A14: Couverture vaccinale contre la grippe des professionnels de santé en établissements de santé (médiane) | B14: Méthodologie et résultats détaillés | C14: ES | D14: 0.2 | E14: 0.2 | F14: 0.26 | G14: 0.21 | H14: 0.13 | I14: 0.18 | J14: 0.03 | K14: 0.02 | L14: 0.22 | M14: 0.19 | N14: 0.03 | O14: 0.01 | P14: 0.03 | Q14: 0.22 | R14: 0.2 | S14: 0.17 | T14: 0.25 | U14: 0.17
A15: Indicateur de consommation de solution hydro-alcoolique (score en médiane) | B15: Méthodologie ICSHA et résultats détaillés | C15: ES | D15: 0.79 | E15: 0.77 | F15: 0.67 | G15: 0.8 | H15: 0.84 | I15: 0.79 | J15: 101 | K15: 0.7 | L15: 0.95 | M15: 0.94 | N15: 0.9 | O15: 1.02 | P15: 0.71 | Q15: 0.73 | R15: 0.79 | S15: 0.85 | T15: 0.8 | U15: 1
A16: Indicateur de bonnes pratiques de précautions complémentaires contact | B16: Méthodologie et résultats détaillés | C16: ES | D16: 0.15 | E16: 0.31 | F16: 0.21 | G16: 0.44 | H16: 0.19 | I16: 0.15 | J16: 0.07 | K16: 0.34 | L16: 0.17 | M16: 0.47 | N16: 0.18 | O16: 0.02 | P16: 0.08 | Q16: 0.29 | R16: 0.18 | S16: 0.29 | T16: 0.16 | U16: 0.39
A17: Ratio standardisé d’ISO sur PTH (prothèse totale de hanche) (nombre d'ES ayant des résultats moins bons qu'attendus : statut atypique haut supérieur à +3DS). Résultat national N = 12 (1,8%)* | B17: Méthodologie et résultats détaillés | C17: ES | D17: 2 | E17: 1 | F17: 1 | L17: 1 | M17: 2 | N17: 1 | Q17: 1 | S17: 2 | T17: 1
A18: Ratio standardisé d’ISO sur PTG (genou) (nombre d'ES ayant des résultats moins bons qu'attendus : statut atypique haut supérieur à +3DS) Résultat national N = 8 (1,2%)* | B18: Méthodologie et résultats détaillés | C18: ES | D18: 2 | E18: 1 | L18: 1 | Q18: 2 | T18: 2
A19: Prescriptions d’antibiothérapie de 7 jours ou moins pour infection respiratoire basse (taux en moyenne) | B19: Méthodologie ATBIR et résultats détaillés | C19: ES | D19: 0.79 | E19: 0.75 | F19: 0.85 | G19: 0.75 | H19: 0.64 | I19: 0.8 | J19: 0.81 | K19: 0.69 | L19: 0.8 | M19: 0.85 | N19: 0.83 | O19: 0.84 | P19: 0.9 | Q19: 0.73 | R19: 0.82 | S19: 0.82 | T19: 0.84 | U19: 0.84
A21: *Aucun ES en commun entre les atypiques hauts pour ISO-PTH et pour ISO-PTG

Sheet SpF
A1: NE PAS DIFFUSER/PUBLIER LE TABLEAU EN L'ETAT, COMMUNICATION SUR LES CHIFFRES NATIONAUX ET REGIONAUX POSSIBLES
A3: DONNEES AU NATIONAL
A4: Indicateur | B4: Définition complémentaire | C4: Secteur | D4: Indicateur de la SNPIA | E4: Cible à l’horizon 2025 | F4: Données 2019 | G4: Données 2022 | H4: Données 2023 | I4: Commentaire
A5: Couverture vaccinale pour le vaccin ROR (Rougeole Oreillons Rubéole) (deux doses) à 2 ans | B5: Méthodologie | C5: Ville | D5: x | E5: > 98% d’ici 2025, au national et dans toutes les régions | F5: 0.831 | G5: 0.857 | H5: 0.857
A6: Couverture vaccinale contre la grippe des professionnels de santé en établissements ou services médico-sociaux (ESMS) | C6: ESMS | D6: x | E6: > 70% d’ici 2025, au national et dans toutes les régions | F6: 0.32 | G6: 24,7% [IC95%: 23,8-25,6] | H6: 22,4% [IC95%: 21,7-23,1] | I6: Recueil ponctuel, données Ehpad (saisons 2022-2023 et 2023-2024)
A7: Couverture vaccinale contre la grippe des résidents | B7: Nombre de vaccins contre la grippe dispensés / nombre de résidents ayant séjourné dans l’EHPAD entre octobre et février | C7: EHPAD | E7: Cible > et = 90% | G7: 87,5% [IC95%: 87,0-88,0] | H7: 83,3% [IC95%: 82,7-83,8] | I7: Recueil ponctuel, données Ehpad (saisons 2022-2023 et 2023-2024)
A8: Nombre d’antibiotiques de la classe OMS ATC J01 prescrits et délivrés en ville pour 1000 habitants et par an | B8: Méthodologie | C8: Ville | D8: x | E8: < 650 d’ici 2025, au national et dans toutes les régions, départements et EPCI | F8: 846,8 GEODES | G8: 822,05 GEODES | H8: 820,64 GEODES | I8: Publication dans le rapport de Consommation des antibiotiques
A9: Consommation d’antibiotiques critiques (SPILF) en ville, en nombre de DDJ pour 1000 habitants et par jour, délivrés en pharmacies d’officine | B9: Groupe 2 de la SPILF : antibiotiques "à usage restreint" | C9: Ville | D9: x | E9: Réduction d’au moins 20% entre 2019 et 2025, au national, et dans toutes les régions | F9: 8.98 | G9: 7.6 | H9: 6.97 | I9: Non publié
A10: Consommation d’antibiotiques critiques (SPILF) en ville, en nombre de prescriptions pour 1000 habitants et par an, délivrés en pharmacies d’officine | B10: Groupe 2 de la SPILF : antibiotiques "à usage restreint" | C10: Ville | E10: Réduction d’au moins 20% entre 2019 et 2025, au national, et dans toutes les régions | F10: 446.3 | G10: 299 | H10: 286 | I10: Publication dans la synthèse USS
A11: Consommation de tous les antibiotiques à usage systémique de la classe OMS ATC J01 en EHPAD (sans PUI), en nombre de DDJ pour 1000 journées d’hébergement. | B11: Méthodologie Antibiotiques délivrés en pharmacies d’officine à l’attention des résidents en EHPAD | C11: EHPAD sans PUI | E11: Réduction d’au moins 20% entre 2019 et 2025, au national | F11: 45,6 GEODES Consommation globale en nombre de doses définies journalières (DDJ) de tous les antibiotiques (classe OMS ATC J01) pour 1000 habitants et par jour | G11: 40,3 GEODES | H11: 39,3 GEODES | I11: Publication dans le rapport de Consommation des antibiotiques
A12: Consommation des antibiotiques critiques (SPILF) en EHPAD (sans PUI), en nombre de DDJ pour 1000 journées d’hébergement. | B12: Méthodologie Antibiotiques délivrés en pharmacies d’officine à l’attention des résidents en EHPAD | C12: EHPAD sans PUI | D12: x | E12: Réduction d’au moins 20% entre 2019 et 2025, au national | F12: 37 Consommation de tous les antibiotiques critiques à usage systémique en EHPAD (avec et sans PUI), en DDJ pour 1000 résidents ou pour 1000 journées d’hébergement et par an. Antibiotiques délivrés en pharmacies d’officine et PUI à l’attention des résidents en EHPAD | G12: 20.5 | H12: ND | I12: Données 2023 non disponiblse pour le moment
A13: Nombre de prescriptions de tous les antibiotiques à usage systémique en EHPAD sans PUI pour 1000 journées d’hébergement. | B13: Méthodologie Antibiotiques délivrés en pharmacies d’officine à l’attention des résidents en EHPAD | C13: EHPAD sans PUI | E13: Réduction d’au moins 20% entre 2019 et 2025, au national | F13: 4,64 GEODES | G13: 4,06 GEODES | H13: 4,14 GEODES | I13: Publication dans le rapport de Consommation des antibiotiques
A14: Variation saisonnière des prescriptions totales d'antibiotiques | B14: ((Nombre de prescriptions d'antibiotiques en hiver (janvier à mars et octobre à décembre) / nombre de consultations sur la même période) / (nombre prescriptions antibiotiques en été (avril à septembre) / nombre de consultations sur la même période) - 1) x 100 | C14: EHPAD sans PUI | E14: Cible < 20% d’augmentation | G14: 0.278 | H14: ND | I14: Données 2023 non disponiblse pour le moment
A15: Variation saisonnière des prescriptions d’amoxicilline – acide clavulanique | B15: ((Nombre de prescriptions d’amoxicilline – acide clavulanique en hiver (janvier à mars et octobre à décembre) / nombre de consultations sur la même période) / (nombre prescriptions d’amoxicilline – acide clavulanique en été (avril à septembre) / nombre de consultations sur la même période) - 1) x 100 | C15: EHPAD sans PUI | E15: Cible < 20% d’augmentation | G15: 0.398 | H15: ND | I15: Données 2023 non disponiblse pour le moment
A16: Prescriptions d'amoxicilline sur prescriptions d'antibiotiques de seconde intention (ratio) | B16: Nombre de prescriptions d’amoxicilline ou amoxicilline-acide clavulanique / nombre de prescriptions de fluoroquinolones, céphalosporine et macrolides et apparentés | C16: EHPAD sans PUI | E16: Cible < 20% d’augmentation | G16: 1 | H16: ND | I16: Données 2023 non disponiblse pour le moment
A17: Prescription de céphalosporines orales sur prescriptions céphalosporines orales ou injectables | B17: Nombre de prescriptions de céphalosporines orales / nombre total de prescriptions de céphalosporines orales ou injectables | C17: EHPAD sans PUI | E17: Cible < 10% Cible acceptable < 30% | G17: 0.33 | H17: ND | I17: Données 2023 non disponiblse pour le moment
A19: DONNEES EN REGION 2023
A20: Indicateur | B20: Définition complémentaire | C20: Secteur | D20: Auvergne Rhône Alpes | E20: Bourgogne Franche-Comté | F20: Bretagne | G20: CVL | H20: Corse | I20: Grand Est | J20: Guadeloupe | K20: Guyane | L20: Hauts-de-France | M20: Île-de-France | N20: La Réunion | O20: Martinique | P20: Mayotte | Q20: Normandie | R20: Nouvelle Aquitaine | S20: Occitanie | T20: Pays de la Loire | U20: Provence Alpes Côte d'Azur
A21: Couverture vaccinale pour le vaccin ROR (Rougeole Oreillons Rubéole) (deux doses) à 2 ans | B21: Méthodologie | C21: Ville | D21: GEODES
A22: Couverture vaccinale contre la grippe des professionnels de santé en établissements ou services médico-sociaux (ESMS) | C22: ESMS (Ehpad) | D22: 21,7 [20,1-23,4] | E22: 21,3 [18,3-24,4] | F22: 22,5 [19,5-25,4] | G22: 22,4 [19,9-25,0] | H22: 15,4 [9,9-21,0] | I22: 20,8 [17,8-23,7] | L22: 25,2 [22,4-28,0] | M22: 24,7 [21,7-27,7] | N22: 3,0 [0-6,1] | Q22: 24,0 [21,3-26,8] | R22: 24,6 [22,6-26,6] | S22: 20,0 [18,0-22,1] | T22: 23,0 [20,4-25,6] | U22: 20,1 [18,5-21,8]
A23: Couverture vaccinale contre la grippe des résidents | B23: Nombre de vaccins contre la grippe dispensés / nombre de résidents ayant séjourné dans l’EHPAD entre octobre et février | C23: EHPAD | D23: 83,0 [81,6-84,3] | E23: 81,4 [78,7-84,2] | F23: 85,8 [83,6-88,0] | G23: 83,7 [81,1-86,4] | H23: 85,1 [80,0-92,3] | I23: 77,4 [74,0-80,3] | L23: 85,5 [83,4-87,6] | M23: 85,0 [83,6-86,5] | N23: 49,5 [22,1-76,9] | Q23: 84,1 [82,3-86,0] | R23: 84,2 [82,9-85,4] | S23: 83,6 [82,1-85,2] | T23: 83,9 [82,2-85,5] | U23: 83,2 [81,5-84,8]
A24: Nombre d’antibiotiques de la classe OMS ATC J01 prescrits et délivrés en ville pour 1000 habitants et par an | B24: Méthodologie | C24: Ville | D24: GEODES
A25: Consommation d’antibiotiques critiques (SPILF) en ville, en nombre de DDJ pour 1000 habitants et par jour, délivrés en pharmacies d’officine | B25: Groupe 2 de la SPILF : antibiotiques "à usage restreint" | C25: Ville | D25: 5.95 | E25: 7.16 | F25: 5.8 | G25: 6.54 | H25: 10.93 | I25: 6.87 | J25: 6.04 | K25: 5.68 | L25: 7.49 | M25: 7.05 | N25: 6.99 | O25: 6.48 | Q25: 7.37 | R25: 7.3 | S25: 7.65 | T25: 5.33 | U25: 8.96
A26: Consommation d’antibiotiques critiques (SPILF) en ville, en nombre de prescriptions pour 1000 habitants et par an, délivrés en pharmacies d’officine | B26: Groupe 2 de la SPILF : antibiotiques "à usage restreint" | C26: Ville | D26: 240.13 | E26: 288.31 | F26: 233.46 | G26: 261.88 | H26: 455.73 | I26: 286.47 | J26: 219.18 | K26: 230.86 | L26: 311.2 | M26: 290.6 | N26: 269.05 | O26: 237.66 | Q26: 294.72 | R26: 300.88 | S26: 318.82 | T26: 212 | U26: 380.16
A27: Consommation de tous les antibiotiques à usage systémique de la classe OMS ATC J01 en EHPAD (sans PUI), en nombre de DDJ pour 1000 journées d’hébergement. | B27: Méthodologie Antibiotiques délivrés en pharmacies d’officine à l’attention des résidents en EHPAD | C27: EHPAD sans PUI | D27: GEODES
A28: Consommation des antibiotiques critiques (SPILF) en EHPAD (sans PUI), en nombre de DDJ pour 1000 journées d’hébergement. | B28: Méthodologie Antibiotiques délivrés en pharmacies d’officine à l’attention des résidents en EHPAD | C28: EHPAD sans PUI
A29: Nombre de prescriptions de tous les antibiotiques à usage systémique en EHPAD sans PUI pour 1000 journées d’hébergement. | B29: Méthodologie Antibiotiques délivrés en pharmacies d’officine à l’attention des résidents en EHPAD | C29: EHPAD sans PUI | D29: GEODES
A30: Variation saisonnière des prescriptions totales d'antibiotiques | B30: ((Nombre de prescriptions d'antibiotiques en hiver (janvier à mars et octobre à décembre) / nombre de consultations sur la même période) / (nombre prescriptions antibiotiques en été (avril à septembre) / nombre de consultations sur la même période) - 1) x 100 | C30: EHPAD sans PUI
A31: Variation saisonnière des prescriptions d’amoxicilline – acide clavulanique | B31: ((Nombre de prescriptions d’amoxicilline – acide clavulanique en hiver (janvier à mars et octobre à décembre) / nombre de consultations sur la même période) / (nombre prescriptions d’amoxicilline – acide clavulanique en été (avril à septembre) / nombre de consultations sur la même période) - 1) x 100 | C31: EHPAD sans PUI
A32: Prescriptions d'amoxicilline sur prescriptions d'antibiotiques de seconde intention (ratio) | B32: Nombre de prescriptions d’amoxicilline ou amoxicilline-acide clavulanique / nombre de prescriptions de fluoroquinolones, céphalosporine et macrolides et apparentés | C32: EHPAD sans PUI
A33: Prescription de céphalosporines orales sur prescriptions céphalosporines orales ou injectables | B33: Nombre de prescriptions de céphalosporines orales / nombre total de prescriptions de céphalosporines orales ou injectables | C33: EHPAD sans PUI

Sheet MATIS
A1: NE PAS DIFFUSER/PUBLIER LE TABLEAU EN L'ETAT, COMMUNICATION SUR LES CHIFFRES NATIONAUX ET REGIONAUX POSSIBLES
A3: DONNEES AU NATIONAL
A4: Indicateur | B4: Définition complémentaire | C4: Secteur | D4: Indicateur de la SNPIA | E4: Cible à l’horizon 2025 | F4: Données 2022 | G4: Données 2023 | H4: Commentaire
A5: Fréquence moyenne de friction des mains avec un produit hydro-alcoolique déclarée par les professionnels de santé après avoir touché le patient pour 100 situations. | B5: Méthodologie | C5: ES | D5: x | E5: > 90% d’ici 2025, au national | F5: 0.89 | G5: 0.87 | H5: Recueil sur enquête, les ES répondant ne sont pas forcément les mêmes d'une année à l'autre, ne pas comparer. En 2022 : 303 ES et 16 529 professionnels; en 2023 : 415 ES et 22 102 professionnels.
A6: Fréquence moyenne de friction des mains avec un produit hydro-alcoolique déclarée par les professionnels de santé après avoir touché le résident pour 100 situations. | B6: Méthodologie | C6: ESMS | D6: x | E6: > 90% d’ici 2025, au national | F6: 0.79 | G6: 0.72 | H6: Recueil sur enquête, les ESMS répondant ne sont pas forcément les mêmes d'une année à l'autre, ne pas comparer. En 2022 : 130 ESMS et 2 517 professionnels; en 2023 : 231 ESMS et 4 657 professionnels.
A7: Fréquence moyenne de frictions des mains avec un produit hydro-alcoolique par les professionnels de santé, observées par les patients avant un acte de soin, pour 100 situations | B7: Méthodologie | C7: ES | D7: x | E7: > 90% d’ici 2025, au national | F7: 0.82 | G7: 0.79 | H7: Recueil sur enquête, les ES répondant ne sont pas forcément les mêmes d'une année à l'autre, ne pas comparer. En 2022 : 165 ES et 5 698 patients ; en 2023 : 278 ES et 9 805 patients.
A8: Fréquence moyenne de frictions des mains avec un produit hydro-alcoolique par les professionnels de santé, observées par les résidents avant un acte de soin, pour 100 situations | B8: Méthodologie | C8: ESMS | D8: x | E8: > 90% d’ici 2025, au national | F8: Participation insuffisante | G8: Participation insuffisante | H8: Recueil sur enquête, les ESMS répondant ne sont pas forcément les mêmes d'une année à l'autre, ne pas comparer En 2022 : 36 ESMS et 809 résidents ; en 2023 : 85 ESMS et 1 184 résidents.
A9: Proportion de patients déclarant avoir reçu une information concernant l’hygiène des mains | B9: Méthodologie | C9: ES | D9: x | E9: > 80% d’ici 2025, au national | F9: 0.43 | G9: 0.42 | H9: Recueil sur enquête, les ES répondant ne sont pas forcément les mêmes d'une année à l'autre, ne pas comparer. En 2022 : 165 ES et 5 698 patients ; en 2023 : 278 ES et 9 805 patients.
A10: Proportion de résidents déclarant avoir reçu une information concernant l’hygiène des mains | B10: Méthodologie | C10: ESMS | D10: x | E10: > 80% d’ici 2025, au national | F10: Participation insuffisante | G10: Participation insuffisante | H10: Recueil sur enquête, les ESMS répondant ne sont pas forcément les mêmes d'une année à l'autre, ne pas comparer. En 2022 : 36 ESMS et 809 résidents ; en 2023 : 85 ESMS et 1 184 résidents.

Sheet PRIMO
A1: NE PAS DIFFUSER/PUBLIER LE TABLEAU EN L'ETAT, COMMUNICATION SUR LES CHIFFRES NATIONAUX ET REGIONAUX POSSIBLES
A3: DONNEES AU NATIONAL
A4: Indicateur | B4: Secteur | C4: Indicateur de la SNPIA | D4: Cible à l’horizon 2025 | E4: Données 2022 | F4: Données 2023 | G4: Commentaire
A5: Nombre de frictions par produit hydro-alcoolique en EHPAD, réalisées par les professionnels de santé, par résident et par jour | B5: EHPAD | C5: x | D5: > 4 frictions / résident / jour d’ici 2025, au national et dans toutes les régions | E5: 1.83 | F5: 1.59 | G5: Nombre médian
A6: Proportion d’Escherichia coli résistants aux céphalosporines de 3ème génération (C3G) dans les urines en ville | B6: Ville | C6: x | D6: ≤ 3%, tous les ans, au national et dans toutes les régions | E6: 0.032782924 | F6: 0.038130022
A7: Proportion d’Escherichia coli résistants aux fluoroquinolones (FQ) dans les urines en ville | B7: Ville | C7: x | D7: ≤ 10%, tous les ans, au national et dans toutes les régions | E7: 0.12569015 | F7: 0.13461891
A8: Proportion d’Escherichia coli, Klebsiella pneumoniae et Enterobacter cloacae produisant une carbapénémase dans les urines en ville | B8: Ville | C8: x | D8: < 0,5%, tous les ans, au national | E8: 0.000302 | F8: 0.000498
A9: Proportion d’Escherichia coli résistants aux céphalosporines de 3ème génération (C3G) dans les urines en EHPAD | B9: EHPAD | C9: x | D9: ≤ 8%, tous les ans, au national et dans toutes les régions | E9: 0.084740492 | F9: 0.092518857
A10: Proportion d’Escherichia coli résistants aux fluoroquinolones (FQ) dans les urines en EHPAD | B10: EHPAD | C10: x | D10: ≤ 18%, tous les ans, au national et dans toutes les régions | E10: 0.18698908 | F10: 0.19182431
A11: Proportion d’Escherichia coli, Klebsiella pneumoniae et Enterobacter cloacae produisant une carbapénémase dans les urines en EHPAD | B11: EHPAD | C11: x | D11: < 0,5%, tous les ans, au national | E11: 0.000529 | F11: 0.000671
A13: DONNEES EN REGION 2023
A14: Indicateur | B14: Secteur | C14: Auvergne Rhône Alpes | D14: Bourgogne Franche-Comté | E14: Bretagne | F14: Centre Val de Loire | G14: Corse | H14: Grand Est | I14: Guadeloupe | J14: Guyane | K14: Hauts-de-France | L14: Île-de-France | M14: La Réunion | N14: Martinique | O14: Mayotte | P14: Normandie | Q14: Nouvelle Aquitaine | R14: Occitanie | S14: Pays de la Loire | T14: Provence Alpes Côte d'Azur
A15: Nombre de frictions par produit hydro-alcoolique en EHPAD, réalisées par les professionnels de santé, par résident et par jour | B15: EHPAD | C15: 1.8 | D15: 1.59 | E15: 1.38 | F15: 1.72 | G15: 2.04 | H15: 1.63 | I15: 2.36 | J15: 1.84 | K15: 1.97 | L15: 1.48 | M15: 2.58 | N15: 2.4 | O15: Pas de participation | P15: 1.42 | Q15: 1.47 | R15: 1.36 | S15: 1.76 | T15: 1.29
A16: Proportion d’Escherichia coli résistants aux céphalosporines de 3ème génération (C3G) dans les urines en ville | B16: Ville | C16: 0.03270687 | D16: 0.029689973 | E16: 0.027410051 | F16: 0.029810769 | G16: 0.039899466 | H16: 0.037111334 | I16: 0.024446142 | J16: 0.066666667 | K16: 0.034318649 | L16: 0.066790218 | M16: 0.030452889 | P16: 0.026779109 | Q16: 0.032769039 | R16: 0.038528575 | S16: 0.022746998 | T16: 0.052327361
A17: Proportion d’Escherichia coli résistants aux fluoroquinolones (FQ) dans les urines en ville | B17: Ville | C17: 0.13384013 | D17: 0.10698429 | E17: 0.10065582 | F17: 0.09193683 | G17: 0.13917688 | H17: 0.13910307 | I17: 0.11611917 | J17: 0.30769231 | K17: 0.13822383 | L17: 0.19865295 | M17: 0.16098386 | P17: 0.10526538 | Q17: 0.12220351 | R17: 0.11625682 | S17: 0.10083912 | T17: 0.16956108
A18: Proportion d’Escherichia coli, Klebsiella pneumoniae et Enterobacter cloacae produisant une carbapénémase dans les urines en ville | B18: Ville | C18: 0.00047726702 | D18: 0.0005487671 | E18: 0.00033594625 | F18: 0.00025642669 | G18: 0.0023474178 | H18: 0.0003870718 | I18: 0.00084021846 | J18: 0 | K18: 0.00043461164 | L18: 0.0010403041 | M18: 0.00052421891 | P18: 0.00018908238 | Q18: 0.0004284727 | R18: 0.00057611495 | S18: 0.00022683085 | T18: 0.00051110711
A19: Proportion d’Escherichia coli résistants aux céphalosporines de 3ème génération (C3G) dans les urines en EHPAD | B19: EHPAD | C19: 0.080733558 | D19: 0.040133779 | E19: 0.061073059 | F19: 0.065337763 | G19: 0.17687075 | H19: 0.064140911 | I19: 0.039215686 | K19: 0.11987794 | L19: 0.2288 | M19: 0.03 | P19: 0.053952321 | Q19: 0.07942349 | R19: 0.10934214 | S19: 0.034153401 | T19: 0.16966744
A20: Proportion d’Escherichia coli résistants aux fluoroquinolones (FQ) dans les urines en EHPAD | B20: EHPAD | C20: 0.18655143 | D20: 0.096989967 | E20: 0.14448886 | F20: 0.13067553 | G20: 0.23809524 | H20: 0.16051844 | I20: 0.15686275 | K20: 0.22885789 | L20: 0.3376 | M20: 0.19 | P20: 0.15336266 | Q20: 0.17943983 | R20: 0.20817062 | S20: 0.11265566 | T20: 0.2934322
A21: Proportion d’Escherichia coli, Klebsiella pneumoniae et Enterobacter cloacae produisant une carbapénémase dans les urines en EHPAD | B21: EHPAD | C21: 0.00069528941 | D21: 0 | E21: 0 | F21: 0 | G21: 0 | H21: 0.0011065007 | I21: 0.012345679 | K21: 0.0010420285 | L21: 0.0025542784 | M21: 0.007518797 | P21: 0 | Q21: 0.00025 | R21: 0.00049164208 | S21: 0 | T21: 0.0010286302

Sheet SPARES
A1: NE PAS DIFFUSER/PUBLIER LE TABLEAU EN L'ETAT, COMMUNICATION SUR LES CHIFFRES NATIONAUX ET REGIONAUX POSSIBLES
B2: ATTENTION : en raison de l'obsolescence de l'outil de recueil ConsoRes et dans l'attente du nouvel outil en cours de développement, le recueil des données 2023 a fait l'objet d'une méthodologie transitoire particulière, plus complexe à mettre en oeuvre pour les répondants. Seuls des données agrégées de consommation et résistance ont été recueillis. Merci de ne pas comparer les données 2023 avec les données des années antérieures
A3: DONNEES AU NATIONAL
A4: Indicateur | B4: Définition complémentaire | C4: Secteur | D4: Indicateur de la SNPIA | E4: Cible à l’horizon 2025 | F4: Données 2019 | G4: Données 2022 | H4: Données 2023 | I4: Commentaire
A5: Consommation d’antibiotiques en ES, en nombre de DDJ/1000 journées d’hospitalisation (antibiotiques à usage systémique de la classe OMS ATC J01 + rifampicine (J04AB02) + imidazolés per os (P01AB) + fidaxomicine (A07AA12)) | B5: Antibiotiques délivrés par les pharmacies hospitalières à des patients hospitalisés | C5: ES | D5: x | E5: Réduction d’au moins 10% entre 2019 et 2025, au national et dans toutes les régions | F5: 285 | G5: 296.2 | H5: 312 | I5: Echantillon de répondants 2023 significativement différent de 2022 - part plus important des établissements de court séjour plus consommateurs
A6: Indicateur ECDC en ES : part d’antibiotiques à large spectre (C3G-C4G, pipéracilline-tazobactam, aztréonam, carbapénèmes, fluoroquinolones, glycopeptides, linézolide, tédizolide, daptomycine et colistine) au sein de la classe ATC J01. | B6: Antibiotiques délivrés par les pharmacies hospitalières aux patients hospitalisés | C6: ES | D6: x | E6: Réduction relative d’au moins 10% entre 2019 et 2025, au national | F6: 0.335 | G6: 0.358 | H6: 0.344
A7: Proportion de SARM chez Staphylococcus aureus isolé d’hémocultures en ES | C7: ES | D7: x | E7: < 10%, tous les ans, au national et dans toutes les régions | G7: 0.106 | H7: 0.088
A8: Densité d’incidence SARM/ 1000 journées d’hospitalisation en ES | C8: ES | D8: x | E8: Réduction d’au moins 10% entre 2019 et 2025, au national et dans toutes les régions | F8: 0.17 | G8: 0.14 | H8: 0.16
A9: Proportion de souches résistantes à la vancomycine chez Enterococcus faecium isolé d’hémocultures en ES | C9: ES | D9: x | E9: < 1%, tous les ans, au national | G9: 0.006 | H9: 0.008
A10: Densité d’incidence K. pneumoniae produisant une BLSE/ 1000 journées d’hospitalisation en ES | C10: ES | D10: x | E10: Réduction d’au moins 10% entre 2019 et 2025, au national et dans toutes les régions | F10: 0.17 | G10: 0.18 | H10: 0.2
A11: Proportion de souches produisant une carbapénémase chez K. pneumoniae isolée d’hémocultures en ES (%) | C11: ES | D11: x | E11: Maintien valeur 2019 | F11: 0.01 | G11: 0.0121 | H11: NA | I11: Indicateur non recueilli en 2023 - cf. méthodologie de recueil transitoire
A12: Densité d’incidence toutes Enterobacterales produisant une carbapénémase / 1000 journées d’hospitalisation en ES | C12: ES | D12: x | E12: Maintien valeur 2019 | F12: 0.01 | G12: 0.023 | H12: 0.035
A13: Densité d’incidence toutes Enterobactérales produisant une BLSE / 1000 journées d’hospitalisation en ES | C13: ES | E13: Réduction d’au moins 10% entre 2019 et 2025, au national et dans toutes les régions | F13: Non disponible | G13: 0.54 | H13: 0.7
A15: DONNEES EN REGION 2023
A16: Indicateur | B16: Définition complémentaire | C16: Secteur | D16: Auvergne Rhône Alpes | E16: Bourgogne Franche-Comté | F16: Bretagne | G16: Centre Val de Loire | H16: Corse | I16: Grand Est | J16: Guadeloupe | K16: Guyane* | L16: Hauts-de-France | M16: Île-de-France | N16: La Réunion | O16: Martinique | P16: Mayotte* | Q16: Normandie | R16: Nouvelle Aquitaine | S16: Occitanie | T16: Pays de la Loire | U16: Provence Alpes Côte d'Azur
A17: Consommation d’antibiotiques en ES, en nombre de DDJ/1000 journées d’hospitalisation (antibiotiques à usage systémique de la classe OMS ATC J01 + rifampicine (J04AB02) + imidazolés per os (P01AB) + fidaxomicine (A07AA12)) | B17: Antibiotiques délivrés par les pharmacies hospitalières à des patients hospitalisés | C17: ES | D17: 356.5027 | E17: 350.25285 | F17: 270.06498 | G17: 306.772 | H17: 281.38982 | I17: 353.46117 | J17: 148.93702 | L17: 295.9575 | M17: 318.98306 | N17: 327.60323 | O17: 54.469275 | Q17: 374.29113 | R17: 270.5944 | S17: 241.6847 | T17: 260.2141 | U17: 307.05956
A18: Proportion de SARM chez Staphylococcus aureus isolé d’hémocultures en ES | C18: ES | D18: 8.2882883 | E18: 8.125 | F18: 7.0588235 | G18: 5.0583658 | H18: 17.142857 | I18: 9.5351609 | J18: 2.8846154 | L18: 9.186747 | M18: 7.9313164 | N18: 5.1094891 | O18: 25 | Q18: 7.8125 | R18: 12.259372 | S18: 9.0468498 | T18: 6.2015504 | U18: 11.387164
A19: Densité d’incidence SARM/ 1000 journées d’hospitalisation en ES | C19: ES | D19: 0.15573719 | E19: 0.15175557 | F19: 0.16706694 | G19: 0.082615413 | H19: 0.080607658 | I19: 0.14327267 | J19: 0.13319019 | L19: 0.18638239 | M19: 0.19982073 | N19: 0.11250328 | O19: 0.0076603112 | Q19: 0.18261892 | R19: 0.16822203 | S19: 0.15351148 | T19: 0.09995646 | U19: 0.17112096
A20: Densité d’incidence K. pneumoniae produisant une BLSE/ 1000 journées d’hospitalisation en ES | C20: ES | D20: 0.18618581 | E20: 0.11855904 | F20: 0.19051494 | G20: 0.10247489 | H20: 0.14261355 | I20: 0.1090471 | J20: 1.3157576 | L20: 0.24487059 | M20: 0.32771884 | N20: 0.52501531 | O20: 0.36769494 | Q20: 0.19144017 | R20: 0.16899444 | S20: 0.16394035 | T20: 0.12155722 | U20: 0.30418591
A21: Densité d’incidence toutes Enterobacterales produisant une carbapénémase / 1000 journées d’hospitalisation en ES | C21: ES | D21: 0.032407709 | E21: 0.017072502 | F21: 0.022134517 | G21: 0.0079437897 | H21: 0.11781119 | I21: 0.025646148 | J21: 0.020180331 | L21: 0.036262682 | M21: 0.052010813 | N21: 0.39584488 | O21: 0 | Q21: 0.032248859 | R21: 0.034012805 | S21: 0.052352184 | T21: 0.024565571 | U21: 0.019993904
A22: Densité d’incidence toutes Enterobactérales produisant une BLSE / 1000 journées d’hospitalisation en ES | C22: ES | D22: 0.6001987 | E22: 0.43305072 | F22: 0.88859306 | G22: 0.34409442 | H22: 0.46 | I22: 0.52463199 | J22: 2.6473703 | L22: 0.55494356 | M22: 1.2433799 | N22: 1.3875405 | O22: 1.64 | Q22: 0.80854879 | R22: 0.57001274 | S22: 0.63011604 | T22: 0.47312372 | U22: 0.77271704
B23: *nombre d'établissements participants insuffisant

Sheet SPICMI
A1: NE PAS DIFFUSER/PUBLIER LE TABLEAU EN L'ETAT, COMMUNICATION SUR LES CHIFFRES NATIONAUX ET REGIONAUX POSSIBLES
A3: DONNEES AU NATIONAL
A4: Indicateur | B4: Définition complémentaire | C4: Secteur | D4: Indicateur de la SNPIA | E4: Cible à l’horizon 2025 | F4: Données 2022 | G4: Données 2023 | I4: Commentaire
A5: *ATBP-Proportion d’interventions sur peau saine hors urgences avec antibioprophylaxie indiquée et réalisée avant incision chez des patients adultes | C5: ES | D5: x | E5: > 90% d’ici 2025, au national | F5: 0.95 | G5: 0.94 | I5: Recueil sur audit, les ES répondant ne sont pas forcément les mêmes d'une année à l'autre, ne pas comparer
A6: *PCO-Proportion de patients adultes ayant eu au moins une douche préopératoire ou une toilette complète la veille de l’intervention et une antisepsie réalisée avec un antiseptique alcoolique avant une intervention sur peau saine hors urgence (composite) | C6: ES | D6: x | E6: > 80% d’ici 2025, au national | F6: 0.91 | G6: 0.85 | I6: Recueil sur audit, les ES répondant ne sont pas forcément les mêmes d'une année à l'autre, ne pas comparer Remarque : l'échantillon 2023 se caractérise par une inclusion plus marquée d'nterventions chirurgicales mixtes (incision peau saine/muqueuses), avec utilisation d'un antiseptique aqueux.
A7: PCO-DOUCHE - Proportion de patients adultes ayant eu au moins une douche préopératoire ou une toilette complète depuis la veille de l’intervention sur peau saine hors urgences | C7: ES | D7: x | E7: > 90% d’ici 2025, au national | F7: 0.995 | G7: 0.997 | I7: Recueil sur audit, les ES répondant ne sont pas forcément les mêmes d'une année à l'autre, ne pas comparer
A8: PCO-ANTISEPSIE - Proportion des patients adultes pour lesquels un antiseptique alcoolique a été utilisé pour l’antisepsie dans les interventions sur peau saine hors urgences | C8: ES | D8: x | E8: > 80% d’ici 2025, au national | F8: 0.92 | G8: 0.85 | I8: Recueil sur audit, les ES répondant ne sont pas forcément les mêmes d'une année à l'autre, ne pas comparer. Remarque : l'échantillon 2023 se caractérise par une inclusion plus marquée d'nterventions chirurgicales mixtes (incision peau saine/muqueuses), avec utilisation d'un antiseptique aqueux.
A9: PCO-DEPILATION en établissement de santé -Proportion de patients adultes ayant eu une dépilation par rasage mécanique quand une dépilation a été réalisée avant une intervention sur peau saine hors urgence (dépilation non requise systématiquement et rasage mécanique non recommandé) | C9: ES | D9: x | E9: <5% d’ici 2025, au national | F9: 0.02 | G9: 0.01 | I9: Recueil sur audit, les ES répondant ne sont pas forcément les mêmes d'une année à l'autre, ne pas comparer
A10: PCO-DEPILATION A DOMICILE-Proportion de patients adultes ayant eu une dépilation par rasage mécanique quand une dépilation a été réalisée avant une intervention sur peau saine hors urgence (dépilation non requise systématiquement et rasage mécanique non recommandé) | C10: ES | D10: x | E10: < 25% d’ici 2025, au national | F10: 0.27 | G10: 0.24 | I10: Recueil sur audit, les ES répondant ne sont pas forcément les mêmes d'une année à l'autre, ne pas comparer
G11: Delta | H11: Ratio | I11: Delta : comparent par différence le taux actuel avec les 2 années précédentes Ratio : taux actuel/ taux 2 ans précédents
A12: *ISO-Indicateur Infection du site opératoire : Taux d’incidence des ISO pour 100 opérés global | C12: ES | D12: X | E12: < au taux moyen des 2 années précédentes | F12: NA | G12: + 0,06 | H12: 1.05 | I12: Non significatif Permet une surveillance épidémiologique et un suivi de l'évolution des taux dans le temps
A13: Taux d’incidence des ISO pour 100 opérés en chirurgie digestive | B13: Interverventions : Chirurgie colorectale, Appendicetomie, Cholécystectomie, Cure bilatérale d'une hernie. | C13: ES | D13: X | E13: < au taux moyen des 2 années précédentes | F13: NA | G13: + 0,35 | H13: 1.21 | I13: Significatif
A14: Taux d’incidence des ISO pour 100 opérés en chirurgie gynéco-obstétrique | B14: Interverventions : Chirurgie mammaire, Césarienne. | C14: ES | D14: X | E14: < au taux moyen des 2 années précédentes | F14: NA | G14: + 0,23 | H14: 1.2173522 | I14: Significatif
A15: Taux d’incidence des ISO pour 100 opérés en neurochirurgie | B15: Interverventions : Laminectomie, Chirurgie de Hernie discale. | C15: ES | D15: X | E15: < au taux moyen des 2 années précédentes | F15: NA | G15: -0.22094846 | H15: 0.74919252 | I15: Non significatif
A16: Taux d’incidence des ISO pour 100 opérés en chirurgie cardiaque | B16: Interverventions : Pontage aorto-coronarien avec greffon local, Pontage aorto-coronarien avec greffon sur un autre site, Chirurgie de remplacement des valves cardiaques. | C16: ES | D16: X | E16: < au taux moyen des 2 années précédentes | F16: NA | G16: -1.2887802 | H16: 0.64386336 | I16: Significatif
A17: Taux d’incidence des ISO pour 100 opérés en chirurgie orthopédique | B17: Interverventions : Prothèse de hanche, Reprise de prothèse de hanche, Prothèse de genou, Reprise de prothèse de genou. | C17: ES | D17: X | E17: < au taux moyen des 2 années précédentes | F17: NA | G17: 0.0024877662 | H17: 1.0020602 | I17: *
A18: Taux d’incidence des ISO pour 100 opérés en chirurgie urologique | B18: Interverventions : Urétéroscopie, Prostatectomie, Résection trans-uréthrale de la prostate. | C18: ES | D18: X | E18: < au taux moyen des 2 années précédentes | F18: NA | G18: + 0,17 | H18: 1.1432473 | I18: Non significatif
A21: DONNEES EN REGION 2023
A22: Indicateur | B22: Définition complémentaire | C22: Secteur | D22: Auvergne Rhône Alpes | F22: Bourgogne Franche-Comté | H22: Bretagne | J22: Centre Val de Loire | L22: Corse | M22: Grand Est | O22: Guadeloupea | P22: Guyanea | Q22: Hauts-de-France | S22: Île-de-France | U22: La Réunion | V22: Martinique | W22: Mayotte | X22: Normandie | Z22: Nouvelle Aquitaine | AB22: Occitanie | AD22: Pays de la Loire | AF22: Provence Alpes Côte d'Azur
A23: *ISO-Indicateur Infection du site opératoire : Taux d’incidence des ISO pour 100 opérés global | C23: ES | D23: Delta : 0,14 | E23: Ratio : 1,11 | F23: Delta : -0,81 | G23: Ratio : 0,38 | H23: Delta : 0,21 | I23: Ratio : 1,12 | J23: Delta : -0,39 | K23: Ratio : 0,75 | M23: Delta : 0,06 | N23: Ratio : 1,05 | Q23: Delta : - 0,10 | R23: Ratio : 0,91 | S23: Delta : 0,49 | T23: Ratio : 1,45 | W23: NA | X23: Delta : 0,31 | Y23: Ratio : 1,30 | Z23: Delta : 0,24 | AA23: Ratio : 1,21 | AB23: Delta : - 0,17 | AC23: Ratio : 0,91 | AD23: Delta : 0,04 | AE23: Ratio : 1,03 | AF23: Delta : 0,35 | AG23: Ratio : 1,44
B24: *nombre d'établissements participants insuffisant
B25: aAbsence de participation une des années suivantes : 2021,2022,2023

Sheet SPIADI
A1: NE PAS DIFFUSER/PUBLIER LE TABLEAU EN L'ETAT, COMMUNICATION SUR LES CHIFFRES NATIONAUX ET REGIONAUX POSSIBLES
A3: DONNEES AU NATIONAL
A4: Indicateur | B4: Définition complémentaire | C4: Secteur | D4: Indicateur de la SNPIA | E4: Cible à l’horizon 2025 | F4: Données 2022 | G4: Données 2023 | H4: Commentaire
A5: Pose d'un cathéter veineux périphérique court : Hygiène de l’opérateur (tenue propre + 2 frictions conformes + gants stériles en cas de palpation après l’antisepsie) | C5: ES | D5: x | E5: > 80% d’ici 2025, au national et dans toutes les régions | F5: 0.26 | G5: 0.25 | H5: Recueil sur audit, les ES répondant ne sont pas forcément les mêmes d'une année à l'autre, ne pas comparer
A6: Pose d'un cathéter veineux périphérique court : Préparation cutanée (peau propre ou nettoyée si souillures visibles + compresse ou applicateur stérile + antiseptique alcoolique majeur + séchage spontané) | C6: ES | D6: x | E6: > 80% d’ici 2025, au national et dans toutes les régions | F6: 0.59 | G6: 0.62 | H6: Recueil sur audit, les ES répondant ne sont pas forcément les mêmes d'une année à l'autre, ne pas comparer
A7: Pose d'un cathéter veineux central : Hygiène de l’opérateur (casaque stérile + masque chirurgical conforme + coiffe conforme + désinfection chirurgicale des mains par friction conforme + gants stériles) | C7: ES | D7: x | E7: > 80% d’ici 2025, au national et dans toutes les régions | F7: NA | G7: 0.41 | H7: Recueil sur audit, les ES répondant ne sont pas forcément les mêmes d'une année à l'autre, ne pas comparer
A8: Pose d'un cathéter veineux central : Hygiène du patient (tenue propre + masque chirurgical conforme + coiffe ; hors patients intubés ou tête recouverte par un champ stérile) | C8: ES | D8: x | E8: > 80% d’ici 2025, au national et dans toutes les régions | F8: 0.63 | G8: 0.56 | H8: Recueil sur audit, les ES répondant ne sont pas forcément les mêmes d'une année à l'autre, ne pas comparer
A9: Pose d'un cathéter veineux central : Préparation cutanée (peau propre ou nettoyée si souillures visibles + compresse ou applicateur stérile + chlorhexidine alcoolique 2% + séchage spontané) | C9: ES | D9: x | E9: > 80% d’ici 2025, au national et dans toutes les régions | F9: 0.53 | G9: 0.6 | H9: Recueil sur audit, les ES répondant ne sont pas forcément les mêmes d'une année à l'autre, ne pas comparer
A10: Manipulation proximale d'une ligne d'un cathéter central : Hygiène de l’opérateur (tenue propre + masque chirurgical conforme + friction conforme + gants stériles) | C10: ES | E10: > 80% d’ici 2025, au national et dans toutes les régions | F10: NA | G10: 0.43
A11: Manipulation proximale d'une ligne d'un cathéter central : Hygiène du patient (tenue propre + masque chirurgical conforme ou visage tourné du côté opposé ; hors patients intubés ou tête recouverte par un champ stérile) | C11: ES | E11: > 80% d’ici 2025, au national et dans toutes les régions | F11: 0.89 | G11: 0.87
A12: Manipulation proximale d'une ligne d'un cathéter central : Préparation du site de branchement (désinfection avec compresse stérile + alcool 70% + désinfection de la valve utilisée par friction pendant 15 secondes avec compresse stérile + alcool 70%) | C12: ES | E12: > 80% d’ici 2025, au national et dans toutes les régions | F12: 0.1 | G12: 0.25
A13: *Incidence des bactériémies sur cathéters centraux (CVC, PICC, cathéter de dialyse) en réanimation adulte/1000 journées-cathéter | B13: Méthodologie | C13: ES | D13: x | E13: < 1 bactériémie / 1000 journées-cathéter, tous les ans, au national et dans toutes les régions | F13: 1.34 | G13: 0.86
A14: Incidence des bactériémies sur cathéters centraux (CVC, CCI, PICC, cathéter de dialyse) en hématologie adulte /1000 journées d’hospitalisation | B14: Méthodologie | C14: ES | D14: x | E14: < 2 bactériémies / 1000 journées d’hospitalisation, tous les ans, au national et dans toutes les régions | F14: 1.79 | G14: 1.78
A15: Incidence des bactériémies sur cathéters centraux (CVC, CCI, PICC, cathéter de dialyse) en oncologie adulte/1000 journées d’hospitalisation | B15: Méthodologie | C15: ES | D15: x | E15: < 2 bactériémies / 1000 journées d’hospitalisation, tous les ans, au national et dans toutes les régions | F15: 1.26 | G15: 1.22
A16: Incidence des bactériémies sur cathéters centraux (CVC, CCI, PICC, cathéter de dialyse) en services de médecine adulte (hors oncologie et hématologie)/1000 journées d’hospitalisation | B16: Méthodologie | C16: ES | D16: x | E16: < 0,1 bactériémie / 1000 journées d’hospitalisation, tous les ans, au national et dans toutes les régions | F16: 0.14 | G16: 0.16
A17: Incidence des bactériémies sur cathéters centraux (CVC, CCI, PICC, cathéter de dialyse) en services de chirurgie adulte /1000 journées d’hospitalisation | B17: Méthodologie | C17: ES | E17: < 0,1 bactériémie / 1000 journées d’hospitalisation, tous les ans, au national et dans toutes les régions | F17: 0.12 | G17: 0.15
A18: Incidence des bactériémies sur cathéters veineux périphériques (tous types de services adultes) /1000 journées d’hospitalisation | B18: Méthodologie | C18: ES | E18: < 0,1 bactériémie / 1000 journées d’hospitalisation, tous les ans, au national et dans toutes les régions | F18: 0.031 | G18: 0.036
A20: DONNEES EN REGION 2023
A21: Indicateur | B21: Définition complémentaire | C21: Secteur | D21: Auvergne Rhône Alpes | E21: Bourgogne Franche-Comté | F21: Bretagne | G21: Centre Val de Loire | H21: Corse | I21: Grand Est | J21: Guadeloupe | K21: Guyane | L21: Hauts-de-France | M21: Île-de-France | N21: La Réunion | O21: Martinique | P21: Mayotte | Q21: Normandie | R21: Nouvelle Aquitaine | S21: Occitanie | T21: Pays de la Loire | U21: Provence Alpes Côte d'Azur
A22: Pose d'un cathéter veineux périphérique court : Hygiène de l’opérateur (tenue propre + 2 frictions conformes + gants stériles en cas de palpation après l’antisepsie) | C22: ES | D22: 0.14 | E22: 0.28 | F22: 0.13 | G22: 0.15 | H22: - | I22: 0.4 | J22: - | K22: - | L22: 0.25 | M22: 0.26 | N22: 0.03 | O22: - | P22: - | Q22: 0.17 | R22: 0.23 | S22: 0.24 | T22: 0.18 | U22: 0.41
A23: Pose d'un cathéter veineux périphérique court : Préparation cutanée (peau propre ou nettoyée si souillures visibles + compresse ou applicateur stérile + antiseptique alcoolique majeur + séchage spontané) | C23: ES | D23: 0.49 | E23: 0.81 | F23: 0.75 | G23: 0.48 | H23: - | I23: 0.57 | J23: - | K23: - | L23: 0.55 | M23: 0.57 | N23: 0.91 | O23: - | P23: - | Q23: 0.7 | R23: 0.65 | S23: 0.58 | T23: 0.57 | U23: 0.71
A24: Pose d'un cathéter veineux central : Hygiène de l’opérateur (casaque stérile + masque chirurgical conforme + coiffe conforme + désinfection chirurgicale des mains par friction conforme + gants stériles) | C24: ES | D24: 0.78 | E24: - | F24: - | G24: - | H24: - | I24: - | J24: - | K24: - | L24: - | M24: - | N24: - | O24: - | P24: - | Q24: - | R24: - | S24: - | T24: - | U24: -
A25: Pose d'un cathéter veineux central : Hygiène du patient (tenue propre + masque chirurgical conforme + coiffe ; hors patients intubés ou tête recouverte par un champ stérile) | C25: ES | D25: 0.81 | E25: - | F25: - | G25: - | H25: - | I25: - | J25: - | K25: - | L25: - | M25: - | N25: - | O25: - | P25: - | Q25: - | R25: - | S25: - | T25: - | U25: -
A26: Pose d'un cathéter veineux central : Préparation cutanée (peau propre ou nettoyée si souillures visibles + compresse ou applicateur stérile + chlorhexidine alcoolique 2% + séchage spontané) | C26: ES | D26: 0.33 | E26: - | F26: - | G26: - | H26: - | I26: - | J26: - | K26: - | L26: - | M26: - | N26: - | O26: - | P26: - | Q26: - | R26: - | S26: - | T26: - | U26: -
A27: Manipulation proximale d'une ligne d'un cathéter central : Hygiène de l’opérateur (tenue propre + masque chirurgical conforme + friction conforme + gants stériles) | C27: ES | D27: 0.33 | E27: - | F27: 0.27 | G27: - | H27: - | I27: 0.18 | J27: - | K27: - | L27: 0.7 | M27: 0.29 | N27: 0.48 | O27: - | P27: - | Q27: 0.45 | R27: 0.53 | S27: 0.78 | T27: 0.29 | U27: 0.66
A28: Manipulation proximale d'une ligne d'un cathéter central : Hygiène du patient (tenue propre + masque chirurgical conforme ou visage tourné du côté opposé ; hors patients intubés ou tête recouverte par un champ stérile) | C28: ES | D28: 0.85 | E28: - | F28: 0.93 | G28: - | H28: - | I28: 0.78 | J28: - | K28: - | L28: 0.83 | M28: 0.85 | N28: 0.79 | O28: - | P28: - | Q28: 0.92 | R28: 0.74 | S28: 0.96 | T28: 0.78 | U28: 0.92
A29: Manipulation proximale d'une ligne d'un cathéter central : Préparation du site de branchement (désinfection avec compresse stérile + alcool 70% + désinfection de la valve utilisée par friction pendant 15 secondes avec compresse stérile + alcool 70%) | C29: ES | D29: 0.09 | E29: - | F29: 0.27 | G29: - | H29: - | I29: 0.4 | J29: - | K29: - | L29: 0.06 | M29: 0.02 | N29: 0.7 | O29: - | P29: - | Q29: 0.15 | R29: 0.19 | S29: 0.81 | T29: 0.47 | U29: 0.12
A30: *Incidence des bactériémies sur cathéters centraux (CVC, PICC, cathéter de dialyse) en réanimation adulte/1000 journées-cathéter Définition ici | B30: Méthodologie | C30: ES | D30: 1.42 | E30: 0 | F30: 1.82 | G30: 0.45 | H30: - | I30: 0.49 | J30: 6.66 | K30: - | L30: 0.48 | M30: 0.9 | N30: 1.27 | O30: - | P30: - | Q30: 0.19 | R30: 1.7 | S30: 0.87 | T30: 0.62 | U30: 0.35
A31: Incidence des bactériémies sur cathéters centraux (CVC, CCI, PICC, cathéter de dialyse) en hématologie adulte /1000 journées d’hospitalisation Définition ici | B31: Méthodologie | C31: ES | D31: 0.53 | E31: 0.5 | F31: 1.39 | G31: 1.22 | H31: - | I31: 1.53 | J31: - | K31: - | L31: 2.95 | M31: 1.98 | N31: 1.81 | O31: 3.13 | P31: - | Q31: 3.47 | R31: 1.51 | S31: 3.91 | T31: 2.62 | U31: 1.86
A32: Incidence des bactériémies sur cathéters centraux (CVC, CCI, PICC, cathéter de dialyse) en oncologie adulte/1000 journées d’hospitalisation | B32: Méthodologie | C32: ES | D32: 0.96 | E32: 0.75 | F32: 0.56 | G32: 1.56 | H32: - | I32: 1.5 | J32: - | K32: - | L32: 1.28 | M32: 0.98 | N32: 1.72 | O32: 0 | P32: - | Q32: 1.38 | R32: 1.68 | S32: 1.51 | T32: 1.33 | U32: 1.27
A33: Incidence des bactériémies sur cathéters centraux (CVC, CCI, PICC, cathéter de dialyse) en services de médecine adulte (hors oncologie et hématologie)/1000 journées d’hospitalisation Définition ici | B33: Méthodologie | C33: ES | D33: 0.16 | E33: 0.17 | F33: 0.07 | G33: 0.1 | H33: 0.99 | I33: 0.21 | J33: 0 | K33: - | L33: 0.15 | M33: 0.13 | N33: 0.37 | O33: 0.18 | P33: - | Q33: 0.15 | R33: 0.18 | S33: 0.21 | T33: 0.21 | U33: 0.19
A34: Incidence des bactériémies sur cathéters centraux (CVC, CCI, PICC, cathéter de dialyse) en services de chirurgie adulte /1000 journées d’hospitalisation Définition ici | B34: Méthodologie | C34: ES | D34: 0.11 | E34: 0.23 | F34: 0.11 | G34: 0.08 | H34: 0 | I34: 0.12 | J34: - | K34: - | L34: 0.09 | M34: 0.17 | N34: 0 | O34: 0.33 | P34: - | Q34: 0.23 | R34: 0.16 | S34: 0.19 | T34: 0.17 | U34: 0.2
A35: Incidence des bactériémies sur cathéters veineux périphériques (tous types de services adultes) /1000 journées d’hospitalisation | B35: Méthodologie | C35: ES | D35: 0.02 | E35: 0.042 | F35: 0.021 | G35: 0.032 | H35: 0.231 | I35: 0.02 | J35: 0 | K35: - | L35: 0.052 | M35: 0.051 | N35: 0.05 | O35: 0.059 | P35: - | Q35: 0.038 | R35: 0.043 | S35: 0.028 | T35: 0.028 | U35: 0.041
