Workbook

Sheet LISEZ-MOI
A1: Mise à jour par le Gepp vaccination | D1: =MAX(vaccine!A:A) -> 44220
A4: population | B4: tranches d'âges utilisables pour les indicateurs
A5: vacciné | B5: sortie R avec mise en forme permettant une utilisation facile pour les onglets régionaux
A6: rang_régions | B6: régions classées selon différents taux par âge
A7: synthese | B7: graphique avec les taux tous âge pour l'ensemble des régions + France métropolitaine
A8: onglets régionaux
A9: Population_base | B9: populations régionales par classe d'âge quinquennal

Sheet population
A1: Estimation de population au 1er janvier, par région, sexe et âge quinquennal
A2: Année 2020
A4: Régions
B5: Total | C5: >=50 ans | D5: >=20 ans | E5: >=65 ans
A6: Auvergne-Rhône-Alpes | B6: 8032377 | C6: 3156068 | D6: 6092124 | E6: 1637901
A7: Bourgogne-Franche-Comté | B7: 2783039 | C7: 1222714 | D7: 2156022 | E7: 662411
A8: Bretagne | B8: 3340379 | C8: 1428123 | D8: 2566748 | E8: 764243
A9: Centre-Val-de-Loire | B9: 2559073 | C9: 1098775 | D9: 1960503 | E9: 591259
A10: Corse | B10: 344679 | C10: 153934 | D10: 276124 | E10: 83503
A11: Grand Est | B11: 5511747 | C11: 2267444 | D11: 4253624 | E11: 1150864
A12: Hauts-de-France | B12: 5962662 | C12: 2234550 | D12: 4437124 | E12: 1109807
A13: Île-de-France | B13: 12278210 | C13: 4055669 | D13: 9137245 | E13: 1885737
A14: Normandie | B14: 3303500 | C14: 1388024 | D14: 2522163 | E14: 735397
A15: Nouvelle-Aquitaine | B15: 5999982 | C15: 2674402 | D15: 4706661 | E15: 1465885
A16: Occitanie | B16: 5924858 | C16: 2533924 | D16: 4604402 | E16: 1368904
A17: Pays de la Loire | B17: 3801797 | C17: 1527267 | D17: 2868288 | E17: 809723
... A26: France métropolitaine et DOM | B26: 67063703 | C26: 26635346 | D26: 50978960 | E26: 13750578
A28: Source : Insee - Estimations de population (résultats provisoires arrêtés fin 2019).

Sheet vaccine
A1: jour | B1: res_ARA | C1: pro_ARA | D1: 75+_ARA | E1: aut_ARA | F1: tot_ARA | G1: res_BFC | H1: pro_BFC | I1: 75+_BFC | J1: aut_BFC | K1: tot_BFC | L1: res_Bretagne | M1: pro_Bretagne | N1: 75+_Bretagne | O1: aut_Bretagne | P1: tot_Bretagne | Q1: res_Corse | R1: pro_Corse | S1: 75+_Corse | T1: aut_Corse | U1: tot_Corse | V1: res_CVL | W1: pro_CVL | X1: 75+_CVL | Y1: aut_CVL | Z1: tot_CVL | AA1: res_Grand Est | AB1: pro_Grand Est | AC1: 75+_Grand Est | AD1: aut_Grand Est | AE1: tot_Grand Est | AF1: res_HDF | AG1: pro_HDF | AH1: 75+_HDF | AI1: aut_HDF | AJ1: tot_HDF | AK1: res_IDF | AL1: pro_IDF | AM1: 75+_IDF | AN1: aut_IDF | AO1: tot_IDF | AP1: res_NA | AQ1: pro_NA | AR1: 75+_NA | AS1: aut_NA | AT1: tot_NA | AU1: res_Normandie | AV1: pro_Normandie | AW1: 75+_Normandie | AX1: aut_Normandie | AY1: tot_Normandie | AZ1: res_Occitanie | BA1: pro_Occitanie | BB1: 75+_Occitanie | BC1: aut_Occitanie | BD1: tot_Occitanie | BE1: res_PACA | BF1: pro_PACA | BG1: 75+_PACA | BH1: aut_PACA | BI1: tot_PACA | BJ1: res_PDL | BK1: pro_PDL | BL1: 75+_PDL | BM1: aut_PDL | BN1: tot_PDL | BO1: res_Guyane | BP1: pro_Guyane | BQ1: 75+_Guyane | BR1: aut_Guyane | BS1: tot_Guyane | BT1: res_Guadeloupe | BU1: pro_Guadeloupe | BV1: 75+_Guadeloupe | BW1: aut_Guadeloupe | BX1: tot_Guadeloupe | BY1: res_Martinique | BZ1: pro_Martinique | CA1: 75+_Martinique | CB1: aut_Martinique | CC1: tot_Martinique | CD1: res_RÃ©union | CE1: pro_RÃ©union | CF1: 75+_RÃ©union | CG1: aut_RÃ©union | CH1: tot_RÃ©union | CI1: res_Mayotte | CJ1: pro_Mayotte | CK1: 75+_Mayotte | CL1: aut_Mayotte | CM1: tot_Mayotte
A2: 44199 | B2: 0 | C2: 0 | D2: 0 | E2: 0 | F2: 36 | G2: 0 | H2: 0 | I2: 0 | J2: 0 | K2: 45 | L2: 0 | M2: 0 | N2: 0 | O2: 0 | P2: 0 | Q2: 0 | R2: 0 | S2: 0 | T2: 0 | U2: 0 | V2: 0 | W2: 0 | X2: 0 | Y2: 0 | Z2: 28 | AA2: 0 | AB2: 0 | AC2: 0 | AD2: 0 | AE2: 0 | AF2: 0 | AG2: 0 | AH2: 0 | AI2: 0 | AJ2: 40 | AK2: 0 | AL2: 0 | AM2: 0 | AN2: 0 | AO2: 239 | AP2: 0 | AQ2: 0 | AR2: 0 | AS2: 0 | AT2: 0 | AU2: 0 | AV2: 0 | AW2: 0 | AX2: 0 | AY2: 0 | AZ2: 0 | BA2: 0 | BB2: 0 | BC2: 0 | BD2: 0 | BE2: 0 | BF2: 0 | BG2: 0 | BH2: 0 | BI2: 40 | BJ2: 0 | BK2: 0 | BL2: 0 | BM2: 0 | BN2: 0 | BO2: 0 | BP2: 0 | BQ2: 0 | BR2: 0 | BS2: 0 | BT2: 0 | BU2: 0 | BV2: 0 | BW2: 0 | BX2: 0 | BY2: 0 | BZ2: 0 | CA2: 0 | CB2: 0 | CC2: 0 | CD2: 0 | CE2: 0 | CF2: 0 | CG2: 0 | CH2: 0 | CI2: 0 | CJ2: 0 | CK2: 0 | CL2: 0 | CM2: 0
A3: 44200 | B3: 99 | C3: 105 | D3: 0 | E3: 0 | F3: 204 | G3: 0 | H3: 15 | I3: 0 | J3: 0 | K3: 15 | L3: 35 | M3: 20 | N3: 0 | O3: 0 | P3: 55 | Q3: 0 | R3: 0 | S3: 0 | T3: 0 | U3: 0 | V3: 20 | W3: 0 | X3: 0 | Y3: 0 | Z3: 20 | AA3: 52 | AB3: 268 | AC3: 0 | AD3: 0 | AE3: 320 | AF3: 48 | AG3: 43 | AH3: 0 | AI3: 0 | AJ3: 91 | AK3: 41 | AL3: 139 | AM3: 0 | AN3: 0 | AO3: 180 | AP3: 10 | AQ3: 80 | AR3: 0 | AS3: 0 | AT3: 90 | AU3: 0 | AV3: 16 | AW3: 0 | AX3: 0 | AY3: 16 | AZ3: 30 | BA3: 21 | BB3: 0 | BC3: 0 | BD3: 51 | BE3: 10 | BF3: 85 | BG3: 0 | BH3: 0 | BI3: 95 | BJ3: 5 | BK3: 35 | BL3: 0 | BM3: 0 | BN3: 40 | BO3: 0 | BP3: 0 | BQ3: 0 | BR3: 0 | BS3: 0 | BT3: 0 | BU3: 0 | BV3: 0 | BW3: 0 | BX3: 0 | BY3: 0 | BZ3: 0 | CA3: 0 | CB3: 0 | CC3: 0 | CD3: 0 | CE3: 0 | CF3: 0 | CG3: 0 | CH3: 0 | CI3: 0 | CJ3: 0 | CK3: 0 | CL3: 0 | CM3: 0
A4: 44201 | B4: 83 | C4: 350 | D4: 0 | E4: 0 | F4: 433 | G4: 0 | H4: 263 | I4: 0 | J4: 0 | K4: 263 | L4: 75 | M4: 88 | N4: 0 | O4: 0 | P4: 163 | Q4: 0 | R4: 0 | S4: 0 | T4: 0 | U4: 0 | V4: 140 | W4: 24 | X4: 0 | Y4: 0 | Z4: 164 | AA4: 78 | AB4: 730 | AC4: 0 | AD4: 0 | AE4: 808 | AF4: 55 | AG4: 212 | AH4: 0 | AI4: 0 | AJ4: 267 | AK4: 613 | AL4: 1116 | AM4: 0 | AN4: 0 | AO4: 1729 | AP4: 21 | AQ4: 59 | AR4: 0 | AS4: 0 | AT4: 80 | AU4: 33 | AV4: 212 | AW4: 0 | AX4: 0 | AY4: 245 | AZ4: 142 | BA4: 316 | BB4: 0 | BC4: 0 | BD4: 458 | BE4: 0 | BF4: 305 | BG4: 0 | BH4: 0 | BI4: 305 | BJ4: 105 | BK4: 59 | BL4: 0 | BM4: 0 | BN4: 164 | BO4: 0 | BP4: 0 | BQ4: 0 | BR4: 0 | BS4: 0 | BT4: 0 | BU4: 0 | BV4: 0 | BW4: 0 | BX4: 0 | BY4: 0 | BZ4: 0 | CA4: 0 | CB4: 0 | CC4: 0 | CD4: 0 | CE4: 0 | CF4: 0 | CG4: 0 | CH4: 0 | CI4: 0 | CJ4: 0 | CK4: 0 | CL4: 0 | CM4: 0
A5: 44202 | B5: 259 | C5: 874 | D5: 0 | E5: 0 | F5: 1133 | G5: 218 | H5: 377 | I5: 0 | J5: 0 | K5: 595 | L5: 117 | M5: 255 | N5: 0 | O5: 0 | P5: 372 | Q5: 25 | R5: 28 | S5: 0 | T5: 0 | U5: 53 | V5: 202 | W5: 158 | X5: 0 | Y5: 0 | Z5: 360 | AA5: 65 | AB5: 1244 | AC5: 0 | AD5: 0 | AE5: 1309 | AF5: 316 | AG5: 547 | AH5: 0 | AI5: 0 | AJ5: 863 | AK5: 312 | AL5: 2773 | AM5: 0 | AN5: 0 | AO5: 3085 | AP5: 94 | AQ5: 1245 | AR5: 0 | AS5: 0 | AT5: 1339 | AU5: 304 | AV5: 1221 | AW5: 0 | AX5: 0 | AY5: 1525 | AZ5: 183 | BA5: 438 | BB5: 0 | BC5: 0 | BD5: 621 | BE5: 61 | BF5: 698 | BG5: 0 | BH5: 0 | BI5: 759 | BJ5: 185 | BK5: 242 | BL5: 0 | BM5: 0 | BN5: 427 | BO5: 0 | BP5: 0 | BQ5: 0 | BR5: 0 | BS5: 0 | BT5: 0 | BU5: 0 | BV5: 0 | BW5: 0 | BX5: 0 | BY5: 0 | BZ5: 5 | CA5: 0 | CB5: 0 | CC5: 5 | CD5: 0 | CE5: 0 | CF5: 0 | CG5: 0 | CH5: 0 | CI5: 0 | CJ5: 0 | CK5: 0 | CL5: 0 | CM5: 0
A6: 44203 | B6: 740 | C6: 1922 | D6: 0 | E6: 0 | F6: 2662 | G6: 624 | H6: 784 | I6: 0 | J6: 0 | K6: 1408 | L6: 175 | M6: 652 | N6: 0 | O6: 0 | P6: 827 | Q6: 202 | R6: 152 | S6: 0 | T6: 0 | U6: 354 | V6: 221 | W6: 256 | X6: 0 | Y6: 0 | Z6: 477 | AA6: 750 | AB6: 1705 | AC6: 0 | AD6: 0 | AE6: 2455 | AF6: 1092 | AG6: 392 | AH6: 0 | AI6: 0 | AJ6: 1484 | AK6: 993 | AL6: 5019 | AM6: 0 | AN6: 0 | AO6: 6012 | AP6: 1108 | AQ6: 3117 | AR6: 0 | AS6: 0 | AT6: 4225 | AU6: 456 | AV6: 1858 | AW6: 0 | AX6: 0 | AY6: 2314 | AZ6: 1181 | BA6: 1377 | BB6: 0 | BC6: 0 | BD6: 2558 | BE6: 309 | BF6: 1179 | BG6: 0 | BH6: 0 | BI6: 1488 | BJ6: 225 | BK6: 779 | BL6: 0 | BM6: 0 | BN6: 1004 | BO6: 0 | BP6: 0 | BQ6: 0 | BR6: 0 | BS6: 0 | BT6: 0 | BU6: 0 | BV6: 0 | BW6: 0 | BX6: 0 | BY6: 0 | BZ6: 8 | CA6: 0 | CB6: 0 | CC6: 8 | CD6: 0 | CE6: 0 | CF6: 0 | CG6: 0 | CH6: 0 | CI6: 0 | CJ6: 0 | CK6: 0 | CL6: 0 | CM6: 0
A7: 44204 | B7: 658 | C7: 2495 | D7: 0 | E7: 0 | F7: 3153 | G7: 163 | H7: 1259 | I7: 0 | J7: 0 | K7: 1422 | L7: 139 | M7: 813 | N7: 0 | O7: 0 | P7: 952 | Q7: 172 | R7: 141 | S7: 0 | T7: 0 | U7: 313 | V7: 504 | W7: 529 | X7: 0 | Y7: 0 | Z7: 1033 | AA7: 684 | AB7: 2667 | AC7: 0 | AD7: 0 | AE7: 3351 | AF7: 1054 | AG7: 2451 | AH7: 0 | AI7: 0 | AJ7: 3505 | AK7: 1153 | AL7: 7027 | AM7: 0 | AN7: 0 | AO7: 8180 | AP7: 1144 | AQ7: 3594 | AR7: 0 | AS7: 0 | AT7: 4738 | AU7: 746 | AV7: 2478 | AW7: 0 | AX7: 0 | AY7: 3224 | AZ7: 927 | BA7: 2539 | BB7: 0 | BC7: 0 | BD7: 3466 | BE7: 247 | BF7: 1798 | BG7: 0 | BH7: 0 | BI7: 2045 | BJ7: 417 | BK7: 1237 | BL7: 0 | BM7: 0 | BN7: 1654 | BO7: 0 | BP7: 0 | BQ7: 0 | BR7: 0 | BS7: 0 | BT7: 54 | BU7: 22 | BV7: 0 | BW7: 0 | BX7: 76 | BY7: 45 | BZ7: 53 | CA7: 0 | CB7: 0 | CC7: 98 | CD7: 0 | CE7: 0 | CF7: 0 | CG7: 0 | CH7: 0 | CI7: 0 | CJ7: 0 | CK7: 0 | CL7: 0 | CM7: 0
A8: 44205 | B8: 83 | C8: 400 | D8: 0 | E8: 0 | F8: 483 | G8: 215 | H8: 995 | I8: 0 | J8: 0 | K8: 1210 | L8: 22 | M8: 78 | N8: 0 | O8: 0 | P8: 100 | Q8: 10 | R8: 77 | S8: 0 | T8: 0 | U8: 87 | V8: 30 | W8: 515 | X8: 0 | Y8: 0 | Z8: 545 | AA8: 232 | AB8: 869 | AC8: 0 | AD8: 0 | AE8: 1101 | AF8: 29 | AG8: 1117 | AH8: 0 | AI8: 0 | AJ8: 1146 | AK8: 153 | AL8: 2836 | AM8: 0 | AN8: 0 | AO8: 2989 | AP8: 351 | AQ8: 1330 | AR8: 0 | AS8: 0 | AT8: 1681 | AU8: 337 | AV8: 1250 | AW8: 0 | AX8: 0 | AY8: 1587 | AZ8: 0 | BA8: 1511 | BB8: 0 | BC8: 0 | BD8: 1511 | BE8: 35 | BF8: 495 | BG8: 0 | BH8: 0 | BI8: 530 | BJ8: 15 | BK8: 1187 | BL8: 0 | BM8: 0 | BN8: 1202 | BO8: 0 | BP8: 0 | BQ8: 0 | BR8: 0 | BS8: 0 | BT8: 0 | BU8: 20 | BV8: 0 | BW8: 0 | BX8: 20 | BY8: 16 | BZ8: 2 | CA8: 0 | CB8: 0 | CC8: 18 | CD8: 0 | CE8: 0 | CF8: 0 | CG8: 0 | CH8: 0 | CI8: 0 | CJ8: 0 | CK8: 0 | CL8: 0 | CM8: 0
A9: 44206 | B9: 73 | C9: 166 | D9: 0 | E9: 0 | F9: 239 | G9: 0 | H9: 115 | I9: 0 | J9: 0 | K9: 115 | L9: 118 | M9: 414 | N9: 0 | O9: 0 | P9: 532 | Q9: 0 | R9: 45 | S9: 0 | T9: 0 | U9: 45 | V9: 60 | W9: 557 | X9: 0 | Y9: 0 | Z9: 617 | AA9: 0 | AB9: 307 | AC9: 0 | AD9: 0 | AE9: 307 | AF9: 0 | AG9: 685 | AH9: 0 | AI9: 0 | AJ9: 685 | AK9: 40 | AL9: 1651 | AM9: 0 | AN9: 0 | AO9: 1691 | AP9: 143 | AQ9: 229 | AR9: 0 | AS9: 0 | AT9: 372 | AU9: 0 | AV9: 693 | AW9: 0 | AX9: 0 | AY9: 693 | AZ9: 0 | BA9: 650 | BB9: 0 | BC9: 0 | BD9: 650 | BE9: 4 | BF9: 102 | BG9: 0 | BH9: 0 | BI9: 106 | BJ9: 0 | BK9: 631 | BL9: 0 | BM9: 0 | BN9: 631 | BO9: 0 | BP9: 0 | BQ9: 0 | BR9: 0 | BS9: 0 | BT9: 0 | BU9: 0 | BV9: 0 | BW9: 0 | BX9: 0 | BY9: 0 | BZ9: 0 | CA9: 0 | CB9: 0 | CC9: 0 | CD9: 0 | CE9: 0 | CF9: 0 | CG9: 0 | CH9: 0 | CI9: 0 | CJ9: 0 | CK9: 0 | CL9: 0 | CM9: 0
A10: 44207 | B10: 706 | C10: 3393 | D10: 0 | E10: 0 | F10: 4099 | G10: 456 | H10: 1585 | I10: 0 | J10: 0 | K10: 2041 | L10: 422 | M10: 1111 | N10: 0 | O10: 0 | P10: 1533 | Q10: 32 | R10: 104 | S10: 0 | T10: 0 | U10: 136 | V10: 326 | W10: 934 | X10: 0 | Y10: 0 | Z10: 1260 | AA10: 303 | AB10: 2623 | AC10: 0 | AD10: 0 | AE10: 2926 | AF10: 345 | AG10: 2216 | AH10: 0 | AI10: 0 | AJ10: 2561 | AK10: 660 | AL10: 5483 | AM10: 0 | AN10: 0 | AO10: 6143 | AP10: 657 | AQ10: 3778 | AR10: 0 | AS10: 0 | AT10: 4435 | AU10: 684 | AV10: 2182 | AW10: 0 | AX10: 0 | AY10: 2866 | AZ10: 355 | BA10: 2912 | BB10: 0 | BC10: 0 | BD10: 3267 | BE10: 577 | BF10: 1656 | BG10: 0 | BH10: 0 | BI10: 2233 | BJ10: 101 | BK10: 1662 | BL10: 0 | BM10: 0 | BN10: 1763 | BO10: 0 | BP10: 0 | BQ10: 0 | BR10: 0 | BS10: 0 | BT10: 23 | BU10: 22 | BV10: 0 | BW10: 0 | BX10: 45 | BY10: 54 | BZ10: 72 | CA10: 0 | CB10: 0 | CC10: 126 | CD10: 0 | CE10: 0 | CF10: 0 | CG10: 0 | CH10: 0 | CI10: 0 | CJ10: 0 | CK10: 0 | CL10: 0 | CM10: 0
A11: 44208 | B11: 1211 | C11: 4899 | D11: 0 | E11: 0 | F11: 6110 | G11: 1184 | H11: 1464 | I11: 0 | J11: 0 | K11: 2648 | L11: 1095 | M11: 1607 | N11: 0 | O11: 0 | P11: 2702 | Q11: 29 | R11: 117 | S11: 0 | T11: 0 | U11: 146 | V11: 795 | W11: 1431 | X11: 0 | Y11: 0 | Z11: 2226 | AA11: 1284 | AB11: 3613 | AC11: 0 | AD11: 0 | AE11: 4897 | AF11: 1062 | AG11: 3814 | AH11: 0 | AI11: 0 | AJ11: 4876 | AK11: 1183 | AL11: 9265 | AM11: 0 | AN11: 0 | AO11: 10448 | AP11: 1643 | AQ11: 3914 | AR11: 0 | AS11: 0 | AT11: 5557 | AU11: 943 | AV11: 2575 | AW11: 0 | AX11: 0 | AY11: 3518 | AZ11: 1328 | BA11: 3935 | BB11: 0 | BC11: 0 | BD11: 5263 | BE11: 1857 | BF11: 3184 | BG11: 0 | BH11: 0 | BI11: 5041 | BJ11: 798 | BK11: 2193 | BL11: 0 | BM11: 0 | BN11: 2991 | BO11: 0 | BP11: 0 | BQ11: 0 | BR11: 0 | BS11: 0 | BT11: 0 | BU11: 46 | BV11: 0 | BW11: 0 | BX11: 46 | BY11: 53 | BZ11: 68 | CA11: 0 | CB11: 0 | CC11: 121 | CD11: 0 | CE11: 0 | CF11: 0 | CG11: 0 | CH11: 0 | CI11: 0 | CJ11: 0 | CK11: 0 | CL11: 0 | CM11: 0
A12: 44209 | B12: 1132 | C12: 5387 | D12: 0 | E12: 0 | F12: 6519 | G12: 1747 | H12: 2593 | I12: 0 | J12: 0 | K12: 4340 | L12: 1440 | M12: 1862 | N12: 0 | O12: 0 | P12: 3302 | Q12: 12 | R12: 146 | S12: 0 | T12: 0 | U12: 158 | V12: 406 | W12: 1465 | X12: 0 | Y12: 0 | Z12: 1871 | AA12: 2362 | AB12: 4094 | AC12: 0 | AD12: 0 | AE12: 6456 | AF12: 656 | AG12: 4181 | AH12: 0 | AI12: 0 | AJ12: 4837 | AK12: 1527 | AL12: 8658 | AM12: 0 | AN12: 0 | AO12: 10185 | AP12: 1753 | AQ12: 4101 | AR12: 0 | AS12: 0 | AT12: 5854 | AU12: 1018 | AV12: 2499 | AW12: 0 | AX12: 0 | AY12: 3517 | AZ12: 1473 | BA12: 4511 | BB12: 0 | BC12: 0 | BD12: 5984 | BE12: 798 | BF12: 2971 | BG12: 0 | BH12: 0 | BI12: 3769 | BJ12: 552 | BK12: 2172 | BL12: 0 | BM12: 0 | BN12: 2724 | BO12: 16 | BP12: 13 | BQ12: 0 | BR12: 0 | BS12: 29 | BT12: 6 | BU12: 76 | BV12: 0 | BW12: 0 | BX12: 82 | BY12: 15 | BZ12: 61 | CA12: 0 | CB12: 0 | CC12: 76 | CD12: 0 | CE12: 0 | CF12: 0 | CG12: 0 | CH12: 0 | CI12: 0 | CJ12: 0 | CK12: 0 | CL12: 0 | CM12: 0
A13: 44210 | B13: 1465 | C13: 6341 | D13: 0 | E13: 0 | F13: 7806 | G13: 1418 | H13: 2902 | I13: 0 | J13: 0 | K13: 4320 | L13: 1209 | M13: 2220 | N13: 0 | O13: 0 | P13: 3429 | Q13: 37 | R13: 107 | S13: 0 | T13: 0 | U13: 144 | V13: 449 | W13: 1442 | X13: 0 | Y13: 0 | Z13: 1891 | AA13: 3608 | AB13: 3711 | AC13: 0 | AD13: 0 | AE13: 7319 | AF13: 765 | AG13: 4220 | AH13: 0 | AI13: 0 | AJ13: 4985 | AK13: 1718 | AL13: 8813 | AM13: 0 | AN13: 0 | AO13: 10531 | AP13: 2093 | AQ13: 4669 | AR13: 0 | AS13: 0 | AT13: 6762 | AU13: 2301 | AV13: 2704 | AW13: 0 | AX13: 0 | AY13: 5005 | AZ13: 2524 | BA13: 5544 | BB13: 0 | BC13: 0 | BD13: 8068 | BE13: 2045 | BF13: 3601 | BG13: 0 | BH13: 0 | BI13: 5646 | BJ13: 555 | BK13: 2171 | BL13: 0 | BM13: 0 | BN13: 2726 | BO13: 6 | BP13: 41 | BQ13: 0 | BR13: 0 | BS13: 47 | BT13: 1 | BU13: 75 | BV13: 0 | BW13: 0 | BX13: 76 | BY13: 37 | BZ13: 62 | CA13: 0 | CB13: 0 | CC13: 99 | CD13: 0 | CE13: 0 | CF13: 0 | CG13: 0 | CH13: 0 | CI13: 0 | CJ13: 0 | CK13: 0 | CL13: 0 | CM13: 0
... A23: 44220 | B23: 21 | C23: 136 | D23: 1128 | E23: 84 | F23: 1369 | G23: 81 | H23: 12 | I23: 217 | J23: 4 | K23: 314 | L23: 0 | M23: 48 | N23: 166 | O23: 15 | P23: 229 | Q23: 0 | R23: 0 | S23: 0 | T23: 0 | U23: 0 | V23: 0 | W23: 0 | X23: 46 | Y23: 5 | Z23: 51 | AA23: 560 | AB23: 146 | AC23: 377 | AD23: 14 | AE23: 1097 | AF23: 526 | AG23: 280 | AH23: 318 | AI23: 50 | AJ23: 1174 | AK23: 113 | AL23: 508 | AM23: 1302 | AN23: 308 | AO23: 2231 | AP23: 864 | AQ23: 305 | AR23: 534 | AS23: 90 | AT23: 1793 | AU23: 189 | AV23: 54 | AW23: 0 | AX23: 0 | AY23: 243 | AZ23: 15 | BA23: 109 | BB23: 1043 | BC23: 69 | BD23: 1236 | BE23: 0 | BF23: 10 | BG23: 534 | BH23: 3 | BI23: 547 | BJ23: 0 | BK23: 200 | BL23: 1250 | BM23: 449 | BN23: 1899 | BO23: 0 | BP23: 0 | BQ23: 0 | BR23: 0 | BS23: 0 | BT23: 0 | BU23: 0 | BV23: 0 | BW23: 0 | BX23: 0 | BY23: 0 | BZ23: 73 | CA23: 0 | CB23: 0 | CC23: 73 | CD23: 0 | CE23: 0 | CF23: 0 | CG23: 0 | CH23: 0 | CI23: 0 | CJ23: 0 | CK23: 0 | CL23: 0 | CM23: 0

Sheet rang_regions
B1: =MAX(vaccine!A:A) -> 44220
A2: Region | B2: Total cumul des vaccinés | C2: Taux vaccination /100 000 hab. (tous âges) | D2: Rang tous âges | E2: Taux vaccination /100 000 hab. (>50 ans) | F2: Rang >50 ans | G2: Taux vaccination /100 000 hab. (>20 ans) | H2: Rang >50 ans
D3: Rang | F3: Rang | H3: Rang
A4: ARA | B4: =MAX(ARA!I:I) -> 111256 | C4: =(B4/population!B6)*100000 -> 1385.0944 | D4: =RANK(C4,C$4:C$22) -> 8 | E4: =(B4/population!C6)*100000 -> 3525.1458 | F4: =RANK(E4,E$4:E$22) -> 8 | G4: =(B4/population!D6)*100000 -> 1826.2268 | H4: =RANK(G4,G$4:G$22) -> 8
A5: BFC | B5: =MAX(BFC!I:I) -> 63611 | C5: =(B5/population!B7)*100000 -> 2285.6669 | D5: =RANK(C5,C$4:C$22) -> 1 | E5: =(B5/population!C7)*100000 -> 5202.4431 | F5: =RANK(E5,E$4:E$22) -> 1 | G5: =(B5/population!D7)*100000 -> 2950.3873 | H5: =RANK(G5,G$4:G$22) -> 1
A6: Bretagne | B6: =MAX(BRET!I:I) -> 51216 | C6: =(B6/population!B8)*100000 -> 1533.2392 | D6: =RANK(C6,C$4:C$22) -> 4 | E6: =(B6/population!C8)*100000 -> 3586.2457 | F6: =RANK(E6,E$4:E$22) -> 7 | G6: =(B6/population!D8)*100000 -> 1995.3653 | H6: =RANK(G6,G$4:G$22) -> 4
A7: CVL | B7: =MAX(CVL!I:I) -> 31713 | C7: =(B7/population!B9)*100000 -> 1239.2378 | D7: =RANK(C7,C$4:C$22) -> 13 | E7: =(B7/population!C9)*100000 -> 2886.2142 | F7: =RANK(E7,E$4:E$22) -> 14 | G7: =(B7/population!D9)*100000 -> 1617.5951 | H7: =RANK(G7,G$4:G$22) -> 13
A8: Corse | B8: =MAX(CORSE!I:I) -> 3469 | C8: =(B8/population!B10)*100000 -> 1006.4437 | D8: =RANK(C8,C$4:C$22) -> 14 | E8: =(B8/population!C10)*100000 -> 2253.5632 | F8: =RANK(E8,E$4:E$22) -> 15 | G8: =(B8/population!D10)*100000 -> 1256.3196 | H8: =RANK(G8,G$4:G$22) -> 14
A9: Grand Est | B9: =MAX(GE!I:I) -> 75915 | C9: =(B9/population!B11)*100000 -> 1377.331 | D9: =RANK(C9,C$4:C$22) -> 11 | E9: =(B9/population!C11)*100000 -> 3348.043 | F9: =RANK(E9,E$4:E$22) -> 12 | G9: =(B9/population!D11)*100000 -> 1784.7135 | H9: =RANK(G9,G$4:G$22) -> 11
A10: HDF | B10: =MAX(HDF!I:I) -> 78234 | C10: =(B10/population!B12)*100000 -> 1312.065 | D10: =RANK(C10,C$4:C$22) -> 12 | E10: =(B10/population!C12)*100000 -> 3501.1076 | F10: =RANK(E10,E$4:E$22) -> 9 | G10: =(B10/population!D12)*100000 -> 1763.1691 | H10: =RANK(G10,G$4:G$22) -> 12
A11: IDF | B11: =MAX(IDF!I:I) -> 169589 | C11: =(B11/population!B13)*100000 -> 1381.2192 | D11: =RANK(C11,C$4:C$22) -> 9 | E11: =(B11/population!C13)*100000 -> 4181.5296 | F11: =RANK(E11,E$4:E$22) -> 2 | G11: =(B11/population!D13)*100000 -> 1856.019 | H11: =RANK(G11,G$4:G$22) -> 7
A12: Normandie | B12: =MAX(NORM!I:I) -> 50038 | C12: =(B12/population!B14)*100000 -> 1514.6965 | D12: =RANK(C12,C$4:C$22) -> 5 | E12: =(B12/population!C14)*100000 -> 3604.9809 | F12: =RANK(E12,E$4:E$22) -> 6 | G12: =(B12/population!D14)*100000 -> 1983.932 | H12: =RANK(G12,G$4:G$22) -> 5
A13: NA | B13: =MAX(NA!I:I) -> 105828 | C13: =(B13/population!B15)*100000 -> 1763.8053 | D13: =RANK(C13,C$4:C$22) -> 2 | E13: =(B13/population!C15)*100000 -> 3957.0715 | F13: =RANK(E13,E$4:E$22) -> 4 | G13: =(B13/population!D15)*100000 -> 2248.473 | H13: =RANK(G13,G$4:G$22) -> 2
A14: Occitanie | B14: =MAX(OCC!I:I) -> 101316 | C14: =(B14/population!B16)*100000 -> 1710.0157 | D14: =RANK(C14,C$4:C$22) -> 3 | E14: =(B14/population!C16)*100000 -> 3998.3835 | F14: =RANK(E14,E$4:E$22) -> 3 | G14: =(B14/population!D16)*100000 -> 2200.416 | H14: =RANK(G14,G$4:G$22) -> 3
A15: PDL | B15: =MAX(PDL!I:I) -> 52378 | C15: =(B15/population!B17)*100000 -> 1377.7169 | D15: =RANK(C15,C$4:C$22) -> 10 | E15: =(B15/population!C17)*100000 -> 3429.5248 | F15: =RANK(E15,E$4:E$22) -> 11 | G15: =(B15/population!D17)*100000 -> 1826.1067 | H15: =RANK(G15,G$4:G$22) -> 9
A16: PACA | B16: =MAX(PACA!I:I) -> 70157 | C16: =(B16/population!B18)*100000 -> 1387.6947 | D16: =RANK(C16,C$4:C$22) -> 7 | E16: =(B16/population!C18)*100000 -> 3208.7291 | F16: =RANK(E16,E$4:E$22) -> 13 | G16: =(B16/population!D18)*100000 -> 1786.581 | H16: =RANK(G16,G$4:G$22) -> 10
A17: France Métropolitaine | B17: =SUM(B4:B16) -> 964720 | C17: =(B17/population!B19)*100000 -> 1486.5184 | E17: =(B17/population!C19)*100000 -> 3720.8605 | G17: =(B17/population!D19)*100000 -> 1948.6178
A18: Guadeloupe | B18: =MAX(GUADA!I:I) -> 430 | C18: =(B18/population!B19)*100000 -> 0.66257867 | D18: =RANK(C18,C$4:C$22) -> 18 | E18: =(B18/population!C19)*100000 -> 1.6584812 | F18: =RANK(E18,E$4:E$22) -> 18 | G18: =(B18/population!D19)*100000 -> 0.86854801 | H18: =RANK(G18,G$4:G$22) -> 18
A19: Martinique | B19: =MAX(MARTI!I:I) -> 1650 | C19: =(B19/population!B20)*100000 -> 437.8063 | D19: =RANK(C19,C$4:C$22) -> 16 | E19: =(B19/population!C20)*100000 -> 996.21439 | F19: =RANK(E19,E$4:E$22) -> 16 | G19: =(B19/population!D20)*100000 -> 576.39505 | H19: =RANK(G19,G$4:G$22) -> 16
A20: Guyane | B20: =MAX(GUYA!I:I) -> 187 | C20: =(B20/population!B21)*100000 -> 52.125581 | D20: =RANK(C20,C$4:C$22) -> 17 | E20: =(B20/population!C21)*100000 -> 108.09186 | F20: =RANK(E20,E$4:E$22) -> 17 | G20: =(B20/population!D21)*100000 -> 66.37231 | H20: =RANK(G20,G$4:G$22) -> 17
A21: réunion | B21: =MAX(REUN!I:I) -> 1925 | C21: =(B21/population!B22)*100000 -> 662.2152 | D21: =RANK(C21,C$4:C$22) -> 15 | E21: =(B21/population!C22)*100000 -> 3485.4246 | F21: =RANK(E21,E$4:E$22) -> 10 | G21: =(B21/population!D22)*100000 -> 1132.2863 | H21: =RANK(G21,G$4:G$22) -> 15
A22: Mayotte | B22: =MAX(MAYOT!I:I) -> 0 | C22: =(B22/population!B23)*100000 -> 0 | D22: =RANK(C22,C$4:C$22) -> 19 | E22: =(B22/population!C23)*100000 -> 0 | F22: =RANK(E22,E$4:E$22) -> 19 | G22: =(B22/population!D23)*100000 -> 0 | H22: =RANK(G22,G$4:G$22) -> 19
A25: *Source : Insee - Estimations de population au 1er janvier 2020

Sheet synthese
B1: ARA | C1: BFC | D1: BRET | E1: CORSE | F1: CVL | G1: GE | H1: HDF | I1: IDF | J1: NA | K1: NORM | L1: OCC | M1: PDL | N1: PACA | O1: France métropolitaine
A2: 44200 | B2: =ARA!J5 -> 2.5397214 | C2: =BFC!J5 -> 0.53897915 | D2: =BRET!J5 -> 1.6465198 | E2: =CORSE!J5 -> 0 | F2: =CVL!J5 -> 0.781533 | G2: =GE!J5 -> 5.8057817 | H2: =HDF!J5 -> 1.526164 | I2: =IDF!J5 -> 1.4660117 | J2: =NA!J5 -> 1.5000045 | K2: =NORM!J5 -> 0.4843348 | L2: =OCC!J5 -> 0.86078012 | M2: =PDL!J5 -> 1.052134 | N2: =PACA!J5 -> 1.8790854 | O2: =100000*SUM(ARA!I5+BFC!I5+BRET!I5+CORSE!I5+CVL!I5+GE!I5+HDF!I5+IDF!I5+NA!I5+NORM!I5+OCC!I5+PDL!I5+PACA!I5)/population!$B$19 -> 1.8136165
A3: 44201 | B3: =ARA!J6 -> 7.9304047 | C3: =BFC!J6 -> 9.9890803 | D3: =BRET!J6 -> 6.5262056 | E3: =CORSE!J6 -> 0 | F3: =CVL!J6 -> 7.1901036 | G3: =GE!J6 -> 20.465381 | H3: =HDF!J6 -> 6.0040297 | I3: =IDF!J6 -> 15.547869 | J3: =NA!J6 -> 2.8333418 | K3: =NORM!J6 -> 7.9007114 | L3: =OCC!J6 -> 8.5909232 | M3: =PDL!J6 -> 5.3658836 | N3: =PACA!J6 -> 7.9119385 | O3: =100000*SUM(ARA!I6+BFC!I6+BRET!I6+CORSE!I6+CVL!I6+GE!I6+HDF!I6+IDF!I6+NA!I6+NORM!I6+OCC!I6+PDL!I6+PACA!I6)/population!$B$19 -> 9.6397492
A4: 44202 | B4: =ARA!J7 -> 22.035818 | C4: =BFC!J7 -> 31.368587 | D4: =BRET!J7 -> 17.662666 | E4: =CORSE!J7 -> 15.376626 | F4: =CVL!J7 -> 21.257698 | G4: =GE!J7 -> 44.214656 | H4: =HDF!J7 -> 20.477431 | I4: =IDF!J7 -> 40.673681 | J4: =NA!J7 -> 25.150075 | K4: =NORM!J7 -> 54.063872 | L4: =OCC!J7 -> 19.072187 | M4: =PDL!J7 -> 16.597414 | N4: =PACA!J7 -> 22.924842 | O4: =100000*SUM(ARA!I7+BFC!I7+BRET!I7+CORSE!I7+CVL!I7+GE!I7+HDF!I7+IDF!I7+NA!I7+NORM!I7+OCC!I7+PDL!I7+PACA!I7)/population!$B$19 -> 28.809845
A5: 44203 | B5: =ARA!J8 -> 55.176693 | C5: =BFC!J8 -> 81.960763 | D5: =BRET!J8 -> 42.420336 | E5: =CORSE!J8 -> 118.08088 | F5: =CVL!J8 -> 39.89726 | G5: =GE!J8 -> 88.755888 | H5: =HDF!J8 -> 45.365644 | I5: =IDF!J8 -> 89.638473 | J5: =NA!J8 -> 95.566953 | K5: =NORM!J8 -> 124.11079 | L5: =OCC!J8 -> 62.246218 | M5: =PDL!J8 -> 43.005978 | N5: =PACA!J8 -> 52.357253 | O5: =100000*SUM(ARA!I8+BFC!I8+BRET!I8+CORSE!I8+CVL!I8+GE!I8+HDF!I8+IDF!I8+NA!I8+NORM!I8+OCC!I8+PDL!I8+PACA!I8)/population!$B$19 -> 70.826578
A6: 44204 | B6: =ARA!J9 -> 94.430329 | C6: =BFC!J9 -> 133.05599 | D6: =BRET!J9 -> 70.920096 | E6: =CORSE!J9 -> 208.89001 | F6: =CVL!J9 -> 80.263439 | G6: =GE!J9 -> 149.55331 | H6: =HDF!J9 -> 104.14811 | I6: =IDF!J9 -> 156.26056 | J6: =NA!J9 -> 174.53386 | K6: =NORM!J9 -> 221.70425 | L6: =OCC!J9 -> 120.74551 | M6: =PDL!J9 -> 86.511721 | N6: =PACA!J9 -> 92.807039 | O6: =100000*SUM(ARA!I9+BFC!I9+BRET!I9+CORSE!I9+CVL!I9+GE!I9+HDF!I9+IDF!I9+NA!I9+NORM!I9+OCC!I9+PDL!I9+PACA!I9)/population!$B$19 -> 127.89463
A7: 44205 | B7: =ARA!J10 -> 100.44349 | C7: =BFC!J10 -> 176.53364 | D7: =BRET!J10 -> 73.913768 | E7: =CORSE!J10 -> 234.13089 | F7: =CVL!J10 -> 101.56021 | G7: =GE!J10 -> 169.52883 | H7: =HDF!J10 -> 123.36772 | I7: =IDF!J10 -> 180.6045 | J7: =NA!J10 -> 202.55061 | K7: =NORM!J10 -> 269.74421 | L7: =OCC!J10 -> 146.24823 | M7: =PDL!J10 -> 118.12835 | N7: =PACA!J10 -> 103.29036 | O7: =100000*SUM(ARA!I10+BFC!I10+BRET!I10+CORSE!I10+CVL!I10+GE!I10+HDF!I10+IDF!I10+NA!I10+NORM!I10+OCC!I10+PDL!I10+PACA!I10)/population!$B$19 -> 149.73199
A8: 44206 | B8: =ARA!J11 -> 103.41895 | C8: =BFC!J11 -> 180.66581 | D8: =BRET!J11 -> 89.840105 | E8: =CORSE!J11 -> 247.18651 | F8: =CVL!J11 -> 125.67051 | G8: =GE!J11 -> 175.09875 | H8: =HDF!J11 -> 134.85587 | I8: =IDF!J11 -> 194.37687 | J8: =NA!J11 -> 208.75063 | K8: =NORM!J11 -> 290.72196 | L8: =OCC!J11 -> 157.21896 | M8: =PDL!J11 -> 134.72576 | N8: =PACA!J11 -> 105.38702 | O8: =100000*SUM(ARA!I11+BFC!I11+BRET!I11+CORSE!I11+CVL!I11+GE!I11+HDF!I11+IDF!I11+NA!I11+NORM!I11+OCC!I11+PDL!I11+PACA!I11)/population!$B$19 -> 160.0297
A9: 44207 | B9: =ARA!J12 -> 154.44992 | C9: =BFC!J12 -> 254.00291 | D9: =BRET!J12 -> 135.7331 | E9: =CORSE!J12 -> 286.64351 | F9: =CVL!J12 -> 174.90709 | G9: =GE!J12 -> 228.18536 | H9: =HDF!J12 -> 177.80649 | I9: =IDF!J12 -> 244.40859 | J9: =NA!J12 -> 282.66751 | K9: =NORM!J12 -> 377.47843 | L9: =OCC!J12 -> 212.35952 | M9: =PDL!J12 -> 181.09857 | N9: =PACA!J12 -> 149.55542 | O9: =100000*SUM(ARA!I12+BFC!I12+BRET!I12+CORSE!I12+CVL!I12+GE!I12+HDF!I12+IDF!I12+NA!I12+NORM!I12+OCC!I12+PDL!I12+PACA!I12)/population!$B$19 -> 214.36577
A10: 44208 | B10: =ARA!J13 -> 230.51707 | C10: =BFC!J13 -> 349.15069 | D10: =BRET!J13 -> 216.62213 | E10: =CORSE!J13 -> 329.00177 | F10: =CVL!J13 -> 261.89171 | G10: =GE!J13 -> 317.03197 | H10: =HDF!J13 -> 259.58205 | I10: =IDF!J13 -> 329.50243 | J10: =NA!J13 -> 375.28446 | K10: =NORM!J13 -> 483.97155 | L10: =OCC!J13 -> 301.18865 | M10: =PDL!J13 -> 259.77189 | N10: =PACA!J13 -> 249.26562 | O10: =100000*SUM(ARA!I13+BFC!I13+BRET!I13+CORSE!I13+CVL!I13+GE!I13+HDF!I13+IDF!I13+NA!I13+NORM!I13+OCC!I13+PDL!I13+PACA!I13)/population!$B$19 -> 301.30688
A11: 44209 | B11: =ARA!J14 -> 311.67611 | C11: =BFC!J14 -> 505.09533 | D11: =BRET!J14 -> 315.47318 | E11: =CORSE!J14 -> 374.84152 | F11: =CVL!J14 -> 335.00412 | G11: =GE!J14 -> 434.16361 | H11: =HDF!J14 -> 340.70353 | I11: =IDF!J14 -> 412.45426 | J11: =NA!J14 -> 472.85142 | K11: =NORM!J14 -> 590.43439 | L11: =OCC!J14 -> 402.18685 | M11: =PDL!J14 -> 331.42222 | N11: =PACA!J14 -> 323.81586 | O11: =100000*SUM(ARA!I14+BFC!I14+BRET!I14+CORSE!I14+CVL!I14+GE!I14+HDF!I14+IDF!I14+NA!I14+NORM!I14+OCC!I14+PDL!I14+PACA!I14)/population!$B$19 -> 393.01393
A12: 44210 | B12: =ARA!J15 -> 408.8578 | C12: =BFC!J15 -> 660.32132 | D12: =BRET!J15 -> 418.12621 | E12: =CORSE!J15 -> 416.61952 | F12: =CVL!J15 -> 408.89807 | G12: =GE!J15 -> 566.95273 | H12: =HDF!J15 -> 424.30713 | I12: =IDF!J15 -> 498.22409 | J12: =NA!J15 -> 585.55176 | K12: =NORM!J15 -> 741.94037 | L12: =OCC!J15 -> 538.35889 | M12: =PDL!J15 -> 403.12515 | N12: =PACA!J15 -> 435.49288 | O12: =100000*SUM(ARA!I15+BFC!I15+BRET!I15+CORSE!I15+CVL!I15+GE!I15+HDF!I15+IDF!I15+NA!I15+NORM!I15+OCC!I15+PDL!I15+PACA!I15)/population!$B$19 -> 498.76765
A13: 44211 | B13: =ARA!J16 -> 504.93148 | C13: =BFC!J16 -> 803.43826 | D13: =BRET!J16 -> 528.65259 | E13: =CORSE!J16 -> 463.9099 | F13: =CVL!J16 -> 479.04065 | G13: =GE!J16 -> 686.98727 | H13: =HDF!J16 -> 507.97781 | I13: =IDF!J16 -> 588.45711 | J13: =NA!J16 -> 704.78545 | K13: =NORM!J16 -> 900.31784 | L13: =OCC!J16 -> 662.93572 | M13: =PDL!J16 -> 467.67358 | N13: =PACA!J16 -> 524.66042 | O13: =100000*SUM(ARA!I16+BFC!I16+BRET!I16+CORSE!I16+CVL!I16+GE!I16+HDF!I16+IDF!I16+NA!I16+NORM!I16+OCC!I16+PDL!I16+PACA!I16)/population!$B$19 -> 601.64146
... A22: 44220 | B22: =ARA!J25 -> 1385.0944 | C22: =BFC!J25 -> 2285.6669 | D22: =BRET!J25 -> 1533.2392 | E22: =CORSE!J25 -> 1006.4437 | F22: =CVL!J25 -> 1239.2378 | G22: =GE!J25 -> 1377.331 | H22: =HDF!J25 -> 1312.065 | I22: =IDF!J25 -> 1381.2192 | J22: =NA!J25 -> 1763.8053 | K22: =NORM!J25 -> 1514.6965 | L22: =OCC!J25 -> 1710.0157 | M22: =PDL!J25 -> 1377.7169 | N22: =PACA!J25 -> 1387.6947 | O22: =100000*SUM(ARA!I25+BFC!I25+BRET!I25+CORSE!I25+CVL!I25+GE!I25+HDF!I25+IDF!I25+NA!I25+NORM!I25+OCC!I25+PDL!I25+PACA!I25)/population!$B$19 -> 1486.5184
A23: 44221
A24: 44222
A25: 44223
A26: 44224
A27: 44225
A28: 44226
A29: 44227

Sheet ARA
M1: Nb cumulé vaccinations depuis 04/01 | N1: =SUM(F5:F293) -> 111256
M2: % residents vaccinés | N2: =SUM(B5:B93)/SUM(F5:F93) -> 0.20256885
B3: Nombre personnes vaccinées | M3: % professionnels vaccinés | N3: =SUM(C5:C93)/SUM(F5:F93) -> 0.47739448
B4: résidents / patients | C4: prof. | D4: 75 + | E4: Autres | F4: total quotidien | G4: residents /patients Cumul | H4: prof. Cumul | I4: total Cumul | J4: Taux de vaccination pour 100 000 hab. (tous âges) | K4: Taux de vaccination pour 100 000 hab. (>50 ans) | L4: Taux de vaccination pour 100 000 hab. (>=65 ans)
A5: 44200 | B5: =vaccine!B3 -> 99 | C5: =vaccine!C3 -> 105 | D5: =vaccine!D3 -> 0 | E5: =vaccine!E3 -> 0 | F5: =SUM(B5:E5) -> 204 | G5: =B5 -> 99 | H5: =C5 -> 105 | I5: =F5 -> 204 | J5: =(I5/$N$5)*100000 -> 2.5397214 | K5: =100000*I5/$N$6 -> 6.4637391 | L5: =100000*G5/$N$7 -> 6.0443214 | M5: Population totale | N5: =population!B6 -> 8032377
A6: 44201 | B6: =vaccine!B4 -> 83 | C6: =vaccine!C4 -> 350 | D6: =vaccine!D4 -> 0 | E6: =vaccine!E4 -> 0 | F6: =SUM(B6:E6) -> 433 | G6: =B6+G5 -> 182 | H6: =C6+H5 -> 455 | I6: =F6+I5 -> 637 | J6: =(I6/$N$5)*100000 -> 7.9304047 | K6: =100000*I6/$N$6 -> 20.183342 | L6: =100000*G6/$N$7 -> 11.111783 | M6: Population > 50 ans | N6: =population!C6 -> 3156068
A7: 44202 | B7: =vaccine!B5 -> 259 | C7: =vaccine!C5 -> 874 | D7: =vaccine!D5 -> 0 | E7: =vaccine!E5 -> 0 | F7: =SUM(B7:E7) -> 1133 | G7: =B7+G6 -> 441 | H7: =C7+H6 -> 1329 | I7: =F7+I6 -> 1770 | J7: =(I7/$N$5)*100000 -> 22.035818 | K7: =100000*I7/$N$6 -> 56.082442 | L7: =100000*G7/$N$7 -> 26.924704 | M7: Population > 65 ans | N7: =population!E6 -> 1637901
A8: 44203 | B8: =vaccine!B6 -> 740 | C8: =vaccine!C6 -> 1922 | D8: =vaccine!D6 -> 0 | E8: =vaccine!E6 -> 0 | F8: =SUM(B8:E8) -> 2662 | G8: =B8+G7 -> 1181 | H8: =C8+H7 -> 3251 | I8: =F8+I7 -> 4432 | J8: =(I8/$N$5)*100000 -> 55.176693 | K8: =100000*I8/$N$6 -> 140.4279 | L8: =100000*G8/$N$7 -> 72.10448
A9: 44204 | B9: =vaccine!B7 -> 658 | C9: =vaccine!C7 -> 2495 | D9: =vaccine!D7 -> 0 | E9: =vaccine!E7 -> 0 | F9: =SUM(B9:E9) -> 3153 | G9: =B9+G8 -> 1839 | H9: =C9+H8 -> 5746 | I9: =F9+I8 -> 7585 | J9: =(I9/$N$5)*100000 -> 94.430329 | K9: =100000*I9/$N$6 -> 240.33069 | L9: =100000*G9/$N$7 -> 112.27785
A10: 44205 | B10: =vaccine!B8 -> 83 | C10: =vaccine!C8 -> 400 | D10: =vaccine!D8 -> 0 | E10: =vaccine!E8 -> 0 | F10: =SUM(B10:E10) -> 483 | G10: =B10+G9 -> 1922 | H10: =C10+H9 -> 6146 | I10: =F10+I9 -> 8068 | J10: =(I10/$N$5)*100000 -> 100.44349 | K10: =100000*I10/$N$6 -> 255.63454 | L10: =100000*G10/$N$7 -> 117.34531
A11: 44206 | B11: =vaccine!B9 -> 73 | C11: =vaccine!C9 -> 166 | D11: =vaccine!D9 -> 0 | E11: =vaccine!E9 -> 0 | F11: =SUM(B11:E11) -> 239 | G11: =B11+G10 -> 1995 | H11: =C11+H10 -> 6312 | I11: =F11+I10 -> 8307 | J11: =(I11/$N$5)*100000 -> 103.41895 | K11: =100000*I11/$N$6 -> 263.20726 | L11: =100000*G11/$N$7 -> 121.80223
A12: 44207 | B12: =vaccine!B10 -> 706 | C12: =vaccine!C10 -> 3393 | D12: =vaccine!D10 -> 0 | E12: =vaccine!E10 -> 0 | F12: =SUM(B12:E12) -> 4099 | G12: =B12+G11 -> 2701 | H12: =C12+H11 -> 9705 | I12: =F12+I11 -> 12406 | J12: =(I12/$N$5)*100000 -> 154.44992 | K12: =100000*I12/$N$6 -> 393.08405 | L12: =100000*G12/$N$7 -> 164.90618
A13: 44208 | B13: =vaccine!B11 -> 1211 | C13: =vaccine!C11 -> 4899 | D13: =vaccine!D11 -> 0 | E13: =vaccine!E11 -> 0 | F13: =SUM(B13:E13) -> 6110 | G13: =B13+G12 -> 3912 | H13: =C13+H12 -> 14604 | I13: =F13+I12 -> 18516 | J13: =(I13/$N$5)*100000 -> 230.51707 | K13: =100000*I13/$N$6 -> 586.67937 | L13: =100000*G13/$N$7 -> 238.84227
A14: 44209 | B14: =vaccine!B12 -> 1132 | C14: =vaccine!C12 -> 5387 | D14: =vaccine!D12 -> 0 | E14: =vaccine!E12 -> 0 | F14: =SUM(B14:E14) -> 6519 | G14: =B14+G13 -> 5044 | H14: =C14+H13 -> 19991 | I14: =F14+I13 -> 25035 | J14: =(I14/$N$5)*100000 -> 311.67611 | K14: =100000*I14/$N$6 -> 793.23386 | L14: =100000*G14/$N$7 -> 307.95512
A15: 44210 | B15: =vaccine!B13 -> 1465 | C15: =vaccine!C13 -> 6341 | D15: =vaccine!D13 -> 0 | E15: =vaccine!E13 -> 0 | F15: =SUM(B15:E15) -> 7806 | G15: =B15+G14 -> 6509 | H15: =C15+H14 -> 26332 | I15: =F15+I14 -> 32841 | J15: =(I15/$N$5)*100000 -> 408.8578 | K15: =100000*I15/$N$6 -> 1040.5669 | L15: =100000*G15/$N$7 -> 397.39887
A16: 44211 | B16: =vaccine!B14 -> 1480 | C16: =vaccine!C14 -> 6237 | D16: =vaccine!D14 -> 0 | E16: =vaccine!E14 -> 0 | F16: =SUM(B16:E16) -> 7717 | G16: =B16+G15 -> 7989 | H16: =C16+H15 -> 32569 | I16: =F16+I15 -> 40558 | J16: =(I16/$N$5)*100000 -> 504.93148 | K16: =100000*I16/$N$6 -> 1285.08 | L16: =100000*G16/$N$7 -> 487.75842
A17: 44212 | B17: =vaccine!B15 -> 1140 | C17: =vaccine!C15 -> 1606 | D17: =vaccine!D15 -> 0 | E17: =vaccine!E15 -> 0 | F17: =SUM(B17:E17) -> 2746 | G17: =B17+G16 -> 9129 | H17: =C17+H16 -> 34175 | I17: =F17+I16 -> 43304 | J17: =(I17/$N$5)*100000 -> 539.11812 | K17: =100000*I17/$N$6 -> 1372.087 | L17: =100000*G17/$N$7 -> 557.35969
A18: 44213 | B18: =vaccine!B16 -> 288 | C18: =vaccine!C16 -> 772 | D18: =vaccine!D16 -> 0 | E18: =vaccine!E16 -> 0 | F18: =SUM(B18:E18) -> 1060 | G18: =B18+G17 -> 9417 | H18: =C18+H17 -> 34947 | I18: =F18+I17 -> 44364 | J18: =(I18/$N$5)*100000 -> 552.31471 | K18: =100000*I18/$N$6 -> 1405.6731 | L18: =100000*G18/$N$7 -> 574.94317
A19: 44214 | B19: =vaccine!B17 -> 589 | C19: =vaccine!C17 -> 2788 | D19: =vaccine!D17 -> 4237 | E19: =vaccine!E17 -> 92 | F19: =SUM(B19:E19) -> 7706 | G19: =B19+G18 -> 10006 | H19: =C19+H18 -> 37735 | I19: =F19+I18 -> 52070 | J19: =(I19/$N$5)*100000 -> 648.25145 | K19: =100000*I19/$N$6 -> 1649.8377 | L19: =100000*G19/$N$7 -> 610.90383
... A25: 44220 | B25: =vaccine!B23 -> 21 | C25: =vaccine!C23 -> 136 | D25: =vaccine!D23 -> 1128 | E25: =vaccine!E23 -> 84 | F25: =SUM(B25:E25) -> 1369 | G25: =B25+G24 -> 22537 | H25: =C25+H24 -> 53113 | I25: =F25+I24 -> 111256 | J25: =(I25/$N$5)*100000 -> 1385.0944 | K25: =100000*I25/$N$6 -> 3525.1458 | L25: =100000*G25/$N$7 -> 1375.9684
A26: 44221
A27: 44222
A28: 44223
A29: 44224
A30: 44225
A31: 44226
A32: 44227

Sheet BFC
M1: Nb cumulé vaccinations depuis 04/01 | N1: =SUM(F5:F293) -> 63611
M2: % residents vaccinés | N2: =SUM(B5:B93)/SUM(F5:F93) -> 0.24061876
B3: Nombre personnes vaccinées | M3: % professionnels vaccinés | N3: =SUM(C5:C93)/SUM(F5:F93) -> 0.37710459
B4: résidents / patients | C4: prof. | D4: 75 + | E4: Autres | F4: total quotidien | G4: residents /patients Cumul | H4: prof. Cumul | I4: total Cumul | J4: Taux de vaccination pour 100 000 hab. (tous âges) | K4: Taux de vaccination pour 100 000 hab. (>50 ans) | L4: Taux de vaccination pour 100 000 hab. (>=65 ans)
A5: 44200 | B5: =vaccine!G3 -> 0 | C5: =vaccine!H3 -> 15 | D5: =vaccine!I3 -> 0 | E5: =vaccine!J3 -> 0 | F5: =SUM(B5:E5) -> 15 | G5: =B5 -> 0 | H5: =C5 -> 15 | I5: =F5 -> 15 | J5: =(I5/$N$5)*100000 -> 0.53897915 | K5: =100000*I5/$N$6 -> 1.2267791 | L5: =100000*G5/$N$7 -> 0 | M5: Population totale | N5: =population!B7 -> 2783039
A6: 44201 | B6: =vaccine!G4 -> 0 | C6: =vaccine!H4 -> 263 | D6: =vaccine!I4 -> 0 | E6: =vaccine!J4 -> 0 | F6: =SUM(B6:E6) -> 263 | G6: =B6+G5 -> 0 | H6: =C6+H5 -> 278 | I6: =F6+I5 -> 278 | J6: =(I6/$N$5)*100000 -> 9.9890803 | K6: =100000*I6/$N$6 -> 22.736306 | L6: =100000*G6/$N$7 -> 0 | M6: Population > 50 ans | N6: =population!C7 -> 1222714
A7: 44202 | B7: =vaccine!G5 -> 218 | C7: =vaccine!H5 -> 377 | D7: =vaccine!I5 -> 0 | E7: =vaccine!J5 -> 0 | F7: =SUM(B7:E7) -> 595 | G7: =B7+G6 -> 218 | H7: =C7+H6 -> 655 | I7: =F7+I6 -> 873 | J7: =(I7/$N$5)*100000 -> 31.368587 | K7: =100000*I7/$N$6 -> 71.398545 | L7: =100000*G7/$N$7 -> 32.910082 | M7: Population > 65 ans | N7: =population!E7 -> 662411
A8: 44203 | B8: =vaccine!G6 -> 624 | C8: =vaccine!H6 -> 784 | D8: =vaccine!I6 -> 0 | E8: =vaccine!J6 -> 0 | F8: =SUM(B8:E8) -> 1408 | G8: =B8+G7 -> 842 | H8: =C8+H7 -> 1439 | I8: =F8+I7 -> 2281 | J8: =(I8/$N$5)*100000 -> 81.960763 | K8: =100000*I8/$N$6 -> 186.55221 | L8: =100000*G8/$N$7 -> 127.11142
A9: 44204 | B9: =vaccine!G7 -> 163 | C9: =vaccine!H7 -> 1259 | D9: =vaccine!I7 -> 0 | E9: =vaccine!J7 -> 0 | F9: =SUM(B9:E9) -> 1422 | G9: =B9+G8 -> 1005 | H9: =C9+H8 -> 2698 | I9: =F9+I8 -> 3703 | J9: =(I9/$N$5)*100000 -> 133.05599 | K9: =100000*I9/$N$6 -> 302.85087 | L9: =100000*G9/$N$7 -> 151.7185
A10: 44205 | B10: =vaccine!G8 -> 215 | C10: =vaccine!H8 -> 995 | D10: =vaccine!I8 -> 0 | E10: =vaccine!J8 -> 0 | F10: =SUM(B10:E10) -> 1210 | G10: =B10+G9 -> 1220 | H10: =C10+H9 -> 3693 | I10: =F10+I9 -> 4913 | J10: =(I10/$N$5)*100000 -> 176.53364 | K10: =100000*I10/$N$6 -> 401.81105 | L10: =100000*G10/$N$7 -> 184.17569
A11: 44206 | B11: =vaccine!G9 -> 0 | C11: =vaccine!H9 -> 115 | D11: =vaccine!I9 -> 0 | E11: =vaccine!J9 -> 0 | F11: =SUM(B11:E11) -> 115 | G11: =B11+G10 -> 1220 | H11: =C11+H10 -> 3808 | I11: =F11+I10 -> 5028 | J11: =(I11/$N$5)*100000 -> 180.66581 | K11: =100000*I11/$N$6 -> 411.21636 | L11: =100000*G11/$N$7 -> 184.17569
A12: 44207 | B12: =vaccine!G10 -> 456 | C12: =vaccine!H10 -> 1585 | D12: =vaccine!I10 -> 0 | E12: =vaccine!J10 -> 0 | F12: =SUM(B12:E12) -> 2041 | G12: =B12+G11 -> 1676 | H12: =C12+H11 -> 5393 | I12: =F12+I11 -> 7069 | J12: =(I12/$N$5)*100000 -> 254.00291 | K12: =100000*I12/$N$6 -> 578.1401 | L12: =100000*G12/$N$7 -> 253.01512
A13: 44208 | B13: =vaccine!G11 -> 1184 | C13: =vaccine!H11 -> 1464 | D13: =vaccine!I11 -> 0 | E13: =vaccine!J11 -> 0 | F13: =SUM(B13:E13) -> 2648 | G13: =B13+G12 -> 2860 | H13: =C13+H12 -> 6857 | I13: =F13+I12 -> 9717 | J13: =(I13/$N$5)*100000 -> 349.15069 | K13: =100000*I13/$N$6 -> 794.70751 | L13: =100000*G13/$N$7 -> 431.75612
A14: 44209 | B14: =vaccine!G12 -> 1747 | C14: =vaccine!H12 -> 2593 | D14: =vaccine!I12 -> 0 | E14: =vaccine!J12 -> 0 | F14: =SUM(B14:E14) -> 4340 | G14: =B14+G13 -> 4607 | H14: =C14+H13 -> 9450 | I14: =F14+I13 -> 14057 | J14: =(I14/$N$5)*100000 -> 505.09533 | K14: =100000*I14/$N$6 -> 1149.6556 | L14: =100000*G14/$N$7 -> 695.48966
A15: 44210 | B15: =vaccine!G13 -> 1418 | C15: =vaccine!H13 -> 2902 | D15: =vaccine!I13 -> 0 | E15: =vaccine!J13 -> 0 | F15: =SUM(B15:E15) -> 4320 | G15: =B15+G14 -> 6025 | H15: =C15+H14 -> 12352 | I15: =F15+I14 -> 18377 | J15: =(I15/$N$5)*100000 -> 660.32132 | K15: =100000*I15/$N$6 -> 1502.968 | L15: =100000*G15/$N$7 -> 909.55615
A16: 44211 | B16: =vaccine!G14 -> 1177 | C16: =vaccine!H14 -> 2806 | D16: =vaccine!I14 -> 0 | E16: =vaccine!J14 -> 0 | F16: =SUM(B16:E16) -> 3983 | G16: =B16+G15 -> 7202 | H16: =C16+H15 -> 15158 | I16: =F16+I15 -> 22360 | J16: =(I16/$N$5)*100000 -> 803.43826 | K16: =100000*I16/$N$6 -> 1828.7187 | L16: =100000*G16/$N$7 -> 1087.2404
A17: 44212 | B17: =vaccine!G15 -> 470 | C17: =vaccine!H15 -> 1763 | D17: =vaccine!I15 -> 0 | E17: =vaccine!J15 -> 0 | F17: =SUM(B17:E17) -> 2233 | G17: =B17+G16 -> 7672 | H17: =C17+H16 -> 16921 | I17: =F17+I16 -> 24593 | J17: =(I17/$N$5)*100000 -> 883.67429 | K17: =100000*I17/$N$6 -> 2011.3453 | L17: =100000*G17/$N$7 -> 1158.1933
A18: 44213 | B18: =vaccine!G16 -> 0 | C18: =vaccine!H16 -> 167 | D18: =vaccine!I16 -> 0 | E18: =vaccine!J16 -> 0 | F18: =SUM(B18:E18) -> 167 | G18: =B18+G17 -> 7672 | H18: =C18+H17 -> 17088 | I18: =F18+I17 -> 24760 | J18: =(I18/$N$5)*100000 -> 889.67492 | K18: =100000*I18/$N$6 -> 2025.0034 | L18: =100000*G18/$N$7 -> 1158.1933
A19: 44214 | B19: =vaccine!G17 -> 353 | C19: =vaccine!H17 -> 666 | D19: =vaccine!I17 -> 2959 | E19: =vaccine!J17 -> 12 | F19: =SUM(B19:E19) -> 3990 | G19: =B19+G18 -> 8025 | H19: =C19+H18 -> 17754 | I19: =F19+I18 -> 28750 | J19: =(I19/$N$5)*100000 -> 1033.0434 | K19: =100000*I19/$N$6 -> 2351.3266 | L19: =100000*G19/$N$7 -> 1211.4835
... A25: 44220 | B25: =vaccine!G23 -> 81 | C25: =vaccine!H23 -> 12 | D25: =vaccine!I23 -> 217 | E25: =vaccine!J23 -> 4 | F25: =SUM(B25:E25) -> 314 | G25: =B25+G24 -> 15306 | H25: =C25+H24 -> 23988 | I25: =F25+I24 -> 63611 | J25: =(I25/$N$5)*100000 -> 2285.6669 | K25: =100000*I25/$N$6 -> 5202.4431 | L25: =100000*G25/$N$7 -> 2310.65
A26: 44221
A27: 44222
A28: 44223
A29: 44224
A30: 44225
A31: 44226
A32: 44227

Sheet BRET
M1: Nb cumulé vaccinations depuis 04/01 | N1: =SUM(F5:F293) -> 51216
M2: % residents vaccinés | N2: =SUM(B5:B93)/SUM(F5:F93) -> 0.37416042
B3: Nombre personnes vaccinées | M3: % professionnels vaccinés | N3: =SUM(C5:C93)/SUM(F5:F93) -> 0.42350047
B4: résidents / patients | C4: prof. | D4: 75 + | E4: Autres | F4: total quotidien | G4: residents /patients Cumul | H4: prof. Cumul | I4: total Cumul | J4: Taux de vaccination pour 100 000 hab. (tous âges) | K4: Taux de vaccination pour 100 000 hab. (>50 ans) | L4: Taux de vaccination pour 100 000 hab. (>=65 ans)
A5: 44200 | B5: =vaccine!L3 -> 35 | C5: =vaccine!M3 -> 20 | D5: =vaccine!N3 -> 0 | E5: =vaccine!O3 -> 0 | F5: =SUM(B5:E5) -> 55 | G5: =B5 -> 35 | H5: =C5 -> 20 | I5: =F5 -> 55 | J5: =(I5/$N$5)*100000 -> 1.6465198 | K5: =100000*I5/$N$6 -> 3.8512089 | L5: =100000*G5/$N$7 -> 4.5796952 | M5: Population totale | N5: =population!B8 -> 3340379
A6: 44201 | B6: =vaccine!L4 -> 75 | C6: =vaccine!M4 -> 88 | D6: =vaccine!N4 -> 0 | E6: =vaccine!O4 -> 0 | F6: =SUM(B6:E6) -> 163 | G6: =B6+G5 -> 110 | H6: =C6+H5 -> 108 | I6: =F6+I5 -> 218 | J6: =(I6/$N$5)*100000 -> 6.5262056 | K6: =100000*I6/$N$6 -> 15.264792 | L6: =100000*G6/$N$7 -> 14.393328 | M6: Population >= 50 ans | N6: =population!C8 -> 1428123
A7: 44202 | B7: =vaccine!L5 -> 117 | C7: =vaccine!M5 -> 255 | D7: =vaccine!N5 -> 0 | E7: =vaccine!O5 -> 0 | F7: =SUM(B7:E7) -> 372 | G7: =B7+G6 -> 227 | H7: =C7+H6 -> 363 | I7: =F7+I6 -> 590 | J7: =(I7/$N$5)*100000 -> 17.662666 | K7: =100000*I7/$N$6 -> 41.312968 | L7: =100000*G7/$N$7 -> 29.702595 | M7: Population >= 65 ans | N7: =population!E8 -> 764243
A8: 44203 | B8: =vaccine!L6 -> 175 | C8: =vaccine!M6 -> 652 | D8: =vaccine!N6 -> 0 | E8: =vaccine!O6 -> 0 | F8: =SUM(B8:E8) -> 827 | G8: =B8+G7 -> 402 | H8: =C8+H7 -> 1015 | I8: =F8+I7 -> 1417 | J8: =(I8/$N$5)*100000 -> 42.420336 | K8: =100000*I8/$N$6 -> 99.221146 | L8: =100000*G8/$N$7 -> 52.601071
A9: 44204 | B9: =vaccine!L7 -> 139 | C9: =vaccine!M7 -> 813 | D9: =vaccine!N7 -> 0 | E9: =vaccine!O7 -> 0 | F9: =SUM(B9:E9) -> 952 | G9: =B9+G8 -> 541 | H9: =C9+H8 -> 1828 | I9: =F9+I8 -> 2369 | J9: =(I9/$N$5)*100000 -> 70.920096 | K9: =100000*I9/$N$6 -> 165.88207 | L9: =100000*G9/$N$7 -> 70.789003
A10: 44205 | B10: =vaccine!L8 -> 22 | C10: =vaccine!M8 -> 78 | D10: =vaccine!N8 -> 0 | E10: =vaccine!O8 -> 0 | F10: =SUM(B10:E10) -> 100 | G10: =B10+G9 -> 563 | H10: =C10+H9 -> 1906 | I10: =F10+I9 -> 2469 | J10: =(I10/$N$5)*100000 -> 73.913768 | K10: =100000*I10/$N$6 -> 172.88427 | L10: =100000*G10/$N$7 -> 73.667669
A11: 44206 | B11: =vaccine!L9 -> 118 | C11: =vaccine!M9 -> 414 | D11: =vaccine!N9 -> 0 | E11: =vaccine!O9 -> 0 | F11: =SUM(B11:E11) -> 532 | G11: =B11+G10 -> 681 | H11: =C11+H10 -> 2320 | I11: =F11+I10 -> 3001 | J11: =(I11/$N$5)*100000 -> 89.840105 | K11: =100000*I11/$N$6 -> 210.13596 | L11: =100000*G11/$N$7 -> 89.107784
A12: 44207 | B12: =vaccine!L10 -> 422 | C12: =vaccine!M10 -> 1111 | D12: =vaccine!N10 -> 0 | E12: =vaccine!O10 -> 0 | F12: =SUM(B12:E12) -> 1533 | G12: =B12+G11 -> 1103 | H12: =C12+H11 -> 3431 | I12: =F12+I11 -> 4534 | J12: =(I12/$N$5)*100000 -> 135.7331 | K12: =100000*I12/$N$6 -> 317.47966 | L12: =100000*G12/$N$7 -> 144.32582
A13: 44208 | B13: =vaccine!L11 -> 1095 | C13: =vaccine!M11 -> 1607 | D13: =vaccine!N11 -> 0 | E13: =vaccine!O11 -> 0 | F13: =SUM(B13:E13) -> 2702 | G13: =B13+G12 -> 2198 | H13: =C13+H12 -> 5038 | I13: =F13+I12 -> 7236 | J13: =(I13/$N$5)*100000 -> 216.62213 | K13: =100000*I13/$N$6 -> 506.67905 | L13: =100000*G13/$N$7 -> 287.60486
A14: 44209 | B14: =vaccine!L12 -> 1440 | C14: =vaccine!M12 -> 1862 | D14: =vaccine!N12 -> 0 | E14: =vaccine!O12 -> 0 | F14: =SUM(B14:E14) -> 3302 | G14: =B14+G13 -> 3638 | H14: =C14+H13 -> 6900 | I14: =F14+I13 -> 10538 | J14: =(I14/$N$5)*100000 -> 315.47318 | K14: =100000*I14/$N$6 -> 737.89162 | L14: =100000*G14/$N$7 -> 476.0266
A15: 44210 | B15: =vaccine!L13 -> 1209 | C15: =vaccine!M13 -> 2220 | D15: =vaccine!N13 -> 0 | E15: =vaccine!O13 -> 0 | F15: =SUM(B15:E15) -> 3429 | G15: =B15+G14 -> 4847 | H15: =C15+H14 -> 9120 | I15: =F15+I14 -> 13967 | J15: =(I15/$N$5)*100000 -> 418.12621 | K15: =100000*I15/$N$6 -> 977.99699 | L15: =100000*G15/$N$7 -> 634.22236
A16: 44211 | B16: =vaccine!L14 -> 1135 | C16: =vaccine!M14 -> 2557 | D16: =vaccine!N14 -> 0 | E16: =vaccine!O14 -> 0 | F16: =SUM(B16:E16) -> 3692 | G16: =B16+G15 -> 5982 | H16: =C16+H15 -> 11677 | I16: =F16+I15 -> 17659 | J16: =(I16/$N$5)*100000 -> 528.65259 | K16: =100000*I16/$N$6 -> 1236.5181 | L16: =100000*G16/$N$7 -> 782.73533
A17: 44212 | B17: =vaccine!L15 -> 171 | C17: =vaccine!M15 -> 832 | D17: =vaccine!N15 -> 0 | E17: =vaccine!O15 -> 0 | F17: =SUM(B17:E17) -> 1003 | G17: =B17+G16 -> 6153 | H17: =C17+H16 -> 12509 | I17: =F17+I16 -> 18662 | J17: =(I17/$N$5)*100000 -> 558.67912 | K17: =100000*I17/$N$6 -> 1306.7502 | L17: =100000*G17/$N$7 -> 805.11042
A18: 44213 | B18: =vaccine!L16 -> 15 | C18: =vaccine!M16 -> 234 | D18: =vaccine!N16 -> 0 | E18: =vaccine!O16 -> 0 | F18: =SUM(B18:E18) -> 249 | G18: =B18+G17 -> 6168 | H18: =C18+H17 -> 12743 | I18: =F18+I17 -> 18911 | J18: =(I18/$N$5)*100000 -> 566.13336 | K18: =100000*I18/$N$6 -> 1324.1857 | L18: =100000*G18/$N$7 -> 807.07314
A19: 44214 | B19: =vaccine!L17 -> 343 | C19: =vaccine!M17 -> 1092 | D19: =vaccine!N17 -> 1326 | E19: =vaccine!O17 -> 20 | F19: =SUM(B19:E19) -> 2781 | G19: =B19+G18 -> 6511 | H19: =C19+H18 -> 13835 | I19: =F19+I18 -> 21692 | J19: =(I19/$N$5)*100000 -> 649.38739 | K19: =100000*I19/$N$6 -> 1518.9168 | L19: =100000*G19/$N$7 -> 851.95416
... A25: 44220 | B25: =vaccine!L23 -> 0 | C25: =vaccine!M23 -> 48 | D25: =vaccine!N23 -> 166 | E25: =vaccine!O23 -> 15 | F25: =SUM(B25:E25) -> 229 | G25: =B25+G24 -> 19163 | H25: =C25+H24 -> 21690 | I25: =F25+I24 -> 51216 | J25: =(I25/$N$5)*100000 -> 1533.2392 | K25: =100000*I25/$N$6 -> 3586.2457 | L25: =100000*G25/$N$7 -> 2507.4485
A26: 44221
A27: 44222
A28: 44223
A29: 44224
A30: 44225
A31: 44226
A32: 44227

Sheet CORSE
M1: Nb cumulé vaccinations depuis 04/01 | N1: =SUM(F5:F293) -> 3469
M2: % residents vaccinés | N2: =SUM(B5:B93)/SUM(F5:F93) -> 0.29374459
B3: Nombre personnes vaccinées | M3: % professionnels vaccinés | N3: =SUM(C5:C93)/SUM(F5:F93) -> 0.41654656
B4: résidents / patients | C4: prof. | D4: 75 + | E4: Autres | F4: total quotidien | G4: residents /patients Cumul | H4: prof. Cumul | I4: total Cumul | J4: Taux de vaccination pour 100 000 hab. (tous âges) | K4: Taux de vaccination pour 100 000 hab. (>50 ans) | L4: Taux de vaccination pour 100 000 hab. (>=65 ans)
A5: 44200 | B5: =vaccine!Q3 -> 0 | C5: =vaccine!R3 -> 0 | D5: =vaccine!S3 -> 0 | E5: =vaccine!T3 -> 0 | F5: =SUM(B5:E5) -> 0 | G5: =B5 -> 0 | H5: =C5 -> 0 | I5: =F5 -> 0 | J5: =(I5/$N$5)*100000 -> 0 | K5: =100000*I5/$N$6 -> 0 | L5: =100000*G5/$N$7 -> 0 | M5: Population totale | N5: =population!B10 -> 344679
A6: 44201 | B6: =vaccine!Q4 -> 0 | C6: =vaccine!R4 -> 0 | D6: =vaccine!S4 -> 0 | E6: =vaccine!T4 -> 0 | F6: =SUM(B6:E6) -> 0 | G6: =B6+G5 -> 0 | H6: =C6+H5 -> 0 | I6: =F6+I5 -> 0 | J6: =(I6/$N$5)*100000 -> 0 | K6: =100000*I6/$N$6 -> 0 | L6: =100000*G6/$N$7 -> 0 | M6: Population > 50 ans | N6: =population!C10 -> 153934
A7: 44202 | B7: =vaccine!Q5 -> 25 | C7: =vaccine!R5 -> 28 | D7: =vaccine!S5 -> 0 | E7: =vaccine!T5 -> 0 | F7: =SUM(B7:E7) -> 53 | G7: =B7+G6 -> 25 | H7: =C7+H6 -> 28 | I7: =F7+I6 -> 53 | J7: =(I7/$N$5)*100000 -> 15.376626 | K7: =100000*I7/$N$6 -> 34.43034 | L7: =100000*G7/$N$7 -> 29.939044 | M7: Population > 65 ans | N7: =population!E10 -> 83503
A8: 44203 | B8: =vaccine!Q6 -> 202 | C8: =vaccine!R6 -> 152 | D8: =vaccine!S6 -> 0 | E8: =vaccine!T6 -> 0 | F8: =SUM(B8:E8) -> 354 | G8: =B8+G7 -> 227 | H8: =C8+H7 -> 180 | I8: =F8+I7 -> 407 | J8: =(I8/$N$5)*100000 -> 118.08088 | K8: =100000*I8/$N$6 -> 264.39903 | L8: =100000*G8/$N$7 -> 271.84652
A9: 44204 | B9: =vaccine!Q7 -> 172 | C9: =vaccine!R7 -> 141 | D9: =vaccine!S7 -> 0 | E9: =vaccine!T7 -> 0 | F9: =SUM(B9:E9) -> 313 | G9: =B9+G8 -> 399 | H9: =C9+H8 -> 321 | I9: =F9+I8 -> 720 | J9: =(I9/$N$5)*100000 -> 208.89001 | K9: =100000*I9/$N$6 -> 467.73292 | L9: =100000*G9/$N$7 -> 477.82714
A10: 44205 | B10: =vaccine!Q8 -> 10 | C10: =vaccine!R8 -> 77 | D10: =vaccine!S8 -> 0 | E10: =vaccine!T8 -> 0 | F10: =SUM(B10:E10) -> 87 | G10: =B10+G9 -> 409 | H10: =C10+H9 -> 398 | I10: =F10+I9 -> 807 | J10: =(I10/$N$5)*100000 -> 234.13089 | K10: =100000*I10/$N$6 -> 524.25065 | L10: =100000*G10/$N$7 -> 489.80276
A11: 44206 | B11: =vaccine!Q9 -> 0 | C11: =vaccine!R9 -> 45 | D11: =vaccine!S9 -> 0 | E11: =vaccine!T9 -> 0 | F11: =SUM(B11:E11) -> 45 | G11: =B11+G10 -> 409 | H11: =C11+H10 -> 443 | I11: =F11+I10 -> 852 | J11: =(I11/$N$5)*100000 -> 247.18651 | K11: =100000*I11/$N$6 -> 553.48396 | L11: =100000*G11/$N$7 -> 489.80276
A12: 44207 | B12: =vaccine!Q10 -> 32 | C12: =vaccine!R10 -> 104 | D12: =vaccine!S10 -> 0 | E12: =vaccine!T10 -> 0 | F12: =SUM(B12:E12) -> 136 | G12: =B12+G11 -> 441 | H12: =C12+H11 -> 547 | I12: =F12+I11 -> 988 | J12: =(I12/$N$5)*100000 -> 286.64351 | K12: =100000*I12/$N$6 -> 641.83351 | L12: =100000*G12/$N$7 -> 528.12474
A13: 44208 | B13: =vaccine!Q11 -> 29 | C13: =vaccine!R11 -> 117 | D13: =vaccine!S11 -> 0 | E13: =vaccine!T11 -> 0 | F13: =SUM(B13:E13) -> 146 | G13: =B13+G12 -> 470 | H13: =C13+H12 -> 664 | I13: =F13+I12 -> 1134 | J13: =(I13/$N$5)*100000 -> 329.00177 | K13: =100000*I13/$N$6 -> 736.67936 | L13: =100000*G13/$N$7 -> 562.85403
A14: 44209 | B14: =vaccine!Q12 -> 12 | C14: =vaccine!R12 -> 146 | D14: =vaccine!S12 -> 0 | E14: =vaccine!T12 -> 0 | F14: =SUM(B14:E14) -> 158 | G14: =B14+G13 -> 482 | H14: =C14+H13 -> 810 | I14: =F14+I13 -> 1292 | J14: =(I14/$N$5)*100000 -> 374.84152 | K14: =100000*I14/$N$6 -> 839.32075 | L14: =100000*G14/$N$7 -> 577.22477
A15: 44210 | B15: =vaccine!Q13 -> 37 | C15: =vaccine!R13 -> 107 | D15: =vaccine!S13 -> 0 | E15: =vaccine!T13 -> 0 | F15: =SUM(B15:E15) -> 144 | G15: =B15+G14 -> 519 | H15: =C15+H14 -> 917 | I15: =F15+I14 -> 1436 | J15: =(I15/$N$5)*100000 -> 416.61952 | K15: =100000*I15/$N$6 -> 932.86733 | L15: =100000*G15/$N$7 -> 621.53456
A16: 44211 | B16: =vaccine!Q14 -> 17 | C16: =vaccine!R14 -> 146 | D16: =vaccine!S14 -> 0 | E16: =vaccine!T14 -> 0 | F16: =SUM(B16:E16) -> 163 | G16: =B16+G15 -> 536 | H16: =C16+H15 -> 1063 | I16: =F16+I15 -> 1599 | J16: =(I16/$N$5)*100000 -> 463.9099 | K16: =100000*I16/$N$6 -> 1038.7569 | L16: =100000*G16/$N$7 -> 641.89311
A17: 44212 | B17: =vaccine!Q15 -> 0 | C17: =vaccine!R15 -> 158 | D17: =vaccine!S15 -> 0 | E17: =vaccine!T15 -> 0 | F17: =SUM(B17:E17) -> 158 | G17: =B17+G16 -> 536 | H17: =C17+H16 -> 1221 | I17: =F17+I16 -> 1757 | J17: =(I17/$N$5)*100000 -> 509.74965 | K17: =100000*I17/$N$6 -> 1141.3983 | L17: =100000*G17/$N$7 -> 641.89311
A18: 44213 | B18: =vaccine!Q16 -> 111 | C18: =vaccine!R16 -> 0 | D18: =vaccine!S16 -> 0 | E18: =vaccine!T16 -> 0 | F18: =SUM(B18:E18) -> 111 | G18: =B18+G17 -> 647 | H18: =C18+H17 -> 1221 | I18: =F18+I17 -> 1868 | J18: =(I18/$N$5)*100000 -> 541.95353 | K18: =100000*I18/$N$6 -> 1213.5071 | L18: =100000*G18/$N$7 -> 774.82246
A19: 44214 | B19: =vaccine!Q17 -> 30 | C19: =vaccine!R17 -> 71 | D19: =vaccine!S17 -> 72 | E19: =vaccine!T17 -> 0 | F19: =SUM(B19:E19) -> 173 | G19: =B19+G18 -> 677 | H19: =C19+H18 -> 1292 | I19: =F19+I18 -> 2041 | J19: =(I19/$N$5)*100000 -> 592.14516 | K19: =100000*I19/$N$6 -> 1325.8929 | L19: =100000*G19/$N$7 -> 810.74931
... A25: 44220 | B25: =vaccine!Q23 -> 0 | C25: =vaccine!R23 -> 0 | D25: =vaccine!S23 -> 0 | E25: =vaccine!T23 -> 0 | F25: =SUM(B25:E25) -> 0 | G25: =B25+G24 -> 1019 | H25: =C25+H24 -> 1445 | I25: =F25+I24 -> 3469 | J25: =(I25/$N$5)*100000 -> 1006.4437 | K25: =100000*I25/$N$6 -> 2253.5632 | L25: =100000*G25/$N$7 -> 1220.3154
A26: 44221
A27: 44222
A28: 44223
A29: 44224
A30: 44225
A31: 44226
A32: 44227

Sheet CVL
M1: Nb cumulé vaccinations depuis 04/01 | N1: =SUM(F5:F293) -> 31713
M2: % residents vaccinés | N2: =SUM(B5:B93)/SUM(F5:F93) -> 0.31387759
B3: Nombre personnes vaccinées | M3: % professionnels vaccinés | N3: =SUM(C5:C93)/SUM(F5:F93) -> 0.49888059
B4: résidents / patients | C4: prof. | D4: 75 + | E4: Autres | F4: total quotidien | G4: residents /patients Cumul | H4: prof. Cumul | I4: total Cumul | J4: Taux de vaccination pour 100 000 hab. (tous âges) | K4: Taux de vaccination pour 100 000 hab. (>50 ans) | L4: Taux de vaccination pour 100 000 hab. (>=65 ans)
A5: 44200 | B5: =vaccine!V3 -> 20 | C5: =vaccine!W3 -> 0 | D5: =vaccine!X3 -> 0 | E5: =vaccine!Y3 -> 0 | F5: =SUM(B5:E5) -> 20 | G5: =B5 -> 20 | H5: =C5 -> 0 | I5: =F5 -> 20 | J5: =(I5/$N$5)*100000 -> 0.781533 | K5: =100000*I5/$N$6 -> 1.8202089 | L5: =100000*G5/$N$7 -> 3.3826124 | M5: Population totale | N5: =population!B9 -> 2559073
A6: 44201 | B6: =vaccine!V4 -> 140 | C6: =vaccine!W4 -> 24 | D6: =vaccine!X4 -> 0 | E6: =vaccine!Y4 -> 0 | F6: =SUM(B6:E6) -> 164 | G6: =B6+G5 -> 160 | H6: =C6+H5 -> 24 | I6: =F6+I5 -> 184 | J6: =(I6/$N$5)*100000 -> 7.1901036 | K6: =100000*I6/$N$6 -> 16.745922 | L6: =100000*G6/$N$7 -> 27.060899 | M6: Population > 50 ans | N6: =population!C9 -> 1098775
A7: 44202 | B7: =vaccine!V5 -> 202 | C7: =vaccine!W5 -> 158 | D7: =vaccine!X5 -> 0 | E7: =vaccine!Y5 -> 0 | F7: =SUM(B7:E7) -> 360 | G7: =B7+G6 -> 362 | H7: =C7+H6 -> 182 | I7: =F7+I6 -> 544 | J7: =(I7/$N$5)*100000 -> 21.257698 | K7: =100000*I7/$N$6 -> 49.509681 | L7: =100000*G7/$N$7 -> 61.225284 | M7: Population > 65 ans | N7: =population!E9 -> 591259
A8: 44203 | B8: =vaccine!V6 -> 221 | C8: =vaccine!W6 -> 256 | D8: =vaccine!X6 -> 0 | E8: =vaccine!Y6 -> 0 | F8: =SUM(B8:E8) -> 477 | G8: =B8+G7 -> 583 | H8: =C8+H7 -> 438 | I8: =F8+I7 -> 1021 | J8: =(I8/$N$5)*100000 -> 39.89726 | K8: =100000*I8/$N$6 -> 92.921663 | L8: =100000*G8/$N$7 -> 98.60315
A9: 44204 | B9: =vaccine!V7 -> 504 | C9: =vaccine!W7 -> 529 | D9: =vaccine!X7 -> 0 | E9: =vaccine!Y7 -> 0 | F9: =SUM(B9:E9) -> 1033 | G9: =B9+G8 -> 1087 | H9: =C9+H8 -> 967 | I9: =F9+I8 -> 2054 | J9: =(I9/$N$5)*100000 -> 80.263439 | K9: =100000*I9/$N$6 -> 186.93545 | L9: =100000*G9/$N$7 -> 183.84498
A10: 44205 | B10: =vaccine!V8 -> 30 | C10: =vaccine!W8 -> 515 | D10: =vaccine!X8 -> 0 | E10: =vaccine!Y8 -> 0 | F10: =SUM(B10:E10) -> 545 | G10: =B10+G9 -> 1117 | H10: =C10+H9 -> 1482 | I10: =F10+I9 -> 2599 | J10: =(I10/$N$5)*100000 -> 101.56021 | K10: =100000*I10/$N$6 -> 236.53614 | L10: =100000*G10/$N$7 -> 188.9189
A11: 44206 | B11: =vaccine!V9 -> 60 | C11: =vaccine!W9 -> 557 | D11: =vaccine!X9 -> 0 | E11: =vaccine!Y9 -> 0 | F11: =SUM(B11:E11) -> 617 | G11: =B11+G10 -> 1177 | H11: =C11+H10 -> 2039 | I11: =F11+I10 -> 3216 | J11: =(I11/$N$5)*100000 -> 125.67051 | K11: =100000*I11/$N$6 -> 292.68959 | L11: =100000*G11/$N$7 -> 199.06674
A12: 44207 | B12: =vaccine!V10 -> 326 | C12: =vaccine!W10 -> 934 | D12: =vaccine!X10 -> 0 | E12: =vaccine!Y10 -> 0 | F12: =SUM(B12:E12) -> 1260 | G12: =B12+G11 -> 1503 | H12: =C12+H11 -> 2973 | I12: =F12+I11 -> 4476 | J12: =(I12/$N$5)*100000 -> 174.90709 | K12: =100000*I12/$N$6 -> 407.36274 | L12: =100000*G12/$N$7 -> 254.20332
A13: 44208 | B13: =vaccine!V11 -> 795 | C13: =vaccine!W11 -> 1431 | D13: =vaccine!X11 -> 0 | E13: =vaccine!Y11 -> 0 | F13: =SUM(B13:E13) -> 2226 | G13: =B13+G12 -> 2298 | H13: =C13+H12 -> 4404 | I13: =F13+I12 -> 6702 | J13: =(I13/$N$5)*100000 -> 261.89171 | K13: =100000*I13/$N$6 -> 609.95199 | L13: =100000*G13/$N$7 -> 388.66216
A14: 44209 | B14: =vaccine!V12 -> 406 | C14: =vaccine!W12 -> 1465 | D14: =vaccine!X12 -> 0 | E14: =vaccine!Y12 -> 0 | F14: =SUM(B14:E14) -> 1871 | G14: =B14+G13 -> 2704 | H14: =C14+H13 -> 5869 | I14: =F14+I13 -> 8573 | J14: =(I14/$N$5)*100000 -> 335.00412 | K14: =100000*I14/$N$6 -> 780.23253 | L14: =100000*G14/$N$7 -> 457.32919
A15: 44210 | B15: =vaccine!V13 -> 449 | C15: =vaccine!W13 -> 1442 | D15: =vaccine!X13 -> 0 | E15: =vaccine!Y13 -> 0 | F15: =SUM(B15:E15) -> 1891 | G15: =B15+G14 -> 3153 | H15: =C15+H14 -> 7311 | I15: =F15+I14 -> 10464 | J15: =(I15/$N$5)*100000 -> 408.89807 | K15: =100000*I15/$N$6 -> 952.33328 | L15: =100000*G15/$N$7 -> 533.26884
A16: 44211 | B16: =vaccine!V14 -> 347 | C16: =vaccine!W14 -> 1448 | D16: =vaccine!X14 -> 0 | E16: =vaccine!Y14 -> 0 | F16: =SUM(B16:E16) -> 1795 | G16: =B16+G15 -> 3500 | H16: =C16+H15 -> 8759 | I16: =F16+I15 -> 12259 | J16: =(I16/$N$5)*100000 -> 479.04065 | K16: =100000*I16/$N$6 -> 1115.697 | L16: =100000*G16/$N$7 -> 591.95716
A17: 44212 | B17: =vaccine!V15 -> 0 | C17: =vaccine!W15 -> 435 | D17: =vaccine!X15 -> 0 | E17: =vaccine!Y15 -> 0 | F17: =SUM(B17:E17) -> 435 | G17: =B17+G16 -> 3500 | H17: =C17+H16 -> 9194 | I17: =F17+I16 -> 12694 | J17: =(I17/$N$5)*100000 -> 496.039 | K17: =100000*I17/$N$6 -> 1155.2866 | L17: =100000*G17/$N$7 -> 591.95716
A18: 44213 | B18: =vaccine!V16 -> 0 | C18: =vaccine!W16 -> 245 | D18: =vaccine!X16 -> 0 | E18: =vaccine!Y16 -> 0 | F18: =SUM(B18:E18) -> 245 | G18: =B18+G17 -> 3500 | H18: =C18+H17 -> 9439 | I18: =F18+I17 -> 12939 | J18: =(I18/$N$5)*100000 -> 505.61277 | K18: =100000*I18/$N$6 -> 1177.5841 | L18: =100000*G18/$N$7 -> 591.95716
A19: 44214 | B19: =vaccine!V17 -> 278 | C19: =vaccine!W17 -> 875 | D19: =vaccine!X17 -> 250 | E19: =vaccine!Y17 -> 6 | F19: =SUM(B19:E19) -> 1409 | G19: =B19+G18 -> 3778 | H19: =C19+H18 -> 10314 | I19: =F19+I18 -> 14348 | J19: =(I19/$N$5)*100000 -> 560.67177 | K19: =100000*I19/$N$6 -> 1305.8178 | L19: =100000*G19/$N$7 -> 638.97547
... A25: 44220 | B25: =vaccine!V23 -> 0 | C25: =vaccine!W23 -> 0 | D25: =vaccine!X23 -> 46 | E25: =vaccine!Y23 -> 5 | F25: =SUM(B25:E25) -> 51 | G25: =B25+G24 -> 9954 | H25: =C25+H24 -> 15821 | I25: =F25+I24 -> 31713 | J25: =(I25/$N$5)*100000 -> 1239.2378 | K25: =100000*I25/$N$6 -> 2886.2142 | L25: =100000*G25/$N$7 -> 1683.5262
A26: 44221
A27: 44222
A28: 44223
A29: 44224
A30: 44225
A31: 44226
A32: 44227

Sheet GE
M1: Nb cumulé vaccinations depuis 04/01 | N1: =SUM(F5:F293) -> 75915
M2: % residents vaccinés | N2: =SUM(B5:B93)/SUM(F5:F93) -> 0.2645327
B3: Nombre personnes vaccinées | M3: % professionnels vaccinés | N3: =SUM(C5:C93)/SUM(F5:F93) -> 0.48642561
B4: résidents / patients | C4: prof. | D4: 75 + | E4: Autres | F4: total quotidien | G4: residents /patients Cumul | H4: prof. Cumul | I4: total Cumul | J4: Taux de vaccination pour 100 000 hab. (tous âges) | K4: Taux de vaccination pour 100 000 hab. (>50 ans) | L4: Taux de vaccination pour 100 000 hab. (>=65 ans)
A5: 44200 | B5: =vaccine!AA3 -> 52 | C5: =vaccine!AB3 -> 268 | D5: =vaccine!AC3 -> 0 | E5: =vaccine!AD3 -> 0 | F5: =SUM(B5:E5) -> 320 | G5: =B5 -> 52 | H5: =C5 -> 268 | I5: =F5 -> 320 | J5: =(I5/$N$5)*100000 -> 5.8057817 | K5: =100000*I5/$N$6 -> 14.112807 | L5: =100000*G5/$N$7 -> 4.5183445 | M5: Population totale | N5: =population!B11 -> 5511747
A6: 44201 | B6: =vaccine!AA4 -> 78 | C6: =vaccine!AB4 -> 730 | D6: =vaccine!AC4 -> 0 | E6: =vaccine!AD4 -> 0 | F6: =SUM(B6:E6) -> 808 | G6: =B6+G5 -> 130 | H6: =C6+H5 -> 998 | I6: =F6+I5 -> 1128 | J6: =(I6/$N$5)*100000 -> 20.465381 | K6: =100000*I6/$N$6 -> 49.747645 | L6: =100000*G6/$N$7 -> 11.295861 | M6: Population > 50 ans | N6: =population!C11 -> 2267444
A7: 44202 | B7: =vaccine!AA5 -> 65 | C7: =vaccine!AB5 -> 1244 | D7: =vaccine!AC5 -> 0 | E7: =vaccine!AD5 -> 0 | F7: =SUM(B7:E7) -> 1309 | G7: =B7+G6 -> 195 | H7: =C7+H6 -> 2242 | I7: =F7+I6 -> 2437 | J7: =(I7/$N$5)*100000 -> 44.214656 | K7: =100000*I7/$N$6 -> 107.47785 | L7: =100000*G7/$N$7 -> 16.943792 | M7: Population > 65 ans | N7: =population!E11 -> 1150864
A8: 44203 | B8: =vaccine!AA6 -> 750 | C8: =vaccine!AB6 -> 1705 | D8: =vaccine!AC6 -> 0 | E8: =vaccine!AD6 -> 0 | F8: =SUM(B8:E8) -> 2455 | G8: =B8+G7 -> 945 | H8: =C8+H7 -> 3947 | I8: =F8+I7 -> 4892 | J8: =(I8/$N$5)*100000 -> 88.755888 | K8: =100000*I8/$N$6 -> 215.74954 | L8: =100000*G8/$N$7 -> 82.112222
A9: 44204 | B9: =vaccine!AA7 -> 684 | C9: =vaccine!AB7 -> 2667 | D9: =vaccine!AC7 -> 0 | E9: =vaccine!AD7 -> 0 | F9: =SUM(B9:E9) -> 3351 | G9: =B9+G8 -> 1629 | H9: =C9+H8 -> 6614 | I9: =F9+I8 -> 8243 | J9: =(I9/$N$5)*100000 -> 149.55331 | K9: =100000*I9/$N$6 -> 363.53709 | L9: =100000*G9/$N$7 -> 141.54583
