Workbook

Sheet LISEZ-MOI
A1: Mise à jour par le Gepp vaccination | D1: =MAX(vaccine!A:A) -> 44220
A4: population | B4: tranches d'âges utilisables pour les indicateurs
A5: vacciné | B5: sortie R avec mise en forme permettant une utilisation facile pour les onglets régionaux
A6: rang_régions | B6: régions classées selon différents taux par âge
A7: synthese | B7: graphique avec les taux tous âge pour l'ensemble des régions + France métropolitaine
A8: onglets régionaux
A9: Population_base | B9: populations régionales par classe d'âge quinquennal

Sheet population
A1: Estimation de population au 1er janvier, par région, sexe et âge quinquennal
A2: Année 2020
A4: Régions
B5: Total | C5: >=50 ans | D5: >=20 ans | E5: >=65 ans
A6: Auvergne-Rhône-Alpes | B6: 8032377 | C6: 3156068 | D6: 6092124 | E6: 1637901
A7: Bourgogne-Franche-Comté | B7: 2783039 | C7: 1222714 | D7: 2156022 | E7: 662411
A8: Bretagne | B8: 3340379 | C8: 1428123 | D8: 2566748 | E8: 764243
A9: Centre-Val-de-Loire | B9: 2559073 | C9: 1098775 | D9: 1960503 | E9: 591259
A10: Corse | B10: 344679 | C10: 153934 | D10: 276124 | E10: 83503
A11: Grand Est | B11: 5511747 | C11: 2267444 | D11: 4253624 | E11: 1150864
A12: Hauts-de-France | B12: 5962662 | C12: 2234550 | D12: 4437124 | E12: 1109807
A13: Île-de-France | B13: 12278210 | C13: 4055669 | D13: 9137245 | E13: 1885737
A14: Normandie | B14: 3303500 | C14: 1388024 | D14: 2522163 | E14: 735397
A15: Nouvelle-Aquitaine | B15: 5999982 | C15: 2674402 | D15: 4706661 | E15: 1465885
A16: Occitanie | B16: 5924858 | C16: 2533924 | D16: 4604402 | E16: 1368904
A17: Pays de la Loire | B17: 3801797 | C17: 1527267 | D17: 2868288 | E17: 809723
... A26: France métropolitaine et DOM | B26: 67063703 | C26: 26635346 | D26: 50978960 | E26: 13750578
A28: Source : Insee - Estimations de population (résultats provisoires arrêtés fin 2019).

Sheet vaccine
A1: jour | B1: res_ARA | C1: pro_ARA | D1: 75+_ARA | E1: aut_ARA | F1: tot_ARA | G1: res_BFC | H1: pro_BFC | I1: 75+_BFC | J1: aut_BFC | K1: tot_BFC | L1: res_Bretagne | M1: pro_Bretagne | N1: 75+_Bretagne | O1: aut_Bretagne | P1: tot_Bretagne | Q1: res_Corse | R1: pro_Corse | S1: 75+_Corse | T1: aut_Corse | U1: tot_Corse | V1: res_CVL | W1: pro_CVL | X1: 75+_CVL | Y1: aut_CVL | Z1: tot_CVL | AA1: res_Grand Est | AB1: pro_Grand Est | AC1: 75+_Grand Est | AD1: aut_Grand Est | AE1: tot_Grand Est | AF1: res_HDF | AG1: pro_HDF | AH1: 75+_HDF | AI1: aut_HDF | AJ1: tot_HDF | AK1: res_IDF | AL1: pro_IDF | AM1: 75+_IDF | AN1: aut_IDF | AO1: tot_IDF | AP1: res_NA | AQ1: pro_NA | AR1: 75+_NA | AS1: aut_NA | AT1: tot_NA | AU1: res_Normandie | AV1: pro_Normandie | AW1: 75+_Normandie | AX1: aut_Normandie | AY1: tot_Normandie | AZ1: res_Occitanie | BA1: pro_Occitanie | BB1: 75+_Occitanie | BC1: aut_Occitanie | BD1: tot_Occitanie | BE1: res_PACA | BF1: pro_PACA | BG1: 75+_PACA | BH1: aut_PACA | BI1: tot_PACA | BJ1: res_PDL | BK1: pro_PDL | BL1: 75+_PDL | BM1: aut_PDL | BN1: tot_PDL | BO1: res_Guyane | BP1: pro_Guyane | BQ1: 75+_Guyane | BR1: aut_Guyane | BS1: tot_Guyane | BT1: res_Guadeloupe | BU1: pro_Guadeloupe | BV1: 75+_Guadeloupe | BW1: aut_Guadeloupe | BX1: tot_Guadeloupe | BY1: res_Martinique | BZ1: pro_Martinique | CA1: 75+_Martinique | CB1: aut_Martinique | CC1: tot_Martinique | CD1: res_RÃ©union | CE1: pro_RÃ©union | CF1: 75+_RÃ©union | CG1: aut_RÃ©union | CH1: tot_RÃ©union | CI1: res_Mayotte | CJ1: pro_Mayotte | CK1: 75+_Mayotte | CL1: aut_Mayotte | CM1: tot_Mayotte
A2: 44199 | B2: 0 | C2: 0 | D2: 0 | E2: 0 | F2: 36 | G2: 0 | H2: 0 | I2: 0 | J2: 0 | K2: 45 | L2: 0 | M2: 0 | N2: 0 | O2: 0 | P2: 0 | Q2: 0 | R2: 0 | S2: 0 | T2: 0 | U2: 0 | V2: 0 | W2: 0 | X2: 0 | Y2: 0 | Z2: 28 | AA2: 0 | AB2: 0 | AC2: 0 | AD2: 0 | AE2: 0 | AF2: 0 | AG2: 0 | AH2: 0 | AI2: 0 | AJ2: 40 | AK2: 0 | AL2: 0 | AM2: 0 | AN2: 0 | AO2: 239 | AP2: 0 | AQ2: 0 | AR2: 0 | AS2: 0 | AT2: 0 | AU2: 0 | AV2: 0 | AW2: 0 | AX2: 0 | AY2: 0 | AZ2: 0 | BA2: 0 | BB2: 0 | BC2: 0 | BD2: 0 | BE2: 0 | BF2: 0 | BG2: 0 | BH2: 0 | BI2: 40 | BJ2: 0 | BK2: 0 | BL2: 0 | BM2: 0 | BN2: 0 | BO2: 0 | BP2: 0 | BQ2: 0 | BR2: 0 | BS2: 0 | BT2: 0 | BU2: 0 | BV2: 0 | BW2: 0 | BX2: 0 | BY2: 0 | BZ2: 0 | CA2: 0 | CB2: 0 | CC2: 0 | CD2: 0 | CE2: 0 | CF2: 0 | CG2: 0 | CH2: 0 | CI2: 0 | CJ2: 0 | CK2: 0 | CL2: 0 | CM2: 0
A3: 44200 | B3: 99 | C3: 105 | D3: 0 | E3: 0 | F3: 204 | G3: 0 | H3: 15 | I3: 0 | J3: 0 | K3: 15 | L3: 35 | M3: 20 | N3: 0 | O3: 0 | P3: 55 | Q3: 0 | R3: 0 | S3: 0 | T3: 0 | U3: 0 | V3: 20 | W3: 0 | X3: 0 | Y3: 0 | Z3: 20 | AA3: 52 | AB3: 268 | AC3: 0 | AD3: 0 | AE3: 320 | AF3: 48 | AG3: 43 | AH3: 0 | AI3: 0 | AJ3: 91 | AK3: 41 | AL3: 139 | AM3: 0 | AN3: 0 | AO3: 180 | AP3: 10 | AQ3: 80 | AR3: 0 | AS3: 0 | AT3: 90 | AU3: 0 | AV3: 16 | AW3: 0 | AX3: 0 | AY3: 16 | AZ3: 30 | BA3: 21 | BB3: 0 | BC3: 0 | BD3: 51 | BE3: 10 | BF3: 85 | BG3: 0 | BH3: 0 | BI3: 95 | BJ3: 5 | BK3: 35 | BL3: 0 | BM3: 0 | BN3: 40 | BO3: 0 | BP3: 0 | BQ3: 0 | BR3: 0 | BS3: 0 | BT3: 0 | BU3: 0 | BV3: 0 | BW3: 0 | BX3: 0 | BY3: 0 | BZ3: 0 | CA3: 0 | CB3: 0 | CC3: 0 | CD3: 0 | CE3: 0 | CF3: 0 | CG3: 0 | CH3: 0 | CI3: 0 | CJ3: 0 | CK3: 0 | CL3: 0 | CM3: 0
A4: 44201 | B4: 83 | C4: 350 | D4: 0 | E4: 0 | F4: 433 | G4: 0 | H4: 263 | I4: 0 | J4: 0 | K4: 263 | L4: 75 | M4: 88 | N4: 0 | O4: 0 | P4: 163 | Q4: 0 | R4: 0 | S4: 0 | T4: 0 | U4: 0 | V4: 140 | W4: 24 | X4: 0 | Y4: 0 | Z4: 164 | AA4: 78 | AB4: 730 | AC4: 0 | AD4: 0 | AE4: 808 | AF4: 55 | AG4: 212 | AH4: 0 | AI4: 0 | AJ4: 267 | AK4: 613 | AL4: 1116 | AM4: 0 | AN4: 0 | AO4: 1729 | AP4: 21 | AQ4: 59 | AR4: 0 | AS4: 0 | AT4: 80 | AU4: 33 | AV4: 212 | AW4: 0 | AX4: 0 | AY4: 245 | AZ4: 142 | BA4: 316 | BB4: 0 | BC4: 0 | BD4: 458 | BE4: 0 | BF4: 305 | BG4: 0 | BH4: 0 | BI4: 305 | BJ4: 105 | BK4: 59 | BL4: 0 | BM4: 0 | BN4: 164 | BO4: 0 | BP4: 0 | BQ4: 0 | BR4: 0 | BS4: 0 | BT4: 0 | BU4: 0 | BV4: 0 | BW4: 0 | BX4: 0 | BY4: 0 | BZ4: 0 | CA4: 0 | CB4: 0 | CC4: 0 | CD4: 0 | CE4: 0 | CF4: 0 | CG4: 0 | CH4: 0 | CI4: 0 | CJ4: 0 | CK4: 0 | CL4: 0 | CM4: 0
A5: 44202 | B5: 259 | C5: 874 | D5: 0 | E5: 0 | F5: 1133 | G5: 218 | H5: 377 | I5: 0 | J5: 0 | K5: 595 | L5: 117 | M5: 255 | N5: 0 | O5: 0 | P5: 372 | Q5: 25 | R5: 28 | S5: 0 | T5: 0 | U5: 53 | V5: 202 | W5: 158 | X5: 0 | Y5: 0 | Z5: 360 | AA5: 65 | AB5: 1244 | AC5: 0 | AD5: 0 | AE5: 1309 | AF5: 316 | AG5: 547 | AH5: 0 | AI5: 0 | AJ5: 863 | AK5: 312 | AL5: 2773 | AM5: 0 | AN5: 0 | AO5: 3085 | AP5: 94 | AQ5: 1245 | AR5: 0 | AS5: 0 | AT5: 1339 | AU5: 304 | AV5: 1221 | AW5: 0 | AX5: 0 | AY5: 1525 | AZ5: 183 | BA5: 438 | BB5: 0 | BC5: 0 | BD5: 621 | BE5: 61 | BF5: 698 | BG5: 0 | BH5: 0 | BI5: 759 | BJ5: 185 | BK5: 242 | BL5: 0 | BM5: 0 | BN5: 427 | BO5: 0 | BP5: 0 | BQ5: 0 | BR5: 0 | BS5: 0 | BT5: 0 | BU5: 0 | BV5: 0 | BW5: 0 | BX5: 0 | BY5: 0 | BZ5: 5 | CA5: 0 | CB5: 0 | CC5: 5 | CD5: 0 | CE5: 0 | CF5: 0 | CG5: 0 | CH5: 0 | CI5: 0 | CJ5: 0 | CK5: 0 | CL5: 0 | CM5: 0
A6: 44203 | B6: 740 | C6: 1922 | D6: 0 | E6: 0 | F6: 2662 | G6: 624 | H6: 784 | I6: 0 | J6: 0 | K6: 1408 | L6: 175 | M6: 652 | N6: 0 | O6: 0 | P6: 827 | Q6: 202 | R6: 152 | S6: 0 | T6: 0 | U6: 354 | V6: 221 | W6: 256 | X6: 0 | Y6: 0 | Z6: 477 | AA6: 750 | AB6: 1705 | AC6: 0 | AD6: 0 | AE6: 2455 | AF6: 1092 | AG6: 392 | AH6: 0 | AI6: 0 | AJ6: 1484 | AK6: 993 | AL6: 5019 | AM6: 0 | AN6: 0 | AO6: 6012 | AP6: 1108 | AQ6: 3117 | AR6: 0 | AS6: 0 | AT6: 4225 | AU6: 456 | AV6: 1858 | AW6: 0 | AX6: 0 | AY6: 2314 | AZ6: 1181 | BA6: 1377 | BB6: 0 | BC6: 0 | BD6: 2558 | BE6: 309 | BF6: 1179 | BG6: 0 | BH6: 0 | BI6: 1488 | BJ6: 225 | BK6: 779 | BL6: 0 | BM6: 0 | BN6: 1004 | BO6: 0 | BP6: 0 | BQ6: 0 | BR6: 0 | BS6: 0 | BT6: 0 | BU6: 0 | BV6: 0 | BW6: 0 | BX6: 0 | BY6: 0 | BZ6: 8 | CA6: 0 | CB6: 0 | CC6: 8 | CD6: 0 | CE6: 0 | CF6: 0 | CG6: 0 | CH6: 0 | CI6: 0 | CJ6: 0 | CK6: 0 | CL6: 0 | CM6: 0
A7: 44204 | B7: 658 | C7: 2495 | D7: 0 | E7: 0 | F7: 3153 | G7: 163 | H7: 1259 | I7: 0 | J7: 0 | K7: 1422 | L7: 139 | M7: 813 | N7: 0 | O7: 0 | P7: 952 | Q7: 172 | R7: 141 | S7: 0 | T7: 0 | U7: 313 | V7: 504 | W7: 529 | X7: 0 | Y7: 0 | Z7: 1033 | AA7: 684 | AB7: 2667 | AC7: 0 | AD7: 0 | AE7: 3351 | AF7: 1054 | AG7: 2451 | AH7: 0 | AI7: 0 | AJ7: 3505 | AK7: 1153 | AL7: 7027 | AM7: 0 | AN7: 0 | AO7: 8180 | AP7: 1144 | AQ7: 3594 | AR7: 0 | AS7: 0 | AT7: 4738 | AU7: 746 | AV7: 2478 | AW7: 0 | AX7: 0 | AY7: 3224 | AZ7: 927 | BA7: 2539 | BB7: 0 | BC7: 0 | BD7: 3466 | BE7: 247 | BF7: 1798 | BG7: 0 | BH7: 0 | BI7: 2045 | BJ7: 417 | BK7: 1237 | BL7: 0 | BM7: 0 | BN7: 1654 | BO7: 0 | BP7: 0 | BQ7: 0 | BR7: 0 | BS7: 0 | BT7: 54 | BU7: 22 | BV7: 0 | BW7: 0 | BX7: 76 | BY7: 45 | BZ7: 53 | CA7: 0 | CB7: 0 | CC7: 98 | CD7: 0 | CE7: 0 | CF7: 0 | CG7: 0 | CH7: 0 | CI7: 0 | CJ7: 0 | CK7: 0 | CL7: 0 | CM7: 0
A8: 44205 | B8: 83 | C8: 400 | D8: 0 | E8: 0 | F8: 483 | G8: 215 | H8: 995 | I8: 0 | J8: 0 | K8: 1210 | L8: 22 | M8: 78 | N8: 0 | O8: 0 | P8: 100 | Q8: 10 | R8: 77 | S8: 0 | T8: 0 | U8: 87 | V8: 30 | W8: 515 | X8: 0 | Y8: 0 | Z8: 545 | AA8: 232 | AB8: 869 | AC8: 0 | AD8: 0 | AE8: 1101 | AF8: 29 | AG8: 1117 | AH8: 0 | AI8: 0 | AJ8: 1146 | AK8: 153 | AL8: 2836 | AM8: 0 | AN8: 0 | AO8: 2989 | AP8: 351 | AQ8: 1330 | AR8: 0 | AS8: 0 | AT8: 1681 | AU8: 337 | AV8: 1250 | AW8: 0 | AX8: 0 | AY8: 1587 | AZ8: 0 | BA8: 1511 | BB8: 0 | BC8: 0 | BD8: 1511 | BE8: 35 | BF8: 495 | BG8: 0 | BH8: 0 | BI8: 530 | BJ8: 15 | BK8: 1187 | BL8: 0 | BM8: 0 | BN8: 1202 | BO8: 0 | BP8: 0 | BQ8: 0 | BR8: 0 | BS8: 0 | BT8: 0 | BU8: 20 | BV8: 0 | BW8: 0 | BX8: 20 | BY8: 16 | BZ8: 2 | CA8: 0 | CB8: 0 | CC8: 18 | CD8: 0 | CE8: 0 | CF8: 0 | CG8: 0 | CH8: 0 | CI8: 0 | CJ8: 0 | CK8: 0 | CL8: 0 | CM8: 0
A9: 44206 | B9: 73 | C9: 166 | D9: 0 | E9: 0 | F9: 239 | G9: 0 | H9: 115 | I9: 0 | J9: 0 | K9: 115 | L9: 118 | M9: 414 | N9: 0 | O9: 0 | P9: 532 | Q9: 0 | R9: 45 | S9: 0 | T9: 0 | U9: 45 | V9: 60 | W9: 557 | X9: 0 | Y9: 0 | Z9: 617 | AA9: 0 | AB9: 307 | AC9: 0 | AD9: 0 | AE9: 307 | AF9: 0 | AG9: 685 | AH9: 0 | AI9: 0 | AJ9: 685 | AK9: 40 | AL9: 1651 | AM9: 0 | AN9: 0 | AO9: 1691 | AP9: 143 | AQ9: 229 | AR9: 0 | AS9: 0 | AT9: 372 | AU9: 0 | AV9: 693 | AW9: 0 | AX9: 0 | AY9: 693 | AZ9: 0 | BA9: 650 | BB9: 0 | BC9: 0 | BD9: 650 | BE9: 4 | BF9: 102 | BG9: 0 | BH9: 0 | BI9: 106 | BJ9: 0 | BK9: 631 | BL9: 0 | BM9: 0 | BN9: 631 | BO9: 0 | BP9: 0 | BQ9: 0 | BR9: 0 | BS9: 0 | BT9: 0 | BU9: 0 | BV9: 0 | BW9: 0 | BX9: 0 | BY9: 0 | BZ9: 0 | CA9: 0 | CB9: 0 | CC9: 0 | CD9: 0 | CE9: 0 | CF9: 0 | CG9: 0 | CH9: 0 | CI9: 0 | CJ9: 0 | CK9: 0 | CL9: 0 | CM9: 0
A10: 44207 | B10: 706 | C10: 3393 | D10: 0 | E10: 0 | F10: 4099 | G10: 456 | H10: 1585 | I10: 0 | J10: 0 | K10: 2041 | L10: 422 | M10: 1111 | N10: 0 | O10: 0 | P10: 1533 | Q10: 32 | R10: 104 | S10: 0 | T10: 0 | U10: 136 | V10: 326 | W10: 934 | X10: 0 | Y10: 0 | Z10: 1260 | AA10: 303 | AB10: 2623 | AC10: 0 | AD10: 0 | AE10: 2926 | AF10: 345 | AG10: 2216 | AH10: 0 | AI10: 0 | AJ10: 2561 | AK10: 660 | AL10: 5483 | AM10: 0 | AN10: 0 | AO10: 6143 | AP10: 657 | AQ10: 3778 | AR10: 0 | AS10: 0 | AT10: 4435 | AU10: 684 | AV10: 2182 | AW10: 0 | AX10: 0 | AY10: 2866 | AZ10: 355 | BA10: 2912 | BB10: 0 | BC10: 0 | BD10: 3267 | BE10: 577 | BF10: 1656 | BG10: 0 | BH10: 0 | BI10: 2233 | BJ10: 101 | BK10: 1662 | BL10: 0 | BM10: 0 | BN10: 1763 | BO10: 0 | BP10: 0 | BQ10: 0 | BR10: 0 | BS10: 0 | BT10: 23 | BU10: 22 | BV10: 0 | BW10: 0 | BX10: 45 | BY10: 54 | BZ10: 72 | CA10: 0 | CB10: 0 | CC10: 126 | CD10: 0 | CE10: 0 | CF10: 0 | CG10: 0 | CH10: 0 | CI10: 0 | CJ10: 0 | CK10: 0 | CL10: 0 | CM10: 0
A11: 44208 | B11: 1211 | C11: 4899 | D11: 0 | E11: 0 | F11: 6110 | G11: 1184 | H11: 1464 | I11: 0 | J11: 0 | K11: 2648 | L11: 1095 | M11: 1607 | N11: 0 | O11: 0 | P11: 2702 | Q11: 29 | R11: 117 | S11: 0 | T11: 0 | U11: 146 | V11: 795 | W11: 1431 | X11: 0 | Y11: 0 | Z11: 2226 | AA11: 1284 | AB11: 3613 | AC11: 0 | AD11: 0 | AE11: 4897 | AF11: 1062 | AG11: 3814 | AH11: 0 | AI11: 0 | AJ11: 4876 | AK11: 1183 | AL11: 9265 | AM11: 0 | AN11: 0 | AO11: 10448 | AP11: 1643 | AQ11: 3914 | AR11: 0 | AS11: 0 | AT11: 5557 | AU11: 943 | AV11: 2575 | AW11: 0 | AX11: 0 | AY11: 3518 | AZ11: 1328 | BA11: 3935 | BB11: 0 | BC11: 0 | BD11: 5263 | BE11: 1857 | BF11: 3184 | BG11: 0 | BH11: 0 | BI11: 5041 | BJ11: 798 | BK11: 2193 | BL11: 0 | BM11: 0 | BN11: 2991 | BO11: 0 | BP11: 0 | BQ11: 0 | BR11: 0 | BS11: 0 | BT11: 0 | BU11: 46 | BV11: 0 | BW11: 0 | BX11: 46 | BY11: 53 | BZ11: 68 | CA11: 0 | CB11: 0 | CC11: 121 | CD11: 0 | CE11: 0 | CF11: 0 | CG11: 0 | CH11: 0 | CI11: 0 | CJ11: 0 | CK11: 0 | CL11: 0 | CM11: 0
A12: 44209 | B12: 1132 | C12: 5387 | D12: 0 | E12: 0 | F12: 6519 | G12: 1747 | H12: 2593 | I12: 0 | J12: 0 | K12: 4340 | L12: 1440 | M12: 1862 | N12: 0 | O12: 0 | P12: 3302 | Q12: 12 | R12: 146 | S12: 0 | T12: 0 | U12: 158 | V12: 406 | W12: 1465 | X12: 0 | Y12: 0 | Z12: 1871 | AA12: 2362 | AB12: 4094 | AC12: 0 | AD12: 0 | AE12: 6456 | AF12: 656 | AG12: 4181 | AH12: 0 | AI12: 0 | AJ12: 4837 | AK12: 1527 | AL12: 8658 | AM12: 0 | AN12: 0 | AO12: 10185 | AP12: 1753 | AQ12: 4101 | AR12: 0 | AS12: 0 | AT12: 5854 | AU12: 1018 | AV12: 2499 | AW12: 0 | AX12: 0 | AY12: 3517 | AZ12: 1473 | BA12: 4511 | BB12: 0 | BC12: 0 | BD12: 5984 | BE12: 798 | BF12: 2971 | BG12: 0 | BH12: 0 | BI12: 3769 | BJ12: 552 | BK12: 2172 | BL12: 0 | BM12: 0 | BN12: 2724 | BO12: 16 | BP12: 13 | BQ12: 0 | BR12: 0 | BS12: 29 | BT12: 6 | BU12: 76 | BV12: 0 | BW12: 0 | BX12: 82 | BY12: 15 | BZ12: 61 | CA12: 0 | CB12: 0 | CC12: 76 | CD12: 0 | CE12: 0 | CF12: 0 | CG12: 0 | CH12: 0 | CI12: 0 | CJ12: 0 | CK12: 0 | CL12: 0 | CM12: 0
A13: 44210 | B13: 1465 | C13: 6341 | D13: 0 | E13: 0 | F13: 7806 | G13: 1418 | H13: 2902 | I13: 0 | J13: 0 | K13: 4320 | L13: 1209 | M13: 2220 | N13: 0 | O13: 0 | P13: 3429 | Q13: 37 | R13: 107 | S13: 0 | T13: 0 | U13: 144 | V13: 449 | W13: 1442 | X13: 0 | Y13: 0 | Z13: 1891 | AA13: 3608 | AB13: 3711 | AC13: 0 | AD13: 0 | AE13: 7319 | AF13: 765 | AG13: 4220 | AH13: 0 | AI13: 0 | AJ13: 4985 | AK13: 1718 | AL13: 8813 | AM13: 0 | AN13: 0 | AO13: 10531 | AP13: 2093 | AQ13: 4669 | AR13: 0 | AS13: 0 | AT13: 6762 | AU13: 2301 | AV13: 2704 | AW13: 0 | AX13: 0 | AY13: 5005 | AZ13: 2524 | BA13: 5544 | BB13: 0 | BC13: 0 | BD13: 8068 | BE13: 2045 | BF13: 3601 | BG13: 0 | BH13: 0 | BI13: 5646 | BJ13: 555 | BK13: 2171 | BL13: 0 | BM13: 0 | BN13: 2726 | BO13: 6 | BP13: 41 | BQ13: 0 | BR13: 0 | BS13: 47 | BT13: 1 | BU13: 75 | BV13: 0 | BW13: 0 | BX13: 76 | BY13: 37 | BZ13: 62 | CA13: 0 | CB13: 0 | CC13: 99 | CD13: 0 | CE13: 0 | CF13: 0 | CG13: 0 | CH13: 0 | CI13: 0 | CJ13: 0 | CK13: 0 | CL13: 0 | CM13: 0
... A23: 44220 | B23: 21 | C23: 136 | D23: 1128 | E23: 84 | F23: 1369 | G23: 81 | H23: 12 | I23: 217 | J23: 4 | K23: 314 | L23: 0 | M23: 48 | N23: 166 | O23: 15 | P23: 229 | Q23: 0 | R23: 0 | S23: 0 | T23: 0 | U23: 0 | V23: 0 | W23: 0 | X23: 46 | Y23: 5 | Z23: 51 | AA23: 560 | AB23: 146 | AC23: 377 | AD23: 14 | AE23: 1097 | AF23: 526 | AG23: 280 | AH23: 318 | AI23: 50 | AJ23: 1174 | AK23: 113 | AL23: 508 | AM23: 1302 | AN23: 308 | AO23: 2231 | AP23: 864 | AQ23: 305 | AR23: 534 | AS23: 90 | AT23: 1793 | AU23: 189 | AV23: 54 | AW23: 0 | AX23: 0 | AY23: 243 | AZ23: 15 | BA23: 109 | BB23: 1043 | BC23: 69 | BD23: 1236 | BE23: 0 | BF23: 10 | BG23: 534 | BH23: 3 | BI23: 547 | BJ23: 0 | BK23: 200 | BL23: 1250 | BM23: 449 | BN23: 1899 | BO23: 0 | BP23: 0 | BQ23: 0 | BR23: 0 | BS23: 0 | BT23: 0 | BU23: 0 | BV23: 0 | BW23: 0 | BX23: 0 | BY23: 0 | BZ23: 73 | CA23: 0 | CB23: 0 | CC23: 73 | CD23: 0 | CE23: 0 | CF23: 0 | CG23: 0 | CH23: 0 | CI23: 0 | CJ23: 0 | CK23: 0 | CL23: 0 | CM23: 0

Sheet rang_regions
B1: =MAX(vaccine!A:A) -> 44220
A2: Region | B2: Total cumul des vaccinés | C2: Taux vaccination /100 000 hab. (tous âges) | D2: Rang tous âges | E2: Taux vaccination /100 000 hab. (>50 ans) | F2: Rang >50 ans | G2: Taux vaccination /100 000 hab. (>20 ans) | H2: Rang >50 ans
D3: Rang | F3: Rang | H3: Rang
A4: ARA | B4: =MAX(ARA!I:I) -> 111256 | C4: =(B4/population!B6)*100000 -> 1385.0944 | D4: =RANK(C4,C$4:C$22) -> 8 | E4: =(B4/population!C6)*100000 -> 3525.1458 | F4: =RANK(E4,E$4:E$22) -> 8 | G4: =(B4/population!D6)*100000 -> 1826.2268 | H4: =RANK(G4,G$4:G$22) -> 8
A5: BFC | B5: =MAX(BFC!I:I) -> 63611 | C5: =(B5/population!B7)*100000 -> 2285.6669 | D5: =RANK(C5,C$4:C$22) -> 1 | E5: =(B5/population!C7)*100000 -> 5202.4431 | F5: =RANK(E5,E$4:E$22) -> 1 | G5: =(B5/population!D7)*100000 -> 2950.3873 | H5: =RANK(G5,G$4:G$22) -> 1
A6: Bretagne | B6: =MAX(BRET!I:I) -> 51216 | C6: =(B6/population!B8)*100000 -> 1533.2392 | D6: =RANK(C6,C$4:C$22) -> 4 | E6: =(B6/population!C8)*100000 -> 3586.2457 | F6: =RANK(E6,E$4:E$22) -> 7 | G6: =(B6/population!D8)*100000 -> 1995.3653 | H6: =RANK(G6,G$4:G$22) -> 4
A7: CVL | B7: =MAX(CVL!I:I) -> 31713 | C7: =(B7/population!B9)*100000 -> 1239.2378 | D7: =RANK(C7,C$4:C$22) -> 13 | E7: =(B7/population!C9)*100000 -> 2886.2142 | F7: =RANK(E7,E$4:E$22) -> 14 | G7: =(B7/population!D9)*100000 -> 1617.5951 | H7: =RANK(G7,G$4:G$22) -> 13
A8: Corse | B8: =MAX(CORSE!I:I) -> 3469 | C8: =(B8/population!B10)*100000 -> 1006.4437 | D8: =RANK(C8,C$4:C$22) -> 14 | E8: =(B8/population!C10)*100000 -> 2253.5632 | F8: =RANK(E8,E$4:E$22) -> 15 | G8: =(B8/population!D10)*100000 -> 1256.3196 | H8: =RANK(G8,G$4:G$22) -> 14
A9: Grand Est | B9: =MAX(GE!I:I) -> 75915 | C9: =(B9/population!B11)*100000 -> 1377.331 | D9: =RANK(C9,C$4:C$22) -> 11 | E9: =(B9/population!C11)*100000 -> 3348.043 | F9: =RANK(E9,E$4:E$22) -> 12 | G9: =(B9/population!D11)*100000 -> 1784.7135 | H9: =RANK(G9,G$4:G$22) -> 11
A10: HDF | B10: =MAX(HDF!I:I) -> 78234 | C10: =(B10/population!B12)*100000 -> 1312.065 | D10: =RANK(C10,C$4:C$22) -> 12 | E10: =(B10/population!C12)*100000 -> 3501.1076 | F10: =RANK(E10,E$4:E$22) -> 9 | G10: =(B10/population!D12)*100000 -> 1763.1691 | H10: =RANK(G10,G$4:G$22) -> 12
A11: IDF | B11: =MAX(IDF!I:I) -> 169589 | C11: =(B11/population!B13)*100000 -> 1381.2192 | D11: =RANK(C11,C$4:C$22) -> 9 | E11: =(B11/population!C13)*100000 -> 4181.5296 | F11: =RANK(E11,E$4:E$22) -> 2 | G11: =(B11/population!D13)*100000 -> 1856.019 | H11: =RANK(G11,G$4:G$22) -> 7
A12: Normandie | B12: =MAX(NORM!I:I) -> 50038 | C12: =(B12/population!B14)*100000 -> 1514.6965 | D12: =RANK(C12,C$4:C$22) -> 5 | E12: =(B12/population!C14)*100000 -> 3604.9809 | F12: =RANK(E12,E$4:E$22) -> 6 | G12: =(B12/population!D14)*100000 -> 1983.932 | H12: =RANK(G12,G$4:G$22) -> 5
A13: NA | B13: =MAX(NA!I:I) -> 105828 | C13: =(B13/population!B15)*100000 -> 1763.8053 | D13: =RANK(C13,C$4:C$22) -> 2 | E13: =(B13/population!C15)*100000 -> 3957.0715 | F13: =RANK(E13,E$4:E$22) -> 4 | G13: =(B13/population!D15)*100000 -> 2248.473 | H13: =RANK(G13,G$4:G$22) -> 2
A14: Occitanie | B14: =MAX(OCC!I:I) -> 101316 | C14: =(B14/population!B16)*100000 -> 1710.0157 | D14: =RANK(C14,C$4:C$22) -> 3 | E14: =(B14/population!C16)*100000 -> 3998.3835 | F14: =RANK(E14,E$4:E$22) -> 3 | G14: =(B14/population!D16)*100000 -> 2200.416 | H14: =RANK(G14,G$4:G$22) -> 3
A15: PDL | B15: =MAX(PDL!I:I) -> 52378 | C15: =(B15/population!B17)*100000 -> 1377.7169 | D15: =RANK(C15,C$4:C$22) -> 10 | E15: =(B15/population!C17)*100000 -> 3429.5248 | F15: =RANK(E15,E$4:E$22) -> 11 | G15: =(B15/population!D17)*100000 -> 1826.1067 | H15: =RANK(G15,G$4:G$22) -> 9
A16: PACA | B16: =MAX(PACA!I:I) -> 70157 | C16: =(B16/population!B18)*100000 -> 1387.6947 | D16: =RANK(C16,C$4:C$22) -> 7 | E16: =(B16/population!C18)*100000 -> 3208.7291 | F16: =RANK(E16,E$4:E$22) -> 13 | G16: =(B16/population!D18)*100000 -> 1786.581 | H16: =RANK(G16,G$4:G$22) -> 10
A17: France Métropolitaine | B17: =SUM(B4:B16) -> 964720 | C17: =(B17/population!B19)*100000 -> 1486.5184 | E17: =(B17/population!C19)*100000 -> 3720.8605 | G17: =(B17/population!D19)*100000 -> 1948.6178
A18: Guadeloupe | B18: =MAX(GUADA!I:I) -> 430 | C18: =(B18/population!B19)*100000 -> 0.66257867 | D18: =RANK(C18,C$4:C$22) -> 18 | E18: =(B18/population!C19)*100000 -> 1.6584812 | F18: =RANK(E18,E$4:E$22) -> 18 | G18: =(B18/population!D19)*100000 -> 0.86854801 | H18: =RANK(G18,G$4:G$22) -> 18
A19: Martinique | B19: =MAX(MARTI!I:I) -> 1650 | C19: =(B19/population!B20)*100000 -> 437.8063 | D19: =RANK(C19,C$4:C$22) -> 16 | E19: =(B19/population!C20)*100000 -> 996.21439 | F19: =RANK(E19,E$4:E$22) -> 16 | G19: =(B19/population!D20)*100000 -> 576.39505 | H19: =RANK(G19,G$4:G$22) -> 16
A20: Guyane | B20: =MAX(GUYA!I:I) -> 187 | C20: =(B20/population!B21)*100000 -> 52.125581 | D20: =RANK(C20,C$4:C$22) -> 17 | E20: =(B20/population!C21)*100000 -> 108.09186 | F20: =RANK(E20,E$4:E$22) -> 17 | G20: =(B20/population!D21)*100000 -> 66.37231 | H20: =RANK(G20,G$4:G$22) -> 17
A21: réunion | B21: =MAX(REUN!I:I) -> 1925 | C21: =(B21/population!B22)*100000 -> 662.2152 | D21: =RANK(C21,C$4:C$22) -> 15 | E21: =(B21/population!C22)*100000 -> 3485.4246 | F21: =RANK(E21,E$4:E$22) -> 10 | G21: =(B21/population!D22)*100000 -> 1132.2863 | H21: =RANK(G21,G$4:G$22) -> 15
A22: Mayotte | B22: =MAX(MAYOT!I:I) -> 0 | C22: =(B22/population!B23)*100000 -> 0 | D22: =RANK(C22,C$4:C$22) -> 19 | E22: =(B22/population!C23)*100000 -> 0 | F22: =RANK(E22,E$4:E$22) -> 19 | G22: =(B22/population!D23)*100000 -> 0 | H22: =RANK(G22,G$4:G$22) -> 19
A25: *Source : Insee - Estimations de population au 1er janvier 2020

Sheet synthese
B1: ARA | C1: BFC | D1: BRET | E1: CORSE | F1: CVL | G1: GE | H1: HDF | I1: IDF | J1: NA | K1: NORM | L1: OCC | M1: PDL | N1: PACA | O1: France métropolitaine
A2: 44200 | B2: =ARA!J5 -> 2.5397214 | C2: =BFC!J5 -> 0.53897915 | D2: =BRET!J5 -> 1.6465198 | E2: =CORSE!J5 -> 0 | F2: =CVL!J5 -> 0.781533 | G2: =GE!J5 -> 5.8057817 | H2: =HDF!J5 -> 1.526164 | I2: =IDF!J5 -> 1.4660117 | J2: =NA!J5 -> 1.5000045 | K2: =NORM!J5 -> 0.4843348 | L2: =OCC!J5 -> 0.86078012 | M2: =PDL!J5 -> 1.052134 | N2: =PACA!J5 -> 1.8790854 | O2: =100000*SUM(ARA!I5+BFC!I5+BRET!I5+CORSE!I5+CVL!I5+GE!I5+HDF!I5+IDF!I5+NA!I5+NORM!I5+OCC!I5+PDL!I5+PACA!I5)/population!$B$19 -> 1.8136165
A3: 44201 | B3: =ARA!J6 -> 7.9304047 | C3: =BFC!J6 -> 9.9890803 | D3: =BRET!J6 -> 6.5262056 | E3: =CORSE!J6 -> 0 | F3: =CVL!J6 -> 7.1901036 | G3: =GE!J6 -> 20.465381 | H3: =HDF!J6 -> 6.0040297 | I3: =IDF!J6 -> 15.547869 | J3: =NA!J6 -> 2.8333418 | K3: =NORM!J6 -> 7.9007114 | L3: =OCC!J6 -> 8.5909232 | M3: =PDL!J6 -> 5.3658836 | N3: =PACA!J6 -> 7.9119385 | O3: =100000*SUM(ARA!I6+BFC!I6+BRET!I6+CORSE!I6+CVL!I6+GE!I6+HDF!I6+IDF!I6+NA!I6+NORM!I6+OCC!I6+PDL!I6+PACA!I6)/population!$B$19 -> 9.6397492
A4: 44202 | B4: =ARA!J7 -> 22.035818 | C4: =BFC!J7 -> 31.368587 | D4: =BRET!J7 -> 17.662666 | E4: =CORSE!J7 -> 15.376626 | F4: =CVL!J7 -> 21.257698 | G4: =GE!J7 -> 44.214656 | H4: =HDF!J7 -> 20.477431 | I4: =IDF!J7 -> 40.673681 | J4: =NA!J7 -> 25.150075 | K4: =NORM!J7 -> 54.063872 | L4: =OCC!J7 -> 19.072187 | M4: =PDL!J7 -> 16.597414 | N4: =PACA!J7 -> 22.924842 | O4: =100000*SUM(ARA!I7+BFC!I7+BRET!I7+CORSE!I7+CVL!I7+GE!I7+HDF!I7+IDF!I7+NA!I7+NORM!I7+OCC!I7+PDL!I7+PACA!I7)/population!$B$19 -> 28.809845
A5: 44203 | B5: =ARA!J8 -> 55.176693 | C5: =BFC!J8 -> 81.960763 | D5: =BRET!J8 -> 42.420336 | E5: =CORSE!J8 -> 118.08088 | F5: =CVL!J8 -> 39.89726 | G5: =GE!J8 -> 88.755888 | H5: =HDF!J8 -> 45.365644 | I5: =IDF!J8 -> 89.638473 | J5: =NA!J8 -> 95.566953 | K5: =NORM!J8 -> 124.11079 | L5: =OCC!J8 -> 62.246218 | M5: =PDL!J8 -> 43.005978 | N5: =PACA!J8 -> 52.357253 | O5: =100000*SUM(ARA!I8+BFC!I8+BRET!I8+CORSE!I8+CVL!I8+GE!I8+HDF!I8+IDF!I8+NA!I8+NORM!I8+OCC!I8+PDL!I8+PACA!I8)/population!$B$19 -> 70.826578
A6: 44204 | B6: =ARA!J9 -> 94.430329 | C6: =BFC!J9 -> 133.05599 | D6: =BRET!J9 -> 70.920096 | E6: =CORSE!J9 -> 208.89001 | F6: =CVL!J9 -> 80.263439 | G6: =GE!J9 -> 149.55331 | H6: =HDF!J9 -> 104.14811 | I6: =IDF!J9 -> 156.26056 | J6: =NA!J9 -> 174.53386 | K6: =NORM!J9 -> 221.70425 | L6: =OCC!J9 -> 120.74551 | M6: =PDL!J9 -> 86.511721 | N6: =PACA!J9 -> 92.807039 | O6: =100000*SUM(ARA!I9+BFC!I9+BRET!I9+CORSE!I9+CVL!I9+GE!I9+HDF!I9+IDF!I9+NA!I9+NORM!I9+OCC!I9+PDL!I9+PACA!I9)/population!$B$19 -> 127.89463
A7: 44205 | B7: =ARA!J10 -> 100.44349 | C7: =BFC!J10 -> 176.53364 | D7: =BRET!J10 -> 73.913768 | E7: =CORSE!J10 -> 234.13089 | F7: =CVL!J10 -> 101.56021 | G7: =GE!J10 -> 169.52883 | H7: =HDF!J10 -> 123.36772 | I7: =IDF!J10 -> 180.6045 | J7: =NA!J10 -> 202.55061 | K7: =NORM!J10 -> 269.74421 | L7: =OCC!J10 -> 146.24823 | M7: =PDL!J10 -> 118.12835 | N7: =PACA!J10 -> 103.29036 | O7: =100000*SUM(ARA!I10+BFC!I10+BRET!I10+CORSE!I10+CVL!I10+GE!I10+HDF!I10+IDF!I10+NA!I10+NORM!I10+OCC!I10+PDL!I10+PACA!I10)/population!$B$19 -> 149.73199
A8: 44206 | B8: =ARA!J11 -> 103.41895 | C8: =BFC!J11 -> 180.66581 | D8: =BRET!J11 -> 89.840105 | E8: =CORSE!J11 -> 247.18651 | F8: =CVL!J11 -> 125.67051 | G8: =GE!J11 -> 175.09875 | H8: =HDF!J11 -> 134.85587 | I8: =IDF!J11 -> 194.37687 | J8: =NA!J11 -> 208.75063 | K8: =NORM!J11 -> 290.72196 | L8: =OCC!J11 -> 157.21896 | M8: =PDL!J11 -> 134.72576 | N8: =PACA!J11 -> 105.38702 | O8: =100000*SUM(ARA!I11+BFC!I11+BRET!I11+CORSE!I11+CVL!I11+GE!I11+HDF!I11+IDF!I11+NA!I11+NORM!I11+OCC!I11+PDL!I11+PACA!I11)/population!$B$19 -> 160.0297
A9: 44207 | B9: =ARA!J12 -> 154.44992 | C9: =BFC!J12 -> 254.00291 | D9: =BRET!J12 -> 135.7331 | E9: =CORSE!J12 -> 286.64351 | F9: =CVL!J12 -> 174.90709 | G9: =GE!J12 -> 228.18536 | H9: =HDF!J12 -> 177.80649 | I9: =IDF!J12 -> 244.40859 | J9: =NA!J12 -> 282.66751 | K9: =NORM!J12 -> 377.47843 | L9: =OCC!J12 -> 212.35952 | M9: =PDL!J12 -> 181.09857 | N9: =PACA!J12 -> 149.55542 | O9: =100000*SUM(ARA!I12+BFC!I12+BRET!I12+CORSE!I12+CVL!I12+GE!I12+HDF!I12+IDF!I12+NA!I12+NORM!I12+OCC!I12+PDL!I12+PACA!I12)/population!$B$19 -> 214.36577
A10: 44208 | B10: =ARA!J13 -> 230.51707 | C10: =BFC!J13 -> 349.15069 | D10: =BRET!J13 -> 216.62213 | E10: =CORSE!J13 -> 329.00177 | F10: =CVL!J13 -> 261.89171 | G10: =GE!J13 -> 317.03197 | H10: =HDF!J13 -> 259.58205 | I10: =IDF!J13 -> 329.50243 | J10: =NA!J13 -> 375.28446 | K10: =NORM!J13 -> 483.97155 | L10: =OCC!J13 -> 301.18865 | M10: =PDL!J13 -> 259.77189 | N10: =PACA!J13 -> 249.26562 | O10: =100000*SUM(ARA!I13+BFC!I13+BRET!I13+CORSE!I13+CVL!I13+GE!I13+HDF!I13+IDF!I13+NA!I13+NORM!I13+OCC!I13+PDL!I13+PACA!I13)/population!$B$19 -> 301.30688
A11: 44209 | B11: =ARA!J14 -> 311.67611 | C11: =BFC!J14 -> 505.09533 | D11: =BRET!J14 -> 315.47318 | E11: =CORSE!J14 -> 374.84152 | F11: =CVL!J14 -> 335.00412 | G11: =GE!J14 -> 434.16361 | H11: =HDF!J14 -> 340.70353 | I11: =IDF!J14 -> 412.45426 | J11: =NA!J14 -> 472.85142 | K11: =NORM!J14 -> 590.43439 | L11: =OCC!J14 -> 402.18685 | M11: =PDL!J14 -> 331.42222 | N11: =PACA!J14 -> 323.81586 | O11: =100000*SUM(ARA!I14+BFC!I14+BRET!I14+CORSE!I14+CVL!I14+GE!I14+HDF!I14+IDF!I14+NA!I14+NORM!I14+OCC!I14+PDL!I14+PACA!I14)/population!$B$19 -> 393.01393
A12: 44210 | B12: =ARA!J15 -> 408.8578 | C12: =BFC!J15 -> 660.32132 | D12: =BRET!J15 -> 418.12621 | E12: =CORSE!J15 -> 416.61952 | F12: =CVL!J15 -> 408.89807 | G12: =GE!J15 -> 566.95273 | H12: =HDF!J15 -> 424.30713 | I12: =IDF!J15 -> 498.22409 | J12: =NA!J15 -> 585.55176 | K12: =NORM!J15 -> 741.94037 | L12: =OCC!J15 -> 538.35889 | M12: =PDL!J15 -> 403.12515 | N12: =PACA!J15 -> 435.49288 | O12: =100000*SUM(ARA!I15+BFC!I15+BRET!I15+CORSE!I15+CVL!I15+GE!I15+HDF!I15+IDF!I15+NA!I15+NORM!I15+OCC!I15+PDL!I15+PACA!I15)/population!$B$19 -> 498.76765
A13: 44211 | B13: =ARA!J16 -> 504.93148 | C13: =BFC!J16 -> 803.43826 | D13: =BRET!J16 -> 528.65259 | E13: =CORSE!J16 -> 463.9099 | F13: =CVL!J16 -> 479.04065 | G13: =GE!J16 -> 686.98727 | H13: =HDF!J16 -> 507.97781 | I13: =IDF!J16 -> 588.45711 | J13: =NA!J16 -> 704.78545 | K13: =NORM!J16 -> 900.31784 | L13: =OCC!J16 -> 662.93572 | M13: =PDL!J16 -> 467.67358 | N13: =PACA!J16 -> 524.66042 | O13: =100000*SUM(ARA!I16+BFC!I16+BRET!I16+CORSE!I16+CVL!I16+GE!I16+HDF!I16+IDF!I16+NA!I16+NORM!I16+OCC!I16+PDL!I16+PACA!I16)/population!$B$19 -> 601.64146
... A22: 44220 | B22: =ARA!J25 -> 1385.0944 | C22: =BFC!J25 -> 2285.6669 | D22: =BRET!J25 -> 1533.2392 | E22: =CORSE!J25 -> 1006.4437 | F22: =CVL!J25 -> 1239.2378 | G22: =GE!J25 -> 1377.331 | H22: =HDF!J25 -> 1312.065 | I22: =IDF!J25 -> 1381.2192 | J22: =NA!J25 -> 1763.8053 | K22: =NORM!J25 -> 1514.6965 | L22: =OCC!J25 -> 1710.0157 | M22: =PDL!J25 -> 1377.7169 | N22: =PACA!J25 -> 1387.6947 | O22: =100000*SUM(ARA!I25+BFC!I25+BRET!I25+CORSE!I25+CVL!I25+GE!I25+HDF!I25+IDF!I25+NA!I25+NORM!I25+OCC!I25+PDL!I25+PACA!I25)/population!$B$19 -> 1486.5184
A23: 44221
A24: 44222
A25: 44223
A26: 44224
A27: 44225
A28: 44226
A29: 44227

Sheet ARA
M1: Nb cumulé vaccinations depuis 04/01 | N1: =SUM(F5:F293) -> 111256
M2: % residents vaccinés | N2: =SUM(B5:B93)/SUM(F5:F93) -> 0.20256885
B3: Nombre personnes vaccinées | M3: % professionnels vaccinés | N3: =SUM(C5:C93)/SUM(F5:F93) -> 0.47739448
B4: résidents / patients | C4: prof. | D4: 75 + | E4: Autres | F4: total quotidien | G4: residents /patients Cumul | H4: prof. Cumul | I4: total Cumul | J4: Taux de vaccination pour 100 000 hab. (tous âges) | K4: Taux de vaccination pour 100 000 hab. (>50 ans) | L4: Taux de vaccination pour 100 000 hab. (>=65 ans)
A5: 44200 | B5: =vaccine!B3 -> 99 | C5: =vaccine!C3 -> 105 | D5: =vaccine!D3 -> 0 | E5: =vaccine!E3 -> 0 | F5: =SUM(B5:E5) -> 204 | G5: =B5 -> 99 | H5: =C5 -> 105 | I5: =F5 -> 204 | J5: =(I5/$N$5)*100000 -> 2.5397214 | K5: =100000*I5/$N$6 -> 6.4637391 | L5: =100000*G5/$N$7 -> 6.0443214 | M5: Population totale | N5: =population!B6 -> 8032377
A6: 44201 | B6: =vaccine!B4 -> 83 | C6: =vaccine!C4 -> 350 | D6: =vaccine!D4 -> 0 | E6: =vaccine!E4 -> 0 | F6: =SUM(B6:E6) -> 433 | G6: =B6+G5 -> 182 | H6: =C6+H5 -> 455 | I6: =F6+I5 -> 637 | J6: =(I6/$N$5)*100000 -> 7.9304047 | K6: =100000*I6/$N$6 -> 20.183342 | L6: =100000*G6/$N$7 -> 11.111783 | M6: Population > 50 ans | N6: =population!C6 -> 3156068
A7: 44202 | B7: =vaccine!B5 -> 259 | C7: =vaccine!C5 -> 874 | D7: =vaccine!D5 -> 0 | E7: =vaccine!E5 -> 0 | F7: =SUM(B7:E7) -> 1133 | G7: =B7+G6 -> 441 | H7: =C7+H6 -> 1329 | I7: =F7+I6 -> 1770 | J7: =(I7/$N$5)*100000 -> 22.035818 | K7: =100000*I7/$N$6 -> 56.082442 | L7: =100000*G7/$N$7 -> 26.924704 | M7: Population > 65 ans | N7: =population!E6 -> 1637901
A8: 44203 | B8: =vaccine!B6 -> 740 | C8: =vaccine!C6 -> 1922 | D8: =vaccine!D6 -> 0 | E8: =vaccine!E6 -> 0 | F8: =SUM(B8:E8) -> 2662 | G8: =B8+G7 -> 1181 | H8: =C8+H7 -> 3251 | I8: =F8+I7 -> 4432 | J8: =(I8/$N$5)*100000 -> 55.176693 | K8: =100000*I8/$N$6 -> 140.4279 | L8: =100000*G8/$N$7 -> 72.10448
A9: 44204 | B9: =vaccine!B7 -> 658 | C9: =vaccine!C7 -> 2495 | D9: =vaccine!D7 -> 0 | E9: =vaccine!E7 -> 0 | F9: =SUM(B9:E9) -> 3153 | G9: =B9+G8 -> 1839 | H9: =C9+H8 -> 5746 | I9: =F9+I8 -> 7585 | J9: =(I9/$N$5)*100000 -> 94.430329 | K9: =100000*I9/$N$6 -> 240.33069 | L9: =100000*G9/$N$7 -> 112.27785
A10: 44205 | B10: =vaccine!B8 -> 83 | C10: =vaccine!C8 -> 400 | D10: =vaccine!D8 -> 0 | E10: =vaccine!E8 -> 0 | F10: =SUM(B10:E10) -> 483 | G10: =B10+G9 -> 1922 | H10: =C10+H9 -> 6146 | I10: =F10+I9 -> 8068 | J10: =(I10/$N$5)*100000 -> 100.44349 | K10: =100000*I10/$N$6 -> 255.63454 | L10: =100000*G10/$N$7 -> 117.34531
A11: 44206 | B11: =vaccine!B9 -> 73 | C11: =vaccine!C9 -> 166 | D11: =vaccine!D9 -> 0 | E11: =vaccine!E9 -> 0 | F11: =SUM(B11:E11) -> 239 | G11: =B11+G10 -> 1995 | H11: =C11+H10 -> 6312 | I11: =F11+I10 -> 8307 | J11: =(I11/$N$5)*100000 -> 103.41895 | K11: =100000*I11/$N$6 -> 263.20726 | L11: =100000*G11/$N$7 -> 121.80223
A12: 44207 | B12: =vaccine!B10 -> 706 | C12: =vaccine!C10 -> 3393 | D12: =vaccine!D10 -> 0 | E12: =vaccine!E10 -> 0 | F12: =SUM(B12:E12) -> 4099 | G12: =B12+G11 -> 2701 | H12: =C12+H11 -> 9705 | I12: =F12+I11 -> 12406 | J12: =(I12/$N$5)*100000 -> 154.44992 | K12: =100000*I12/$N$6 -> 393.08405 | L12: =100000*G12/$N$7 -> 164.90618
A13: 44208 | B13: =vaccine!B11 -> 1211 | C13: =vaccine!C11 -> 4899 | D13: =vaccine!D11 -> 0 | E13: =vaccine!E11 -> 0 | F13: =SUM(B13:E13) -> 6110 | G13: =B13+G12 -> 3912 | H13: =C13+H12 -> 14604 | I13: =F13+I12 -> 18516 | J13: =(I13/$N$5)*100000 -> 230.51707 | K13: =100000*I13/$N$6 -> 586.67937 | L13: =100000*G13/$N$7 -> 238.84227
A14: 44209 | B14: =vaccine!B12 -> 1132 | C14: =vaccine!C12 -> 5387 | D14: =vaccine!D12 -> 0 | E14: =vaccine!E12 -> 0 | F14: =SUM(B14:E14) -> 6519 | G14: =B14+G13 -> 5044 | H14: =C14+H13 -> 19991 | I14: =F14+I13 -> 25035 | J14: =(I14/$N$5)*100000 -> 311.67611 | K14: =100000*I14/$N$6 -> 793.23386 | L14: =100000*G14/$N$7 -> 307.95512
A15: 44210 | B15: =vaccine!B13 -> 1465 | C15: =vaccine!C13 -> 6341 | D15: =vaccine!D13 -> 0 | E15: =vaccine!E13 -> 0 | F15: =SUM(B15:E15) -> 7806 | G15: =B15+G14 -> 6509 | H15: =C15+H14 -> 26332 | I15: =F15+I14 -> 32841 | J15: =(I15/$N$5)*100000 -> 408.8578 | K15: =100000*I15/$N$6 -> 1040.5669 | L15: =100000*G15/$N$7 -> 397.39887
A16: 44211 | B16: =vaccine!B14 -> 1480 | C16: =vaccine!C14 -> 6237 | D16: =vaccine!D14 -> 0 | E16: =vaccine!E14 -> 0 | F16: =SUM(B16:E16) -> 7717 | G16: =B16+G15 -> 7989 | H16: =C16+H15 -> 32569 | I16: =F16+I15 -> 40558 | J16: =(I16/$N$5)*100000 -> 504.93148 | K16: =100000*I16/$N$6 -> 1285.08 | L16: =100000*G16/$N$7 -> 487.75842
A17: 44212 | B17: =vaccine!B15 -> 1140 | C17: =vaccine!C15 -> 1606 | D17: =vaccine!D15 -> 0 | E17: =vaccine!E15 -> 0 | F17: =SUM(B17:E17) -> 2746 | G17: =B17+G16 -> 9129 | H17: =C17+H16 -> 34175 | I17: =F17+I16 -> 43304 | J17: =(I17/$N$5)*100000 -> 539.11812 | K17: =100000*I17/$N$6 -> 1372.087 | L17: =100000*G17/$N$7 -> 557.35969
A18: 44213 | B18: =vaccine!B16 -> 288 | C18: =vaccine!C16 -> 772 | D18: =vaccine!D16 -> 0 | E18: =vaccine!E16 -> 0 | F18: =SUM(B18:E18) -> 1060 | G18: =B18+G17 -> 9417 | H18: =C18+H17 -> 34947 | I18: =F18+I17 -> 44364 | J18: =(I18/$N$5)*100000 -> 552.31471 | K18: =100000*I18/$N$6 -> 1405.6731 | L18: =100000*G18/$N$7 -> 574.94317
A19: 44214 | B19: =vaccine!B17 -> 589 | C19: =vaccine!C17 -> 2788 | D19: =vaccine!D17 -> 4237 | E19: =vaccine!E17 -> 92 | F19: =SUM(B19:E19) -> 7706 | G19: =B19+G18 -> 10006 | H19: =C19+H18 -> 37735 | I19: =F19+I18 -> 52070 | J19: =(I19/$N$5)*100000 -> 648.25145 | K19: =100000*I19/$N$6 -> 1649.8377 | L19: =100000*G19/$N$7 -> 610.90383
... A25: 44220 | B25: =vaccine!B23 -> 21 | C25: =vaccine!C23 -> 136 | D25: =vaccine!D23 -> 1128 | E25: =vaccine!E23 -> 84 | F25: =SUM(B25:E25) -> 1369 | G25: =B25+G24 -> 22537 | H25: =C25+H24 -> 53113 | I25: =F25+I24 -> 111256 | J25: =(I25/$N$5)*100000 -> 1385.0944 | K25: =100000*I25/$N$6 -> 3525.1458 | L25: =100000*G25/$N$7 -> 1375.9684
A26: 44221
A27: 44222
A28: 44223
A29: 44224
A30: 44225
A31: 44226
A32: 44227

Sheet BFC
M1: Nb cumulé vaccinations depuis 04/01 | N1: =SUM(F5:F293) -> 63611
M2: % residents vaccinés | N2: =SUM(B5:B93)/SUM(F5:F93) -> 0.24061876
B3: Nombre personnes vaccinées | M3: % professionnels vaccinés | N3: =SUM(C5:C93)/SUM(F5:F93) -> 0.37710459
B4: résidents / patients | C4: prof. | D4: 75 + | E4: Autres | F4: total quotidien | G4: residents /patients Cumul | H4: prof. Cumul | I4: total Cumul | J4: Taux de vaccination pour 100 000 hab. (tous âges) | K4: Taux de vaccination pour 100 000 hab. (>50 ans) | L4: Taux de vaccination pour 100 000 hab. (>=65 ans)
A5: 44200 | B5: =vaccine!G3 -> 0 | C5: =vaccine!H3 -> 15 | D5: =vaccine!I3 -> 0 | E5: =vaccine!J3 -> 0 | F5: =SUM(B5:E5) -> 15 | G5: =B5 -> 0 | H5: =C5 -> 15 | I5: =F5 -> 15 | J5: =(I5/$N$5)*100000 -> 0.53897915 | K5: =100000*I5/$N$6 -> 1.2267791 | L5: =100000*G5/$N$7 -> 0 | M5: Population totale | N5: =population!B7 -> 2783039
A6: 44201 | B6: =vaccine!G4 -> 0 | C6: =vaccine!H4 -> 263 | D6: =vaccine!I4 -> 0 | E6: =vaccine!J4 -> 0 | F6: =SUM(B6:E6) -> 263 | G6: =B6+G5 -> 0 | H6: =C6+H5 -> 278 | I6: =F6+I5 -> 278 | J6: =(I6/$N$5)*100000 -> 9.9890803 | K6: =100000*I6/$N$6 -> 22.736306 | L6: =100000*G6/$N$7 -> 0 | M6: Population > 50 ans | N6: =population!C7 -> 1222714
A7: 44202 | B7: =vaccine!G5 -> 218 | C7: =vaccine!H5 -> 377 | D7: =vaccine!I5 -> 0 | E7: =vaccine!J5 -> 0 | F7: =SUM(B7:E7) -> 595 | G7: =B7+G6 -> 218 | H7: =C7+H6 -> 655 | I7: =F7+I6 -> 873 | J7: =(I7/$N$5)*100000 -> 31.368587 | K7: =100000*I7/$N$6 -> 71.398545 | L7: =100000*G7/$N$7 -> 32.910082 | M7: Population > 65 ans | N7: =population!E7 -> 662411
A8: 44203 | B8: =vaccine!G6 -> 624 | C8: =vaccine!H6 -> 784 | D8: =vaccine!I6 -> 0 | E8: =vaccine!J6 -> 0 | F8: =SUM(B8:E8) -> 1408 | G8: =B8+G7 -> 842 | H8: =C8+H7 -> 1439 | I8: =F8+I7 -> 2281 | J8: =(I8/$N$5)*100000 -> 81.960763 | K8: =100000*I8/$N$6 -> 186.55221 | L8: =100000*G8/$N$7 -> 127.11142
A9: 44204 | B9: =vaccine!G7 -> 163 | C9: =vaccine!H7 -> 1259 | D9: =vaccine!I7 -> 0 | E9: =vaccine!J7 -> 0 | F9: =SUM(B9:E9) -> 1422 | G9: =B9+G8 -> 1005 | H9: =C9+H8 -> 2698 | I9: =F9+I8 -> 3703 | J9: =(I9/$N$5)*100000 -> 133.05599 | K9: =100000*I9/$N$6 -> 302.85087 | L9: =100000*G9/$N$7 -> 151.7185
A10: 44205 | B10: =vaccine!G8 -> 215 | C10: =vaccine!H8 -> 995 | D10: =vaccine!I8 -> 0 | E10: =vaccine!J8 -> 0 | F10: =SUM(B10:E10) -> 1210 | G10: =B10+G9 -> 1220 | H10: =C10+H9 -> 3693 | I10: =F10+I9 -> 4913 | J10: =(I10/$N$5)*100000 -> 176.53364 | K10: =100000*I10/$N$6 -> 401.81105 | L10: =100000*G10/$N$7 -> 184.17569
A11: 44206 | B11: =vaccine!G9 -> 0 | C11: =vaccine!H9 -> 115 | D11: =vaccine!I9 -> 0 | E11: =vaccine!J9 -> 0 | F11: =SUM(B11:E11) -> 115 | G11: =B11+G10 -> 1220 | H11: =C11+H10 -> 3808 | I11: =F11+I10 -> 5028 | J11: =(I11/$N$5)*100000 -> 180.66581 | K11: =100000*I11/$N$6 -> 411.21636 | L11: =100000*G11/$N$7 -> 184.17569
A12: 44207 | B12: =vaccine!G10 -> 456 | C12: =vaccine!H10 -> 1585 | D12: =vaccine!I10 -> 0 | E12: =vaccine!J10 -> 0 | F12: =SUM(B12:E12) -> 2041 | G12: =B12+G11 -> 1676 | H12: =C12+H11 -> 5393 | I12: =F12+I11 -> 7069 | J12: =(I12/$N$5)*100000 -> 254.00291 | K12: =100000*I12/$N$6 -> 578.1401 | L12: =100000*G12/$N$7 -> 253.01512
A13: 44208 | B13: =vaccine!G11 -> 1184 | C13: =vaccine!H11 -> 1464 | D13: =vaccine!I11 -> 0 | E13: =vaccine!J11 -> 0 | F13: =SUM(B13:E13) -> 2648 | G13: =B13+G12 -> 2860 | H13: =C13+H12 -> 6857 | I13: =F13+I12 -> 9717 | J13: =(I13/$N$5)*100000 -> 349.15069 | K13: =100000*I13/$N$6 -> 794.70751 | L13: =100000*G13/$N$7 -> 431.75612
A14: 44209 | B14: =vaccine!G12 -> 1747 | C14: =vaccine!H12 -> 2593 | D14: =vaccine!I12 -> 0 | E14: =vaccine!J12 -> 0 | F14: =SUM(B14:E14) -> 4340 | G14: =B14+G13 -> 4607 | H14: =C14+H13 -> 9450 | I14: =F14+I13 -> 14057 | J14: =(I14/$N$5)*100000 -> 505.09533 | K14: =100000*I14/$N$6 -> 1149.6556 | L14: =100000*G14/$N$7 -> 695.48966
A15: 44210 | B15: =vaccine!G13 -> 1418 | C15: =vaccine!H13 -> 2902 | D15: =vaccine!I13 -> 0 | E15: =vaccine!J13 -> 0 | F15: =SUM(B15:E15) -> 4320 | G15: =B15+G14 -> 6025 | H15: =C15+H14 -> 12352 | I15: =F15+I14 -> 18377 | J15: =(I15/$N$5)*100000 -> 660.32132 | K15: =100000*I15/$N$6 -> 1502.968 | L15: =100000*G15/$N$7 -> 909.55615
A16: 44211 | B16: =vaccine!G14 -> 1177 | C16: =vaccine!H14 -> 2806 | D16: =vaccine!I14 -> 0 | E16: =vaccine!J14 -> 0 | F16: =SUM(B16:E16) -> 3983 | G16: =B16+G15 -> 7202 | H16: =C16+H15 -> 15158 | I16: =F16+I15 -> 22360 | J16: =(I16/$N$5)*100000 -> 803.43826 | K16: =100000*I16/$N$6 -> 1828.7187 | L16: =100000*G16/$N$7 -> 1087.2404
A17: 44212 | B17: =vaccine!G15 -> 470 | C17: =vaccine!H15 -> 1763 | D17: =vaccine!I15 -> 0 | E17: =vaccine!J15 -> 0 | F17: =SUM(B17:E17) -> 2233 | G17: =B17+G16 -> 7672 | H17: =C17+H16 -> 16921 | I17: =F17+I16 -> 24593 | J17: =(I17/$N$5)*100000 -> 883.67429 | K17: =100000*I17/$N$6 -> 2011.3453 | L17: =100000*G17/$N$7 -> 1158.1933
A18: 44213 | B18: =vaccine!G16 -> 0 | C18: =vaccine!H16 -> 167 | D18: =vaccine!I16 -> 0 | E18: =vaccine!J16 -> 0 | F18: =SUM(B18:E18) -> 167 | G18: =B18+G17 -> 7672 | H18: =C18+H17 -> 17088 | I18: =F18+I17 -> 24760 | J18: =(I18/$N$5)*100000 -> 889.67492 | K18: =100000*I18/$N$6 -> 2025.0034 | L18: =100000*G18/$N$7 -> 1158.1933
A19: 44214 | B19: =vaccine!G17 -> 353 | C19: =vaccine!H17 -> 666 | D19: =vaccine!I17 -> 2959 | E19: =vaccine!J17 -> 12 | F19: =SUM(B19:E19) -> 3990 | G19: =B19+G18 -> 8025 | H19: =C19+H18 -> 17754 | I19: =F19+I18 -> 28750 | J19: =(I19/$N$5)*100000 -> 1033.0434 | K19: =100000*I19/$N$6 -> 2351.3266 | L19: =100000*G19/$N$7 -> 1211.4835
... A25: 44220 | B25: =vaccine!G23 -> 81 | C25: =vaccine!H23 -> 12 | D25: =vaccine!I23 -> 217 | E25: =vaccine!J23 -> 4 | F25: =SUM(B25:E25) -> 314 | G25: =B25+G24 -> 15306 | H25: =C25+H24 -> 23988 | I25: =F25+I24 -> 63611 | J25: =(I25/$N$5)*100000 -> 2285.6669 | K25: =100000*I25/$N$6 -> 5202.4431 | L25: =100000*G25/$N$7 -> 2310.65
A26: 44221
A27: 44222
A28: 44223
A29: 44224
A30: 44225
A31: 44226
A32: 44227

Sheet BRET
M1: Nb cumulé vaccinations depuis 04/01 | N1: =SUM(F5:F293) -> 51216
M2: % residents vaccinés | N2: =SUM(B5:B93)/SUM(F5:F93) -> 0.37416042
B3: Nombre personnes vaccinées | M3: % professionnels vaccinés | N3: =SUM(C5:C93)/SUM(F5:F93) -> 0.42350047
B4: résidents / patients | C4: prof. | D4: 75 + | E4: Autres | F4: total quotidien | G4: residents /patients Cumul | H4: prof. Cumul | I4: total Cumul | J4: Taux de vaccination pour 100 000 hab. (tous âges) | K4: Taux de vaccination pour 100 000 hab. (>50 ans) | L4: Taux de vaccination pour 100 000 hab. (>=65 ans)
A5: 44200 | B5: =vaccine!L3 -> 35 | C5: =vaccine!M3 -> 20 | D5: =vaccine!N3 -> 0 | E5: =vaccine!O3 -> 0 | F5: =SUM(B5:E5) -> 55 | G5: =B5 -> 35 | H5: =C5 -> 20 | I5: =F5 -> 55 | J5: =(I5/$N$5)*100000 -> 1.6465198 | K5: =100000*I5/$N$6 -> 3.8512089 | L5: =100000*G5/$N$7 -> 4.5796952 | M5: Population totale | N5: =population!B8 -> 3340379
A6: 44201 | B6: =vaccine!L4 -> 75 | C6: =vaccine!M4 -> 88 | D6: =vaccine!N4 -> 0 | E6: =vaccine!O4 -> 0 | F6: =SUM(B6:E6) -> 163 | G6: =B6+G5 -> 110 | H6: =C6+H5 -> 108 | I6: =F6+I5 -> 218 | J6: =(I6/$N$5)*100000 -> 6.5262056 | K6: =100000*I6/$N$6 -> 15.264792 | L6: =100000*G6/$N$7 -> 14.393328 | M6: Population >= 50 ans | N6: =population!C8 -> 1428123
A7: 44202 | B7: =vaccine!L5 -> 117 | C7: =vaccine!M5 -> 255 | D7: =vaccine!N5 -> 0 | E7: =vaccine!O5 -> 0 | F7: =SUM(B7:E7) -> 372 | G7: =B7+G6 -> 227 | H7: =C7+H6 -> 363 | I7: =F7+I6 -> 590 | J7: =(I7/$N$5)*100000 -> 17.662666 | K7: =100000*I7/$N$6 -> 41.312968 | L7: =100000*G7/$N$7 -> 29.702595 | M7: Population >= 65 ans | N7: =population!E8 -> 764243
A8: 44203 | B8: =vaccine!L6 -> 175 | C8: =vaccine!M6 -> 652 | D8: =vaccine!N6 -> 0 | E8: =vaccine!O6 -> 0 | F8: =SUM(B8:E8) -> 827 | G8: =B8+G7 -> 402 | H8: =C8+H7 -> 1015 | I8: =F8+I7 -> 1417 | J8: =(I8/$N$5)*100000 -> 42.420336 | K8: =100000*I8/$N$6 -> 99.221146 | L8: =100000*G8/$N$7 -> 52.601071
A9: 44204 | B9: =vaccine!L7 -> 139 | C9: =vaccine!M7 -> 813 | D9: =vaccine!N7 -> 0 | E9: =vaccine!O7 -> 0 | F9: =SUM(B9:E9) -> 952 | G9: =B9+G8 -> 541 | H9: =C9+H8 -> 1828 | I9: =F9+I8 -> 2369 | J9: =(I9/$N$5)*100000 -> 70.920096 | K9: =100000*I9/$N$6 -> 165.88207 | L9: =100000*G9/$N$7 -> 70.789003
A10: 44205 | B10: =vaccine!L8 -> 22 | C10: =vaccine!M8 -> 78 | D10: =vaccine!N8 -> 0 | E10: =vaccine!O8 -> 0 | F10: =SUM(B10:E10) -> 100 | G10: =B10+G9 -> 563 | H10: =C10+H9 -> 1906 | I10: =F10+I9 -> 2469 | J10: =(I10/$N$5)*100000 -> 73.913768 | K10: =100000*I10/$N$6 -> 172.88427 | L10: =100000*G10/$N$7 -> 73.667669
A11: 44206 | B11: =vaccine!L9 -> 118 | C11: =vaccine!M9 -> 414 | D11: =vaccine!N9 -> 0 | E11: =vaccine!O9 -> 0 | F11: =SUM(B11:E11) -> 532 | G11: =B11+G10 -> 681 | H11: =C11+H10 -> 2320 | I11: =F11+I10 -> 3001 | J11: =(I11/$N$5)*100000 -> 89.840105 | K11: =100000*I11/$N$6 -> 210.13596 | L11: =100000*G11/$N$7 -> 89.107784
A12: 44207 | B12: =vaccine!L10 -> 422 | C12: =vaccine!M10 -> 1111 | D12: =vaccine!N10 -> 0 | E12: =vaccine!O10 -> 0 | F12: =SUM(B12:E12) -> 1533 | G12: =B12+G11 -> 1103 | H12: =C12+H11 -> 3431 | I12: =F12+I11 -> 4534 | J12: =(I12/$N$5)*100000 -> 135.7331 | K12: =100000*I12/$N$6 -> 317.47966 | L12: =100000*G12/$N$7 -> 144.32582
A13: 44208 | B13: =vaccine!L11 -> 1095 | C13: =vaccine!M11 -> 1607 | D13: =vaccine!N11 -> 0 | E13: =vaccine!O11 -> 0 | F13: =SUM(B13:E13) -> 2702 | G13: =B13+G12 -> 2198 | H13: =C13+H12 -> 5038 | I13: =F13+I12 -> 7236 | J13: =(I13/$N$5)*100000 -> 216.62213 | K13: =100000*I13/$N$6 -> 506.67905 | L13: =100000*G13/$N$7 -> 287.60486
A14: 44209 | B14: =vaccine!L12 -> 1440 | C14: =vaccine!M12 -> 1862 | D14: =vaccine!N12 -> 0 | E14: =vaccine!O12 -> 0 | F14: =SUM(B14:E14) -> 3302 | G14: =B14+G13 -> 3638 | H14: =C14+H13 -> 6900 | I14: =F14+I13 -> 10538 | J14: =(I14/$N$5)*100000 -> 315.47318 | K14: =100000*I14/$N$6 -> 737.89162 | L14: =100000*G14/$N$7 -> 476.0266
A15: 44210 | B15: =vaccine!L13 -> 1209 | C15: =vaccine!M13 -> 2220 | D15: =vaccine!N13 -> 0 | E15: =vaccine!O13 -> 0 | F15: =SUM(B15:E15) -> 3429 | G15: =B15+G14 -> 4847 | H15: =C15+H14 -> 9120 | I15: =F15+I14 -> 13967 | J15: =(I15/$N$5)*100000 -> 418.12621 | K15: =100000*I15/$N$6 -> 977.99699 | L15: =100000*G15/$N$7 -> 634.22236
A16: 44211 | B16: =vaccine!L14 -> 1135 | C16: =vaccine!M14 -> 2557 | D16: =vaccine!N14 -> 0 | E16: =vaccine!O14 -> 0 | F16: =SUM(B16:E16) -> 3692 | G16: =B16+G15 -> 5982 | H16: =C16+H15 -> 11677 | I16: =F16+I15 -> 17659 | J16: =(I16/$N$5)*100000 -> 528.65259 | K16: =100000*I16/$N$6 -> 1236.5181 | L16: =100000*G16/$N$7 -> 782.73533
A17: 44212 | B17: =vaccine!L15 -> 171 | C17: =vaccine!M15 -> 832 | D17: =vaccine!N15 -> 0 | E17: =vaccine!O15 -> 0 | F17: =SUM(B17:E17) -> 1003 | G17: =B17+G16 -> 6153 | H17: =C17+H16 -> 12509 | I17: =F17+I16 -> 18662 | J17: =(I17/$N$5)*100000 -> 558.67912 | K17: =100000*I17/$N$6 -> 1306.7502 | L17: =100000*G17/$N$7 -> 805.11042
A18: 44213 | B18: =vaccine!L16 -> 15 | C18: =vaccine!M16 -> 234 | D18: =vaccine!N16 -> 0 | E18: =vaccine!O16 -> 0 | F18: =SUM(B18:E18) -> 249 | G18: =B18+G17 -> 6168 | H18: =C18+H17 -> 12743 | I18: =F18+I17 -> 18911 | J18: =(I18/$N$5)*100000 -> 566.13336 | K18: =100000*I18/$N$6 -> 1324.1857 | L18: =100000*G18/$N$7 -> 807.07314
A19: 44214 | B19: =vaccine!L17 -> 343 | C19: =vaccine!M17 -> 1092 | D19: =vaccine!N17 -> 1326 | E19: =vaccine!O17 -> 20 | F19: =SUM(B19:E19) -> 2781 | G19: =B19+G18 -> 6511 | H19: =C19+H18 -> 13835 | I19: =F19+I18 -> 21692 | J19: =(I19/$N$5)*100000 -> 649.38739 | K19: =100000*I19/$N$6 -> 1518.9168 | L19: =100000*G19/$N$7 -> 851.95416
... A25: 44220 | B25: =vaccine!L23 -> 0 | C25: =vaccine!M23 -> 48 | D25: =vaccine!N23 -> 166 | E25: =vaccine!O23 -> 15 | F25: =SUM(B25:E25) -> 229 | G25: =B25+G24 -> 19163 | H25: =C25+H24 -> 21690 | I25: =F25+I24 -> 51216 | J25: =(I25/$N$5)*100000 -> 1533.2392 | K25: =100000*I25/$N$6 -> 3586.2457 | L25: =100000*G25/$N$7 -> 2507.4485
A26: 44221
A27: 44222
A28: 44223
A29: 44224
A30: 44225
A31: 44226
A32: 44227

Sheet CORSE
M1: Nb cumulé vaccinations depuis 04/01 | N1: =SUM(F5:F293) -> 3469
M2: % residents vaccinés | N2: =SUM(B5:B93)/SUM(F5:F93) -> 0.29374459
B3: Nombre personnes vaccinées | M3: % professionnels vaccinés | N3: =SUM(C5:C93)/SUM(F5:F93) -> 0.41654656
B4: résidents / patients | C4: prof. | D4: 75 + | E4: Autres | F4: total quotidien | G4: residents /patients Cumul | H4: prof. Cumul | I4: total Cumul | J4: Taux de vaccination pour 100 000 hab. (tous âges) | K4: Taux de vaccination pour 100 000 hab. (>50 ans) | L4: Taux de vaccination pour 100 000 hab. (>=65 ans)
A5: 44200 | B5: =vaccine!Q3 -> 0 | C5: =vaccine!R3 -> 0 | D5: =vaccine!S3 -> 0 | E5: =vaccine!T3 -> 0 | F5: =SUM(B5:E5) -> 0 | G5: =B5 -> 0 | H5: =C5 -> 0 | I5: =F5 -> 0 | J5: =(I5/$N$5)*100000 -> 0 | K5: =100000*I5/$N$6 -> 0 | L5: =100000*G5/$N$7 -> 0 | M5: Population totale | N5: =population!B10 -> 344679
A6: 44201 | B6: =vaccine!Q4 -> 0 | C6: =vaccine!R4 -> 0 | D6: =vaccine!S4 -> 0 | E6: =vaccine!T4 -> 0 | F6: =SUM(B6:E6) -> 0 | G6: =B6+G5 -> 0 | H6: =C6+H5 -> 0 | I6: =F6+I5 -> 0 | J6: =(I6/$N$5)*100000 -> 0 | K6: =100000*I6/$N$6 -> 0 | L6: =100000*G6/$N$7 -> 0 | M6: Population > 50 ans | N6: =population!C10 -> 153934
A7: 44202 | B7: =vaccine!Q5 -> 25 | C7: =vaccine!R5 -> 28 | D7: =vaccine!S5 -> 0 | E7: =vaccine!T5 -> 0 | F7: =SUM(B7:E7) -> 53 | G7: =B7+G6 -> 25 | H7: =C7+H6 -> 28 | I7: =F7+I6 -> 53 | J7: =(I7/$N$5)*100000 -> 15.376626 | K7: =100000*I7/$N$6 -> 34.43034 | L7: =100000*G7/$N$7 -> 29.939044 | M7: Population > 65 ans | N7: =population!E10 -> 83503
A8: 44203 | B8: =vaccine!Q6 -> 202 | C8: =vaccine!R6 -> 152 | D8: =vaccine!S6 -> 0 | E8: =vaccine!T6 -> 0 | F8: =SUM(B8:E8) -> 354 | G8: =B8+G7 -> 227 | H8: =C8+H7 -> 180 | I8: =F8+I7 -> 407 | J8: =(I8/$N$5)*100000 -> 118.08088 | K8: =100000*I8/$N$6 -> 264.39903 | L8: =100000*G8/$N$7 -> 271.84652
A9: 44204 | B9: =vaccine!Q7 -> 172 | C9: =vaccine!R7 -> 141 | D9: =vaccine!S7 -> 0 | E9: =vaccine!T7 -> 0 | F9: =SUM(B9:E9) -> 313 | G9: =B9+G8 -> 399 | H9: =C9+H8 -> 321 | I9: =F9+I8 -> 720 | J9: =(I9/$N$5)*100000 -> 208.89001 | K9: =100000*I9/$N$6 -> 467.73292 | L9: =100000*G9/$N$7 -> 477.82714
A10: 44205 | B10: =vaccine!Q8 -> 10 | C10: =vaccine!R8 -> 77 | D10: =vaccine!S8 -> 0 | E10: =vaccine!T8 -> 0 | F10: =SUM(B10:E10) -> 87 | G10: =B10+G9 -> 409 | H10: =C10+H9 -> 398 | I10: =F10+I9 -> 807 | J10: =(I10/$N$5)*100000 -> 234.13089 | K10: =100000*I10/$N$6 -> 524.25065 | L10: =100000*G10/$N$7 -> 489.80276
A11: 44206 | B11: =vaccine!Q9 -> 0 | C11: =vaccine!R9 -> 45 | D11: =vaccine!S9 -> 0 | E11: =vaccine!T9 -> 0 | F11: =SUM(B11:E11) -> 45 | G11: =B11+G10 -> 409 | H11: =C11+H10 -> 443 | I11: =F11+I10 -> 852 | J11: =(I11/$N$5)*100000 -> 247.18651 | K11: =100000*I11/$N$6 -> 553.48396 | L11: =100000*G11/$N$7 -> 489.80276
A12: 44207 | B12: =vaccine!Q10 -> 32 | C12: =vaccine!R10 -> 104 | D12: =vaccine!S10 -> 0 | E12: =vaccine!T10 -> 0 | F12: =SUM(B12:E12) -> 136 | G12: =B12+G11 -> 441 | H12: =C12+H11 -> 547 | I12: =F12+I11 -> 988 | J12: =(I12/$N$5)*100000 -> 286.64351 | K12: =100000*I12/$N$6 -> 641.83351 | L12: =100000*G12/$N$7 -> 528.12474
A13: 44208 | B13: =vaccine!Q11 -> 29 | C13: =vaccine!R11 -> 117 | D13: =vaccine!S11 -> 0 | E13: =vaccine!T11 -> 0 | F13: =SUM(B13:E13) -> 146 | G13: =B13+G12 -> 470 | H13: =C13+H12 -> 664 | I13: =F13+I12 -> 1134 | J13: =(I13/$N$5)*100000 -> 329.00177 | K13: =100000*I13/$N$6 -> 736.67936 | L13: =100000*G13/$N$7 -> 562.85403
A14: 44209 | B14: =vaccine!Q12 -> 12 | C14: =vaccine!R12 -> 146 | D14: =vaccine!S12 -> 0 | E14: =vaccine!T12 -> 0 | F14: =SUM(B14:E14) -> 158 | G14: =B14+G13 -> 482 | H14: =C14+H13 -> 810 | I14: =F14+I13 -> 1292 | J14: =(I14/$N$5)*100000 -> 374.84152 | K14: =100000*I14/$N$6 -> 839.32075 | L14: =100000*G14/$N$7 -> 577.22477
A15: 44210 | B15: =vaccine!Q13 -> 37 | C15: =vaccine!R13 -> 107 | D15: =vaccine!S13 -> 0 | E15: =vaccine!T13 -> 0 | F15: =SUM(B15:E15) -> 144 | G15: =B15+G14 -> 519 | H15: =C15+H14 -> 917 | I15: =F15+I14 -> 1436 | J15: =(I15/$N$5)*100000 -> 416.61952 | K15: =100000*I15/$N$6 -> 932.86733 | L15: =100000*G15/$N$7 -> 621.53456
A16: 44211 | B16: =vaccine!Q14 -> 17 | C16: =vaccine!R14 -> 146 | D16: =vaccine!S14 -> 0 | E16: =vaccine!T14 -> 0 | F16: =SUM(B16:E16) -> 163 | G16: =B16+G15 -> 536 | H16: =C16+H15 -> 1063 | I16: =F16+I15 -> 1599 | J16: =(I16/$N$5)*100000 -> 463.9099 | K16: =100000*I16/$N$6 -> 1038.7569 | L16: =100000*G16/$N$7 -> 641.89311
A17: 44212 | B17: =vaccine!Q15 -> 0 | C17: =vaccine!R15 -> 158 | D17: =vaccine!S15 -> 0 | E17: =vaccine!T15 -> 0 | F17: =SUM(B17:E17) -> 158 | G17: =B17+G16 -> 536 | H17: =C17+H16 -> 1221 | I17: =F17+I16 -> 1757 | J17: =(I17/$N$5)*100000 -> 509.74965 | K17: =100000*I17/$N$6 -> 1141.3983 | L17: =100000*G17/$N$7 -> 641.89311
A18: 44213 | B18: =vaccine!Q16 -> 111 | C18: =vaccine!R16 -> 0 | D18: =vaccine!S16 -> 0 | E18: =vaccine!T16 -> 0 | F18: =SUM(B18:E18) -> 111 | G18: =B18+G17 -> 647 | H18: =C18+H17 -> 1221 | I18: =F18+I17 -> 1868 | J18: =(I18/$N$5)*100000 -> 541.95353 | K18: =100000*I18/$N$6 -> 1213.5071 | L18: =100000*G18/$N$7 -> 774.82246
A19: 44214 | B19: =vaccine!Q17 -> 30 | C19: =vaccine!R17 -> 71 | D19: =vaccine!S17 -> 72 | E19: =vaccine!T17 -> 0 | F19: =SUM(B19:E19) -> 173 | G19: =B19+G18 -> 677 | H19: =C19+H18 -> 1292 | I19: =F19+I18 -> 2041 | J19: =(I19/$N$5)*100000 -> 592.14516 | K19: =100000*I19/$N$6 -> 1325.8929 | L19: =100000*G19/$N$7 -> 810.74931
... A25: 44220 | B25: =vaccine!Q23 -> 0 | C25: =vaccine!R23 -> 0 | D25: =vaccine!S23 -> 0 | E25: =vaccine!T23 -> 0 | F25: =SUM(B25:E25) -> 0 | G25: =B25+G24 -> 1019 | H25: =C25+H24 -> 1445 | I25: =F25+I24 -> 3469 | J25: =(I25/$N$5)*100000 -> 1006.4437 | K25: =100000*I25/$N$6 -> 2253.5632 | L25: =100000*G25/$N$7 -> 1220.3154
A26: 44221
A27: 44222
A28: 44223
A29: 44224
A30: 44225
A31: 44226
A32: 44227

Sheet CVL
M1: Nb cumulé vaccinations depuis 04/01 | N1: =SUM(F5:F293) -> 31713
M2: % residents vaccinés | N2: =SUM(B5:B93)/SUM(F5:F93) -> 0.31387759
B3: Nombre personnes vaccinées | M3: % professionnels vaccinés | N3: =SUM(C5:C93)/SUM(F5:F93) -> 0.49888059
B4: résidents / patients | C4: prof. | D4: 75 + | E4: Autres | F4: total quotidien | G4: residents /patients Cumul | H4: prof. Cumul | I4: total Cumul | J4: Taux de vaccination pour 100 000 hab. (tous âges) | K4: Taux de vaccination pour 100 000 hab. (>50 ans) | L4: Taux de vaccination pour 100 000 hab. (>=65 ans)
A5: 44200 | B5: =vaccine!V3 -> 20 | C5: =vaccine!W3 -> 0 | D5: =vaccine!X3 -> 0 | E5: =vaccine!Y3 -> 0 | F5: =SUM(B5:E5) -> 20 | G5: =B5 -> 20 | H5: =C5 -> 0 | I5: =F5 -> 20 | J5: =(I5/$N$5)*100000 -> 0.781533 | K5: =100000*I5/$N$6 -> 1.8202089 | L5: =100000*G5/$N$7 -> 3.3826124 | M5: Population totale | N5: =population!B9 -> 2559073
A6: 44201 | B6: =vaccine!V4 -> 140 | C6: =vaccine!W4 -> 24 | D6: =vaccine!X4 -> 0 | E6: =vaccine!Y4 -> 0 | F6: =SUM(B6:E6) -> 164 | G6: =B6+G5 -> 160 | H6: =C6+H5 -> 24 | I6: =F6+I5 -> 184 | J6: =(I6/$N$5)*100000 -> 7.1901036 | K6: =100000*I6/$N$6 -> 16.745922 | L6: =100000*G6/$N$7 -> 27.060899 | M6: Population > 50 ans | N6: =population!C9 -> 1098775
A7: 44202 | B7: =vaccine!V5 -> 202 | C7: =vaccine!W5 -> 158 | D7: =vaccine!X5 -> 0 | E7: =vaccine!Y5 -> 0 | F7: =SUM(B7:E7) -> 360 | G7: =B7+G6 -> 362 | H7: =C7+H6 -> 182 | I7: =F7+I6 -> 544 | J7: =(I7/$N$5)*100000 -> 21.257698 | K7: =100000*I7/$N$6 -> 49.509681 | L7: =100000*G7/$N$7 -> 61.225284 | M7: Population > 65 ans | N7: =population!E9 -> 591259
A8: 44203 | B8: =vaccine!V6 -> 221 | C8: =vaccine!W6 -> 256 | D8: =vaccine!X6 -> 0 | E8: =vaccine!Y6 -> 0 | F8: =SUM(B8:E8) -> 477 | G8: =B8+G7 -> 583 | H8: =C8+H7 -> 438 | I8: =F8+I7 -> 1021 | J8: =(I8/$N$5)*100000 -> 39.89726 | K8: =100000*I8/$N$6 -> 92.921663 | L8: =100000*G8/$N$7 -> 98.60315
A9: 44204 | B9: =vaccine!V7 -> 504 | C9: =vaccine!W7 -> 529 | D9: =vaccine!X7 -> 0 | E9: =vaccine!Y7 -> 0 | F9: =SUM(B9:E9) -> 1033 | G9: =B9+G8 -> 1087 | H9: =C9+H8 -> 967 | I9: =F9+I8 -> 2054 | J9: =(I9/$N$5)*100000 -> 80.263439 | K9: =100000*I9/$N$6 -> 186.93545 | L9: =100000*G9/$N$7 -> 183.84498
A10: 44205 | B10: =vaccine!V8 -> 30 | C10: =vaccine!W8 -> 515 | D10: =vaccine!X8 -> 0 | E10: =vaccine!Y8 -> 0 | F10: =SUM(B10:E10) -> 545 | G10: =B10+G9 -> 1117 | H10: =C10+H9 -> 1482 | I10: =F10+I9 -> 2599 | J10: =(I10/$N$5)*100000 -> 101.56021 | K10: =100000*I10/$N$6 -> 236.53614 | L10: =100000*G10/$N$7 -> 188.9189
A11: 44206 | B11: =vaccine!V9 -> 60 | C11: =vaccine!W9 -> 557 | D11: =vaccine!X9 -> 0 | E11: =vaccine!Y9 -> 0 | F11: =SUM(B11:E11) -> 617 | G11: =B11+G10 -> 1177 | H11: =C11+H10 -> 2039 | I11: =F11+I10 -> 3216 | J11: =(I11/$N$5)*100000 -> 125.67051 | K11: =100000*I11/$N$6 -> 292.68959 | L11: =100000*G11/$N$7 -> 199.06674
A12: 44207 | B12: =vaccine!V10 -> 326 | C12: =vaccine!W10 -> 934 | D12: =vaccine!X10 -> 0 | E12: =vaccine!Y10 -> 0 | F12: =SUM(B12:E12) -> 1260 | G12: =B12+G11 -> 1503 | H12: =C12+H11 -> 2973 | I12: =F12+I11 -> 4476 | J12: =(I12/$N$5)*100000 -> 174.90709 | K12: =100000*I12/$N$6 -> 407.36274 | L12: =100000*G12/$N$7 -> 254.20332
A13: 44208 | B13: =vaccine!V11 -> 795 | C13: =vaccine!W11 -> 1431 | D13: =vaccine!X11 -> 0 | E13: =vaccine!Y11 -> 0 | F13: =SUM(B13:E13) -> 2226 | G13: =B13+G12 -> 2298 | H13: =C13+H12 -> 4404 | I13: =F13+I12 -> 6702 | J13: =(I13/$N$5)*100000 -> 261.89171 | K13: =100000*I13/$N$6 -> 609.95199 | L13: =100000*G13/$N$7 -> 388.66216
A14: 44209 | B14: =vaccine!V12 -> 406 | C14: =vaccine!W12 -> 1465 | D14: =vaccine!X12 -> 0 | E14: =vaccine!Y12 -> 0 | F14: =SUM(B14:E14) -> 1871 | G14: =B14+G13 -> 2704 | H14: =C14+H13 -> 5869 | I14: =F14+I13 -> 8573 | J14: =(I14/$N$5)*100000 -> 335.00412 | K14: =100000*I14/$N$6 -> 780.23253 | L14: =100000*G14/$N$7 -> 457.32919
A15: 44210 | B15: =vaccine!V13 -> 449 | C15: =vaccine!W13 -> 1442 | D15: =vaccine!X13 -> 0 | E15: =vaccine!Y13 -> 0 | F15: =SUM(B15:E15) -> 1891 | G15: =B15+G14 -> 3153 | H15: =C15+H14 -> 7311 | I15: =F15+I14 -> 10464 | J15: =(I15/$N$5)*100000 -> 408.89807 | K15: =100000*I15/$N$6 -> 952.33328 | L15: =100000*G15/$N$7 -> 533.26884
A16: 44211 | B16: =vaccine!V14 -> 347 | C16: =vaccine!W14 -> 1448 | D16: =vaccine!X14 -> 0 | E16: =vaccine!Y14 -> 0 | F16: =SUM(B16:E16) -> 1795 | G16: =B16+G15 -> 3500 | H16: =C16+H15 -> 8759 | I16: =F16+I15 -> 12259 | J16: =(I16/$N$5)*100000 -> 479.04065 | K16: =100000*I16/$N$6 -> 1115.697 | L16: =100000*G16/$N$7 -> 591.95716
A17: 44212 | B17: =vaccine!V15 -> 0 | C17: =vaccine!W15 -> 435 | D17: =vaccine!X15 -> 0 | E17: =vaccine!Y15 -> 0 | F17: =SUM(B17:E17) -> 435 | G17: =B17+G16 -> 3500 | H17: =C17+H16 -> 9194 | I17: =F17+I16 -> 12694 | J17: =(I17/$N$5)*100000 -> 496.039 | K17: =100000*I17/$N$6 -> 1155.2866 | L17: =100000*G17/$N$7 -> 591.95716
A18: 44213 | B18: =vaccine!V16 -> 0 | C18: =vaccine!W16 -> 245 | D18: =vaccine!X16 -> 0 | E18: =vaccine!Y16 -> 0 | F18: =SUM(B18:E18) -> 245 | G18: =B18+G17 -> 3500 | H18: =C18+H17 -> 9439 | I18: =F18+I17 -> 12939 | J18: =(I18/$N$5)*100000 -> 505.61277 | K18: =100000*I18/$N$6 -> 1177.5841 | L18: =100000*G18/$N$7 -> 591.95716
A19: 44214 | B19: =vaccine!V17 -> 278 | C19: =vaccine!W17 -> 875 | D19: =vaccine!X17 -> 250 | E19: =vaccine!Y17 -> 6 | F19: =SUM(B19:E19) -> 1409 | G19: =B19+G18 -> 3778 | H19: =C19+H18 -> 10314 | I19: =F19+I18 -> 14348 | J19: =(I19/$N$5)*100000 -> 560.67177 | K19: =100000*I19/$N$6 -> 1305.8178 | L19: =100000*G19/$N$7 -> 638.97547
... A25: 44220 | B25: =vaccine!V23 -> 0 | C25: =vaccine!W23 -> 0 | D25: =vaccine!X23 -> 46 | E25: =vaccine!Y23 -> 5 | F25: =SUM(B25:E25) -> 51 | G25: =B25+G24 -> 9954 | H25: =C25+H24 -> 15821 | I25: =F25+I24 -> 31713 | J25: =(I25/$N$5)*100000 -> 1239.2378 | K25: =100000*I25/$N$6 -> 2886.2142 | L25: =100000*G25/$N$7 -> 1683.5262
A26: 44221
A27: 44222
A28: 44223
A29: 44224
A30: 44225
A31: 44226
A32: 44227

Sheet GE
M1: Nb cumulé vaccinations depuis 04/01 | N1: =SUM(F5:F293) -> 75915
M2: % residents vaccinés | N2: =SUM(B5:B93)/SUM(F5:F93) -> 0.2645327
B3: Nombre personnes vaccinées | M3: % professionnels vaccinés | N3: =SUM(C5:C93)/SUM(F5:F93) -> 0.48642561
B4: résidents / patients | C4: prof. | D4: 75 + | E4: Autres | F4: total quotidien | G4: residents /patients Cumul | H4: prof. Cumul | I4: total Cumul | J4: Taux de vaccination pour 100 000 hab. (tous âges) | K4: Taux de vaccination pour 100 000 hab. (>50 ans) | L4: Taux de vaccination pour 100 000 hab. (>=65 ans)
A5: 44200 | B5: =vaccine!AA3 -> 52 | C5: =vaccine!AB3 -> 268 | D5: =vaccine!AC3 -> 0 | E5: =vaccine!AD3 -> 0 | F5: =SUM(B5:E5) -> 320 | G5: =B5 -> 52 | H5: =C5 -> 268 | I5: =F5 -> 320 | J5: =(I5/$N$5)*100000 -> 5.8057817 | K5: =100000*I5/$N$6 -> 14.112807 | L5: =100000*G5/$N$7 -> 4.5183445 | M5: Population totale | N5: =population!B11 -> 5511747
A6: 44201 | B6: =vaccine!AA4 -> 78 | C6: =vaccine!AB4 -> 730 | D6: =vaccine!AC4 -> 0 | E6: =vaccine!AD4 -> 0 | F6: =SUM(B6:E6) -> 808 | G6: =B6+G5 -> 130 | H6: =C6+H5 -> 998 | I6: =F6+I5 -> 1128 | J6: =(I6/$N$5)*100000 -> 20.465381 | K6: =100000*I6/$N$6 -> 49.747645 | L6: =100000*G6/$N$7 -> 11.295861 | M6: Population > 50 ans | N6: =population!C11 -> 2267444
A7: 44202 | B7: =vaccine!AA5 -> 65 | C7: =vaccine!AB5 -> 1244 | D7: =vaccine!AC5 -> 0 | E7: =vaccine!AD5 -> 0 | F7: =SUM(B7:E7) -> 1309 | G7: =B7+G6 -> 195 | H7: =C7+H6 -> 2242 | I7: =F7+I6 -> 2437 | J7: =(I7/$N$5)*100000 -> 44.214656 | K7: =100000*I7/$N$6 -> 107.47785 | L7: =100000*G7/$N$7 -> 16.943792 | M7: Population > 65 ans | N7: =population!E11 -> 1150864
A8: 44203 | B8: =vaccine!AA6 -> 750 | C8: =vaccine!AB6 -> 1705 | D8: =vaccine!AC6 -> 0 | E8: =vaccine!AD6 -> 0 | F8: =SUM(B8:E8) -> 2455 | G8: =B8+G7 -> 945 | H8: =C8+H7 -> 3947 | I8: =F8+I7 -> 4892 | J8: =(I8/$N$5)*100000 -> 88.755888 | K8: =100000*I8/$N$6 -> 215.74954 | L8: =100000*G8/$N$7 -> 82.112222
A9: 44204 | B9: =vaccine!AA7 -> 684 | C9: =vaccine!AB7 -> 2667 | D9: =vaccine!AC7 -> 0 | E9: =vaccine!AD7 -> 0 | F9: =SUM(B9:E9) -> 3351 | G9: =B9+G8 -> 1629 | H9: =C9+H8 -> 6614 | I9: =F9+I8 -> 8243 | J9: =(I9/$N$5)*100000 -> 149.55331 | K9: =100000*I9/$N$6 -> 363.53709 | L9: =100000*G9/$N$7 -> 141.54583
A10: 44205 | B10: =vaccine!AA8 -> 232 | C10: =vaccine!AB8 -> 869 | D10: =vaccine!AC8 -> 0 | E10: =vaccine!AD8 -> 0 | F10: =SUM(B10:E10) -> 1101 | G10: =B10+G9 -> 1861 | H10: =C10+H9 -> 7483 | I10: =F10+I9 -> 9344 | J10: =(I10/$N$5)*100000 -> 169.52883 | K10: =100000*I10/$N$6 -> 412.09397 | L10: =100000*G10/$N$7 -> 161.7046
A11: 44206 | B11: =vaccine!AA9 -> 0 | C11: =vaccine!AB9 -> 307 | D11: =vaccine!AC9 -> 0 | E11: =vaccine!AD9 -> 0 | F11: =SUM(B11:E11) -> 307 | G11: =B11+G10 -> 1861 | H11: =C11+H10 -> 7790 | I11: =F11+I10 -> 9651 | J11: =(I11/$N$5)*100000 -> 175.09875 | K11: =100000*I11/$N$6 -> 425.63344 | L11: =100000*G11/$N$7 -> 161.7046
A12: 44207 | B12: =vaccine!AA10 -> 303 | C12: =vaccine!AB10 -> 2623 | D12: =vaccine!AC10 -> 0 | E12: =vaccine!AD10 -> 0 | F12: =SUM(B12:E12) -> 2926 | G12: =B12+G11 -> 2164 | H12: =C12+H11 -> 10413 | I12: =F12+I11 -> 12577 | J12: =(I12/$N$5)*100000 -> 228.18536 | K12: =100000*I12/$N$6 -> 554.67743 | L12: =100000*G12/$N$7 -> 188.03264
A13: 44208 | B13: =vaccine!AA11 -> 1284 | C13: =vaccine!AB11 -> 3613 | D13: =vaccine!AC11 -> 0 | E13: =vaccine!AD11 -> 0 | F13: =SUM(B13:E13) -> 4897 | G13: =B13+G12 -> 3448 | H13: =C13+H12 -> 14026 | I13: =F13+I12 -> 17474 | J13: =(I13/$N$5)*100000 -> 317.03197 | K13: =100000*I13/$N$6 -> 770.64748 | L13: =100000*G13/$N$7 -> 299.601
A14: 44209 | B14: =vaccine!AA12 -> 2362 | C14: =vaccine!AB12 -> 4094 | D14: =vaccine!AC12 -> 0 | E14: =vaccine!AD12 -> 0 | F14: =SUM(B14:E14) -> 6456 | G14: =B14+G13 -> 5810 | H14: =C14+H13 -> 18120 | I14: =F14+I13 -> 23930 | J14: =(I14/$N$5)*100000 -> 434.16361 | K14: =100000*I14/$N$6 -> 1055.3734 | L14: =100000*G14/$N$7 -> 504.8381
A15: 44210 | B15: =vaccine!AA13 -> 3608 | C15: =vaccine!AB13 -> 3711 | D15: =vaccine!AC13 -> 0 | E15: =vaccine!AD13 -> 0 | F15: =SUM(B15:E15) -> 7319 | G15: =B15+G14 -> 9418 | H15: =C15+H14 -> 21831 | I15: =F15+I14 -> 31249 | J15: =(I15/$N$5)*100000 -> 566.95273 | K15: =100000*I15/$N$6 -> 1378.1597 | L15: =100000*G15/$N$7 -> 818.3417
A16: 44211 | B16: =vaccine!AA14 -> 2340 | C16: =vaccine!AB14 -> 4276 | D16: =vaccine!AC14 -> 0 | E16: =vaccine!AD14 -> 0 | F16: =SUM(B16:E16) -> 6616 | G16: =B16+G15 -> 11758 | H16: =C16+H15 -> 26107 | I16: =F16+I15 -> 37865 | J16: =(I16/$N$5)*100000 -> 686.98727 | K16: =100000*I16/$N$6 -> 1669.942 | L16: =100000*G16/$N$7 -> 1021.6672
A17: 44212 | B17: =vaccine!AA15 -> 317 | C17: =vaccine!AB15 -> 451 | D17: =vaccine!AC15 -> 0 | E17: =vaccine!AD15 -> 0 | F17: =SUM(B17:E17) -> 768 | G17: =B17+G16 -> 12075 | H17: =C17+H16 -> 26558 | I17: =F17+I16 -> 38633 | J17: =(I17/$N$5)*100000 -> 700.92114 | K17: =100000*I17/$N$6 -> 1703.8128 | L17: =100000*G17/$N$7 -> 1049.2117
A18: 44213 | B18: =vaccine!AA16 -> 249 | C18: =vaccine!AB16 -> 249 | D18: =vaccine!AC16 -> 0 | E18: =vaccine!AD16 -> 0 | F18: =SUM(B18:E18) -> 498 | G18: =B18+G17 -> 12324 | H18: =C18+H17 -> 26807 | I18: =F18+I17 -> 39131 | J18: =(I18/$N$5)*100000 -> 709.95639 | K18: =100000*I18/$N$6 -> 1725.7758 | L18: =100000*G18/$N$7 -> 1070.8476
A19: 44214 | B19: =vaccine!AA17 -> 1520 | C19: =vaccine!AB17 -> 1523 | D19: =vaccine!AC17 -> 1519 | E19: =vaccine!AD17 -> 328 | F19: =SUM(B19:E19) -> 4890 | G19: =B19+G18 -> 13844 | H19: =C19+H18 -> 28330 | I19: =F19+I18 -> 44021 | J19: =(I19/$N$5)*100000 -> 798.67599 | K19: =100000*I19/$N$6 -> 1941.4371 | L19: =100000*G19/$N$7 -> 1202.9223
... A25: 44220 | B25: =vaccine!AA23 -> 560 | C25: =vaccine!AB23 -> 146 | D25: =vaccine!AC23 -> 377 | E25: =vaccine!AD23 -> 14 | F25: =SUM(B25:E25) -> 1097 | G25: =B25+G24 -> 20082 | H25: =C25+H24 -> 36927 | I25: =F25+I24 -> 75915 | J25: =(I25/$N$5)*100000 -> 1377.331 | K25: =100000*I25/$N$6 -> 3348.043 | L25: =100000*G25/$N$7 -> 1744.9499
A26: 44221
A27: 44222
A28: 44223
A29: 44224
A30: 44225
A31: 44226
A32: 44227

Sheet HDF
M1: Nb cumulé vaccinations depuis 04/01 | N1: =SUM(F5:F293) -> 78234
M2: % residents vaccinés | N2: =SUM(B5:B93)/SUM(F5:F93) -> 0.15794923
B3: Nombre personnes vaccinées | M3: % professionnels vaccinés | N3: =SUM(C5:C93)/SUM(F5:F93) -> 0.48138917
B4: résidents / patients | C4: prof. | D4: 75 + | E4: Autres | F4: total quotidien | G4: residents /patients Cumul | H4: prof. Cumul | I4: total Cumul | J4: Taux de vaccination pour 100 000 hab. (tous âges) | K4: Taux de vaccination pour 100 000 hab. (>50 ans) | L4: Taux de vaccination pour 100 000 hab. (>=65 ans)
A5: 44200 | B5: =vaccine!AF3 -> 48 | C5: =vaccine!AG3 -> 43 | D5: =vaccine!AH3 -> 0 | E5: =vaccine!AI3 -> 0 | F5: =SUM(B5:E5) -> 91 | G5: =B5 -> 48 | H5: =C5 -> 43 | I5: =F5 -> 91 | J5: =(I5/$N$5)*100000 -> 1.526164 | K5: =100000*I5/$N$6 -> 4.0724083 | L5: =100000*G5/$N$7 -> 4.3250763 | M5: Population totale | N5: =population!B12 -> 5962662
A6: 44201 | B6: =vaccine!AF4 -> 55 | C6: =vaccine!AG4 -> 212 | D6: =vaccine!AH4 -> 0 | E6: =vaccine!AI4 -> 0 | F6: =SUM(B6:E6) -> 267 | G6: =B6+G5 -> 103 | H6: =C6+H5 -> 255 | I6: =F6+I5 -> 358 | J6: =(I6/$N$5)*100000 -> 6.0040297 | K6: =100000*I6/$N$6 -> 16.021123 | L6: =100000*G6/$N$7 -> 9.280893 | M6: Population > 50 ans | N6: =population!C12 -> 2234550
A7: 44202 | B7: =vaccine!AF5 -> 316 | C7: =vaccine!AG5 -> 547 | D7: =vaccine!AH5 -> 0 | E7: =vaccine!AI5 -> 0 | F7: =SUM(B7:E7) -> 863 | G7: =B7+G6 -> 419 | H7: =C7+H6 -> 802 | I7: =F7+I6 -> 1221 | J7: =(I7/$N$5)*100000 -> 20.477431 | K7: =100000*I7/$N$6 -> 54.641874 | L7: =100000*G7/$N$7 -> 37.754312 | M7: Population > 65 ans | N7: =population!E12 -> 1109807
A8: 44203 | B8: =vaccine!AF6 -> 1092 | C8: =vaccine!AG6 -> 392 | D8: =vaccine!AH6 -> 0 | E8: =vaccine!AI6 -> 0 | F8: =SUM(B8:E8) -> 1484 | G8: =B8+G7 -> 1511 | H8: =C8+H7 -> 1194 | I8: =F8+I7 -> 2705 | J8: =(I8/$N$5)*100000 -> 45.365644 | K8: =100000*I8/$N$6 -> 121.05346 | L8: =100000*G8/$N$7 -> 136.1498
A9: 44204 | B9: =vaccine!AF7 -> 1054 | C9: =vaccine!AG7 -> 2451 | D9: =vaccine!AH7 -> 0 | E9: =vaccine!AI7 -> 0 | F9: =SUM(B9:E9) -> 3505 | G9: =B9+G8 -> 2565 | H9: =C9+H8 -> 3645 | I9: =F9+I8 -> 6210 | J9: =(I9/$N$5)*100000 -> 104.14811 | K9: =100000*I9/$N$6 -> 277.9083 | L9: =100000*G9/$N$7 -> 231.12127
A10: 44205 | B10: =vaccine!AF8 -> 29 | C10: =vaccine!AG8 -> 1117 | D10: =vaccine!AH8 -> 0 | E10: =vaccine!AI8 -> 0 | F10: =SUM(B10:E10) -> 1146 | G10: =B10+G9 -> 2594 | H10: =C10+H9 -> 4762 | I10: =F10+I9 -> 7356 | J10: =(I10/$N$5)*100000 -> 123.36772 | K10: =100000*I10/$N$6 -> 329.1938 | L10: =100000*G10/$N$7 -> 233.73433
A11: 44206 | B11: =vaccine!AF9 -> 0 | C11: =vaccine!AG9 -> 685 | D11: =vaccine!AH9 -> 0 | E11: =vaccine!AI9 -> 0 | F11: =SUM(B11:E11) -> 685 | G11: =B11+G10 -> 2594 | H11: =C11+H10 -> 5447 | I11: =F11+I10 -> 8041 | J11: =(I11/$N$5)*100000 -> 134.85587 | K11: =100000*I11/$N$6 -> 359.84874 | L11: =100000*G11/$N$7 -> 233.73433
A12: 44207 | B12: =vaccine!AF10 -> 345 | C12: =vaccine!AG10 -> 2216 | D12: =vaccine!AH10 -> 0 | E12: =vaccine!AI10 -> 0 | F12: =SUM(B12:E12) -> 2561 | G12: =B12+G11 -> 2939 | H12: =C12+H11 -> 7663 | I12: =F12+I11 -> 10602 | J12: =(I12/$N$5)*100000 -> 177.80649 | K12: =100000*I12/$N$6 -> 474.45794 | L12: =100000*G12/$N$7 -> 264.82082
A13: 44208 | B13: =vaccine!AF11 -> 1062 | C13: =vaccine!AG11 -> 3814 | D13: =vaccine!AH11 -> 0 | E13: =vaccine!AI11 -> 0 | F13: =SUM(B13:E13) -> 4876 | G13: =B13+G12 -> 4001 | H13: =C13+H12 -> 11477 | I13: =F13+I12 -> 15478 | J13: =(I13/$N$5)*100000 -> 259.58205 | K13: =100000*I13/$N$6 -> 692.66743 | L13: =100000*G13/$N$7 -> 360.51313
A14: 44209 | B14: =vaccine!AF12 -> 656 | C14: =vaccine!AG12 -> 4181 | D14: =vaccine!AH12 -> 0 | E14: =vaccine!AI12 -> 0 | F14: =SUM(B14:E14) -> 4837 | G14: =B14+G13 -> 4657 | H14: =C14+H13 -> 15658 | I14: =F14+I13 -> 20315 | J14: =(I14/$N$5)*100000 -> 340.70353 | K14: =100000*I14/$N$6 -> 909.13159 | L14: =100000*G14/$N$7 -> 419.62251
A15: 44210 | B15: =vaccine!AF13 -> 765 | C15: =vaccine!AG13 -> 4220 | D15: =vaccine!AH13 -> 0 | E15: =vaccine!AI13 -> 0 | F15: =SUM(B15:E15) -> 4985 | G15: =B15+G14 -> 5422 | H15: =C15+H14 -> 19878 | I15: =F15+I14 -> 25300 | J15: =(I15/$N$5)*100000 -> 424.30713 | K15: =100000*I15/$N$6 -> 1132.219 | L15: =100000*G15/$N$7 -> 488.55342
A16: 44211 | B16: =vaccine!AF14 -> 809 | C16: =vaccine!AG14 -> 4180 | D16: =vaccine!AH14 -> 0 | E16: =vaccine!AI14 -> 0 | F16: =SUM(B16:E16) -> 4989 | G16: =B16+G15 -> 6231 | H16: =C16+H15 -> 24058 | I16: =F16+I15 -> 30289 | J16: =(I16/$N$5)*100000 -> 507.97781 | K16: =100000*I16/$N$6 -> 1355.4854 | L16: =100000*G16/$N$7 -> 561.44897
A17: 44212 | B17: =vaccine!AF15 -> 0 | C17: =vaccine!AG15 -> 1145 | D17: =vaccine!AH15 -> 0 | E17: =vaccine!AI15 -> 0 | F17: =SUM(B17:E17) -> 1145 | G17: =B17+G16 -> 6231 | H17: =C17+H16 -> 25203 | I17: =F17+I16 -> 31434 | J17: =(I17/$N$5)*100000 -> 527.18065 | K17: =100000*I17/$N$6 -> 1406.7262 | L17: =100000*G17/$N$7 -> 561.44897
A18: 44213 | B18: =vaccine!AF16 -> 0 | C18: =vaccine!AG16 -> 723 | D18: =vaccine!AH16 -> 0 | E18: =vaccine!AI16 -> 0 | F18: =SUM(B18:E18) -> 723 | G18: =B18+G17 -> 6231 | H18: =C18+H17 -> 25926 | I18: =F18+I17 -> 32157 | J18: =(I18/$N$5)*100000 -> 539.3061 | K18: =100000*I18/$N$6 -> 1439.0817 | L18: =100000*G18/$N$7 -> 561.44897
A19: 44214 | B19: =vaccine!AF17 -> 353 | C19: =vaccine!AG17 -> 1612 | D19: =vaccine!AH17 -> 1944 | E19: =vaccine!AI17 -> 134 | F19: =SUM(B19:E19) -> 4043 | G19: =B19+G18 -> 6584 | H19: =C19+H18 -> 27538 | I19: =F19+I18 -> 36200 | J19: =(I19/$N$5)*100000 -> 607.11139 | K19: =100000*I19/$N$6 -> 1620.013 | L19: =100000*G19/$N$7 -> 593.2563
... A25: 44220 | B25: =vaccine!AF23 -> 526 | C25: =vaccine!AG23 -> 280 | D25: =vaccine!AH23 -> 318 | E25: =vaccine!AI23 -> 50 | F25: =SUM(B25:E25) -> 1174 | G25: =B25+G24 -> 12357 | H25: =C25+H24 -> 37661 | I25: =F25+I24 -> 78234 | J25: =(I25/$N$5)*100000 -> 1312.065 | K25: =100000*I25/$N$6 -> 3501.1076 | L25: =100000*G25/$N$7 -> 1113.4368
A26: 44221
A27: 44222
A28: 44223
A29: 44224
A30: 44225
A31: 44226
A32: 44227

Sheet IDF
M1: Nb cumulé vaccinations depuis 04/01 | N1: =SUM(F5:F293) -> 169589
M2: % residents vaccinés | N2: =SUM(B5:B93)/SUM(F5:F93) -> 0.18546604
B3: Nombre personnes vaccinées | M3: % professionnels vaccinés | N3: =SUM(C5:C93)/SUM(F5:F93) -> 0.54265902
B4: résidents / patients | C4: prof. | D4: 75 + | E4: Autres | F4: total quotidien | G4: residents /patients Cumul | H4: prof. Cumul | I4: total Cumul | J4: Taux de vaccination pour 100 000 hab. (tous âges) | K4: Taux de vaccination pour 100 000 hab. (>50 ans) | L4: Taux de vaccination pour 100 000 hab. (>=65 ans)
A5: 44200 | B5: =vaccine!AK3 -> 41 | C5: =vaccine!AL3 -> 139 | D5: =vaccine!AM3 -> 0 | E5: =vaccine!AN3 -> 0 | F5: =SUM(B5:E5) -> 180 | G5: =B5 -> 41 | H5: =C5 -> 139 | I5: =F5 -> 180 | J5: =(I5/$N$5)*100000 -> 1.4660117 | K5: =100000*I5/$N$6 -> 4.438232 | L5: =100000*G5/$N$7 -> 2.1742162 | M5: Population totale | N5: =population!B13 -> 12278210
A6: 44201 | B6: =vaccine!AK4 -> 613 | C6: =vaccine!AL4 -> 1116 | D6: =vaccine!AM4 -> 0 | E6: =vaccine!AN4 -> 0 | F6: =SUM(B6:E6) -> 1729 | G6: =B6+G5 -> 654 | H6: =C6+H5 -> 1255 | I6: =F6+I5 -> 1909 | J6: =(I6/$N$5)*100000 -> 15.547869 | K6: =100000*I6/$N$6 -> 47.069916 | L6: =100000*G6/$N$7 -> 34.6814 | M6: Population > 50 ans | N6: =population!C13 -> 4055669
A7: 44202 | B7: =vaccine!AK5 -> 312 | C7: =vaccine!AL5 -> 2773 | D7: =vaccine!AM5 -> 0 | E7: =vaccine!AN5 -> 0 | F7: =SUM(B7:E7) -> 3085 | G7: =B7+G6 -> 966 | H7: =C7+H6 -> 4028 | I7: =F7+I6 -> 4994 | J7: =(I7/$N$5)*100000 -> 40.673681 | K7: =100000*I7/$N$6 -> 123.13628 | L7: =100000*G7/$N$7 -> 51.226656 | M7: Population > 65 ans | N7: =population!E13 -> 1885737
A8: 44203 | B8: =vaccine!AK6 -> 993 | C8: =vaccine!AL6 -> 5019 | D8: =vaccine!AM6 -> 0 | E8: =vaccine!AN6 -> 0 | F8: =SUM(B8:E8) -> 6012 | G8: =B8+G7 -> 1959 | H8: =C8+H7 -> 9047 | I8: =F8+I7 -> 11006 | J8: =(I8/$N$5)*100000 -> 89.638473 | K8: =100000*I8/$N$6 -> 271.37323 | L8: =100000*G8/$N$7 -> 103.88511
A9: 44204 | B9: =vaccine!AK7 -> 1153 | C9: =vaccine!AL7 -> 7027 | D9: =vaccine!AM7 -> 0 | E9: =vaccine!AN7 -> 0 | F9: =SUM(B9:E9) -> 8180 | G9: =B9+G8 -> 3112 | H9: =C9+H8 -> 16074 | I9: =F9+I8 -> 19186 | J9: =(I9/$N$5)*100000 -> 156.26056 | K9: =100000*I9/$N$6 -> 473.06622 | L9: =100000*G9/$N$7 -> 165.02832
A10: 44205 | B10: =vaccine!AK8 -> 153 | C10: =vaccine!AL8 -> 2836 | D10: =vaccine!AM8 -> 0 | E10: =vaccine!AN8 -> 0 | F10: =SUM(B10:E10) -> 2989 | G10: =B10+G9 -> 3265 | H10: =C10+H9 -> 18910 | I10: =F10+I9 -> 22175 | J10: =(I10/$N$5)*100000 -> 180.6045 | K10: =100000*I10/$N$6 -> 546.76553 | L10: =100000*G10/$N$7 -> 173.14185
A11: 44206 | B11: =vaccine!AK9 -> 40 | C11: =vaccine!AL9 -> 1651 | D11: =vaccine!AM9 -> 0 | E11: =vaccine!AN9 -> 0 | F11: =SUM(B11:E11) -> 1691 | G11: =B11+G10 -> 3305 | H11: =C11+H10 -> 20561 | I11: =F11+I10 -> 23866 | J11: =(I11/$N$5)*100000 -> 194.37687 | K11: =100000*I11/$N$6 -> 588.46025 | L11: =100000*G11/$N$7 -> 175.26304
A12: 44207 | B12: =vaccine!AK10 -> 660 | C12: =vaccine!AL10 -> 5483 | D12: =vaccine!AM10 -> 0 | E12: =vaccine!AN10 -> 0 | F12: =SUM(B12:E12) -> 6143 | G12: =B12+G11 -> 3965 | H12: =C12+H11 -> 26044 | I12: =F12+I11 -> 30009 | J12: =(I12/$N$5)*100000 -> 244.40859 | K12: =100000*I12/$N$6 -> 739.92725 | L12: =100000*G12/$N$7 -> 210.26262
A13: 44208 | B13: =vaccine!AK11 -> 1183 | C13: =vaccine!AL11 -> 9265 | D13: =vaccine!AM11 -> 0 | E13: =vaccine!AN11 -> 0 | F13: =SUM(B13:E13) -> 10448 | G13: =B13+G12 -> 5148 | H13: =C13+H12 -> 35309 | I13: =F13+I12 -> 40457 | J13: =(I13/$N$5)*100000 -> 329.50243 | K13: =100000*I13/$N$6 -> 997.54196 | L13: =100000*G13/$N$7 -> 272.99671
A14: 44209 | B14: =vaccine!AK12 -> 1527 | C14: =vaccine!AL12 -> 8658 | D14: =vaccine!AM12 -> 0 | E14: =vaccine!AN12 -> 0 | F14: =SUM(B14:E14) -> 10185 | G14: =B14+G13 -> 6675 | H14: =C14+H13 -> 43967 | I14: =F14+I13 -> 50642 | J14: =(I14/$N$5)*100000 -> 412.45426 | K14: =100000*I14/$N$6 -> 1248.6719 | L14: =100000*G14/$N$7 -> 353.97301
A15: 44210 | B15: =vaccine!AK13 -> 1718 | C15: =vaccine!AL13 -> 8813 | D15: =vaccine!AM13 -> 0 | E15: =vaccine!AN13 -> 0 | F15: =SUM(B15:E15) -> 10531 | G15: =B15+G14 -> 8393 | H15: =C15+H14 -> 52780 | I15: =F15+I14 -> 61173 | J15: =(I15/$N$5)*100000 -> 498.22409 | K15: =100000*I15/$N$6 -> 1508.3332 | L15: =100000*G15/$N$7 -> 445.07797
A16: 44211 | B16: =vaccine!AK14 -> 2331 | C16: =vaccine!AL14 -> 8748 | D16: =vaccine!AM14 -> 0 | E16: =vaccine!AN14 -> 0 | F16: =SUM(B16:E16) -> 11079 | G16: =B16+G15 -> 10724 | H16: =C16+H15 -> 61528 | I16: =F16+I15 -> 72252 | J16: =(I16/$N$5)*100000 -> 588.45711 | K16: =100000*I16/$N$6 -> 1781.5063 | L16: =100000*G16/$N$7 -> 568.69012
A17: 44212 | B17: =vaccine!AK15 -> 856 | C17: =vaccine!AL15 -> 3665 | D17: =vaccine!AM15 -> 0 | E17: =vaccine!AN15 -> 0 | F17: =SUM(B17:E17) -> 4521 | G17: =B17+G16 -> 11580 | H17: =C17+H16 -> 65193 | I17: =F17+I16 -> 76773 | J17: =(I17/$N$5)*100000 -> 625.27844 | K17: =100000*I17/$N$6 -> 1892.9799 | L17: =100000*G17/$N$7 -> 614.08351
A18: 44213 | B18: =vaccine!AK16 -> 73 | C18: =vaccine!AL16 -> 812 | D18: =vaccine!AM16 -> 0 | E18: =vaccine!AN16 -> 0 | F18: =SUM(B18:E18) -> 885 | G18: =B18+G17 -> 11653 | H18: =C18+H17 -> 66005 | I18: =F18+I17 -> 77658 | J18: =(I18/$N$5)*100000 -> 632.48633 | K18: =100000*I18/$N$6 -> 1914.8012 | L18: =100000*G18/$N$7 -> 617.95468
A19: 44214 | B19: =vaccine!AK17 -> 660 | C19: =vaccine!AL17 -> 4513 | D19: =vaccine!AM17 -> 3524 | E19: =vaccine!AN17 -> 524 | F19: =SUM(B19:E19) -> 9221 | G19: =B19+G18 -> 12313 | H19: =C19+H18 -> 70518 | I19: =F19+I18 -> 86879 | J19: =(I19/$N$5)*100000 -> 707.58686 | K19: =100000*I19/$N$6 -> 2142.162 | L19: =100000*G19/$N$7 -> 652.95426
... A25: 44220 | B25: =vaccine!AK23 -> 113 | C25: =vaccine!AL23 -> 508 | D25: =vaccine!AM23 -> 1302 | E25: =vaccine!AN23 -> 308 | F25: =SUM(B25:E25) -> 2231 | G25: =B25+G24 -> 31453 | H25: =C25+H24 -> 92029 | I25: =F25+I24 -> 169589 | J25: =(I25/$N$5)*100000 -> 1381.2192 | K25: =100000*I25/$N$6 -> 4181.5296 | L25: =100000*G25/$N$7 -> 1667.942
A26: 44221
A27: 44222
A28: 44223
A29: 44224
A30: 44225
A31: 44226
A32: 44227

Sheet NA
M1: Nb cumulé vaccinations depuis 04/01 | N1: =SUM(F5:F293) -> 105828
M2: % residents vaccinés | N2: =SUM(B5:B93)/SUM(F5:F93) -> 0.28142836
B3: Nombre personnes vaccinées | M3: % professionnels vaccinés | N3: =SUM(C5:C93)/SUM(F5:F93) -> 0.49219488
B4: résidents / patients | C4: prof. | D4: 75 + | E4: Autres | F4: total quotidien | G4: residents /patients Cumul | H4: prof. Cumul | I4: total Cumul | J4: Taux de vaccination pour 100 000 hab. (tous âges) | K4: Taux de vaccination pour 100 000 hab. (>50 ans) | L4: Taux de vaccination pour 100 000 hab. (>=65 ans)
A5: 44200 | B5: =vaccine!AP3 -> 10 | C5: =vaccine!AQ3 -> 80 | D5: =vaccine!AR3 -> 0 | E5: =vaccine!AS3 -> 0 | F5: =SUM(B5:E5) -> 90 | G5: =B5 -> 10 | H5: =C5 -> 80 | I5: =F5 -> 90 | J5: =(I5/$N$5)*100000 -> 1.5000045 | K5: =100000*I5/$N$6 -> 3.3652383 | L5: =100000*G5/$N$7 -> 0.68218175 | M5: Population totale | N5: =population!B15 -> 5999982
A6: 44201 | B6: =vaccine!AP4 -> 21 | C6: =vaccine!AQ4 -> 59 | D6: =vaccine!AR4 -> 0 | E6: =vaccine!AS4 -> 0 | F6: =SUM(B6:E6) -> 80 | G6: =B6+G5 -> 31 | H6: =C6+H5 -> 139 | I6: =F6+I5 -> 170 | J6: =(I6/$N$5)*100000 -> 2.8333418 | K6: =100000*I6/$N$6 -> 6.3565612 | L6: =100000*G6/$N$7 -> 2.1147634 | M6: Population > 50 ans | N6: =population!C15 -> 2674402
A7: 44202 | B7: =vaccine!AP5 -> 94 | C7: =vaccine!AQ5 -> 1245 | D7: =vaccine!AR5 -> 0 | E7: =vaccine!AS5 -> 0 | F7: =SUM(B7:E7) -> 1339 | G7: =B7+G6 -> 125 | H7: =C7+H6 -> 1384 | I7: =F7+I6 -> 1509 | J7: =(I7/$N$5)*100000 -> 25.150075 | K7: =100000*I7/$N$6 -> 56.423829 | L7: =100000*G7/$N$7 -> 8.5272719 | M7: Population > 65 ans | N7: =population!E15 -> 1465885
A8: 44203 | B8: =vaccine!AP6 -> 1108 | C8: =vaccine!AQ6 -> 3117 | D8: =vaccine!AR6 -> 0 | E8: =vaccine!AS6 -> 0 | F8: =SUM(B8:E8) -> 4225 | G8: =B8+G7 -> 1233 | H8: =C8+H7 -> 4501 | I8: =F8+I7 -> 5734 | J8: =(I8/$N$5)*100000 -> 95.566953 | K8: =100000*I8/$N$6 -> 214.40307 | L8: =100000*G8/$N$7 -> 84.11301
A9: 44204 | B9: =vaccine!AP7 -> 1144 | C9: =vaccine!AQ7 -> 3594 | D9: =vaccine!AR7 -> 0 | E9: =vaccine!AS7 -> 0 | F9: =SUM(B9:E9) -> 4738 | G9: =B9+G8 -> 2377 | H9: =C9+H8 -> 8095 | I9: =F9+I8 -> 10472 | J9: =(I9/$N$5)*100000 -> 174.53386 | K9: =100000*I9/$N$6 -> 391.56417 | L9: =100000*G9/$N$7 -> 162.1546
A10: 44205 | B10: =vaccine!AP8 -> 351 | C10: =vaccine!AQ8 -> 1330 | D10: =vaccine!AR8 -> 0 | E10: =vaccine!AS8 -> 0 | F10: =SUM(B10:E10) -> 1681 | G10: =B10+G9 -> 2728 | H10: =C10+H9 -> 9425 | I10: =F10+I9 -> 12153 | J10: =(I10/$N$5)*100000 -> 202.55061 | K10: =100000*I10/$N$6 -> 454.41934 | L10: =100000*G10/$N$7 -> 186.09918
A11: 44206 | B11: =vaccine!AP9 -> 143 | C11: =vaccine!AQ9 -> 229 | D11: =vaccine!AR9 -> 0 | E11: =vaccine!AS9 -> 0 | F11: =SUM(B11:E11) -> 372 | G11: =B11+G10 -> 2871 | H11: =C11+H10 -> 9654 | I11: =F11+I10 -> 12525 | J11: =(I11/$N$5)*100000 -> 208.75063 | K11: =100000*I11/$N$6 -> 468.32899 | L11: =100000*G11/$N$7 -> 195.85438
A12: 44207 | B12: =vaccine!AP10 -> 657 | C12: =vaccine!AQ10 -> 3778 | D12: =vaccine!AR10 -> 0 | E12: =vaccine!AS10 -> 0 | F12: =SUM(B12:E12) -> 4435 | G12: =B12+G11 -> 3528 | H12: =C12+H11 -> 13432 | I12: =F12+I11 -> 16960 | J12: =(I12/$N$5)*100000 -> 282.66751 | K12: =100000*I12/$N$6 -> 634.16046 | L12: =100000*G12/$N$7 -> 240.67372
A13: 44208 | B13: =vaccine!AP11 -> 1643 | C13: =vaccine!AQ11 -> 3914 | D13: =vaccine!AR11 -> 0 | E13: =vaccine!AS11 -> 0 | F13: =SUM(B13:E13) -> 5557 | G13: =B13+G12 -> 5171 | H13: =C13+H12 -> 17346 | I13: =F13+I12 -> 22517 | J13: =(I13/$N$5)*100000 -> 375.28446 | K13: =100000*I13/$N$6 -> 841.94523 | L13: =100000*G13/$N$7 -> 352.75618
A14: 44209 | B14: =vaccine!AP12 -> 1753 | C14: =vaccine!AQ12 -> 4101 | D14: =vaccine!AR12 -> 0 | E14: =vaccine!AS12 -> 0 | F14: =SUM(B14:E14) -> 5854 | G14: =B14+G13 -> 6924 | H14: =C14+H13 -> 21447 | I14: =F14+I13 -> 28371 | J14: =(I14/$N$5)*100000 -> 472.85142 | K14: =100000*I14/$N$6 -> 1060.8353 | L14: =100000*G14/$N$7 -> 472.34265
A15: 44210 | B15: =vaccine!AP13 -> 2093 | C15: =vaccine!AQ13 -> 4669 | D15: =vaccine!AR13 -> 0 | E15: =vaccine!AS13 -> 0 | F15: =SUM(B15:E15) -> 6762 | G15: =B15+G14 -> 9017 | H15: =C15+H14 -> 26116 | I15: =F15+I14 -> 35133 | J15: =(I15/$N$5)*100000 -> 585.55176 | K15: =100000*I15/$N$6 -> 1313.6769 | L15: =100000*G15/$N$7 -> 615.12329
A16: 44211 | B16: =vaccine!AP14 -> 1985 | C16: =vaccine!AQ14 -> 5169 | D16: =vaccine!AR14 -> 0 | E16: =vaccine!AS14 -> 0 | F16: =SUM(B16:E16) -> 7154 | G16: =B16+G15 -> 11002 | H16: =C16+H15 -> 31285 | I16: =F16+I15 -> 42287 | J16: =(I16/$N$5)*100000 -> 704.78545 | K16: =100000*I16/$N$6 -> 1581.1759 | L16: =100000*G16/$N$7 -> 750.53637
A17: 44212 | B17: =vaccine!AP15 -> 450 | C17: =vaccine!AQ15 -> 1212 | D17: =vaccine!AR15 -> 0 | E17: =vaccine!AS15 -> 0 | F17: =SUM(B17:E17) -> 1662 | G17: =B17+G16 -> 11452 | H17: =C17+H16 -> 32497 | I17: =F17+I16 -> 43949 | J17: =(I17/$N$5)*100000 -> 732.48553 | K17: =100000*I17/$N$6 -> 1643.3206 | L17: =100000*G17/$N$7 -> 781.23454
A18: 44213 | B18: =vaccine!AP16 -> 271 | C18: =vaccine!AQ16 -> 204 | D18: =vaccine!AR16 -> 0 | E18: =vaccine!AS16 -> 0 | F18: =SUM(B18:E18) -> 475 | G18: =B18+G17 -> 11723 | H18: =C18+H17 -> 32701 | I18: =F18+I17 -> 44424 | J18: =(I18/$N$5)*100000 -> 740.40222 | K18: =100000*I18/$N$6 -> 1661.0816 | L18: =100000*G18/$N$7 -> 799.72167
A19: 44214 | B19: =vaccine!AP17 -> 889 | C19: =vaccine!AQ17 -> 4352 | D19: =vaccine!AR17 -> 1854 | E19: =vaccine!AS17 -> 74 | F19: =SUM(B19:E19) -> 7169 | G19: =B19+G18 -> 12612 | H19: =C19+H18 -> 37053 | I19: =F19+I18 -> 51593 | J19: =(I19/$N$5)*100000 -> 859.88591 | K19: =100000*I19/$N$6 -> 1929.1415 | L19: =100000*G19/$N$7 -> 860.36763
... A25: 44220 | B25: =vaccine!AP23 -> 864 | C25: =vaccine!AQ23 -> 305 | D25: =vaccine!AR23 -> 534 | E25: =vaccine!AS23 -> 90 | F25: =SUM(B25:E25) -> 1793 | G25: =B25+G24 -> 29783 | H25: =C25+H24 -> 52088 | I25: =F25+I24 -> 105828 | J25: =(I25/$N$5)*100000 -> 1763.8053 | K25: =100000*I25/$N$6 -> 3957.0715 | L25: =100000*G25/$N$7 -> 2031.7419
A26: 44221
A27: 44222
A28: 44223
A29: 44224
A30: 44225
A31: 44226
A32: 44227

Sheet NORM
M1: Nb cumulé vaccinations depuis 04/01 | N1: =SUM(F5:F293) -> 50038
M2: % residents vaccinés | N2: =SUM(B5:B93)/SUM(F5:F93) -> 0.23422199
B3: Nombre personnes vaccinées | M3: % professionnels vaccinés | N3: =SUM(C5:C93)/SUM(F5:F93) -> 0.52384188
B4: résidents / patients | C4: prof. | D4: 75 + | E4: Autres | F4: total quotidien | G4: residents /patients Cumul | H4: prof. Cumul | I4: total Cumul | J4: Taux de vaccination pour 100 000 hab. (tous âges) | K4: Taux de vaccination pour 100 000 hab. (>50 ans) | L4: Taux de vaccination pour 100 000 hab. (>=65 ans)
A5: 44200 | B5: =vaccine!AU3 -> 0 | C5: =vaccine!AV3 -> 16 | D5: =vaccine!AW3 -> 0 | E5: =vaccine!AX3 -> 0 | F5: =SUM(B5:E5) -> 16 | G5: =B5 -> 0 | H5: =C5 -> 16 | I5: =F5 -> 16 | J5: =(I5/$N$5)*100000 -> 0.4843348 | K5: =100000*I5/$N$6 -> 1.1527178 | L5: =100000*G5/$N$7 -> 0 | M5: Population totale | N5: =population!B14 -> 3303500
A6: 44201 | B6: =vaccine!AU4 -> 33 | C6: =vaccine!AV4 -> 212 | D6: =vaccine!AW4 -> 0 | E6: =vaccine!AX4 -> 0 | F6: =SUM(B6:E6) -> 245 | G6: =B6+G5 -> 33 | H6: =C6+H5 -> 228 | I6: =F6+I5 -> 261 | J6: =(I6/$N$5)*100000 -> 7.9007114 | K6: =100000*I6/$N$6 -> 18.803709 | L6: =100000*G6/$N$7 -> 4.4873721 | M6: Population > 50 ans | N6: =population!C14 -> 1388024
A7: 44202 | B7: =vaccine!AU5 -> 304 | C7: =vaccine!AV5 -> 1221 | D7: =vaccine!AW5 -> 0 | E7: =vaccine!AX5 -> 0 | F7: =SUM(B7:E7) -> 1525 | G7: =B7+G6 -> 337 | H7: =C7+H6 -> 1449 | I7: =F7+I6 -> 1786 | J7: =(I7/$N$5)*100000 -> 54.063872 | K7: =100000*I7/$N$6 -> 128.67213 | L7: =100000*G7/$N$7 -> 45.825588 | M7: Population > 65 ans | N7: =population!E14 -> 735397
A8: 44203 | B8: =vaccine!AU6 -> 456 | C8: =vaccine!AV6 -> 1858 | D8: =vaccine!AW6 -> 0 | E8: =vaccine!AX6 -> 0 | F8: =SUM(B8:E8) -> 2314 | G8: =B8+G7 -> 793 | H8: =C8+H7 -> 3307 | I8: =F8+I7 -> 4100 | J8: =(I8/$N$5)*100000 -> 124.11079 | K8: =100000*I8/$N$6 -> 295.38394 | L8: =100000*G8/$N$7 -> 107.83291
A9: 44204 | B9: =vaccine!AU7 -> 746 | C9: =vaccine!AV7 -> 2478 | D9: =vaccine!AW7 -> 0 | E9: =vaccine!AX7 -> 0 | F9: =SUM(B9:E9) -> 3224 | G9: =B9+G8 -> 1539 | H9: =C9+H8 -> 5785 | I9: =F9+I8 -> 7324 | J9: =(I9/$N$5)*100000 -> 221.70425 | K9: =100000*I9/$N$6 -> 527.65658 | L9: =100000*G9/$N$7 -> 209.27472
A10: 44205 | B10: =vaccine!AU8 -> 337 | C10: =vaccine!AV8 -> 1250 | D10: =vaccine!AW8 -> 0 | E10: =vaccine!AX8 -> 0 | F10: =SUM(B10:E10) -> 1587 | G10: =B10+G9 -> 1876 | H10: =C10+H9 -> 7035 | I10: =F10+I9 -> 8911 | J10: =(I10/$N$5)*100000 -> 269.74421 | K10: =100000*I10/$N$6 -> 641.99178 | L10: =100000*G10/$N$7 -> 255.10031
A11: 44206 | B11: =vaccine!AU9 -> 0 | C11: =vaccine!AV9 -> 693 | D11: =vaccine!AW9 -> 0 | E11: =vaccine!AX9 -> 0 | F11: =SUM(B11:E11) -> 693 | G11: =B11+G10 -> 1876 | H11: =C11+H10 -> 7728 | I11: =F11+I10 -> 9604 | J11: =(I11/$N$5)*100000 -> 290.72196 | K11: =100000*I11/$N$6 -> 691.91887 | L11: =100000*G11/$N$7 -> 255.10031
A12: 44207 | B12: =vaccine!AU10 -> 684 | C12: =vaccine!AV10 -> 2182 | D12: =vaccine!AW10 -> 0 | E12: =vaccine!AX10 -> 0 | F12: =SUM(B12:E12) -> 2866 | G12: =B12+G11 -> 2560 | H12: =C12+H11 -> 9910 | I12: =F12+I11 -> 12470 | J12: =(I12/$N$5)*100000 -> 377.47843 | K12: =100000*I12/$N$6 -> 898.39945 | L12: =100000*G12/$N$7 -> 348.11129
A13: 44208 | B13: =vaccine!AU11 -> 943 | C13: =vaccine!AV11 -> 2575 | D13: =vaccine!AW11 -> 0 | E13: =vaccine!AX11 -> 0 | F13: =SUM(B13:E13) -> 3518 | G13: =B13+G12 -> 3503 | H13: =C13+H12 -> 12485 | I13: =F13+I12 -> 15988 | J13: =(I13/$N$5)*100000 -> 483.97155 | K13: =100000*I13/$N$6 -> 1151.8533 | L13: =100000*G13/$N$7 -> 476.34135
A14: 44209 | B14: =vaccine!AU12 -> 1018 | C14: =vaccine!AV12 -> 2499 | D14: =vaccine!AW12 -> 0 | E14: =vaccine!AX12 -> 0 | F14: =SUM(B14:E14) -> 3517 | G14: =B14+G13 -> 4521 | H14: =C14+H13 -> 14984 | I14: =F14+I13 -> 19505 | J14: =(I14/$N$5)*100000 -> 590.43439 | K14: =100000*I14/$N$6 -> 1405.2351 | L14: =100000*G14/$N$7 -> 614.76998
A15: 44210 | B15: =vaccine!AU13 -> 2301 | C15: =vaccine!AV13 -> 2704 | D15: =vaccine!AW13 -> 0 | E15: =vaccine!AX13 -> 0 | F15: =SUM(B15:E15) -> 5005 | G15: =B15+G14 -> 6822 | H15: =C15+H14 -> 17688 | I15: =F15+I14 -> 24510 | J15: =(I15/$N$5)*100000 -> 741.94037 | K15: =100000*I15/$N$6 -> 1765.8196 | L15: =100000*G15/$N$7 -> 927.6622
A16: 44211 | B16: =vaccine!AU14 -> 2080 | C16: =vaccine!AV14 -> 3152 | D16: =vaccine!AW14 -> 0 | E16: =vaccine!AX14 -> 0 | F16: =SUM(B16:E16) -> 5232 | G16: =B16+G15 -> 8902 | H16: =C16+H15 -> 20840 | I16: =F16+I15 -> 29742 | J16: =(I16/$N$5)*100000 -> 900.31784 | K16: =100000*I16/$N$6 -> 2142.7583 | L16: =100000*G16/$N$7 -> 1210.5026
A17: 44212 | B17: =vaccine!AU15 -> 256 | C17: =vaccine!AV15 -> 909 | D17: =vaccine!AW15 -> 0 | E17: =vaccine!AX15 -> 0 | F17: =SUM(B17:E17) -> 1165 | G17: =B17+G16 -> 9158 | H17: =C17+H16 -> 21749 | I17: =F17+I16 -> 30907 | J17: =(I17/$N$5)*100000 -> 935.58347 | K17: =100000*I17/$N$6 -> 2226.6906 | L17: =100000*G17/$N$7 -> 1245.3138
A18: 44213 | B18: =vaccine!AU16 -> 0 | C18: =vaccine!AV16 -> 243 | D18: =vaccine!AW16 -> 0 | E18: =vaccine!AX16 -> 0 | F18: =SUM(B18:E18) -> 243 | G18: =B18+G17 -> 9158 | H18: =C18+H17 -> 21992 | I18: =F18+I17 -> 31150 | J18: =(I18/$N$5)*100000 -> 942.93931 | K18: =100000*I18/$N$6 -> 2244.1975 | L18: =100000*G18/$N$7 -> 1245.3138
A19: 44214 | B19: =vaccine!AU17 -> 683 | C19: =vaccine!AV17 -> 1214 | D19: =vaccine!AW17 -> 1379 | E19: =vaccine!AX17 -> 10 | F19: =SUM(B19:E19) -> 3286 | G19: =B19+G18 -> 9841 | H19: =C19+H18 -> 23206 | I19: =F19+I18 -> 34436 | J19: =(I19/$N$5)*100000 -> 1042.4096 | K19: =100000*I19/$N$6 -> 2480.9369 | L19: =100000*G19/$N$7 -> 1338.1888
... A25: 44220 | B25: =vaccine!AU23 -> 189 | C25: =vaccine!AV23 -> 54 | D25: =vaccine!AW23 -> 0 | E25: =vaccine!AX23 -> 0 | F25: =SUM(B25:E25) -> 243 | G25: =B25+G24 -> 11720 | H25: =C25+H24 -> 26212 | I25: =F25+I24 -> 50038 | J25: =(I25/$N$5)*100000 -> 1514.6965 | K25: =100000*I25/$N$6 -> 3604.9809 | L25: =100000*G25/$N$7 -> 1593.697
A26: 44221
A27: 44222
A28: 44223
A29: 44224
A30: 44225
A31: 44226
A32: 44227

Sheet OCC
M1: Nb cumulé vaccinations depuis 04/01 | N1: =SUM(F5:F293) -> 101316
M2: % residents vaccinés | N2: =SUM(B5:B93)/SUM(F5:F93) -> 0.22737771
B3: Nombre personnes vaccinées | M3: % professionnels vaccinés | N3: =SUM(C5:C93)/SUM(F5:F93) -> 0.49718702
B4: résidents / patients | C4: prof. | D4: 75 + | E4: Autres | F4: total quotidien | G4: residents /patients Cumul | H4: prof. Cumul | I4: total Cumul | J4: Taux de vaccination pour 100 000 hab. (tous âges) | K4: Taux de vaccination pour 100 000 hab. (>50 ans) | L4: Taux de vaccination pour 100 000 hab. (>=65 ans)
A5: 44200 | B5: =vaccine!AZ3 -> 30 | C5: =vaccine!BA3 -> 21 | D5: =vaccine!BB3 -> 0 | E5: =vaccine!BC3 -> 0 | F5: =SUM(B5:E5) -> 51 | G5: =B5 -> 30 | H5: =C5 -> 21 | I5: =F5 -> 51 | J5: =(I5/$N$5)*100000 -> 0.86078012 | K5: =100000*I5/$N$6 -> 2.0126886 | L5: =100000*G5/$N$7 -> 2.1915342 | M5: Population totale | N5: =population!B16 -> 5924858
A6: 44201 | B6: =vaccine!AZ4 -> 142 | C6: =vaccine!BA4 -> 316 | D6: =vaccine!BB4 -> 0 | E6: =vaccine!BC4 -> 0 | F6: =SUM(B6:E6) -> 458 | G6: =B6+G5 -> 172 | H6: =C6+H5 -> 337 | I6: =F6+I5 -> 509 | J6: =(I6/$N$5)*100000 -> 8.5909232 | K6: =100000*I6/$N$6 -> 20.087422 | L6: =100000*G6/$N$7 -> 12.564796 | M6: Population > 50 ans | N6: =population!C16 -> 2533924
A7: 44202 | B7: =vaccine!AZ5 -> 183 | C7: =vaccine!BA5 -> 438 | D7: =vaccine!BB5 -> 0 | E7: =vaccine!BC5 -> 0 | F7: =SUM(B7:E7) -> 621 | G7: =B7+G6 -> 355 | H7: =C7+H6 -> 775 | I7: =F7+I6 -> 1130 | J7: =(I7/$N$5)*100000 -> 19.072187 | K7: =100000*I7/$N$6 -> 44.594866 | L7: =100000*G7/$N$7 -> 25.933155 | M7: Population > 65 ans | N7: =population!E16 -> 1368904
A8: 44203 | B8: =vaccine!AZ6 -> 1181 | C8: =vaccine!BA6 -> 1377 | D8: =vaccine!BB6 -> 0 | E8: =vaccine!BC6 -> 0 | F8: =SUM(B8:E8) -> 2558 | G8: =B8+G7 -> 1536 | H8: =C8+H7 -> 2152 | I8: =F8+I7 -> 3688 | J8: =(I8/$N$5)*100000 -> 62.246218 | K8: =100000*I8/$N$6 -> 145.54501 | L8: =100000*G8/$N$7 -> 112.20655
A9: 44204 | B9: =vaccine!AZ7 -> 927 | C9: =vaccine!BA7 -> 2539 | D9: =vaccine!BB7 -> 0 | E9: =vaccine!BC7 -> 0 | F9: =SUM(B9:E9) -> 3466 | G9: =B9+G8 -> 2463 | H9: =C9+H8 -> 4691 | I9: =F9+I8 -> 7154 | J9: =(I9/$N$5)*100000 -> 120.74551 | K9: =100000*I9/$N$6 -> 282.32891 | L9: =100000*G9/$N$7 -> 179.92496
A10: 44205 | B10: =vaccine!AZ8 -> 0 | C10: =vaccine!BA8 -> 1511 | D10: =vaccine!BB8 -> 0 | E10: =vaccine!BC8 -> 0 | F10: =SUM(B10:E10) -> 1511 | G10: =B10+G9 -> 2463 | H10: =C10+H9 -> 6202 | I10: =F10+I9 -> 8665 | J10: =(I10/$N$5)*100000 -> 146.24823 | K10: =100000*I10/$N$6 -> 341.95974 | L10: =100000*G10/$N$7 -> 179.92496
A11: 44206 | B11: =vaccine!AZ9 -> 0 | C11: =vaccine!BA9 -> 650 | D11: =vaccine!BB9 -> 0 | E11: =vaccine!BC9 -> 0 | F11: =SUM(B11:E11) -> 650 | G11: =B11+G10 -> 2463 | H11: =C11+H10 -> 6852 | I11: =F11+I10 -> 9315 | J11: =(I11/$N$5)*100000 -> 157.21896 | K11: =100000*I11/$N$6 -> 367.61166 | L11: =100000*G11/$N$7 -> 179.92496
A12: 44207 | B12: =vaccine!AZ10 -> 355 | C12: =vaccine!BA10 -> 2912 | D12: =vaccine!BB10 -> 0 | E12: =vaccine!BC10 -> 0 | F12: =SUM(B12:E12) -> 3267 | G12: =B12+G11 -> 2818 | H12: =C12+H11 -> 9764 | I12: =F12+I11 -> 12582 | J12: =(I12/$N$5)*100000 -> 212.35952 | K12: =100000*I12/$N$6 -> 496.54212 | L12: =100000*G12/$N$7 -> 205.85812
A13: 44208 | B13: =vaccine!AZ11 -> 1328 | C13: =vaccine!BA11 -> 3935 | D13: =vaccine!BB11 -> 0 | E13: =vaccine!BC11 -> 0 | F13: =SUM(B13:E13) -> 5263 | G13: =B13+G12 -> 4146 | H13: =C13+H12 -> 13699 | I13: =F13+I12 -> 17845 | J13: =(I13/$N$5)*100000 -> 301.18865 | K13: =100000*I13/$N$6 -> 704.24369 | L13: =100000*G13/$N$7 -> 302.87003
A14: 44209 | B14: =vaccine!AZ12 -> 1473 | C14: =vaccine!BA12 -> 4511 | D14: =vaccine!BB12 -> 0 | E14: =vaccine!BC12 -> 0 | F14: =SUM(B14:E14) -> 5984 | G14: =B14+G13 -> 5619 | H14: =C14+H13 -> 18210 | I14: =F14+I13 -> 23829 | J14: =(I14/$N$5)*100000 -> 402.18685 | K14: =100000*I14/$N$6 -> 940.39916 | L14: =100000*G14/$N$7 -> 410.47436
A15: 44210 | B15: =vaccine!AZ13 -> 2524 | C15: =vaccine!BA13 -> 5544 | D15: =vaccine!BB13 -> 0 | E15: =vaccine!BC13 -> 0 | F15: =SUM(B15:E15) -> 8068 | G15: =B15+G14 -> 8143 | H15: =C15+H14 -> 23754 | I15: =F15+I14 -> 31897 | J15: =(I15/$N$5)*100000 -> 538.35889 | K15: =100000*I15/$N$6 -> 1258.7986 | L15: =100000*G15/$N$7 -> 594.85545
A16: 44211 | B16: =vaccine!AZ14 -> 1874 | C16: =vaccine!BA14 -> 5507 | D16: =vaccine!BB14 -> 0 | E16: =vaccine!BC14 -> 0 | F16: =SUM(B16:E16) -> 7381 | G16: =B16+G15 -> 10017 | H16: =C16+H15 -> 29261 | I16: =F16+I15 -> 39278 | J16: =(I16/$N$5)*100000 -> 662.93572 | K16: =100000*I16/$N$6 -> 1550.086 | L16: =100000*G16/$N$7 -> 731.75329
A17: 44212 | B17: =vaccine!AZ15 -> 130 | C17: =vaccine!BA15 -> 2129 | D17: =vaccine!BB15 -> 0 | E17: =vaccine!BC15 -> 0 | F17: =SUM(B17:E17) -> 2259 | G17: =B17+G16 -> 10147 | H17: =C17+H16 -> 31390 | I17: =F17+I16 -> 41537 | J17: =(I17/$N$5)*100000 -> 701.06322 | K17: =100000*I17/$N$6 -> 1639.2362 | L17: =100000*G17/$N$7 -> 741.24993
A18: 44213 | B18: =vaccine!AZ16 -> 58 | C18: =vaccine!BA16 -> 692 | D18: =vaccine!BB16 -> 0 | E18: =vaccine!BC16 -> 0 | F18: =SUM(B18:E18) -> 750 | G18: =B18+G17 -> 10205 | H18: =C18+H17 -> 32082 | I18: =F18+I17 -> 42287 | J18: =(I18/$N$5)*100000 -> 713.72175 | K18: =100000*I18/$N$6 -> 1668.8346 | L18: =100000*G18/$N$7 -> 745.4869
A19: 44214 | B19: =vaccine!AZ17 -> 271 | C19: =vaccine!BA17 -> 3235 | D19: =vaccine!BB17 -> 3067 | E19: =vaccine!BC17 -> 159 | F19: =SUM(B19:E19) -> 6732 | G19: =B19+G18 -> 10476 | H19: =C19+H18 -> 35317 | I19: =F19+I18 -> 49019 | J19: =(I19/$N$5)*100000 -> 827.34472 | K19: =100000*I19/$N$6 -> 1934.5095 | L19: =100000*G19/$N$7 -> 765.28376
... A25: 44220 | B25: =vaccine!AZ23 -> 15 | C25: =vaccine!BA23 -> 109 | D25: =vaccine!BB23 -> 1043 | E25: =vaccine!BC23 -> 69 | F25: =SUM(B25:E25) -> 1236 | G25: =B25+G24 -> 23037 | H25: =C25+H24 -> 50373 | I25: =F25+I24 -> 101316 | J25: =(I25/$N$5)*100000 -> 1710.0157 | K25: =100000*I25/$N$6 -> 3998.3835 | L25: =100000*G25/$N$7 -> 1682.8792
A26: 44221
A27: 44222
A28: 44223
A29: 44224
A30: 44225
A31: 44226
A32: 44227

Sheet PDL
M1: Nb cumulé vaccinations depuis 04/01 | N1: =SUM(F5:F293) -> 52378
M2: % residents vaccinés | N2: =SUM(B5:B93)/SUM(F5:F93) -> 0.29697583
B3: Nombre personnes vaccinées | M3: % professionnels vaccinés | N3: =SUM(C5:C93)/SUM(F5:F93) -> 0.46991103
B4: résidents / patients | C4: prof. | D4: 75 + | E4: Autres | F4: total quotidien | G4: residents /patients Cumul | H4: prof. Cumul | I4: total Cumul | J4: Taux de vaccination pour 100 000 hab. (tous âges) | K4: Taux de vaccination pour 100 000 hab. (>50 ans) | L4: Taux de vaccination pour 100 000 hab. (>=65 ans)
A5: 44200 | B5: =vaccine!BJ3 -> 5 | C5: =vaccine!BK3 -> 35 | D5: =vaccine!BL3 -> 0 | E5: =vaccine!BM3 -> 0 | F5: =SUM(B5:E5) -> 40 | G5: =B5 -> 5 | H5: =C5 -> 35 | I5: =F5 -> 40 | J5: =(I5/$N$5)*100000 -> 1.052134 | K5: =100000*I5/$N$6 -> 2.6190574 | L5: =100000*G5/$N$7 -> 0.61749512 | M5: Population totale | N5: =population!B17 -> 3801797
A6: 44201 | B6: =vaccine!BJ4 -> 105 | C6: =vaccine!BK4 -> 59 | D6: =vaccine!BL4 -> 0 | E6: =vaccine!BM4 -> 0 | F6: =SUM(B6:E6) -> 164 | G6: =B6+G5 -> 110 | H6: =C6+H5 -> 94 | I6: =F6+I5 -> 204 | J6: =(I6/$N$5)*100000 -> 5.3658836 | K6: =100000*I6/$N$6 -> 13.357193 | L6: =100000*G6/$N$7 -> 13.584893 | M6: Population > 50 ans | N6: =population!C17 -> 1527267
A7: 44202 | B7: =vaccine!BJ5 -> 185 | C7: =vaccine!BK5 -> 242 | D7: =vaccine!BL5 -> 0 | E7: =vaccine!BM5 -> 0 | F7: =SUM(B7:E7) -> 427 | G7: =B7+G6 -> 295 | H7: =C7+H6 -> 336 | I7: =F7+I6 -> 631 | J7: =(I7/$N$5)*100000 -> 16.597414 | K7: =100000*I7/$N$6 -> 41.315631 | L7: =100000*G7/$N$7 -> 36.432212 | M7: Population > 65 ans | N7: =population!E17 -> 809723
A8: 44203 | B8: =vaccine!BJ6 -> 225 | C8: =vaccine!BK6 -> 779 | D8: =vaccine!BL6 -> 0 | E8: =vaccine!BM6 -> 0 | F8: =SUM(B8:E8) -> 1004 | G8: =B8+G7 -> 520 | H8: =C8+H7 -> 1115 | I8: =F8+I7 -> 1635 | J8: =(I8/$N$5)*100000 -> 43.005978 | K8: =100000*I8/$N$6 -> 107.05397 | L8: =100000*G8/$N$7 -> 64.219492
A9: 44204 | B9: =vaccine!BJ7 -> 417 | C9: =vaccine!BK7 -> 1237 | D9: =vaccine!BL7 -> 0 | E9: =vaccine!BM7 -> 0 | F9: =SUM(B9:E9) -> 1654 | G9: =B9+G8 -> 937 | H9: =C9+H8 -> 2352 | I9: =F9+I8 -> 3289 | J9: =(I9/$N$5)*100000 -> 86.511721 | K9: =100000*I9/$N$6 -> 215.352 | L9: =100000*G9/$N$7 -> 115.71859
A10: 44205 | B10: =vaccine!BJ8 -> 15 | C10: =vaccine!BK8 -> 1187 | D10: =vaccine!BL8 -> 0 | E10: =vaccine!BM8 -> 0 | F10: =SUM(B10:E10) -> 1202 | G10: =B10+G9 -> 952 | H10: =C10+H9 -> 3539 | I10: =F10+I9 -> 4491 | J10: =(I10/$N$5)*100000 -> 118.12835 | K10: =100000*I10/$N$6 -> 294.05467 | L10: =100000*G10/$N$7 -> 117.57107
A11: 44206 | B11: =vaccine!BJ9 -> 0 | C11: =vaccine!BK9 -> 631 | D11: =vaccine!BL9 -> 0 | E11: =vaccine!BM9 -> 0 | F11: =SUM(B11:E11) -> 631 | G11: =B11+G10 -> 952 | H11: =C11+H10 -> 4170 | I11: =F11+I10 -> 5122 | J11: =(I11/$N$5)*100000 -> 134.72576 | K11: =100000*I11/$N$6 -> 335.37031 | L11: =100000*G11/$N$7 -> 117.57107
A12: 44207 | B12: =vaccine!BJ10 -> 101 | C12: =vaccine!BK10 -> 1662 | D12: =vaccine!BL10 -> 0 | E12: =vaccine!BM10 -> 0 | F12: =SUM(B12:E12) -> 1763 | G12: =B12+G11 -> 1053 | H12: =C12+H11 -> 5832 | I12: =F12+I11 -> 6885 | J12: =(I12/$N$5)*100000 -> 181.09857 | K12: =100000*I12/$N$6 -> 450.80526 | L12: =100000*G12/$N$7 -> 130.04447
A13: 44208 | B13: =vaccine!BJ11 -> 798 | C13: =vaccine!BK11 -> 2193 | D13: =vaccine!BL11 -> 0 | E13: =vaccine!BM11 -> 0 | F13: =SUM(B13:E13) -> 2991 | G13: =B13+G12 -> 1851 | H13: =C13+H12 -> 8025 | I13: =F13+I12 -> 9876 | J13: =(I13/$N$5)*100000 -> 259.77189 | K13: =100000*I13/$N$6 -> 646.64528 | L13: =100000*G13/$N$7 -> 228.59669
A14: 44209 | B14: =vaccine!BJ12 -> 552 | C14: =vaccine!BK12 -> 2172 | D14: =vaccine!BL12 -> 0 | E14: =vaccine!BM12 -> 0 | F14: =SUM(B14:E14) -> 2724 | G14: =B14+G13 -> 2403 | H14: =C14+H13 -> 10197 | I14: =F14+I13 -> 12600 | J14: =(I14/$N$5)*100000 -> 331.42222 | K14: =100000*I14/$N$6 -> 825.00309 | L14: =100000*G14/$N$7 -> 296.76815
A15: 44210 | B15: =vaccine!BJ13 -> 555 | C15: =vaccine!BK13 -> 2171 | D15: =vaccine!BL13 -> 0 | E15: =vaccine!BM13 -> 0 | F15: =SUM(B15:E15) -> 2726 | G15: =B15+G14 -> 2958 | H15: =C15+H14 -> 12368 | I15: =F15+I14 -> 15326 | J15: =(I15/$N$5)*100000 -> 403.12515 | K15: =100000*I15/$N$6 -> 1003.4919 | L15: =100000*G15/$N$7 -> 365.31011
A16: 44211 | B16: =vaccine!BJ14 -> 523 | C16: =vaccine!BK14 -> 1931 | D16: =vaccine!BL14 -> 0 | E16: =vaccine!BM14 -> 0 | F16: =SUM(B16:E16) -> 2454 | G16: =B16+G15 -> 3481 | H16: =C16+H15 -> 14299 | I16: =F16+I15 -> 17780 | J16: =(I16/$N$5)*100000 -> 467.67358 | K16: =100000*I16/$N$6 -> 1164.171 | L16: =100000*G16/$N$7 -> 429.9001
A17: 44212 | B17: =vaccine!BJ15 -> 32 | C17: =vaccine!BK15 -> 659 | D17: =vaccine!BL15 -> 0 | E17: =vaccine!BM15 -> 0 | F17: =SUM(B17:E17) -> 691 | G17: =B17+G16 -> 3513 | H17: =C17+H16 -> 14958 | I17: =F17+I16 -> 18471 | J17: =(I17/$N$5)*100000 -> 485.84919 | K17: =100000*I17/$N$6 -> 1209.4152 | L17: =100000*G17/$N$7 -> 433.85207
A18: 44213 | B18: =vaccine!BJ16 -> 0 | C18: =vaccine!BK16 -> 362 | D18: =vaccine!BL16 -> 0 | E18: =vaccine!BM16 -> 0 | F18: =SUM(B18:E18) -> 362 | G18: =B18+G17 -> 3513 | H18: =C18+H17 -> 15320 | I18: =F18+I17 -> 18833 | J18: =(I18/$N$5)*100000 -> 495.371 | K18: =100000*I18/$N$6 -> 1233.1177 | L18: =100000*G18/$N$7 -> 433.85207
A19: 44214 | B19: =vaccine!BJ17 -> 110 | C19: =vaccine!BK17 -> 1135 | D19: =vaccine!BL17 -> 481 | E19: =vaccine!BM17 -> 0 | F19: =SUM(B19:E19) -> 1726 | G19: =B19+G18 -> 3623 | H19: =C19+H18 -> 16455 | I19: =F19+I18 -> 20559 | J19: =(I19/$N$5)*100000 -> 540.77059 | K19: =100000*I19/$N$6 -> 1346.13 | L19: =100000*G19/$N$7 -> 447.43696
... A25: 44220 | B25: =vaccine!BJ23 -> 0 | C25: =vaccine!BK23 -> 200 | D25: =vaccine!BL23 -> 1250 | E25: =vaccine!BM23 -> 449 | F25: =SUM(B25:E25) -> 1899 | G25: =B25+G24 -> 15555 | H25: =C25+H24 -> 24613 | I25: =F25+I24 -> 52378 | J25: =(I25/$N$5)*100000 -> 1377.7169 | K25: =100000*I25/$N$6 -> 3429.5248 | L25: =100000*G25/$N$7 -> 1921.0273
A26: 44221
A27: 44222
A28: 44223
A29: 44224
A30: 44225
A31: 44226
A32: 44227

Sheet PACA
M1: Nb cumulé vaccinations depuis 04/01 | N1: =SUM(F5:F293) -> 70157
M2: % residents vaccinés | N2: =SUM(B5:B93)/SUM(F5:F93) -> 0.23374717
B3: Nombre personnes vaccinées | M3: % professionnels vaccinés | N3: =SUM(C5:C93)/SUM(F5:F93) -> 0.47124307
B4: résidents / patients | C4: prof. | D4: 75 + | E4: Autres | F4: total quotidien | G4: residents /patients Cumul | H4: prof. Cumul | I4: total Cumul | J4: Taux de vaccination pour 100 000 hab. (tous âges) | K4: Taux de vaccination pour 100 000 hab. (>50 ans) | L4: Taux de vaccination pour 100 000 hab. (>=65 ans)
A5: 44200 | B5: =vaccine!BE3 -> 10 | C5: =vaccine!BF3 -> 85 | D5: =vaccine!BG3 -> 0 | E5: =vaccine!BH3 -> 0 | F5: =SUM(B5:E5) -> 95 | G5: =B5 -> 10 | H5: =C5 -> 85 | I5: =F5 -> 95 | J5: =(I5/$N$5)*100000 -> 1.8790854 | K5: =100000*I5/$N$6 -> 4.3449586 | L5: =100000*G5/$N$7 -> 0.84196275 | M5: Population totale | N5: =population!B18 -> 5055651
A6: 44201 | B6: =vaccine!BE4 -> 0 | C6: =vaccine!BF4 -> 305 | D6: =vaccine!BG4 -> 0 | E6: =vaccine!BH4 -> 0 | F6: =SUM(B6:E6) -> 305 | G6: =B6+G5 -> 10 | H6: =C6+H5 -> 390 | I6: =F6+I5 -> 400 | J6: =(I6/$N$5)*100000 -> 7.9119385 | K6: =100000*I6/$N$6 -> 18.294563 | L6: =100000*G6/$N$7 -> 0.84196275 | M6: Population > 50 ans | N6: =population!C18 -> 2186442
A7: 44202 | B7: =vaccine!BE5 -> 61 | C7: =vaccine!BF5 -> 698 | D7: =vaccine!BG5 -> 0 | E7: =vaccine!BH5 -> 0 | F7: =SUM(B7:E7) -> 759 | G7: =B7+G6 -> 71 | H7: =C7+H6 -> 1088 | I7: =F7+I6 -> 1159 | J7: =(I7/$N$5)*100000 -> 22.924842 | K7: =100000*I7/$N$6 -> 53.008495 | L7: =100000*G7/$N$7 -> 5.9779355 | M7: Population > 65 ans | N7: =population!E18 -> 1187701
A8: 44203 | B8: =vaccine!BE6 -> 309 | C8: =vaccine!BF6 -> 1179 | D8: =vaccine!BG6 -> 0 | E8: =vaccine!BH6 -> 0 | F8: =SUM(B8:E8) -> 1488 | G8: =B8+G7 -> 380 | H8: =C8+H7 -> 2267 | I8: =F8+I7 -> 2647 | J8: =(I8/$N$5)*100000 -> 52.357253 | K8: =100000*I8/$N$6 -> 121.06427 | L8: =100000*G8/$N$7 -> 31.994584
A9: 44204 | B9: =vaccine!BE7 -> 247 | C9: =vaccine!BF7 -> 1798 | D9: =vaccine!BG7 -> 0 | E9: =vaccine!BH7 -> 0 | F9: =SUM(B9:E9) -> 2045 | G9: =B9+G8 -> 627 | H9: =C9+H8 -> 4065 | I9: =F9+I8 -> 4692 | J9: =(I9/$N$5)*100000 -> 92.807039 | K9: =100000*I9/$N$6 -> 214.59522 | L9: =100000*G9/$N$7 -> 52.791064
A10: 44205 | B10: =vaccine!BE8 -> 35 | C10: =vaccine!BF8 -> 495 | D10: =vaccine!BG8 -> 0 | E10: =vaccine!BH8 -> 0 | F10: =SUM(B10:E10) -> 530 | G10: =B10+G9 -> 662 | H10: =C10+H9 -> 4560 | I10: =F10+I9 -> 5222 | J10: =(I10/$N$5)*100000 -> 103.29036 | K10: =100000*I10/$N$6 -> 238.83551 | L10: =100000*G10/$N$7 -> 55.737934
A11: 44206 | B11: =vaccine!BE9 -> 4 | C11: =vaccine!BF9 -> 102 | D11: =vaccine!BG9 -> 0 | E11: =vaccine!BH9 -> 0 | F11: =SUM(B11:E11) -> 106 | G11: =B11+G10 -> 666 | H11: =C11+H10 -> 4662 | I11: =F11+I10 -> 5328 | J11: =(I11/$N$5)*100000 -> 105.38702 | K11: =100000*I11/$N$6 -> 243.68357 | L11: =100000*G11/$N$7 -> 56.074719
A12: 44207 | B12: =vaccine!BE10 -> 577 | C12: =vaccine!BF10 -> 1656 | D12: =vaccine!BG10 -> 0 | E12: =vaccine!BH10 -> 0 | F12: =SUM(B12:E12) -> 2233 | G12: =B12+G11 -> 1243 | H12: =C12+H11 -> 6318 | I12: =F12+I11 -> 7561 | J12: =(I12/$N$5)*100000 -> 149.55542 | K12: =100000*I12/$N$6 -> 345.81297 | L12: =100000*G12/$N$7 -> 104.65597
A13: 44208 | B13: =vaccine!BE11 -> 1857 | C13: =vaccine!BF11 -> 3184 | D13: =vaccine!BG11 -> 0 | E13: =vaccine!BH11 -> 0 | F13: =SUM(B13:E13) -> 5041 | G13: =B13+G12 -> 3100 | H13: =C13+H12 -> 9502 | I13: =F13+I12 -> 12602 | J13: =(I13/$N$5)*100000 -> 249.26562 | K13: =100000*I13/$N$6 -> 576.37019 | L13: =100000*G13/$N$7 -> 261.00845
A14: 44209 | B14: =vaccine!BE12 -> 798 | C14: =vaccine!BF12 -> 2971 | D14: =vaccine!BG12 -> 0 | E14: =vaccine!BH12 -> 0 | F14: =SUM(B14:E14) -> 3769 | G14: =B14+G13 -> 3898 | H14: =C14+H13 -> 12473 | I14: =F14+I13 -> 16371 | J14: =(I14/$N$5)*100000 -> 323.81586 | K14: =100000*I14/$N$6 -> 748.75071 | L14: =100000*G14/$N$7 -> 328.19708
A15: 44210 | B15: =vaccine!BE13 -> 2045 | C15: =vaccine!BF13 -> 3601 | D15: =vaccine!BG13 -> 0 | E15: =vaccine!BH13 -> 0 | F15: =SUM(B15:E15) -> 5646 | G15: =B15+G14 -> 5943 | H15: =C15+H14 -> 16074 | I15: =F15+I14 -> 22017 | J15: =(I15/$N$5)*100000 -> 435.49288 | K15: =100000*I15/$N$6 -> 1006.9785 | L15: =100000*G15/$N$7 -> 500.37846
A16: 44211 | B16: =vaccine!BE14 -> 1317 | C16: =vaccine!BF14 -> 3191 | D16: =vaccine!BG14 -> 0 | E16: =vaccine!BH14 -> 0 | F16: =SUM(B16:E16) -> 4508 | G16: =B16+G15 -> 7260 | H16: =C16+H15 -> 19265 | I16: =F16+I15 -> 26525 | J16: =(I16/$N$5)*100000 -> 524.66042 | K16: =100000*I16/$N$6 -> 1213.1582 | L16: =100000*G16/$N$7 -> 611.26496
A17: 44212 | B17: =vaccine!BE15 -> 992 | C17: =vaccine!BF15 -> 851 | D17: =vaccine!BG15 -> 0 | E17: =vaccine!BH15 -> 0 | F17: =SUM(B17:E17) -> 1843 | G17: =B17+G16 -> 8252 | H17: =C17+H16 -> 20116 | I17: =F17+I16 -> 28368 | J17: =(I17/$N$5)*100000 -> 561.11468 | K17: =100000*I17/$N$6 -> 1297.4504 | L17: =100000*G17/$N$7 -> 694.78766
A18: 44213 | B18: =vaccine!BE16 -> 600 | C18: =vaccine!BF16 -> 161 | D18: =vaccine!BG16 -> 0 | E18: =vaccine!BH16 -> 0 | F18: =SUM(B18:E18) -> 761 | G18: =B18+G17 -> 8852 | H18: =C18+H17 -> 20277 | I18: =F18+I17 -> 29129 | J18: =(I18/$N$5)*100000 -> 576.16714 | K18: =100000*I18/$N$6 -> 1332.2558 | L18: =100000*G18/$N$7 -> 745.30543
A19: 44214 | B19: =vaccine!BE17 -> 186 | C19: =vaccine!BF17 -> 1978 | D19: =vaccine!BG17 -> 1623 | E19: =vaccine!BH17 -> 73 | F19: =SUM(B19:E19) -> 3860 | G19: =B19+G18 -> 9038 | H19: =C19+H18 -> 22255 | I19: =F19+I18 -> 32989 | J19: =(I19/$N$5)*100000 -> 652.51735 | K19: =100000*I19/$N$6 -> 1508.7983 | L19: =100000*G19/$N$7 -> 760.96593
... A25: 44220 | B25: =vaccine!BE23 -> 0 | C25: =vaccine!BF23 -> 10 | D25: =vaccine!BG23 -> 534 | E25: =vaccine!BH23 -> 3 | F25: =SUM(B25:E25) -> 547 | G25: =B25+G24 -> 16399 | H25: =C25+H24 -> 33061 | I25: =F25+I24 -> 70157 | J25: =(I25/$N$5)*100000 -> 1387.6947 | K25: =100000*I25/$N$6 -> 3208.7291 | L25: =100000*G25/$N$7 -> 1380.7347
A26: 44221
A27: 44222
A28: 44223
A29: 44224
A30: 44225
A31: 44226
A32: 44227

Sheet GUADA
M1: Nb cumulé vaccinations depuis 04/01 | N1: =SUM(F5:F293) -> 430
M2: % residents vaccinés | N2: =SUM(B5:B93)/SUM(F5:F93) -> 0.19534884
B3: Nombre personnes vaccinées | M3: % professionnels vaccinés | N3: =SUM(C5:C93)/SUM(F5:F93) -> 0.80465116
B4: résidents / patients | C4: prof. | D4: 75 + | E4: Autres | F4: total quotidien | G4: residents /patients Cumul | H4: prof. Cumul | I4: total Cumul | J4: Taux de vaccination pour 100 000 hab. (tous âges) | K4: Taux de vaccination pour 100 000 hab. (>50 ans) | L4: Taux de vaccination pour 100 000 hab. (>=65 ans)
A5: 44200 | B5: =vaccine!BT3 -> 0 | C5: =vaccine!BU3 -> 0 | D5: =vaccine!BV3 -> 0 | E5: =vaccine!BW3 -> 0 | F5: =SUM(B5:E5) -> 0 | G5: =B5 -> 0 | H5: =C5 -> 0 | I5: =F5 -> 0 | J5: =(I5/$N$5)*100000 -> 0 | K5: =100000*I5/$N$6 -> 0 | L5: =100000*G5/$N$7 -> 0 | M5: Population totale | N5: =population!B20 -> 376879
A6: 44201 | B6: =vaccine!BT4 -> 0 | C6: =vaccine!BU4 -> 0 | D6: =vaccine!BV4 -> 0 | E6: =vaccine!BW4 -> 0 | F6: =SUM(B6:E6) -> 0 | G6: =B6+G5 -> 0 | H6: =C6+H5 -> 0 | I6: =F6+I5 -> 0 | J6: =(I6/$N$5)*100000 -> 0 | K6: =100000*I6/$N$6 -> 0 | L6: =100000*G6/$N$7 -> 0 | M6: Population > 50 ans | N6: =population!C20 -> 165627
A7: 44202 | B7: =vaccine!BT5 -> 0 | C7: =vaccine!BU5 -> 0 | D7: =vaccine!BV5 -> 0 | E7: =vaccine!BW5 -> 0 | F7: =SUM(B7:E7) -> 0 | G7: =B7+G6 -> 0 | H7: =C7+H6 -> 0 | I7: =F7+I6 -> 0 | J7: =(I7/$N$5)*100000 -> 0 | K7: =100000*I7/$N$6 -> 0 | L7: =100000*G7/$N$7 -> 0 | M7: Population > 65 ans | N7: =population!E20 -> 77608
A8: 44203 | B8: =vaccine!BT6 -> 0 | C8: =vaccine!BU6 -> 0 | D8: =vaccine!BV6 -> 0 | E8: =vaccine!BW6 -> 0 | F8: =SUM(B8:E8) -> 0 | G8: =B8+G7 -> 0 | H8: =C8+H7 -> 0 | I8: =F8+I7 -> 0 | J8: =(I8/$N$5)*100000 -> 0 | K8: =100000*I8/$N$6 -> 0 | L8: =100000*G8/$N$7 -> 0
A9: 44204 | B9: =vaccine!BT7 -> 54 | C9: =vaccine!BU7 -> 22 | D9: =vaccine!BV7 -> 0 | E9: =vaccine!BW7 -> 0 | F9: =SUM(B9:E9) -> 76 | G9: =B9+G8 -> 54 | H9: =C9+H8 -> 22 | I9: =F9+I8 -> 76 | J9: =(I9/$N$5)*100000 -> 20.165623 | K9: =100000*I9/$N$6 -> 45.886238 | L9: =100000*G9/$N$7 -> 69.580456
A10: 44205 | B10: =vaccine!BT8 -> 0 | C10: =vaccine!BU8 -> 20 | D10: =vaccine!BV8 -> 0 | E10: =vaccine!BW8 -> 0 | F10: =SUM(B10:E10) -> 20 | G10: =B10+G9 -> 54 | H10: =C10+H9 -> 42 | I10: =F10+I9 -> 96 | J10: =(I10/$N$5)*100000 -> 25.472366 | K10: =100000*I10/$N$6 -> 57.961564 | L10: =100000*G10/$N$7 -> 69.580456
A11: 44206 | B11: =vaccine!BT9 -> 0 | C11: =vaccine!BU9 -> 0 | D11: =vaccine!BV9 -> 0 | E11: =vaccine!BW9 -> 0 | F11: =SUM(B11:E11) -> 0 | G11: =B11+G10 -> 54 | H11: =C11+H10 -> 42 | I11: =F11+I10 -> 96 | J11: =(I11/$N$5)*100000 -> 25.472366 | K11: =100000*I11/$N$6 -> 57.961564 | L11: =100000*G11/$N$7 -> 69.580456
A12: 44207 | B12: =vaccine!BT10 -> 23 | C12: =vaccine!BU10 -> 22 | D12: =vaccine!BV10 -> 0 | E12: =vaccine!BW10 -> 0 | F12: =SUM(B12:E12) -> 45 | G12: =B12+G11 -> 77 | H12: =C12+H11 -> 64 | I12: =F12+I11 -> 141 | J12: =(I12/$N$5)*100000 -> 37.412538 | K12: =100000*I12/$N$6 -> 85.131047 | L12: =100000*G12/$N$7 -> 99.216576
A13: 44208 | B13: =vaccine!BT11 -> 0 | C13: =vaccine!BU11 -> 46 | D13: =vaccine!BV11 -> 0 | E13: =vaccine!BW11 -> 0 | F13: =SUM(B13:E13) -> 46 | G13: =B13+G12 -> 77 | H13: =C13+H12 -> 110 | I13: =F13+I12 -> 187 | J13: =(I13/$N$5)*100000 -> 49.618047 | K13: =100000*I13/$N$6 -> 112.9043 | L13: =100000*G13/$N$7 -> 99.216576
A14: 44209 | B14: =vaccine!BT12 -> 6 | C14: =vaccine!BU12 -> 76 | D14: =vaccine!BV12 -> 0 | E14: =vaccine!BW12 -> 0 | F14: =SUM(B14:E14) -> 82 | G14: =B14+G13 -> 83 | H14: =C14+H13 -> 186 | I14: =F14+I13 -> 269 | J14: =(I14/$N$5)*100000 -> 71.375694 | K14: =100000*I14/$N$6 -> 162.41313 | L14: =100000*G14/$N$7 -> 106.94774
A15: 44210 | B15: =vaccine!BT13 -> 1 | C15: =vaccine!BU13 -> 75 | D15: =vaccine!BV13 -> 0 | E15: =vaccine!BW13 -> 0 | F15: =SUM(B15:E15) -> 76 | G15: =B15+G14 -> 84 | H15: =C15+H14 -> 261 | I15: =F15+I14 -> 345 | J15: =(I15/$N$5)*100000 -> 91.541317 | K15: =100000*I15/$N$6 -> 208.29937 | L15: =100000*G15/$N$7 -> 108.23626
A16: 44211 | B16: =vaccine!BT14 -> 0 | C16: =vaccine!BU14 -> 85 | D16: =vaccine!BV14 -> 0 | E16: =vaccine!BW14 -> 0 | F16: =SUM(B16:E16) -> 85 | G16: =B16+G15 -> 84 | H16: =C16+H15 -> 346 | I16: =F16+I15 -> 430 | J16: =(I16/$N$5)*100000 -> 114.09497 | K16: =100000*I16/$N$6 -> 259.61951 | L16: =100000*G16/$N$7 -> 108.23626
A17: 44212 | B17: =vaccine!BT15 -> 0 | C17: =vaccine!BU15 -> 0 | D17: =vaccine!BV15 -> 0 | E17: =vaccine!BW15 -> 0 | F17: =SUM(B17:E17) -> 0 | G17: =B17+G16 -> 84 | H17: =C17+H16 -> 346 | I17: =F17+I16 -> 430 | J17: =(I17/$N$5)*100000 -> 114.09497 | K17: =100000*I17/$N$6 -> 259.61951 | L17: =100000*G17/$N$7 -> 108.23626
A18: 44213 | B18: =vaccine!BT16 -> 0 | C18: =vaccine!BU16 -> 0 | D18: =vaccine!BV16 -> 0 | E18: =vaccine!BW16 -> 0 | F18: =SUM(B18:E18) -> 0 | G18: =B18+G17 -> 84 | H18: =C18+H17 -> 346 | I18: =F18+I17 -> 430 | J18: =(I18/$N$5)*100000 -> 114.09497 | K18: =100000*I18/$N$6 -> 259.61951 | L18: =100000*G18/$N$7 -> 108.23626
A19: 44214 | B19: =vaccine!BT17 -> 0 | C19: =vaccine!BU17 -> 0 | D19: =vaccine!BV17 -> 0 | E19: =vaccine!BW17 -> 0 | F19: =SUM(B19:E19) -> 0 | G19: =B19+G18 -> 84 | H19: =C19+H18 -> 346 | I19: =F19+I18 -> 430 | J19: =(I19/$N$5)*100000 -> 114.09497 | K19: =100000*I19/$N$6 -> 259.61951 | L19: =100000*G19/$N$7 -> 108.23626
... A25: 44220 | B25: =vaccine!BT23 -> 0 | C25: =vaccine!BU23 -> 0 | D25: =vaccine!BV23 -> 0 | E25: =vaccine!BW23 -> 0 | F25: =SUM(B25:E25) -> 0 | G25: =B25+G24 -> 84 | H25: =C25+H24 -> 346 | I25: =F25+I24 -> 430 | J25: =(I25/$N$5)*100000 -> 114.09497 | K25: =100000*I25/$N$6 -> 259.61951 | L25: =100000*G25/$N$7 -> 108.23626
A26: 44221
A27: 44222
A28: 44223
A29: 44224
A30: 44225
A31: 44226
A32: 44227

Sheet MARTI
M1: Nb cumulé vaccinations depuis 04/01 | N1: =SUM(F5:F293) -> 1650
M2: % residents vaccinés | N2: =SUM(B5:B93)/SUM(F5:F93) -> 0.6630303
B3: Nombre personnes vaccinées | M3: % professionnels vaccinés | N3: =SUM(C5:C93)/SUM(F5:F93) -> 0.33333333
B4: résidents / patients | C4: prof. | D4: 75 + | E4: Autres | F4: total quotidien | G4: residents /patients Cumul | H4: prof. Cumul | I4: total Cumul | J4: Taux de vaccination pour 100 000 hab. (tous âges) | K4: Taux de vaccination pour 100 000 hab. (>50 ans) | L4: Taux de vaccination pour 100 000 hab. (>=65 ans)
A5: 44200 | B5: =vaccine!BY3 -> 0 | C5: =vaccine!BZ3 -> 0 | D5: =vaccine!CA3 -> 0 | E5: =vaccine!CB3 -> 0 | F5: =SUM(B5:E5) -> 0 | G5: =B5 -> 0 | H5: =C5 -> 0 | I5: =F5 -> 0 | J5: =(I5/$N$5)*100000 -> 0 | K5: =100000*I5/$N$6 -> 0 | L5: =100000*G5/$N$7 -> 0 | M5: Population totale | N5: =population!B21 -> 358749
A6: 44201 | B6: =vaccine!BY4 -> 0 | C6: =vaccine!BZ4 -> 0 | D6: =vaccine!CA4 -> 0 | E6: =vaccine!CB4 -> 0 | F6: =SUM(B6:E6) -> 0 | G6: =B6+G5 -> 0 | H6: =C6+H5 -> 0 | I6: =F6+I5 -> 0 | J6: =(I6/$N$5)*100000 -> 0 | K6: =100000*I6/$N$6 -> 0 | L6: =100000*G6/$N$7 -> 0 | M6: Population > 50 ans | N6: =population!C21 -> 173001
A7: 44202 | B7: =vaccine!BY5 -> 0 | C7: =vaccine!BZ5 -> 5 | D7: =vaccine!CA5 -> 0 | E7: =vaccine!CB5 -> 0 | F7: =SUM(B7:E7) -> 5 | G7: =B7+G6 -> 0 | H7: =C7+H6 -> 5 | I7: =F7+I6 -> 5 | J7: =(I7/$N$5)*100000 -> 1.3937321 | K7: =100000*I7/$N$6 -> 2.8901567 | L7: =100000*G7/$N$7 -> 0 | M7: Population > 65 ans | N7: =population!E21 -> 81814
A8: 44203 | B8: =vaccine!BY6 -> 0 | C8: =vaccine!BZ6 -> 8 | D8: =vaccine!CA6 -> 0 | E8: =vaccine!CB6 -> 0 | F8: =SUM(B8:E8) -> 8 | G8: =B8+G7 -> 0 | H8: =C8+H7 -> 13 | I8: =F8+I7 -> 13 | J8: =(I8/$N$5)*100000 -> 3.6237035 | K8: =100000*I8/$N$6 -> 7.5144074 | L8: =100000*G8/$N$7 -> 0
A9: 44204 | B9: =vaccine!BY7 -> 45 | C9: =vaccine!BZ7 -> 53 | D9: =vaccine!CA7 -> 0 | E9: =vaccine!CB7 -> 0 | F9: =SUM(B9:E9) -> 98 | G9: =B9+G8 -> 45 | H9: =C9+H8 -> 66 | I9: =F9+I8 -> 111 | J9: =(I9/$N$5)*100000 -> 30.940853 | K9: =100000*I9/$N$6 -> 64.161479 | L9: =100000*G9/$N$7 -> 55.002811
A10: 44205 | B10: =vaccine!BY8 -> 16 | C10: =vaccine!BZ8 -> 2 | D10: =vaccine!CA8 -> 0 | E10: =vaccine!CB8 -> 0 | F10: =SUM(B10:E10) -> 18 | G10: =B10+G9 -> 61 | H10: =C10+H9 -> 68 | I10: =F10+I9 -> 129 | J10: =(I10/$N$5)*100000 -> 35.958288 | K10: =100000*I10/$N$6 -> 74.566043 | L10: =100000*G10/$N$7 -> 74.559366
A11: 44206 | B11: =vaccine!BY9 -> 0 | C11: =vaccine!BZ9 -> 0 | D11: =vaccine!CA9 -> 0 | E11: =vaccine!CB9 -> 0 | F11: =SUM(B11:E11) -> 0 | G11: =B11+G10 -> 61 | H11: =C11+H10 -> 68 | I11: =F11+I10 -> 129 | J11: =(I11/$N$5)*100000 -> 35.958288 | K11: =100000*I11/$N$6 -> 74.566043 | L11: =100000*G11/$N$7 -> 74.559366
A12: 44207 | B12: =vaccine!BY10 -> 54 | C12: =vaccine!BZ10 -> 72 | D12: =vaccine!CA10 -> 0 | E12: =vaccine!CB10 -> 0 | F12: =SUM(B12:E12) -> 126 | G12: =B12+G11 -> 115 | H12: =C12+H11 -> 140 | I12: =F12+I11 -> 255 | J12: =(I12/$N$5)*100000 -> 71.080338 | K12: =100000*I12/$N$6 -> 147.39799 | L12: =100000*G12/$N$7 -> 140.56274
A13: 44208 | B13: =vaccine!BY11 -> 53 | C13: =vaccine!BZ11 -> 68 | D13: =vaccine!CA11 -> 0 | E13: =vaccine!CB11 -> 0 | F13: =SUM(B13:E13) -> 121 | G13: =B13+G12 -> 168 | H13: =C13+H12 -> 208 | I13: =F13+I12 -> 376 | J13: =(I13/$N$5)*100000 -> 104.80865 | K13: =100000*I13/$N$6 -> 217.33978 | L13: =100000*G13/$N$7 -> 205.34383
A14: 44209 | B14: =vaccine!BY12 -> 15 | C14: =vaccine!BZ12 -> 61 | D14: =vaccine!CA12 -> 0 | E14: =vaccine!CB12 -> 0 | F14: =SUM(B14:E14) -> 76 | G14: =B14+G13 -> 183 | H14: =C14+H13 -> 269 | I14: =F14+I13 -> 452 | J14: =(I14/$N$5)*100000 -> 125.99338 | K14: =100000*I14/$N$6 -> 261.27017 | L14: =100000*G14/$N$7 -> 223.6781
A15: 44210 | B15: =vaccine!BY13 -> 37 | C15: =vaccine!BZ13 -> 62 | D15: =vaccine!CA13 -> 0 | E15: =vaccine!CB13 -> 0 | F15: =SUM(B15:E15) -> 99 | G15: =B15+G14 -> 220 | H15: =C15+H14 -> 331 | I15: =F15+I14 -> 551 | J15: =(I15/$N$5)*100000 -> 153.58928 | K15: =100000*I15/$N$6 -> 318.49527 | L15: =100000*G15/$N$7 -> 268.90263
A16: 44211 | B16: =vaccine!BY14 -> 11 | C16: =vaccine!BZ14 -> 122 | D16: =vaccine!CA14 -> 0 | E16: =vaccine!CB14 -> 0 | F16: =SUM(B16:E16) -> 133 | G16: =B16+G15 -> 231 | H16: =C16+H15 -> 453 | I16: =F16+I15 -> 684 | J16: =(I16/$N$5)*100000 -> 190.66255 | K16: =100000*I16/$N$6 -> 395.37344 | L16: =100000*G16/$N$7 -> 282.34776
A17: 44212 | B17: =vaccine!BY15 -> 0 | C17: =vaccine!BZ15 -> 0 | D17: =vaccine!CA15 -> 0 | E17: =vaccine!CB15 -> 0 | F17: =SUM(B17:E17) -> 0 | G17: =B17+G16 -> 231 | H17: =C17+H16 -> 453 | I17: =F17+I16 -> 684 | J17: =(I17/$N$5)*100000 -> 190.66255 | K17: =100000*I17/$N$6 -> 395.37344 | L17: =100000*G17/$N$7 -> 282.34776
A18: 44213 | B18: =vaccine!BY16 -> 0 | C18: =vaccine!BZ16 -> 0 | D18: =vaccine!CA16 -> 0 | E18: =vaccine!CB16 -> 0 | F18: =SUM(B18:E18) -> 0 | G18: =B18+G17 -> 231 | H18: =C18+H17 -> 453 | I18: =F18+I17 -> 684 | J18: =(I18/$N$5)*100000 -> 190.66255 | K18: =100000*I18/$N$6 -> 395.37344 | L18: =100000*G18/$N$7 -> 282.34776
A19: 44214 | B19: =vaccine!BY17 -> 0 | C19: =vaccine!BZ17 -> 24 | D19: =vaccine!CA17 -> 0 | E19: =vaccine!CB17 -> 0 | F19: =SUM(B19:E19) -> 24 | G19: =B19+G18 -> 231 | H19: =C19+H18 -> 477 | I19: =F19+I18 -> 708 | J19: =(I19/$N$5)*100000 -> 197.35247 | K19: =100000*I19/$N$6 -> 409.24619 | L19: =100000*G19/$N$7 -> 282.34776
... A25: 44220 | B25: =vaccine!BY23 -> 0 | C25: =vaccine!BZ23 -> 73 | D25: =vaccine!CA23 -> 0 | E25: =vaccine!CB23 -> 0 | F25: =SUM(B25:E25) -> 73 | G25: =B25+G24 -> 1094 | H25: =C25+H24 -> 550 | I25: =F25+I24 -> 1650 | J25: =(I25/$N$5)*100000 -> 459.9316 | K25: =100000*I25/$N$6 -> 953.75171 | L25: =100000*G25/$N$7 -> 1337.1795
A26: 44221
A27: 44222
A28: 44223
A29: 44224
A30: 44225
A31: 44226
A32: 44227

Sheet GUYA
M1: Nb cumulé vaccinations depuis 04/01 | N1: =SUM(F5:F293) -> 187
M2: % residents vaccinés | N2: =SUM(B5:B93)/SUM(F5:F93) -> 0.26737968
B3: Nombre personnes vaccinées | M3: % professionnels vaccinés | N3: =SUM(C5:C93)/SUM(F5:F93) -> 0
B4: résidents / patients | C4: prof. | D4: 75 + | E4: Autres | F4: total quotidien | G4: residents /patients Cumul | H4: prof. Cumul | I4: total Cumul | J4: Taux de vaccination pour 100 000 hab. (tous âges) | K4: Taux de vaccination pour 100 000 hab. (>50 ans) | L4: Taux de vaccination pour 100 000 hab. (>=65 ans)
A5: 44200 | B5: =vaccine!BO3 -> 0 | C5: =vaccine!BQ3 -> 0 | D5: =vaccine!BR3 -> 0 | E5: =vaccine!BS3 -> 0 | F5: =SUM(B5:E5) -> 0 | G5: =B5 -> 0 | H5: =C5 -> 0 | I5: =F5 -> 0 | J5: =(I5/$N$5)*100000 -> 0 | K5: =100000*I5/$N$6 -> 0 | L5: =100000*G5/$N$7 -> 0 | M5: Population totale | N5: =population!B22 -> 290691
A6: 44201 | B6: =vaccine!BO4 -> 0 | C6: =vaccine!BQ4 -> 0 | D6: =vaccine!BR4 -> 0 | E6: =vaccine!BS4 -> 0 | F6: =SUM(B6:E6) -> 0 | G6: =B6+G5 -> 0 | H6: =C6+H5 -> 0 | I6: =F6+I5 -> 0 | J6: =(I6/$N$5)*100000 -> 0 | K6: =100000*I6/$N$6 -> 0 | L6: =100000*G6/$N$7 -> 0 | M6: Population > 50 ans | N6: =population!C22 -> 55230
A7: 44202 | B7: =vaccine!BO5 -> 0 | C7: =vaccine!BQ5 -> 0 | D7: =vaccine!BR5 -> 0 | E7: =vaccine!BS5 -> 0 | F7: =SUM(B7:E7) -> 0 | G7: =B7+G6 -> 0 | H7: =C7+H6 -> 0 | I7: =F7+I6 -> 0 | J7: =(I7/$N$5)*100000 -> 0 | K7: =100000*I7/$N$6 -> 0 | L7: =100000*G7/$N$7 -> 0 | M7: Population > 65 ans | N7: =population!E22 -> 18004
A8: 44203 | B8: =vaccine!BO6 -> 0 | C8: =vaccine!BQ6 -> 0 | D8: =vaccine!BR6 -> 0 | E8: =vaccine!BS6 -> 0 | F8: =SUM(B8:E8) -> 0 | G8: =B8+G7 -> 0 | H8: =C8+H7 -> 0 | I8: =F8+I7 -> 0 | J8: =(I8/$N$5)*100000 -> 0 | K8: =100000*I8/$N$6 -> 0 | L8: =100000*G8/$N$7 -> 0
A9: 44204 | B9: =vaccine!BO7 -> 0 | C9: =vaccine!BQ7 -> 0 | D9: =vaccine!BR7 -> 0 | E9: =vaccine!BS7 -> 0 | F9: =SUM(B9:E9) -> 0 | G9: =B9+G8 -> 0 | H9: =C9+H8 -> 0 | I9: =F9+I8 -> 0 | J9: =(I9/$N$5)*100000 -> 0 | K9: =100000*I9/$N$6 -> 0 | L9: =100000*G9/$N$7 -> 0
A10: 44205 | B10: =vaccine!BO8 -> 0 | C10: =vaccine!BQ8 -> 0 | D10: =vaccine!BR8 -> 0 | E10: =vaccine!BS8 -> 0 | F10: =SUM(B10:E10) -> 0 | G10: =B10+G9 -> 0 | H10: =C10+H9 -> 0 | I10: =F10+I9 -> 0 | J10: =(I10/$N$5)*100000 -> 0 | K10: =100000*I10/$N$6 -> 0 | L10: =100000*G10/$N$7 -> 0
A11: 44206 | B11: =vaccine!BO9 -> 0 | C11: =vaccine!BQ9 -> 0 | D11: =vaccine!BR9 -> 0 | E11: =vaccine!BS9 -> 0 | F11: =SUM(B11:E11) -> 0 | G11: =B11+G10 -> 0 | H11: =C11+H10 -> 0 | I11: =F11+I10 -> 0 | J11: =(I11/$N$5)*100000 -> 0 | K11: =100000*I11/$N$6 -> 0 | L11: =100000*G11/$N$7 -> 0
A12: 44207 | B12: =vaccine!BO10 -> 0 | C12: =vaccine!BQ10 -> 0 | D12: =vaccine!BR10 -> 0 | E12: =vaccine!BS10 -> 0 | F12: =SUM(B12:E12) -> 0 | G12: =B12+G11 -> 0 | H12: =C12+H11 -> 0 | I12: =F12+I11 -> 0 | J12: =(I12/$N$5)*100000 -> 0 | K12: =100000*I12/$N$6 -> 0 | L12: =100000*G12/$N$7 -> 0
A13: 44208 | B13: =vaccine!BO11 -> 0 | C13: =vaccine!BQ11 -> 0 | D13: =vaccine!BR11 -> 0 | E13: =vaccine!BS11 -> 0 | F13: =SUM(B13:E13) -> 0 | G13: =B13+G12 -> 0 | H13: =C13+H12 -> 0 | I13: =F13+I12 -> 0 | J13: =(I13/$N$5)*100000 -> 0 | K13: =100000*I13/$N$6 -> 0 | L13: =100000*G13/$N$7 -> 0
A14: 44209 | B14: =vaccine!BO12 -> 16 | C14: =vaccine!BQ12 -> 0 | D14: =vaccine!BR12 -> 0 | E14: =vaccine!BS12 -> 29 | F14: =SUM(B14:E14) -> 45 | G14: =B14+G13 -> 16 | H14: =C14+H13 -> 0 | I14: =F14+I13 -> 45 | J14: =(I14/$N$5)*100000 -> 15.480355 | K14: =100000*I14/$N$6 -> 81.477458 | L14: =100000*G14/$N$7 -> 88.86914
A15: 44210 | B15: =vaccine!BO13 -> 6 | C15: =vaccine!BQ13 -> 0 | D15: =vaccine!BR13 -> 0 | E15: =vaccine!BS13 -> 47 | F15: =SUM(B15:E15) -> 53 | G15: =B15+G14 -> 22 | H15: =C15+H14 -> 0 | I15: =F15+I14 -> 98 | J15: =(I15/$N$5)*100000 -> 33.712774 | K15: =100000*I15/$N$6 -> 177.4398 | L15: =100000*G15/$N$7 -> 122.19507
A16: 44211 | B16: =vaccine!BO14 -> 18 | C16: =vaccine!BQ14 -> 0 | D16: =vaccine!BR14 -> 0 | E16: =vaccine!BS14 -> 41 | F16: =SUM(B16:E16) -> 59 | G16: =B16+G15 -> 40 | H16: =C16+H15 -> 0 | I16: =F16+I15 -> 157 | J16: =(I16/$N$5)*100000 -> 54.00924 | K16: =100000*I16/$N$6 -> 284.2658 | L16: =100000*G16/$N$7 -> 222.17285
A17: 44212 | B17: =vaccine!BO15 -> 0 | C17: =vaccine!BQ15 -> 0 | D17: =vaccine!BR15 -> 0 | E17: =vaccine!BS15 -> 0 | F17: =SUM(B17:E17) -> 0 | G17: =B17+G16 -> 40 | H17: =C17+H16 -> 0 | I17: =F17+I16 -> 157 | J17: =(I17/$N$5)*100000 -> 54.00924 | K17: =100000*I17/$N$6 -> 284.2658 | L17: =100000*G17/$N$7 -> 222.17285
A18: 44213 | B18: =vaccine!BO16 -> 5 | C18: =vaccine!BQ16 -> 0 | D18: =vaccine!BR16 -> 0 | E18: =vaccine!BS16 -> 10 | F18: =SUM(B18:E18) -> 15 | G18: =B18+G17 -> 45 | H18: =C18+H17 -> 0 | I18: =F18+I17 -> 172 | J18: =(I18/$N$5)*100000 -> 59.169359 | K18: =100000*I18/$N$6 -> 311.42495 | L18: =100000*G18/$N$7 -> 249.94446
A19: 44214 | B19: =vaccine!BO17 -> 5 | C19: =vaccine!BQ17 -> 0 | D19: =vaccine!BR17 -> 0 | E19: =vaccine!BS17 -> 10 | F19: =SUM(B19:E19) -> 15 | G19: =B19+G18 -> 50 | H19: =C19+H18 -> 0 | I19: =F19+I18 -> 187 | J19: =(I19/$N$5)*100000 -> 64.329477 | K19: =100000*I19/$N$6 -> 338.5841 | L19: =100000*G19/$N$7 -> 277.71606
... A25: 44220 | B25: =vaccine!BO23 -> 0 | C25: =vaccine!BQ23 -> 0 | D25: =vaccine!BR23 -> 0 | E25: =vaccine!BS23 -> 0 | F25: =SUM(B25:E25) -> 0 | G25: =B25+G24 -> 50 | H25: =C25+H24 -> 0 | I25: =F25+I24 -> 187 | J25: =(I25/$N$5)*100000 -> 64.329477 | K25: =100000*I25/$N$6 -> 338.5841 | L25: =100000*G25/$N$7 -> 277.71606
A26: 44221
A27: 44222
A28: 44223
A29: 44224
A30: 44225
A31: 44226
A32: 44227

Sheet REUN
M1: Nb cumulé vaccinations depuis 04/01 | N1: =SUM(F5:F293) -> 1925
M2: % residents vaccinés | N2: =SUM(B5:B93)/SUM(F5:F93) -> 0.30545455
B3: Nombre personnes vaccinées | M3: % professionnels vaccinés | N3: =SUM(C5:C93)/SUM(F5:F93) -> 0.69454545
B4: résidents / patients | C4: prof. | D4: 75 + | E4: Autres | F4: total quotidien | G4: residents /patients Cumul | H4: prof. Cumul | I4: total Cumul | J4: Taux de vaccination pour 100 000 hab. (tous âges) | K4: Taux de vaccination pour 100 000 hab. (>50 ans) | L4: Taux de vaccination pour 100 000 hab. (>=65 ans)
A5: 44200 | B5: =vaccine!CD3 -> 0 | C5: =vaccine!CE3 -> 0 | D5: =vaccine!CF3 -> 0 | E5: =vaccine!CG3 -> 0 | F5: =SUM(B5:E5) -> 0 | G5: =B5 -> 0 | H5: =C5 -> 0 | I5: =F5 -> 0 | J5: =(I5/$N$5)*100000 -> 0 | K5: =100000*I5/$N$6 -> 0 | L5: =100000*G5/$N$7 -> 0 | M5: Population totale | N5: =population!B23 -> 859959
A6: 44201 | B6: =vaccine!CD4 -> 0 | C6: =vaccine!CE4 -> 0 | D6: =vaccine!CF4 -> 0 | E6: =vaccine!CG4 -> 0 | F6: =SUM(B6:E6) -> 0 | G6: =B6+G5 -> 0 | H6: =C6+H5 -> 0 | I6: =F6+I5 -> 0 | J6: =(I6/$N$5)*100000 -> 0 | K6: =100000*I6/$N$6 -> 0 | L6: =100000*G6/$N$7 -> 0 | M6: Population > 50 ans | N6: =population!C23 -> 287418
A7: 44202 | B7: =vaccine!CD5 -> 0 | C7: =vaccine!CE5 -> 0 | D7: =vaccine!CF5 -> 0 | E7: =vaccine!CG5 -> 0 | F7: =SUM(B7:E7) -> 0 | G7: =B7+G6 -> 0 | H7: =C7+H6 -> 0 | I7: =F7+I6 -> 0 | J7: =(I7/$N$5)*100000 -> 0 | K7: =100000*I7/$N$6 -> 0 | L7: =100000*G7/$N$7 -> 0 | M7: Population > 65 ans | N7: =population!E23 -> 112445
A8: 44203 | B8: =vaccine!CD6 -> 0 | C8: =vaccine!CE6 -> 0 | D8: =vaccine!CF6 -> 0 | E8: =vaccine!CG6 -> 0 | F8: =SUM(B8:E8) -> 0 | G8: =B8+G7 -> 0 | H8: =C8+H7 -> 0 | I8: =F8+I7 -> 0 | J8: =(I8/$N$5)*100000 -> 0 | K8: =100000*I8/$N$6 -> 0 | L8: =100000*G8/$N$7 -> 0
A9: 44204 | B9: =vaccine!CD7 -> 0 | C9: =vaccine!CE7 -> 0 | D9: =vaccine!CF7 -> 0 | E9: =vaccine!CG7 -> 0 | F9: =SUM(B9:E9) -> 0 | G9: =B9+G8 -> 0 | H9: =C9+H8 -> 0 | I9: =F9+I8 -> 0 | J9: =(I9/$N$5)*100000 -> 0 | K9: =100000*I9/$N$6 -> 0 | L9: =100000*G9/$N$7 -> 0
A10: 44205 | B10: =vaccine!CD8 -> 0 | C10: =vaccine!CE8 -> 0 | D10: =vaccine!CF8 -> 0 | E10: =vaccine!CG8 -> 0 | F10: =SUM(B10:E10) -> 0 | G10: =B10+G9 -> 0 | H10: =C10+H9 -> 0 | I10: =F10+I9 -> 0 | J10: =(I10/$N$5)*100000 -> 0 | K10: =100000*I10/$N$6 -> 0 | L10: =100000*G10/$N$7 -> 0
A11: 44206 | B11: =vaccine!CD9 -> 0 | C11: =vaccine!CE9 -> 0 | D11: =vaccine!CF9 -> 0 | E11: =vaccine!CG9 -> 0 | F11: =SUM(B11:E11) -> 0 | G11: =B11+G10 -> 0 | H11: =C11+H10 -> 0 | I11: =F11+I10 -> 0 | J11: =(I11/$N$5)*100000 -> 0 | K11: =100000*I11/$N$6 -> 0 | L11: =100000*G11/$N$7 -> 0
A12: 44207 | B12: =vaccine!CD10 -> 0 | C12: =vaccine!CE10 -> 0 | D12: =vaccine!CF10 -> 0 | E12: =vaccine!CG10 -> 0 | F12: =SUM(B12:E12) -> 0 | G12: =B12+G11 -> 0 | H12: =C12+H11 -> 0 | I12: =F12+I11 -> 0 | J12: =(I12/$N$5)*100000 -> 0 | K12: =100000*I12/$N$6 -> 0 | L12: =100000*G12/$N$7 -> 0
A13: 44208 | B13: =vaccine!CD11 -> 0 | C13: =vaccine!CE11 -> 0 | D13: =vaccine!CF11 -> 0 | E13: =vaccine!CG11 -> 0 | F13: =SUM(B13:E13) -> 0 | G13: =B13+G12 -> 0 | H13: =C13+H12 -> 0 | I13: =F13+I12 -> 0 | J13: =(I13/$N$5)*100000 -> 0 | K13: =100000*I13/$N$6 -> 0 | L13: =100000*G13/$N$7 -> 0
A14: 44209 | B14: =vaccine!CD12 -> 0 | C14: =vaccine!CE12 -> 0 | D14: =vaccine!CF12 -> 0 | E14: =vaccine!CG12 -> 0 | F14: =SUM(B14:E14) -> 0 | G14: =B14+G13 -> 0 | H14: =C14+H13 -> 0 | I14: =F14+I13 -> 0 | J14: =(I14/$N$5)*100000 -> 0 | K14: =100000*I14/$N$6 -> 0 | L14: =100000*G14/$N$7 -> 0
A15: 44210 | B15: =vaccine!CD13 -> 0 | C15: =vaccine!CE13 -> 0 | D15: =vaccine!CF13 -> 0 | E15: =vaccine!CG13 -> 0 | F15: =SUM(B15:E15) -> 0 | G15: =B15+G14 -> 0 | H15: =C15+H14 -> 0 | I15: =F15+I14 -> 0 | J15: =(I15/$N$5)*100000 -> 0 | K15: =100000*I15/$N$6 -> 0 | L15: =100000*G15/$N$7 -> 0
A16: 44211 | B16: =vaccine!CD14 -> 271 | C16: =vaccine!CE14 -> 34 | D16: =vaccine!CF14 -> 0 | E16: =vaccine!CG14 -> 0 | F16: =SUM(B16:E16) -> 305 | G16: =B16+G15 -> 271 | H16: =C16+H15 -> 34 | I16: =F16+I15 -> 305 | J16: =(I16/$N$5)*100000 -> 35.466807 | K16: =100000*I16/$N$6 -> 106.11722 | L16: =100000*G16/$N$7 -> 241.00671
A17: 44212 | B17: =vaccine!CD15 -> 0 | C17: =vaccine!CE15 -> 0 | D17: =vaccine!CF15 -> 0 | E17: =vaccine!CG15 -> 0 | F17: =SUM(B17:E17) -> 0 | G17: =B17+G16 -> 271 | H17: =C17+H16 -> 34 | I17: =F17+I16 -> 305 | J17: =(I17/$N$5)*100000 -> 35.466807 | K17: =100000*I17/$N$6 -> 106.11722 | L17: =100000*G17/$N$7 -> 241.00671
A18: 44213 | B18: =vaccine!CD16 -> 0 | C18: =vaccine!CE16 -> 0 | D18: =vaccine!CF16 -> 0 | E18: =vaccine!CG16 -> 0 | F18: =SUM(B18:E18) -> 0 | G18: =B18+G17 -> 271 | H18: =C18+H17 -> 34 | I18: =F18+I17 -> 305 | J18: =(I18/$N$5)*100000 -> 35.466807 | K18: =100000*I18/$N$6 -> 106.11722 | L18: =100000*G18/$N$7 -> 241.00671
A19: 44214 | B19: =vaccine!CD17 -> 17 | C19: =vaccine!CE17 -> 21 | D19: =vaccine!CF17 -> 0 | E19: =vaccine!CG17 -> 0 | F19: =SUM(B19:E19) -> 38 | G19: =B19+G18 -> 288 | H19: =C19+H18 -> 55 | I19: =F19+I18 -> 343 | J19: =(I19/$N$5)*100000 -> 39.885622 | K19: =100000*I19/$N$6 -> 119.33839 | L19: =100000*G19/$N$7 -> 256.12522
... A25: 44220 | B25: =vaccine!CD23 -> 0 | C25: =vaccine!CE23 -> 0 | D25: =vaccine!CF23 -> 0 | E25: =vaccine!CG23 -> 0 | F25: =SUM(B25:E25) -> 0 | G25: =B25+G24 -> 588 | H25: =C25+H24 -> 1337 | I25: =F25+I24 -> 1925 | J25: =(I25/$N$5)*100000 -> 223.84788 | K25: =100000*I25/$N$6 -> 669.75624 | L25: =100000*G25/$N$7 -> 522.92232
A26: 44221
A27: 44222
A28: 44223
A29: 44224
A30: 44225
A31: 44226
A32: 44227

Sheet MAYOT
M1: Nb cumulé vaccinations depuis 04/01 | N1: =SUM(F5:F293) -> 0
M2: % residents vaccinés | N2: =SUM(B5:B93)/SUM(F5:F93) -> #DIV/0!
B3: Nombre personnes vaccinées | M3: % professionnels vaccinés | N3: =SUM(C5:C93)/SUM(F5:F93) -> #DIV/0!
B4: résidents / patients | C4: prof. | D4: 75 + | E4: Autres | F4: total quotidien | G4: residents /patients Cumul | H4: prof. Cumul | I4: total Cumul | J4: Taux de vaccination pour 100 000 hab. (tous âges) | K4: Taux de vaccination pour 100 000 hab. (>50 ans) | L4: Taux de vaccination pour 100 000 hab. (>=65 ans)
A5: 44200 | B5: =vaccine!CI3 -> 0 | C5: =vaccine!CJ3 -> 0 | D5: =vaccine!CK3 -> 0 | E5: =vaccine!CL3 -> 0 | F5: =SUM(B5:E5) -> 0 | G5: =B5 -> 0 | H5: =C5 -> 0 | I5: =F5 -> 0 | J5: =(I5/$N$5)*100000 -> 0 | K5: =100000*I5/$N$6 -> 0 | L5: =100000*G5/$N$7 -> 0 | M5: Population totale | N5: =population!B24 -> 279471
A6: 44201 | B6: =vaccine!CI4 -> 0 | C6: =vaccine!CJ4 -> 0 | D6: =vaccine!CK4 -> 0 | E6: =vaccine!CL4 -> 0 | F6: =SUM(B6:E6) -> 0 | G6: =B6+G5 -> 0 | H6: =C6+H5 -> 0 | I6: =F6+I5 -> 0 | J6: =(I6/$N$5)*100000 -> 0 | K6: =100000*I6/$N$6 -> 0 | L6: =100000*G6/$N$7 -> 0 | M6: Population > 50 ans | N6: =population!C24 -> 26734
A7: 44202 | B7: =vaccine!CI5 -> 0 | C7: =vaccine!CJ5 -> 0 | D7: =vaccine!CK5 -> 0 | E7: =vaccine!CL5 -> 0 | F7: =SUM(B7:E7) -> 0 | G7: =B7+G6 -> 0 | H7: =C7+H6 -> 0 | I7: =F7+I6 -> 0 | J7: =(I7/$N$5)*100000 -> 0 | K7: =100000*I7/$N$6 -> 0 | L7: =100000*G7/$N$7 -> 0 | M7: Population > 65 ans | N7: =population!E24 -> 7372
A8: 44203 | B8: =vaccine!CI6 -> 0 | C8: =vaccine!CJ6 -> 0 | D8: =vaccine!CK6 -> 0 | E8: =vaccine!CL6 -> 0 | F8: =SUM(B8:E8) -> 0 | G8: =B8+G7 -> 0 | H8: =C8+H7 -> 0 | I8: =F8+I7 -> 0 | J8: =(I8/$N$5)*100000 -> 0 | K8: =100000*I8/$N$6 -> 0 | L8: =100000*G8/$N$7 -> 0
A9: 44204 | B9: =vaccine!CI7 -> 0 | C9: =vaccine!CJ7 -> 0 | D9: =vaccine!CK7 -> 0 | E9: =vaccine!CL7 -> 0 | F9: =SUM(B9:E9) -> 0 | G9: =B9+G8 -> 0 | H9: =C9+H8 -> 0 | I9: =F9+I8 -> 0 | J9: =(I9/$N$5)*100000 -> 0 | K9: =100000*I9/$N$6 -> 0 | L9: =100000*G9/$N$7 -> 0
A10: 44205 | B10: =vaccine!CI8 -> 0 | C10: =vaccine!CJ8 -> 0 | D10: =vaccine!CK8 -> 0 | E10: =vaccine!CL8 -> 0 | F10: =SUM(B10:E10) -> 0 | G10: =B10+G9 -> 0 | H10: =C10+H9 -> 0 | I10: =F10+I9 -> 0 | J10: =(I10/$N$5)*100000 -> 0 | K10: =100000*I10/$N$6 -> 0 | L10: =100000*G10/$N$7 -> 0
A11: 44206 | B11: =vaccine!CI9 -> 0 | C11: =vaccine!CJ9 -> 0 | D11: =vaccine!CK9 -> 0 | E11: =vaccine!CL9 -> 0 | F11: =SUM(B11:E11) -> 0 | G11: =B11+G10 -> 0 | H11: =C11+H10 -> 0 | I11: =F11+I10 -> 0 | J11: =(I11/$N$5)*100000 -> 0 | K11: =100000*I11/$N$6 -> 0 | L11: =100000*G11/$N$7 -> 0
A12: 44207 | B12: =vaccine!CI10 -> 0 | C12: =vaccine!CJ10 -> 0 | D12: =vaccine!CK10 -> 0 | E12: =vaccine!CL10 -> 0 | F12: =SUM(B12:E12) -> 0 | G12: =B12+G11 -> 0 | H12: =C12+H11 -> 0 | I12: =F12+I11 -> 0 | J12: =(I12/$N$5)*100000 -> 0 | K12: =100000*I12/$N$6 -> 0 | L12: =100000*G12/$N$7 -> 0
A13: 44208 | B13: =vaccine!CI11 -> 0 | C13: =vaccine!CJ11 -> 0 | D13: =vaccine!CK11 -> 0 | E13: =vaccine!CL11 -> 0 | F13: =SUM(B13:E13) -> 0 | G13: =B13+G12 -> 0 | H13: =C13+H12 -> 0 | I13: =F13+I12 -> 0 | J13: =(I13/$N$5)*100000 -> 0 | K13: =100000*I13/$N$6 -> 0 | L13: =100000*G13/$N$7 -> 0
A14: 44209 | B14: =vaccine!CI12 -> 0 | C14: =vaccine!CJ12 -> 0 | D14: =vaccine!CK12 -> 0 | E14: =vaccine!CL12 -> 0 | F14: =SUM(B14:E14) -> 0 | G14: =B14+G13 -> 0 | H14: =C14+H13 -> 0 | I14: =F14+I13 -> 0 | J14: =(I14/$N$5)*100000 -> 0 | K14: =100000*I14/$N$6 -> 0 | L14: =100000*G14/$N$7 -> 0
A15: 44210 | B15: =vaccine!CI13 -> 0 | C15: =vaccine!CJ13 -> 0 | D15: =vaccine!CK13 -> 0 | E15: =vaccine!CL13 -> 0 | F15: =SUM(B15:E15) -> 0 | G15: =B15+G14 -> 0 | H15: =C15+H14 -> 0 | I15: =F15+I14 -> 0 | J15: =(I15/$N$5)*100000 -> 0 | K15: =100000*I15/$N$6 -> 0 | L15: =100000*G15/$N$7 -> 0
A16: 44211 | B16: =vaccine!CI14 -> 0 | C16: =vaccine!CJ14 -> 0 | D16: =vaccine!CK14 -> 0 | E16: =vaccine!CL14 -> 0 | F16: =SUM(B16:E16) -> 0 | G16: =B16+G15 -> 0 | H16: =C16+H15 -> 0 | I16: =F16+I15 -> 0 | J16: =(I16/$N$5)*100000 -> 0 | K16: =100000*I16/$N$6 -> 0 | L16: =100000*G16/$N$7 -> 0
A17: 44212 | B17: =vaccine!CI15 -> 0 | C17: =vaccine!CJ15 -> 0 | D17: =vaccine!CK15 -> 0 | E17: =vaccine!CL15 -> 0 | F17: =SUM(B17:E17) -> 0 | G17: =B17+G16 -> 0 | H17: =C17+H16 -> 0 | I17: =F17+I16 -> 0 | J17: =(I17/$N$5)*100000 -> 0 | K17: =100000*I17/$N$6 -> 0 | L17: =100000*G17/$N$7 -> 0
A18: 44213 | B18: =vaccine!CI16 -> 0 | C18: =vaccine!CJ16 -> 0 | D18: =vaccine!CK16 -> 0 | E18: =vaccine!CL16 -> 0 | F18: =SUM(B18:E18) -> 0 | G18: =B18+G17 -> 0 | H18: =C18+H17 -> 0 | I18: =F18+I17 -> 0 | J18: =(I18/$N$5)*100000 -> 0 | K18: =100000*I18/$N$6 -> 0 | L18: =100000*G18/$N$7 -> 0
A19: 44214 | B19: =vaccine!CI17 -> 0 | C19: =vaccine!CJ17 -> 0 | D19: =vaccine!CK17 -> 0 | E19: =vaccine!CL17 -> 0 | F19: =SUM(B19:E19) -> 0 | G19: =B19+G18 -> 0 | H19: =C19+H18 -> 0 | I19: =F19+I18 -> 0 | J19: =(I19/$N$5)*100000 -> 0 | K19: =100000*I19/$N$6 -> 0 | L19: =100000*G19/$N$7 -> 0
... A25: 44220 | B25: =vaccine!CI23 -> 0 | C25: =vaccine!CJ23 -> 0 | D25: =vaccine!CK23 -> 0 | E25: =vaccine!CL23 -> 0 | F25: =SUM(B25:E25) -> 0 | G25: =B25+G24 -> 0 | H25: =C25+H24 -> 0 | I25: =F25+I24 -> 0 | J25: =(I25/$N$5)*100000 -> 0 | K25: =100000*I25/$N$6 -> 0 | L25: =100000*G25/$N$7 -> 0
A26: 44221
A27: 44222
A28: 44223
A29: 44224
A30: 44225
A31: 44226
A32: 44227

Sheet population_base
A1: Estimation de population au 1er janvier, par région, sexe et âge quinquennal
A2: Année 2020
A4: Régions | B4: Ensemble
B5: 0 à 4 ans | C5: 5 à 9 ans | D5: 10 à 14 ans | E5: 15 à 19 ans | F5: 20 à 24 ans | G5: 25 à 29 ans | H5: 30 à 34 ans | I5: 35 à 39 ans | J5: 40 à 44 ans | K5: 45 à 49 ans | L5: 50 à 54 ans | M5: 55 à 59 ans | N5: 60 à 64 ans | O5: 65 à 69 ans | P5: 70 à 74 ans | Q5: 75 à 79 ans | R5: 80 à 84 ans | S5: 85 à 89 ans | T5: 90 à 94 ans | U5: 95 ans et plus | V5: Total | W5: >=50 ans | X5: >=20 ans | Y5: >=65 ans
A6: Auvergne-Rhône-Alpes | B6: 445712 | C6: 494925 | D6: 503557 | E6: 496059 | F6: 450754 | G6: 444164 | H6: 491868 | I6: 513916 | J6: 491131 | K6: 544223 | L6: 533000 | M6: 511459 | N6: 473708 | O6: 452952 | P6: 413343 | Q6: 274019 | R6: 222925 | S6: 164797 | T6: 82613 | U6: 27252 | V6: 8032377 | W6: =SUM(L6:U6) -> 3156068 | X6: =SUM(F6:U6) -> 6092124 | Y6: =SUM(O6:U6) -> 1637901
A7: Bourgogne-Franche-Comté | B7: 135181 | C7: 157871 | D7: 167339 | E7: 166626 | F7: 139966 | G7: 136034 | H7: 152188 | I7: 163223 | J7: 157911 | K7: 183986 | L7: 186702 | M7: 187065 | N7: 186536 | O7: 184261 | P7: 169254 | Q7: 105168 | R7: 90996 | S7: 67475 | T7: 34060 | U7: 11197 | V7: 2783039 | W7: =SUM(L7:U7) -> 1222714 | X7: =SUM(F7:U7) -> 2156022 | Y7: =SUM(O7:U7) -> 662411
A8: Bretagne | B8: 162458 | C8: 193713 | D8: 207572 | E8: 209888 | F8: 176668 | G8: 159644 | H8: 180243 | I8: 197957 | J8: 196300 | K8: 227813 | L8: 220981 | M8: 221894 | N8: 221005 | O8: 215704 | P8: 195395 | Q8: 115507 | R8: 108515 | S8: 79485 | T8: 37727 | U8: 11910 | V8: 3340379 | W8: =SUM(L8:U8) -> 1428123 | X8: =SUM(F8:U8) -> 2566748 | Y8: =SUM(O8:U8) -> 764243
A9: Centre-Val-de-Loire | B9: 131083 | C9: 153323 | D9: 160026 | E9: 154138 | F9: 124351 | G9: 124422 | H9: 141476 | I9: 150892 | J9: 147468 | K9: 173119 | L9: 171308 | M9: 169255 | N9: 166953 | O9: 163733 | P9: 148237 | Q9: 91784 | R9: 81923 | S9: 62301 | T9: 31649 | U9: 11632 | V9: 2559073 | W9: =SUM(L9:U9) -> 1098775 | X9: =SUM(F9:U9) -> 1960503 | Y9: =SUM(O9:U9) -> 591259
A10: Corse | B10: 15663 | C10: 18081 | D10: 18009 | E10: 16802 | F10: 15954 | G10: 17407 | H10: 20943 | I10: 22681 | J10: 21221 | K10: 23984 | L10: 24415 | M10: 23555 | N10: 22461 | O10: 22634 | P10: 20580 | Q10: 16105 | R10: 11728 | S10: 7677 | T10: 3698 | U10: 1081 | V10: 344679 | W10: =SUM(L10:U10) -> 153934 | X10: =SUM(F10:U10) -> 276124 | Y10: =SUM(O10:U10) -> 83503
A11: Grand Est | B11: 280007 | C11: 318357 | D11: 327544 | E11: 332215 | F11: 312895 | G11: 303553 | H11: 331280 | I11: 344234 | J11: 324924 | K11: 369294 | L11: 375531 | M11: 379079 | N11: 361970 | O11: 341045 | P11: 285163 | Q11: 180660 | R11: 161705 | S11: 114312 | T11: 51949 | U11: 16030 | V11: 5511747 | W11: =SUM(L11:U11) -> 2267444 | X11: =SUM(F11:U11) -> 4253624 | Y11: =SUM(O11:U11) -> 1150864
A12: Hauts-de-France | B12: 339937 | C12: 391814 | D12: 396871 | E12: 396916 | F12: 356563 | G12: 334328 | H12: 370079 | I12: 382378 | J12: 361514 | K12: 397712 | L12: 382666 | M12: 380798 | N12: 361279 | O12: 340870 | P12: 292164 | Q12: 159837 | R12: 146899 | S12: 106286 | T12: 49213 | U12: 14538 | V12: 5962662 | W12: =SUM(L12:U12) -> 2234550 | X12: =SUM(F12:U12) -> 4437124 | Y12: =SUM(O12:U12) -> 1109807
A13: Île-de-France | B13: 793690 | C13: 801166 | D13: 781193 | E13: 764916 | F13: 788874 | G13: 863043 | H13: 888500 | I13: 869348 | J13: 826185 | K13: 845626 | L13: 789194 | M13: 749442 | N13: 631296 | O13: 546545 | P13: 480366 | Q13: 312596 | R13: 247529 | S13: 176829 | T13: 88027 | U13: 33845 | V13: 12278210 | W13: =SUM(L13:U13) -> 4055669 | X13: =SUM(F13:U13) -> 9137245 | Y13: =SUM(O13:U13) -> 1885737
A14: Normandie | B14: 169604 | C14: 197987 | D14: 207542 | E14: 206204 | F14: 174726 | G14: 167203 | H14: 186536 | I14: 198579 | J14: 189713 | K14: 217382 | L14: 216635 | M14: 219233 | N14: 216759 | O14: 211687 | P14: 187028 | Q14: 111707 | R14: 100492 | S14: 74576 | T14: 36703 | U14: 13204 | V14: 3303500 | W14: =SUM(L14:U14) -> 1388024 | X14: =SUM(F14:U14) -> 2522163 | Y14: =SUM(O14:U14) -> 735397
A15: Nouvelle-Aquitaine | B15: 274488 | C15: 323907 | D15: 345704 | E15: 349222 | F15: 307380 | G15: 288262 | H15: 323725 | I15: 355379 | J15: 350904 | K15: 406609 | L15: 401101 | M15: 403140 | N15: 404276 | O15: 405407 | P15: 367546 | Q15: 233838 | R15: 200020 | S15: 153274 | T15: 78602 | U15: 27198 | V15: 5999982 | W15: =SUM(L15:U15) -> 2674402 | X15: =SUM(F15:U15) -> 4706661 | Y15: =SUM(O15:U15) -> 1465885
A16: Occitanie | B16: 291512 | C16: 333033 | D16: 347161 | E16: 348750 | F16: 329069 | G16: 306711 | H16: 335897 | I16: 358448 | J16: 348823 | K16: 391530 | L16: 393859 | M16: 392499 | N16: 378662 | O16: 375224 | P16: 346007 | Q16: 226463 | R16: 183071 | S16: 142039 | T16: 71012 | U16: 25088 | V16: 5924858 | W16: =SUM(L16:U16) -> 2533924 | X16: =SUM(F16:U16) -> 4604402 | Y16: =SUM(O16:U16) -> 1368904
A17: Pays de la Loire | B17: 200739 | C17: 236755 | D17: 250432 | E17: 245583 | F17: 204408 | G17: 193232 | H17: 218366 | I17: 237723 | J17: 231282 | K17: 256010 | L17: 242764 | M17: 240452 | N17: 234328 | O17: 228813 | P17: 204390 | Q17: 123318 | R17: 111725 | S17: 83658 | T17: 42731 | U17: 15088 | V17: 3801797 | W17: =SUM(L17:U17) -> 1527267 | X17: =SUM(F17:U17) -> 2868288 | Y17: =SUM(O17:U17) -> 809723
... A26: France métropolitaine et DOM | B26: 3671719 | C26: 4084036 | D26: 4187992 | E26: 4140996 | F26: 3757482 | G26: 3713426 | H26: 4056469 | I26: 4231788 | J26: 4072226 | K26: 4512223 | L26: 4425730 | M26: 4359376 | N26: 4099662 | O26: 3899944 | P26: 3477098 | Q26: 2216562 | R26: 1869006 | S26: 1375537 | T26: 678776 | U26: 233655 | V26: 67063703 | W26: =SUM(L26:U26) -> 26635346 | X26: =SUM(F26:U26) -> 50978960 | Y26: =SUM(O26:U26) -> 13750578
A28: Source : Insee - Estimations de population (résultats provisoires arrêtés fin 2019).
